Workbook
Name Код_статуса: '[1]Статусы ТП'!$A$2:$A$12

Sheet Титул
B2: Информация об организации
B4: Полное наименование | C4: Филиал Публичного Акционерного Общества «Россети Северный Кавказ» - «Ставропольэнерго»
B5: Сокращенное наименование | C5: Филиал ПАО «Россети Северный Кавказ» - «Ставропольэнерго»
B6: Место нахождения | C6: ул. Университетская, 35, г. Пятигорск, Ставропольский край, 357500
B7: Фактический адрес | C7: ул. Университетская, 35, г. Пятигорск, Ставропольский край, 357500
B8: ИНН | C8: 2632082033
B9: КПП | C9: 263243001
B10: Ф.И.О. руководителя | C10: Демчак Игорь Вячеславович
B11: Адрес электронной почты | C11: info@stv.rossetisk.ru
B12: Контактный телефон | C12: (8793) 39-23-53, (8793) 36-35-86
B13: Факс | C13: (8793) 97-35-02

Sheet 28а)город
F1: Приложение № 1 к Методическим указаниям по определению размера платы за технологическое присоединение к электрическим сетям
A2: Расходы на строительство введенных в эксплуатацию объектов электросетевого хозяйства для целей технологического присоединения и для целей реализации иных мероприятий инвестиционной программы, а также на обеспечение средствами коммерческого учета электрической энергии (мощности) филиала ПАО "Россети Северный Кавказ" - "Ставропольэнерго" за 2018-2020 гг для территорий городских населенных пунктов
A3: № п/п | B3: Объект электросетевого хозяйства/Средство коммерческого учета электрической энергии (мощности) секционирования | C3: Год ввода объекта | D3: Уровень напряжения, кВ | E3: Протяженность (для линий электропередачи), метров/Количество пунктов секционирования, штук/Количество точек учета, штук | F3: Максимальная мощность, кВт | G3: Расходы на строительство объекта/на обеспечение средствами коммерческого учета электрической энергии (мощности), тыс. руб.
A4: 1 | B4: =A4+1 -> 2 | C4: =B4+1 -> 3 | D4: =C4+1 -> 4 | E4: =D4+1 -> 5 | F4: =E4+1 -> 6 | G4: =F4+1 -> 7
A5: 1 | B5: Строительство воздушных линий
A6: 1.1 | B6: Строительство воздушной линии по существующим опорам
A7: 1.1.1 | B7: Тип провода - Изолированный
A8: 1.1.1.1 | B8: Материал провода - Медный
A9: 1.1.1.1.1 | B9: Сечение провода до 50 мм2 включительно
A10: 1.1.1.1.1.1 | B10: Однцепные
A11: 1.1.1.1.1.2 | B11: Двухцепные
A12: 1.1.1.1.2 | B12: Сечение провода от 50 мм2 до 100 мм2 включительно
A13: 1.1.1.1.2.1 | B13: Однцепные
A14: 1.1.1.1.2.2 | B14: Двухцепные
A15: 1.1.1.1.3 | B15: Сечение провода от 100 мм2 до 200 мм2 включительно
A16: 1.1.1.1.3.1 | B16: Однцепные
... A66: 1.1.1.4.1 | B66: Сечение провода до 50 мм2 включительно
A67: 1.1.1.4.1.1 | B67: Одонцепные | E67: =SUM(E68) -> 80 | F67: =SUM(F68) -> 25 | G67: =SUM(G68) -> 51.60107
A68: 1.1.1.4.1.1 | B68: Реконструкция ВЛ-10 кВ Ф-121 6.65 км, строительство ТП-10/0,4 кВ и строительство ВЛ-0,4 кВ для осуществления технологического присоединения энергопринимающих устройств заявителя - склад, в г. Ессентуки, ул. Молодежная, д. 4», договор ТП от 21.04.2020 №21103/2020/СТВ/ЦЭС/ПРЭС г. | C68: 2020 | D68: 0.4 | E68: 80 | F68: 25 | G68: 51.60107
A69: 1.1.1.4.1.2 | B69: Двухцепные
A70: 1.1.1.4.2 | B70: Сечение провода от 50 мм2 до 100 мм2 включительно
A71: 1.1.1.4.2.1 | B71: Однцепные
A72: 1.1.1.4.2.2 | B72: Двухцепные
A73: 1.1.1.4.3 | B73: Сечение провода от 100 мм2 до 200 мм2 включительно
A74: 1.1.1.4.3.1 | B74: Однцепные
A75: 1.1.1.4.3.2 | B75: Двухцепные
A76: 1.1.1.4.4 | B76: Сечение провода от 200 мм2 до 500 мм2 включительно
A77: 1.1.1.4.4.1 | B77: Однцепные
A78: 1.1.1.4.4.2 | B78: Двухцепные
A79: 1.1.1.4.5 | B79: Сечение провода от 500 мм2 до 800 мм2 включительно
A80: 1.1.1.4.5.1 | B80: Однцепные
... A569: 1.3.1.4.1 | B569: Сечение провода до 50 мм2 включительно
A570: 1.3.1.4.1.1 | B570: Одноцепные | E570: =SUM(E571:E590) -> 3165 | F570: =SUM(F571:F590) -> 656 | G570: =SUM(G571:G590) -> 2601.4583
A571: 1.3.1.4.1.1 | B571: Строительство отпайки ВЛ-0,4 кВ от опоры №4 ВЛ-0,4 кВ Ф-2 ТП-16/177 ВЛ-10 кВ Ф-177 ПС 110/10 кВ Южная для осуществления техприса э/приним-х устройств | C571: 2018 | D571: 0.4 | E571: 200 | F571: 15 | G571: 85.56284
A572: 1.3.1.4.1.1 | B572: Реконструкция ВЛ-0,4 кВ Ф-1 ТП-19/177 ВЛ-10 кВ Ф-177 ПС Южная для осуществления технологического присоединения энергопринимающих устройств объектов радиотелевизионной станции в г. Ставрополь, ул. Ландшафтная, 20. | C572: 2019 | D572: 0.4 | E572: 75 | F572: 15 | G572: 38.55812
A573: 1.3.1.4.1.1 | B573: Техническое перевооружение ВЛ-0,4 кВ Ф-2 ТП-6/231 ВЛ-10 кВ Ф-231 ПС 35/10 кВ Аэропорт для технологического присоединения энергопринимающих устройств жилого дома в г. Михайловске, ул. Красивая, 9. | C573: 2019 | D573: 0.4 | E573: 380 | F573: 5 | G573: 97.94325
A574: 1.3.1.4.1.1 | B574: Реконструкция ВЛ-0,4 кВ Ф-1 ТП-19/177 ВЛ-10 кВ Ф-177 ПС Южная для осуществления технологического присоединения энергопринимающих устройств жилого дома в г. Ставрополь, ул. Ландшафтная, 61 | C574: 2019 | D574: 0.4 | E574: 155 | F574: 10 | G574: 83.85282
A575: 1.3.1.4.1.1 | B575: Реконструкция ВЛ-10 кВ от Ф-210 ПС Радиозавод, строительства ТП-10/0,4 кВ и ВЛ-0,4 кВ для осуществления технологического присоединения энергопринимающих устройств жилых домов по ул. Каменная, пер. Ямский, пер. Грачевский в г. Михайловске | C575: 2019 | D575: 10 | E575: 5 | F575: 86 | G575: 55.56809
A576: 1.3.1.4.1.1 | B576: Реконструкция ВЛ-0,4 кВ Ф-2 ТП-20/177 ВЛ-10 кВ Ф-177 ПС Южная для осуществления технологического присоединения энергопринимающих устройств жилого дома по бульвару Архитекторов, 80/4, в г. Ставрополь | C576: 2019 | D576: 0.4 | E576: 85 | F576: 5 | G576: 68.23011
A577: 1.3.1.4.1.1 | B577: Строительство ВЛ-0,4 кВ от ТП-40/170 ВЛ-10 кВ Ф-170 ПС Южная для осуществления технологического присоединения энергопринимающих устройств жилых домов в г. Ставрополь, ул. Роз | C577: 2019 | D577: 0.4 | E577: 350 | F577: 15 | G577: 164.93907
A578: 1.3.1.4.1.1 | B578: Строительство отпайки ВЛ-0,4 кВ от опоры №4 ВЛ-0,4 кВ Ф-2 ТП-16/177 ВЛ-10 кВ Ф-177 ПС 110/10 кВ Южная для осуществления технологического присоединения энергопринимающих устройств жилого дома по ул. Живописная, 56 в г. Ставрополь (договор технологического присоединения №07/228 от 17.04.17) | C578: 2019 | D578: 10 | E578: 33 | F578: 150 | G578: 39.46903
A579: 1.3.1.4.1.1 | B579: Реконструкция ВЛ-0,4 кВ Ф-1 от МТП-23/397 для осуществления технологического присоединения энергопринимающих устройств строительных площадок жилых домов, г. Железноводск, п.Капельница, СТ Капельница, уч №№ 275,190 | C579: 2019 | D579: 0.4 | E579: 305 | F579: 15 | G579: 180.50515
A580: 1.3.1.4.1.1 | B580: Реконструкция ВЛ-0,4 кВ ж/б опоры 1.9км (Инв.№СЦ9724)( дисп. наим. ВЛ-0,4 кВ от ТП-9/331) для осуществления технологического присоединения энергопринимающих устройств строительной площадки строения г. Железноводск , п. Иноземцево, СТ Машук-1 уч. № 322 | C580: 2019 | D580: 0.4 | E580: 40 | F580: 15 | G580: 25.89437
A581: 1.3.1.4.1.1 | B581: Реконструкция ВЛ-0,4 кВ Ф-1 от МТП-23/397 для осуществления технологического присоединения энергопринимающих устройств строительной площадки жилого дома, в г. Железноводск, жилой район Капельница, ул. Вербная, д. 22 | C581: 2019 | D581: 0.4 | E581: 140 | F581: 15 | G581: 136.77444
A582: 1.3.1.4.1.1 | B582: Реконструкция ВЛ 0,4 кВ Ф-4 ТП-1/177 Ф-177 ПС Южная для осуществления технологического присоединения энергопринимающих устройств жилого дома по ул. Тюльпановая, 5/1, в г.Ставрополь | C582: 2020 | D582: 0.4 | E582: 41 | F582: 15 | G582: 64.26634
... A589: 1.3.1.4.1.1 | B589: Реконструкция ВЛ-10 кВ Ф-121 6.65 км, строительство ТП-10/0,4 кВ и строительство ВЛ-0,4 кВ для осуществления технологического присоединения энергопринимающих устройств заявителя - склад, в г. Ессентуки, ул. Молодежная, д. 4 | C589: 2020 | D589: 10 | E589: 50 | F589: 25 | G589: 173.55951
A590: 1.3.1.4.1.1 | B590: Рек.ВЛ-10 кВ Ф-104 от ПС 110/10кВ Провал,стр.ВЛ-0,4кВ и ТП-10/0,4кВ для тех.пр.эн.ус.стройпл.стр.в Предг р-не, г.Пятигорск ,ориентир СПК Горячеводский | C590: 2020 | D590: 10 | E590: 159 | F590: 15 | G590: =623.69027-60.3567258 -> 563.33354
A591: 1.3.1.4.1.2 | B591: Двухцепные
A592: 1.3.1.4.2 | B592: Сечение провода от 50 мм2 до 100 мм2 включительно
A593: 1.3.1.4.2.1 | B593: Одноцепные | E593: =SUM(E594:E597) -> 1354 | F593: =SUM(F594:F597) -> 246 | G593: =SUM(G594:G597) -> 2068.5054
A594: 1.3.1.4.2.1 | B594: Реконструкция ВЛ-10 кВ от Ф-210 ПС Радиозавод, строительства ТП-10/0,4 кВ и ВЛ-0,4 кВ для осуществления технологического присоединения энергопринимающих устройств жилых домов по ул. Каменная, пер. Ямский, пер. Грачевский в г. Михайловске | C594: 2019 | D594: 0.4 | E594: 980 | F594: 86 | G594: 1277.5392
A595: 1.3.1.4.2.1 | B595: Строительство ЛЭП-10 кВ от ВЛ-10 кВ Ф-180 ПС 110/10 кВ Южная и ТП-10/0,4 кВ для осуществления технологического присоединения энергопринимающих устройств торгово-офисного здания в г. Ставрополь, ул. Доваторцев, 74А | C595: 2019 | D595: 10 | E595: 6 | F595: 145 | G595: =112.4538-31.9572116384 -> 80.496588
A596: 1.3.1.4.2.1 | B596: Реконструкция ВЛ-10 кВ Ф-483 ПС 35/10 кВ «Елизаветинская», строительство ТП-10/0,4 кВ для осуществления технологического присоединения энергопринимающих устройств РТПС Благодарный, расположенной по адресу: Благодарненский район, г. Благодарный (кадастровый номер земельного участка 26:13:100602:50) | C596: 2020 | D596: 10 | E596: 40 | F596: 0 | G596: 189.31341
A597: 1.3.1.4.2.1 | B597: Рек.ВЛ-10 кВ Ф-104 от ПС 110/10кВ Провал,стр.ВЛ-0,4кВ и ТП-10/0,4кВ для тех.пр.эн.ус.стройпл.стр.в Предг р-не, г.Пятигорск ,ориентир СПК Горячеводский | C597: 2020 | D597: 0.4 | E597: 328 | F597: 15 | G597: 521.1562
A598: 1.3.1.4.2.2 | B598: Двухцепные
A599: 1.3.1.4.3 | B599: Сечение провода от 100 мм2 до 200 мм2 включительно
A600: 1.3.1.4.3.1 | B600: Однцепные
A601: 1.3.1.4.3.2 | B601: Двухцепные
A602: 1.3.1.4.4 | B602: Сечение провода от 200 мм2 до 500 мм2 включительно
A603: 1.3.1.4.4.1 | B603: Однцепные
A604: 1.3.1.4.4.2 | B604: Двухцепные
A605: 1.3.1.4.5 | B605: Сечение провода от 500 мм2 до 800 мм2 включительно
A606: 1.3.1.4.5.1 | B606: Однцепные
A607: 1.3.1.4.5.2 | B607: Двухцепные
A608: 1.3.1.4.6 | B608: Сечение провода свыше 800 мм3
A609: 1.3.1.4.6.1 | B609: Однцепные
... A651: 1.3.2.3.1 | B651: Сечение провода до 50 мм2 включительно
A652: 1.3.2.3.1.1 | B652: Одноцепные | E652: =SUM(E653) -> 35 | F652: =SUM(F653) -> 30 | G652: =SUM(G653) -> 94.65894
A653: 1.3.2.3.1.1 | B653: Реконструкция ВЛ-10 кВ Ф-123 ПС 35/10 кВ "ИПС" для осуществления технологического присоединения энергопринимающих устройств производственной базы, расположенной по адресу: Ставропольский край, Петровский район, г.Светлоград, 200 метров на запад от дома № 275 по ул.Матросова (кадастровый номер земельного участка 26:08:041502:36) | C653: 2019 | D653: 10 | E653: 35 | F653: 30 | G653: 94.65894
A654: 1.3.2.3.1.2 | B654: Двухцепные
A655: 1.3.2.3.2 | B655: Сечение провода от 50 мм2 до 100 мм2 включительно
A656: 1.3.2.3.2.1 | B656: Однцепные
A657: 1.3.2.3.2.2 | B657: Двухцепные
A658: 1.3.2.3.3 | B658: Сечение провода от 100 мм2 до 200 мм2 включительно
A659: 1.3.2.3.3.1 | B659: Однцепные
A660: 1.3.2.3.3.2 | B660: Двухцепные
A661: 1.3.2.3.4 | B661: Сечение провода от 200 мм2 до 500 мм2 включительно
A662: 1.3.2.3.4.1 | B662: Однцепные
A663: 1.3.2.3.4.2 | B663: Двухцепные
A664: 1.3.2.3.5 | B664: Сечение провода от 500 мм2 до 800 мм2 включительно
A665: 1.3.2.3.5.1 | B665: Однцепные
... A859: 2.1.2.2.1 | B859: Сечение провода до 50 мм2 включительно
A860: 2.1.2.2.1.1 | B860: с 1-им кабелем в траншее | E860: =SUM(E861) -> 73 | F860: =SUM(F861) -> 145 | G860: =SUM(G861) -> 122.2495
A861: 2.1.2.2.1.1 | B861: Строительство ЛЭП-10 кВ от ВЛ-10 кВ Ф-180 ПС 110/10 кВ Южная и ТП-10/0,4 кВ для осуществления технологического присоединения энергопринимающих устройств торгово-офисного здания в г. Ставрополь, ул. Доваторцев, 74А | C861: 2019 | D861: 10 | E861: 73 | F861: 145 | G861: =121.141+13.8435-12.735 -> 122.2495
A862: 2.1.2.2.1.2 | B862: с 2-мя кабелями в траншее
A863: 2.1.2.2.1.3 | B863: с 3-мя кабелями в траншее
A864: 2.1.2.2.1.4 | B864: с 4-мя кабелями в траншее
A865: 2.1.2.2.1.5 | B865: более 4-х кабелей в траншее
A866: 2.1.2.2.2 | B866: Сечение провода от 50 мм2 до 100 мм2 включительно
A867: 2.1.2.2.2.1 | B867: с 1-им кабелем в траншее | E867: =SUM(E868) -> 61 | F867: =SUM(F868) -> 200 | G867: =SUM(G868) -> 65.40234
A868: 2.1.2.2.2.1 | B868: Строительство КЛ-10 кВ от ПС «ЦРП-10» для осуществления технологического присоединения энергопринимающих устройств промышленного предприятия ООО «УМТО-ЛТД», расположенного в г.Будённовске, ул.Розы Люксембург 35 (договор №43-05/143 от 26.09.2018г.) | C868: 2020 | D868: 10 | E868: 61 | F868: 200 | G868: 65.40234
A869: 2.1.2.2.2.2 | B869: с 2-мя кабелями в траншее
A870: 2.1.2.2.2.3 | B870: с 3-мя кабелями в траншее
A871: 2.1.2.2.2.4 | B871: с 4-мя кабелями в траншее
A872: 2.1.2.2.2.5 | B872: более 4-х кабелей в траншее
A873: 2.1.2.2.3 | B873: Сечение провода от 100 мм2 до 200 мм2 включительно
A874: 2.1.2.2.3.1 | B874: с 1-им кабелем в траншее
A875: 2.1.2.2.3.2 | B875: с 2-мя кабелями в траншее
A876: 2.1.2.2.3.3 | B876: с 3-мя кабелями в траншее
A877: 2.1.2.2.3.4 | B877: с 4-мя кабелями в траншее
...

Sheet 28а)село
F1: Приложение № 1 к Методическим указаниям по определению размера платы за технологическое присоединение к электрическим сетям
A2: Расходы на строительство введенных в эксплуатацию объектов электросетевого хозяйства для целей технологического присоединения и для целей реализации иных мероприятий инвестиционной программы, а также на обеспечение средствами коммерческого учета электрической энергии (мощности) филиала ПАО "Россети Северный Кавказ" - "Ставропольэнерго" за 2018-2020 гг для территорий не относящихся к городским населенным пунктам
A3: № п/п | B3: Объект электросетевого хозяйства/Средство коммерческого учета электрической энергии (мощности) | C3: Год ввода объекта | D3: Уровень напряжения, кВ | E3: Протяженность (для линий электропередачи), метров/Количество пунктов секционирования, штук/Количество точек учета, штук | F3: Максимальная мощность, кВт | G3: Расходы на строительство объекта/на обеспечение средствами коммерческого учета электрической энергии (мощности), тыс. руб.
A4: 1 | B4: =A4+1 -> 2 | C4: =B4+1 -> 3 | D4: =C4+1 -> 4 | E4: =D4+1 -> 5 | F4: =E4+1 -> 6 | G4: =F4+1 -> 7
A5: 1 | B5: Строительство воздушных линий
A6: 1.1 | B6: Строительство воздушной линии по существующим опорам
A7: 1.1.1 | B7: Тип провода - Изолированный
A8: 1.1.1.1 | B8: Материал провода - Медный
A9: 1.1.1.1.1 | B9: Сечение провода до 50 мм2 включительно
A10: 1.1.1.1.1.1 | B10: Однцепные
A11: 1.1.1.1.1.2 | B11: Двухцепные
A12: 1.1.1.1.2 | B12: Сечение провода от 50 мм2 до 100 мм2 включительно
A13: 1.1.1.1.2.1 | B13: Однцепные
A14: 1.1.1.1.2.2 | B14: Двухцепные
A15: 1.1.1.1.3 | B15: Сечение провода от 100 мм2 до 200 мм2 включительно
A16: 1.1.1.1.3.1 | B16: Однцепные
... A66: 1.1.1.4.1 | B66: Сечение провода до 50 мм2 включительно
A67: 1.1.1.4.1.1 | B67: Одноцепные | E67: =SUM(E68:E113) -> 12865 | F67: =SUM(F68:F113) -> 2698 | G67: =SUM(G68:G113) -> 4769.6605
A68: 1.1.1.4.1.1 | B68: Техническое перевооружение ВЛ-10 кВ Ф-209 3,5 км, строительство ВЛ-0,4 кВ и ТП-10/0,4 кВ для осуществления технологического присоединения энергопринимающих устройств строительной площадки жилого дома в Предгорном районе, п.Ясная Поляна, ул.Кубанская д. 3 | C68: 2018 | D68: 0.4 | E68: 80 | F68: 15 | G68: 26.99235
A69: 1.1.1.4.1.1 | B69: Реконструкция ВЛ-0,4 кВ Ф-3 от ТП-1112/153 для осуществления технологического присоединения энергопринимающих устройств строительной площадки жилого дома, расположенной по адресу: Предгорный район, г. Ессентуки, мкр. Опытник, 3 очередь | C69: 2018 | D69: 0.4 | E69: 50 | F69: 15 | G69: 7.82127
A70: 1.1.1.4.1.1 | B70: Техническое перевооружение ВЛ-0,4 кВ Ф-2 от ТП 3114/296 ПС "Курская 2" (строительство участка ВЛИ-0,4 кВ совместным подвесом с ВЛ-10 кВ Ф-296 Л-3152) для осуществления технологического присоединения энергопринимающих устройств жилого дома в с.Эдиссия, ул.Свердлова 17, Курского района | C70: 2018 | D70: 0.4 | E70: 142 | F70: 14 | G70: 35.67252
A71: 1.1.1.4.1.1 | B71: Техническое перевооружение ВЛ-0,4 кВ Ф-3 ТП-3131/268 ПС "Эдиссия" (строительство участка ВЛИ-0,4 кВ по существующим опорам от ТП-3131/268 ВЛ-0,4 кВ Ф-3 до оп.№8) для осуществления технологического присоединения энергопринимающих устройств жилого дома в с.Эдиссия, ул.Шаумяна 91, Курского района» | C71: 2018 | D71: 0.4 | E71: 250 | F71: 15 | G71: 89.53373
A72: 1.1.1.4.1.1 | B72: Реконструкция ВЛ-0,4 кВ от ТП-1/156 для осуществления технологического присоединения энергопринимающих устройств личного подсобного хозяйства, расположенного в Буденновском районе, п.Чкаловский, ул.Первомайская 17а | C72: 2019 | D72: 0.4 | E72: 196 | F72: 5 | G72: 48.72438
A73: 1.1.1.4.1.1 | B73: Реконструкция ВЛ-0,4 кВ от ТП-4/332 для осуществления технологического присоединения энергопринимающих устройств стройплощадки жилого дома, расположенной в Арзгирском районе, а.Башанта, ул.Дружбы 30 | C73: 2019 | D73: 0.4 | E73: 7 | F73: 6 | G73: 44.60178
A74: 1.1.1.4.1.1 | B74: Реконструкция ВЛ-0,4кВ Ф-4 ТП-1040/383 для осуществления технологического присоединения энергопринимающих устройств по ул.Базарная, 30 ст.Незлобная, Георгиевскогорайона | C74: 2019 | D74: 0.4 | E74: 14 | F74: 66 | G74: 36.09175
A75: 1.1.1.4.1.1 | B75: Реконструкция ЛЭП-0,4 кВ от ТП-1056/197 ПС 110/10 кВ «Лысогорская» (совместный подвес) для осуществления технологического присоединения энергопринимающих устройств по ул. Кооперативная 50а, ст. Лысогорская Георгиевского района | C75: 2019 | D75: 0.4 | E75: 252 | F75: 60 | G75: 53.94634
A76: 1.1.1.4.1.1 | B76: Реконструкция ВЛ-0,4 кВ Ф-2 ТП-3053/204 ПС-110/35/10 кВ «Ростовановская» по существующим опорам №23-37 и строительство ВЛ-0,4 кВ от оп.№37 для осуществления технологического присоединения энергопринимающих устройств расположенных на земельном участке по ул.Красных Партизан, дом №36 х.Дыдымовка, Курского района. | C76: 2019 | D76: 0.4 | E76: 600 | F76: 15 | G76: 155.06381
A77: 1.1.1.4.1.1 | B77: Реконструкция ВЛ-10 кВ Ф-225 17.37 км, строительство ВЛ-0,4 кВ и ТП -10/0,4 кВ для осуществления технологического присоединения энергопринимающих устройств нежилого здания, расположенного в Минераловодском районе, с. Гражданское, ул. Заречная, д. 65, строение №1 | C77: 2019 | D77: 0.4 | E77: 650 | F77: 150 | G77: 162.85942
A78: 1.1.1.4.1.1 | B78: Реконструкция ВЛ 0,4 кВ от ТП-5/191 для осуществления технологического присоединения энергопринимающих устройств на земельном участке по адресу: ул. Ленина, 301, с. Тищенское Изобильненского района | C78: 2019 | D78: 0.4 | E78: 291 | F78: 15 | G78: 81.87133
A79: 1.1.1.4.1.1 | B79: Техперевооружение ВЛ 0,4 кВ от ТП-2/482 для осуществления технологического присоединения энергопринимающих устройств жилого дома по адресу: ул. Лесная, 18, с. Московское Изобильненского района | C79: 2019 | D79: 0.4 | E79: 417 | F79: 15 | G79: 82.80296
... A101: 1.1.1.4.1.1 | B101: Реконструкция ВЛ-0,4 кВ Ф-2 ТП-8/130 ВЛ-10 кВ Ф-130 ЦРП Сенгилеевская ГЭС для осуществления технологического присоединения энергопринимающих устройств жилого дома в х. Садовый, ул. Свободная, 76. (Дог.тех.прис. № 6158/2018/СТВ/ЗЭС/ШРЭС от 19.06.2018, ) | C101: 2020 | D101: 0.4 | E101: 230 | F101: 8 | G101: 41.38735
A102: 1.1.1.4.1.1 | B102: Строительство ВЛ - 10 кВ Ф-166 от ПС "Ставрополь-330"(уст. доп. ТП для разгрузки в ТП 13/166, 34/166 в с. Надежда Шпаковского района | C102: 2020 | D102: 10 | E102: 5 | G102: 21.8639
A103: 1.1.1.4.1.1 | B103: Техперевооружение ВЛ 0,4 кВ от ТП 5/151 для осуществления техприс.энерг.прин.устр. жилого дома по адресу: с.Дмитриевское,ул.Пролетарская,22 в Красногв | C103: 2020 | D103: 0.4 | E103: 900 | F103: 14 | G103: 73.48023
A104: 1.1.1.4.1.1 | B104: Реконструкция ВЛ 0,4 кВ от ТП-8/245 для осущствления техприс.энпри. устр. жилого дома по адресу :с.Безопасное, х.Эммануиловский,8 в Труновском районе | C104: 2020 | D104: 0.4 | E104: 360 | F104: 5 | G104: 33.24895
A105: 1.1.1.4.1.1 | B105: Реконструкция ВЛ 0,4 кВ от ТП 9/133 для осущ. техприс.энприн. устр.жилого дома, расположен.по адресу х.Кофанов,43, Труновского р-на,Ставропольского кр | C105: 2020 | D105: 0.4 | E105: 290 | F105: 10 | G105: 94.60394
A106: 1.1.1.4.1.1 | B106: Реконструкция ВЛ 0,4 кВ от ТП-17/264 для осуществ.техприс.энприн.уств.жилого дома расположенного по адресу с.Ключевское,ул.Гагарина,10 в Труновском р | C106: 2020 | D106: 0.4 | E106: 402 | F106: 5 | G106: 144.06766
A107: 1.1.1.4.1.1 | B107: Реконструкция ВЛ-0,4 кВ от ТП-21/259 для осуществления технологического присоединения энергопринимающих устройств жилого дома по ул. Колхозная, 120, в с. Труновское, Труновского района Ставропольского края» | C107: 2020 | D107: 0.4 | E107: 281 | F107: 5 | G107: 312.66162
A108: 1.1.1.4.1.1 | B108: Реконструкция ВЛ 0,4 кВ от ТП-10/137 для осуществления технологического присоединения энергопринимающих устройств жилого дома расположенного по адресу с. Донское, ул. Строителей 19, в Труновском районе Ставропольского края | C108: 2020 | D108: 0.4 | E108: 121 | F108: 5 | G108: 34.45888
A109: 1.1.1.4.1.1 | B109: Реконструкция ВЛ 0,4 кВ от ТП-11/317 для осуществления технологического присоединения энергопринимающих устройств магазина по адресу: ст. Новотроицкая, ул. Первомайская, 123А в Изобильненском районе | C109: 2020 | D109: 0.4 | E109: 155 | F109: 15 | G109: 44.96646
A110: 1.1.1.4.1.1 | B110: Реконструкция ТП-3/111 и ВЛ-0,4 кВ от ТП-3/111 для осуществления технологического присоединения энергопринимающих устройств крытого тока - МТК-2 в с. Ладовская Балка, Красногвардейского района26:01:131211:185) | C110: 2020 | D110: 0.4 | E110: 350 | F110: 117 | G110: 272.74943
A111: 1.1.1.4.1.1 | B111: Реконструкция ВЛ-0,4 кВ Ф-1 от ТП-3/076 для осуществления технологического присоединения энергопринимающих устройств объектов сельскохозяйственного назначения, расположенных по адресу: Петровский район с/мо Сухая Буйвола (кадастровый номер земельного участка 26:08:071102:85) | C111: 2020 | D111: 0.4 | E111: 365 | F111: 15 | G111: 25.68556
A112: 1.1.1.4.1.1 | B112: Реконструкция ВЛ-10 кВ Ф-134 от ПС 35/10 кВ «Юцкая», строительство ВЛ-0,4 кВ и ТП-10/0,4 кВ для осуществления технологического присоединения энергопринимающих устройств заявителей строительных площадок жилых домов в Предгорном районе, с.Юца, ул. Горького, ул. Осенняя «под ключ» | C112: 2020 | D112: 10 | E112: 203 | F112: 120 | G112: 659.377
A113: 1.1.1.4.1.1 | B113: Строительство ВЛ-0,4 кВ Ф-2 от ТП-2292/456 для осуществения технологического присоединения энергопринимающих устройств жилого дома по ул.Промышленная | C113: 2020 | D113: 0.4 | E113: 270 | F113: 15 | G113: 59.50427
A114: 1.1.1.4.2 | B114: Сечение провода от 50 мм2 до 100 мм2 включительно
A115: 1.1.1.4.2.1 | B115: Одноцепные | E115: =SUM(E116:E122) -> 2732 | F115: =SUM(F116:F122) -> 463 | G115: =SUM(G116:G122) -> 1413.3571
A116: 1.1.1.4.2.1 | B116: Реконструкция ВЛ 0,4 кВ от ТП-2/263 для осуществления технологического присоединения энергопринимающих устройств жилого дома по адресу с. Труновское, ул. Рабочая,53 в Труновском районе | C116: 2019 | D116: 0.4 | E116: 222 | F116: 5 | G116: 87.75273
A117: 1.1.1.4.2.1 | B117: Реконструкция ВЛ-10 кВ от Ф-119 ПС 110/10 кВ Темнолесская, строительство ТП-10/0,4 кВ и ВЛ-0,4 кВ для осуществления тех.присоединения энергопринимающих устройств Заявителей по улицам Полевая и Луговая в х.Липовчанский, Шпаковского района | C117: 2019 | D117: 0.4 | E117: 657 | F117: 105 | G117: 508.32336
A118: 1.1.1.4.2.1 | B118: Реконструкция ВЛ 0,4 кВ от ТП-3/257 для осуществления технологического присоединения энергопринимающих устройств строящегося нежилого здания по адресу: с. Труновское, ул. Ленина, 29 в Труновском районе | C118: 2019 | D118: 0.4 | E118: 656 | F118: 15 | G118: 260.27085
A119: 1.1.1.4.2.1 | B119: Строительство ЛЭП-0,4 кВ по существующим опорам Ф-1 от ТП-5125/364 ПС «ЖБИ» для осуществления технологического присоединения энергопринимающих устройств по ул. Шоссейная 42, с.Солдато-Александровское Советского района | C119: 2020 | D119: 0.4 | E119: 300 | F119: 100 | G119: 121.35603
A120: 1.1.1.4.2.1 | B120: Реконструкция ВЛ-10 кВ Ф-153 6.82 км (Инв.№СЦ6107), ВЛ-10 кВ Ф-121 6.65 км (Инв.№СЦ9297), реконструкция КТП 10/0,4 кВ № 386 Ф-153 (Инв.№СЦ21493) (замена силового тр-ра 180 кВА на силовой тр-р 250 кВА) и строительство ВЛ-0,4 кВ для осуществления технологического присоединения энергопринимающих устройств заявителя - РУ-0,4 кВ в г.Ессентуки, ст.Казанская (кад.№ 26:30:070401:141) (договор № 43-05/29 от 18.03.2019 г., 103 кВт) | C120: 2020 | D120: 0.4 | E120: 194 | F120: 103 | G120: 71.16913
A121: 1.1.1.4.2.1 | B121: Реконструкция ВЛ-0,4 кВ ж/б опоры 140.39 км (Инв. № СЦ6069) (дисп. наим. ВЛ-0,4 кВ от ТП-526/108) для осуществления технологического присоединения энергопринимающих устройств жилого дома в Предгорном районе, ст.Суворовская, ул.Береговая, д.128 (дог. №11668/2019/СТВ/ЦЭС/ПРЭС от 25.10.2019 г. ) | C121: 2020 | D121: 0.4 | E121: 500 | F121: 15 | G121: =182.19935-2.6572 -> 179.54215
A122: 1.1.1.4.2.1 | B122: Реконструкция ВЛ-10 кВ Ф-134 от ПС 35/10 кВ «Юцкая», строительство ВЛ-0,4 кВ и ТП-10/0,4 кВ для осуществления технологического присоединения энергопринимающих устройств заявителей строительных площадок жилых домов в Предгорном районе, с.Юца, ул. Горького, ул. Осенняя «под ключ» | C122: 2020 | D122: 0.4 | E122: 203 | F122: 120 | G122: 184.94281
A123: 1.1.1.4.2.2 | B123: Двухцепные
A124: 1.1.1.4.3 | B124: Сечение провода от 100 мм2 до 200 мм2 включительно
A125: 1.1.1.4.3.1 | B125: Однцепные
A126: 1.1.1.4.3.2 | B126: Двухцепные
A127: 1.1.1.4.4 | B127: Сечение провода от 200 мм2 до 500 мм2 включительно
A128: 1.1.1.4.4.1 | B128: Однцепные
A129: 1.1.1.4.4.2 | B129: Двухцепные
A130: 1.1.1.4.5 | B130: Сечение провода от 500 мм2 до 800 мм2 включительно
A131: 1.1.1.4.5.1 | B131: Однцепные
A132: 1.1.1.4.5.2 | B132: Двухцепные
A133: 1.1.1.4.6 | B133: Сечение провода свыше 800 мм4
A134: 1.1.1.4.6.1 | B134: Однцепные
... A176: 1.1.2.3.1 | B176: Сечение провода до 50 мм2 включительно
A177: 1.1.2.3.1.1 | B177: Однцепные | E177: =SUM(E178:E179) -> 116 | F177: =SUM(F178:F179) -> 158 | G177: =SUM(G178:G179) -> 123.37317
A178: 1.1.2.3.1.1 | B178: Реконструкция ВЛ-10 кВ Ф-408 от ПС 110 кВ "Левокумская", строительство ТП-10/0,4 кВ для осуществления технологического присоединения энергопринимающих устройств базы для ведения подсобного хозяйства, расположенной в Левокумском районе, примерно 1500 м на северо-восток от ориентира с.Левокумское | C178: 2019 | D178: 10 | E178: 51 | F178: 15 | G178: 94.29167
A179: 1.1.2.3.1.1 | B179: Реконструкция ВЛ-10 кВ Ф-474 для осуществления технологического присоединения энергопринимающих устройств объектов недропользования, расположенных по адресу: Ставропольский край Благодарненский район (кадастровый номер объекта 26:13:010202:23) (дог. ТП № 43-05/182 от 03.10.2019г.,) | C179: 2020 | D179: 10 | E179: 65 | F179: 143 | G179: 29.0815
A180: 1.1.2.3.1.2 | B180: Двухцепные
A181: 1.1.2.3.2 | B181: Сечение провода от 50 мм2 до 100 мм2 включительно
A182: 1.1.2.3.2.1 | B182: Однцепные
A183: 1.1.2.3.2.2 | B183: Двухцепные
A184: 1.1.2.3.3 | B184: Сечение провода от 100 мм2 до 200 мм2 включительно
A185: 1.1.2.3.3.1 | B185: Однцепные
A186: 1.1.2.3.3.2 | B186: Двухцепные
A187: 1.1.2.3.4 | B187: Сечение провода от 200 мм2 до 500 мм2 включительно
A188: 1.1.2.3.4.1 | B188: Однцепные
A189: 1.1.2.3.4.2 | B189: Двухцепные
A190: 1.1.2.3.5 | B190: Сечение провода от 500 мм2 до 800 мм2 включительно
A191: 1.1.2.3.5.1 | B191: Однцепные
... A493: 1.2.2.3.3.1.1 | B493: Однцепные, за исключением многогранных опорах
A494: 1.2.2.3.3.1.2 | B494: Одноцепные, на многогранных опорах | E494: =SUM(E495) -> 255 | F494: =SUM(F495) -> 4000 | G494: =SUM(G495) -> 4926.6308
A495: 1.2.2.3.3.1.2 | B495: Строительство отпайки от ВЛ-35кВ Л-446 ПС Путь Ленина - ПС Передовая с установкой реклоузера для осуществления технологического присоединения строящейся ПС 35 кВ Маяк | C495: 2020 | D495: 35 | E495: 255 | F495: 4000 | G495: 4926.6308
A496: 1.2.2.3.3.2 | B496: Двухцепные
A497: 1.2.2.3.3.2.1 | B497: Двухцепные, за исключением многогранных опорах
A498: 1.2.2.3.3.2.2 | B498: Двухцепные, на многогранных опорах
A499: 1.2.2.3.4 | B499: Сечение провода от 200 мм2 до 500 мм2 включительно
A500: 1.2.2.3.4.1 | B500: Однцепные
A501: 1.2.2.3.4.1.1 | B501: Однцепные, за исключением многогранных опорах
A502: 1.2.2.3.4.1.2 | B502: Однцепные, на многогранных опорах
A503: 1.2.2.3.4.2 | B503: Двухцепные
A504: 1.2.2.3.4.2.1 | B504: Двухцепные, за исключением многогранных опорах
A505: 1.2.2.3.4.2.2 | B505: Двухцепные, на многогранных опорах
A506: 1.2.2.3.5 | B506: Сечение провода от 500 мм2 до 800 мм2 включительно
A507: 1.2.2.3.5.1 | B507: Однцепные
... A623: 1.3.1.4.1 | B623: Сечение провода до 50 мм2 включительно
A624: 1.3.1.4.1.1 | B624: Одноцепные | E624: =SUM(E625:E1045) -> 115012.9 | F624: =SUM(F625:F1045) -> 16522.1 | G624: =SUM(G625:G1045) -> 108501.68
A625: 1.3.1.4.1.1 | B625: Строительство участка ВЛ-10 кВ от опоры №24 ВЛ-10 кВ Ф-115 ПС 110/10 кВ Ново-Невинномысская для обеспечения технологического присоединения энергопринимающих устройств АГНКС по ул. Майкопская в г. Невинномысске (договор технологического присоединения №43-05/87 от 30.06.2015) | C625: 2018 | D625: 10 | E625: 120 | F625: 260 | G625: 292.6415
A626: 1.3.1.4.1.1 | B626: Строительство ВЛ-10 кВ от опоры №10 ВЛ-10 кВ Ф-187 ПС 110/35/10 кВ Новая Деревня для обеспечения технологического присоединения строящихся ЛЭП-10 кВ, ТП-10/0,4 кВ в с. Новая Деревня Кочубеевского района (договор технологического присоединения №43-05/202 от 30.12.2016 | C626: 2018 | D626: 10 | E626: 70 | F626: 220 | G626: 185.12024
A627: 1.3.1.4.1.1 | B627: Техническое перевооружение ВЛ-0,4 кВ Ф-1 ТП-31/166 ВЛ-10 кВ Ф-166 ПС 330/110/10 кВ Ставрополь-330 и строительство ВЛ-0,4 кВ от ВЛ-0,4 кВ Ф-1 ТП-31/166 ВЛ-10 кВ Ф-166 ПС 330/110/10 кВ Ставрополь-330 для технологического присоединения энергопринимающих устройств жилых домов в с. Надежда, ул. Зеленая. (Договоры № 07/348, 07/349 от 30.05.17г.) | C627: 2018 | D627: 0.4 | E627: 130 | F627: 25 | G627: 109.64221
...

Sheet 28а) РТУ ПР2
E1: Приложение № 2 к Методическим указаниям по определению размера платы за технологическое присоединение к электрическим сетям
A2: Расходы на выполнение мероприятий по технологическому присоединению, предусмотренным подпунктами «а» и «в» пункта 16 Методических указаний, за 2018 год
A3: № п/п | B3: Наименование мероприятий | C3: Информация для расчета стандартизированной тарифной ставки Ci | F3: Расходы на одно присоединение (руб. на одно ТП) | J3: филиал ПАО «МРСК Северного Кавказа» - «Севкавказэнерго»
C4: Расходы по каждому мероприятию (руб.) | D4: Количество технологических присоединений (шт.) | E4: Объем максимальной мощности (кВт) | J4: Наименование | L4: Факт 2016 | M4: Факт 2017 | N4: Факт 2018 | O4: План 2020 | P4: БП 2020
A5: 1 | B5: 2 | C5: 3 | D5: 4 | E5: 5 | F5: 6 | J5: 1 | L5: 3 | M5: 4 | N5: 5 | O5: 6=(гр.3+гр.4+гр.5)/3 | P5: 7
A6: 1. | B6: Подготовка и выдача сетевой организацией технических условий Заявителю | C6: 12961188 | D6: 3274 | E6: 93027.17 | F6: 3958.8235 | J6: Количество договоров, шт. | L6: 1272 | M6: 1314 | N6: 1098 | O6: 1228 | P6: 0
A7: 2. | B7: Проверка сетевой организацией выполнения технических условий Заявителем | C7: 18473310 | D7: 3274 | E7: 93027.17 | F7: 5642.4281 | J7: Объм максимальной мощности, кВт. | K7: Строительство кабельных линий | L7: 24612.02 | M7: 20476.6 | N7: 19254.8 | O7: 21447.807 | P7: 0
A8: 2.1. | B8: Выдача сетевой организацией акта об осуществлении технологического присоединения Заявителям, указанным в абзаце восьмом пункта 24 Методических указаний по определению размера платы за технологическое присоединение к электрическим | C8: 2128036.6 | D8: 2996 | E8: 31249.67 | F8: 710.29259
A9: 2.2. | B9: Проверка сетевой организацией выполнения технических условий Заявителями, указанными в абзаце девятом пункта 24 Методических указаний по определению размера платы за технологическое присоединение к электрическим сетям | C9: 1371133.7 | D9: 278 | E9: 61777.5 | F9: 4932.1355
A10: Расходы на выполнение мероприятий по технологическому присоединению, предусмотренным подпунктами «а» и «в» пункта 16 Методических указаний, за 2019 год
A11: № п/п | B11: Наименование мероприятий | C11: Информация для расчета стандартизированной тарифной ставки Ci | F11: Расходы на одно присоединение (руб. на одно ТП)
C12: Расходы по каждому мероприятию (руб.) | D12: Количество технологических присоединений (шт.) | E12: Объем максимальной мощности (кВт)
A13: 1 | B13: 2 | C13: 3 | D13: 4 | E13: 5 | F13: 6
A14: 1. | B14: Подготовка и выдача сетевой организацией технических условий Заявителю | C14: 13753577 | D14: 2841 | E14: 140110.41 | F14: 4841.1042
A15: 2. | B15: Проверка сетевой организацией выполнения технических условий Заявителем | C15: 21622452 | D15: 2841 | E15: 140110.41 | F15: 7610.8596
A16: 2.1. | B16: Выдача сетевой организацией акта об осуществлении технологического присоединения Заявителям, указанным в абзаце восьмом пункта 24 Методических указаний по определению размера платы за технологическое присоединение к электрическим | C16: 1868635.5 | D16: 2464 | E16: 25602.91 | F16: 758.3748
A17: 2.2. | B17: Проверка сетевой организацией выполнения технических условий Заявителями, указанными в абзаце девятом пункта 24 Методических указаний по определению размера платы за технологическое присоединение к электрическим сетям | C17: 2583386.8 | D17: 377 | E17: 140110.41 | F17: 6852.4848
A18: Расходы на выполнение мероприятий по технологическому присоединению, предусмотренным подпунктами «а» и «в» пункта 16 Методических указаний, за 2020 год
A19: № п/п | B19: Наименование мероприятий | C19: Информация для расчета стандартизированной тарифной ставки Ci | F19: Расходы на одно присоединение (руб. на одно ТП)
C20: Расходы по каждому мероприятию (руб.) | D20: Количество технологических присоединений (шт.) | E20: Объем максимальной мощности (кВт)
A21: 1 | B21: 2 | C21: 3 | D21: 4 | E21: 5 | F21: 6
A22: 1. | B22: Подготовка и выдача сетевой организацией технических условий Заявителю | C22: 15251356 | D22: 2344 | E22: 101770.97 | F22: 6506.5512
A23: 2. | B23: Проверка сетевой организацией выполнения технических условий Заявителем | C23: 22335415 | D23: 2344 | E23: 101770.97 | F23: 9528.7605
A24: 2.1. | B24: Выдача сетевой организацией акта об осуществлении технологического присоединения Заявителям, указанным в абзаце восьмом пункта 24 Методических указаний по определению размера платы за технологическое присоединение к электрическим | C24: 1586946.9 | D24: 1980 | E24: 21363.311 | F24: 801.48833
A25: 2.2. | B25: Проверка сетевой организацией выполнения технических условий Заявителями, указанными в абзаце девятом пункта 24 Методических указаний по определению размера платы за технологическое присоединение к электрическим сетям | C25: 3176727.1 | D25: 364 | E25: 80407.66 | F25: 8727.2722

Sheet 28 б) reshenie_tarif_2021
B2: Информация о решении органа исполнительной власти субъекта Российской Федерации в области государственного регулирования тарифов об установлении единых для всех территориальных сетевых организаций на территории субъекта Российской Федерации стандартизированных тарифных ставок, определяющих величину платы за технологическое присоединение к электрическим сетям территориальных сетевых организаций
B3: № | C3: Вид документа | D3: Наименование документа | E3: Реквизиты решения
C4: Постановление Региональной тарифной комиссии Ставропольского края | D4: Об установлении стандартизированных тарифных ставок, ставок за единицу максимальной мощности и формул для расчета размера платы за технологическое присоединение энергопринимающих устройств заявителей к объектам электросетевого хозяйства территориальных сетевых организаций Ставропольского края на 2021 год | E4: № 82/1 от 28.12.2020
C5: Постановление Региональной тарифной комиссии Ставропольского края | D5: О внесении изменения в приложение 1 к постановлению региональной тарифной комиссии Ставропольского края от 28 декабря 2020 г. № 28/1 "б установлении стандартизированных тарифных ставок, ставок за единицу максимальной мощности и формул для расчета размера платы за технологическое присоединение энергопринимающих устройств заявителей к объектам электросетевого хозяйства территориальных сетевых организаций Ставропольского края на 2021 год " | E5: № 9/1 от 11.02.2021

Sheet 28 в) srednie_dannie_fact_mosh
D1: Приложение 2
D2: к стандартам раскрытия информации субъектами оптового и розничных рынков электрической энергии
C4: ИНФОРМАЦИЯ
C5: о фактических средних данных о присоединенных объемах
C6: максимальной мощности за 3 предыдущих года
C7: по каждому мероприятию
D9: Фактические расходы на строительство подстанций за 3 предыдущих года (тыс. рублей) | E9: Объем мощности, введенной в основные фонды за 3 предыдущих года (кВт)
B10: 1. | C10: Строительство пунктов секционирования (распределенных пунктов) | D10: 10010.034 | E10: 23361.2
B11: 2. | C11: Строительство комплектных трансформаторных подстанций и распределительных трансформаторных подстанций с уровнем напряжения до 35 кВ | D11: 66204.34 | E11: 19751.64
B12: 3. | C12: Строительство центров питания и подстанций уровнем напряжения 35 кВ и выше | D12: 0 | E12: 0

Sheet 28 г) srednie_dannie_dline_VL
E1: Приложение 3
E2: к стандартам раскрытия информации субъектами оптового и розничных рынков электрической энергии
C4: ИНФОРМАЦИЯ
C5: о фактических средних данных о длине линий электропередачи
C6: и об объемах максимальной мощности построенных объектов
C7: за 3 предыдущих года по каждому мероприятию
D9: Расходы на строительство воздушных и кабельных линий электропередачи на i-м уровне напряжения, фактически построенных за последние 3 года (тыс. рублей) | E9: Длина воздушных и кабельных линий электропередачи на i-м уровне напряжения, фактически построенных за последние 3 года (км) | F9: Объем максимальной мощности, присоединенной путем строительства воздушных или кабельных линий за последние 3 года (кВт)
B10: 1. | C10: Строительство кабельных линий электропередачи: | D10: 21815.232 | E10: 3926 | F10: 11611
C11: 0,4 кВ
C12: 1 - 20 кВ | D12: 19931.891 | E12: 3486 | F12: 7611
C13: 35 кВ | D13: 1883.341 | E13: 440 | F13: 4000
B14: 2. | C14: Строительство воздушных линий электропередачи: | D14: 231522.21 | E14: 198921.4 | F14: 43595.5
C15: 0,4 кВ | D15: 125522.03 | E15: 132124 | F15: 21293.5
C16: 1 - 20 кВ | D16: 72408.807 | E16: 57464.4 | F16: 14302
C17: 35 кВ | D17: 33591.374 | E17: 9333 | F17: 8000
E20: 0

Sheet 28 д) info_TP_2021
J1: Приложение 4
J2: к стандартам раскрытия информации субъектами оптового и розничных рынков электрической энергии
C4: ИНФОРМАЦИЯ
C5: об осуществлении технологического присоединения
C6: по договорам, заключенным за текущий год (9 месяцев 2021 года)
B8: Категория заявителей | D8: Количество договоров (штук) | G8: Максимальная мощность (кВт) | J8: Стоимость договоров (без НДС) (тыс. рублей)
D9: 0,4 кВ | E9: 1 - 20 кВ | F9: 35 кВ и выше | G9: 0,4 кВ | H9: 1 - 20 кВ | I9: 35 кВ и выше | J9: 0,4 кВ | K9: 1 - 20 кВ | L9: 35 кВ и выше
B10: 1. | C10: До 15 кВт - всего | D10: 2490 | E10: 20 | G10: 26378.004 | H10: 233 | J10: 8440.3847 | K10: 275.91723 | L10: 0
C11: в том числе льготная категория <*> | D11: 2145 | E11: 12 | G11: 23972.904 | H11: 136 | J11: 983.11785 | K11: 5.49996 | L11: 0
B12: 2. | C12: От 15 до 150 кВт - всего | D12: 78 | E12: 58 | G12: 5183.6 | H12: 5471.06 | J12: 2813.3583 | K12: 4434.2661 | L12: 0
C13: в том числе льготная категория <**> | J13: 0 | K13: 0 | L13: 0
B14: 3. | C14: От 150 кВт до 670 кВт - всего | D14: 2 | E14: 32 | G14: 375.8 | H14: 10976.5 | J14: 3140.1935 | K14: 16525.685 | L14: 0
C15: в том числе по индивидуальному проекту | J15: 0 | K15: 0 | L15: 0
B16: 4. | C16: От 670 кВт - всего | E16: 17 | F16: 2 | H16: 32567 | I16: 63000 | J16: 0 | K16: 35298.711 | L16: 25464.369
C17: в том числе по индивидуальному проекту | J17: 0 | K17: 0 | L17: 0
B19: <*> Заявители, оплачивающие технологическое присоединение своих энергопринимающих устройств в размере не более 550 рублей.
B21: <**> Заявители - юридические лица или индивидуальные предприниматели, заключившие договор об осуществлении технологического присоединения по одному источнику электроснабжения энергопринимающих устройств максимальной мощностью свыше 15 и до 150 кВт включительно (с учетом ранее присоединенных энергопринимающих устройств), у которых в договоре предусматривается беспроцентная рассрочка платежа за технологическое присоединение в размере 95 процентов платы за технологическое присоединение с условием ежеквартального внесения платы равными долями от общей суммы рассрочки до 3 лет со дня подписания сторонами акта об осуществлении технологического присоединения.

Sheet 28 е) info_zayavki_TP_2021
G1: Приложение 5
G2: к стандартам раскрытия информации субъектами оптового и розничных рынков электрической энергии
C3: ИНФОРМАЦИЯ
C4: о поданных заявках на технологическое присоединение
C5: за текущий год (9 месяцев 2021 год)
B6: Категория заявителей | D6: Количество заявок (штук) | G6: Максимальная мощность (кВт)
D7: 0,4 кВ | E7: 1 - 20 кВ | F7: 35 кВ и выше | G7: 0,4 кВ | H7: 1 - 20 кВ | I7: 35 кВ и выше
B8: 1. | C8: До 15 кВт - всего | D8: 3265 | E8: 48 | G8: 34221.025 | H8: 548
C9: в том числе льготная категория <*> | D9: 2793 | E9: 33 | G9: 30791.725 | H9: 368
B10: 2. | C10: От 15 до 150 кВт - всего | D10: 212 | E10: 81 | G10: 12013.74 | H10: 7013.5101
C11: в том числе льготная категория <**>
B12: 3. | C12: От 150 кВт до 670 кВт - всего | D12: 15 | E12: 53 | G12: 3840.25 | H12: 18509
C13: в том числе по индивидуальному проекту
B14: 4. | C14: От 670 кВт - всего | D14: 1 | E14: 28 | F14: 3 | G14: 2612 | H14: 59434 | I14: 6359
C15: в том числе по индивидуальному проекту
B17: <*> Заявители, оплачивающие технологическое присоединение своих энергопринимающих устройств в размере не более 550 рублей.
B19: <**> Заявители - юридические лица или индивидуальные предприниматели, заключившие договор об осуществлении технологического присоединения по одному источнику электроснабжения энергопринимающих устройств максимальной мощностью свыше 15 и до 150 кВт включительно (с учетом ранее присоединенных энергопринимающих устройств), у которых в договоре предусматривается беспроцентная рассрочка платежа за технологическое присоединение в размере 95 процентов платы за технологическое присоединение с условием ежеквартального внесения платы равными долями от общей суммы рассрочки до 3 лет со дня подписания сторонами акта об осуществлении технологического присоединения.
