Workbook

Sheet Форма публикуемая
A1: =" Предельные уровни нерегулируемых цен на электрическую энергию (мощность), посталяемую покупателям (потребителям) "&'[1]Одноставочная цена'!$B$2&'[1]Одноставочная цена'!$C$2 -> Предельные уровни нерегулируемых цен на электрическую энергию (мощность), посталяемую покупателям (потребителям) ПАО "Россети Северный Кавказ"-"Каббалкэнерго" за октябрь 2024 года
A3: I. Первая ценовая категория (для объемов покупки электрической энергии (мощности), учет которых осуществляется в целом за расчетный период)
A5: _____1. Предельный уровень нерегулируемых цен
AO7: потребители с максимальной мощностью энергопринимающих устройств | BZ7: Уровень напряжения
BZ8: BH | CS8: CH I | DL8: CH II | ED8: HH
A9: Предельный уровень нерегулируемых цен, рублей/мВт·ч без НДС | AO9: до 670 кВт | BZ9: ='[1]Услуги по передаче'!$G$6+'[1]Сбытовая надбавка'!$F$6+'[1]Иные услуги'!$C$6+'[1]Одноставочная цена'!$D$5+[1]УРП!$C$8 -> 6004.46 | CS9: ='[1]Услуги по передаче'!$H$6+'[1]Сбытовая надбавка'!$F$6+'[1]Иные услуги'!$C$6+'[1]Одноставочная цена'!$D$5+[1]УРП!$C$8 -> 6214.96 | DL9: ='[1]Услуги по передаче'!$I$6+'[1]Сбытовая надбавка'!$F$6+'[1]Иные услуги'!$C$6+'[1]Одноставочная цена'!$D$5+[1]УРП!$C$8 -> 6859.36 | ED9: ='[1]Услуги по передаче'!$J$6+'[1]Сбытовая надбавка'!$F$6+'[1]Иные услуги'!$C$6+'[1]Одноставочная цена'!$D$5+[1]УРП!$C$8 -> 7919.42
G11: 2. Средневзвешенная нерегулируемая цена на электрическую энергию (мощность), используемая для расчета предельного уровня
A12: нерегулируемых цен для первой ценовой категории, рублей/мВт·ч без НДС | BO12: ='[1]Одноставочная цена'!D5 -> 2341.79
G13: 3. Составляющие расчета средневзвешенной нерегулируемой цены на электрическую энергию (мощность), используемой для расчета
A14: предельного уровня нерегулируемых цен для первой ценовой категории:
A16: а) средневзвешенная нерегулируемая цена на электрическую энергию на оптовом рынке, рублей/мВт·ч | CI16: ='[1]Одноставочная цена'!D6 -> 1432.4
A18: б) средневзвешенная нерегулируемая цена на мощность на оптовом рынке, рублей/мВт | BX18: ='[1]Одноставочная цена'!D7 -> 625174.95
A20: в) коэффициент оплаты мощности потребителями (покупателями), осуществляющими расчеты по первой ценовой категории, 1/час | DC20: =MIN('[1]Одноставочная цена'!D9,'[1]Одноставочная цена'!D8) -> 0.0014546152
A22: г) объем фактического пикового потребления гарантирующего поставщика на оптовом рынке, мВт | CE22: ='[1]Одноставочная цена'!D11 -> 257.884
A24: д) величина мощности, соответствующей покупке электрической энергии гарантирующим поставщиком у производителей электрической энергии
A25: (мощности) на розничных рынках, мВт | AJ25: ='[1]Одноставочная цена'!D12 -> 0
A27: е) сумма величин мощности, оплачиваемой на розничном рынке потребителями (покупателями), осуществляющими расчеты по второй - шестой
A28: ценовым категориям, мВт | Y28: ='[1]Одноставочная цена'!D13 -> 46.973 | AO28: ,
A29: в том числе:
J30: по второй ценовой категории, мВт | AV30: ='[1]Одноставочная цена'!D14 -> 0.002
J31: по третьей ценовой категории, мВт | AV31: ='[1]Одноставочная цена'!D15 -> 23.656
J32: по четвертой ценовой категории, мВт | AV32: ='[1]Одноставочная цена'!D16 -> 23.215
J33: по пятой ценовой категории, мВт | AV33: ='[1]Одноставочная цена'!D17 -> 0.1
J34: по шестой ценовой категории, мВт | AV34: ='[1]Одноставочная цена'!D18 -> 0
A36: ж) объем потребления мощности населением и приравненными к нему категориями потребителей, мВт | CI36: ='[1]Одноставочная цена'!D19 -> 84
A38: з) объем потребления электрической энергии потребителями (покупателями), осуществляющими расчеты по второй ценовой категории, мВт·ч
A39: ='[1]Одноставочная цена'!D24 -> 0.846 | Q39: ,
A40: в том числе:
D41: для трех зон суток, мВт·ч | AI41: ='[1]Одноставочная цена'!D25 -> 0
G42: по ночной зоне суток, мВт·ч | AV42: ='[1]Одноставочная цена'!D26 -> 0
G43: по полупиковой зоне суток, мВт·ч | AV43: ='[1]Одноставочная цена'!D27 -> 0
G44: по пиковой зоне суток, мВт·ч | AV44: ='[1]Одноставочная цена'!D28 -> 0
D45: для двух зон суток, мВт·ч | AI45: ='[1]Одноставочная цена'!D29 -> 0.846
G46: по ночной зоне суток, мВт·ч | AV46: ='[1]Одноставочная цена'!D30 -> 0.144
G47: по пиковой зоне суток, мВт·ч | AV47: ='[1]Одноставочная цена'!D31 -> 0.702
A49: и) фактический объем потребления электрической энергии гарантирующим поставщиком
A50: на оптовом рынке, мВт·ч | AE50: ='[1]Одноставочная цена'!D20 -> 161933.52
A52: к) совокупный объем покупки электрической энергии гарантирующим поставщиком у производителей электрической энергии (мощности) на розничных
A53: рынках, мВт·ч | S53: ='[1]Одноставочная цена'!D21 -> 4.046
A54: в т.ч. у собственников и иных законных владельцев объектов
...
