Workbook

Sheet Форма публикуемая
A1: =" Предельные уровни нерегулируемых цен на электрическую энергию (мощность), посталяемую покупателям (потребителям) "&'[1]Одноставочная цена'!$B$2&'[1]Одноставочная цена'!$C$2 -> Предельные уровни нерегулируемых цен на электрическую энергию (мощность), посталяемую покупателям (потребителям) ПАО "Россети Северный Кавказ"-"Каббалкэнерго" за октябрь 2024 года
A3: I. Первая ценовая категория (для объемов покупки электрической энергии (мощности), учет которых осуществляется в целом за расчетный период)
A5: _____1. Предельный уровень нерегулируемых цен
AO7: потребители с максимальной мощностью энергопринимающих устройств | BZ7: Уровень напряжения
BZ8: BH | CS8: CH I | DL8: CH II | ED8: HH
A9: Предельный уровень нерегулируемых цен, рублей/мВт·ч без НДС | AO9: до 670 кВт | BZ9: ='[1]Услуги по передаче'!$G$6+'[1]Сбытовая надбавка'!$F$6+'[1]Иные услуги'!$C$6+'[1]Одноставочная цена'!$D$5+[1]УРП!$C$8 -> 6004.46 | CS9: ='[1]Услуги по передаче'!$H$6+'[1]Сбытовая надбавка'!$F$6+'[1]Иные услуги'!$C$6+'[1]Одноставочная цена'!$D$5+[1]УРП!$C$8 -> 6214.96 | DL9: ='[1]Услуги по передаче'!$I$6+'[1]Сбытовая надбавка'!$F$6+'[1]Иные услуги'!$C$6+'[1]Одноставочная цена'!$D$5+[1]УРП!$C$8 -> 6859.36 | ED9: ='[1]Услуги по передаче'!$J$6+'[1]Сбытовая надбавка'!$F$6+'[1]Иные услуги'!$C$6+'[1]Одноставочная цена'!$D$5+[1]УРП!$C$8 -> 7919.42
G11: 2. Средневзвешенная нерегулируемая цена на электрическую энергию (мощность), используемая для расчета предельного уровня
A12: нерегулируемых цен для первой ценовой категории, рублей/мВт·ч без НДС | BO12: ='[1]Одноставочная цена'!D5 -> 2341.79
G13: 3. Составляющие расчета средневзвешенной нерегулируемой цены на электрическую энергию (мощность), используемой для расчета
A14: предельного уровня нерегулируемых цен для первой ценовой категории:
A16: а) средневзвешенная нерегулируемая цена на электрическую энергию на оптовом рынке, рублей/мВт·ч | CI16: ='[1]Одноставочная цена'!D6 -> 1432.4
A18: б) средневзвешенная нерегулируемая цена на мощность на оптовом рынке, рублей/мВт | BX18: ='[1]Одноставочная цена'!D7 -> 625174.95
A20: в) коэффициент оплаты мощности потребителями (покупателями), осуществляющими расчеты по первой ценовой категории, 1/час | DC20: =MIN('[1]Одноставочная цена'!D9,'[1]Одноставочная цена'!D8) -> 0.0014546152
A22: г) объем фактического пикового потребления гарантирующего поставщика на оптовом рынке, мВт | CE22: ='[1]Одноставочная цена'!D11 -> 257.884
A24: д) величина мощности, соответствующей покупке электрической энергии гарантирующим поставщиком у производителей электрической энергии
A25: (мощности) на розничных рынках, мВт | AJ25: ='[1]Одноставочная цена'!D12 -> 0
A27: е) сумма величин мощности, оплачиваемой на розничном рынке потребителями (покупателями), осуществляющими расчеты по второй - шестой
A28: ценовым категориям, мВт | Y28: ='[1]Одноставочная цена'!D13 -> 46.973 | AO28: ,
A29: в том числе:
J30: по второй ценовой категории, мВт | AV30: ='[1]Одноставочная цена'!D14 -> 0.002
J31: по третьей ценовой категории, мВт | AV31: ='[1]Одноставочная цена'!D15 -> 23.656
J32: по четвертой ценовой категории, мВт | AV32: ='[1]Одноставочная цена'!D16 -> 23.215
J33: по пятой ценовой категории, мВт | AV33: ='[1]Одноставочная цена'!D17 -> 0.1
J34: по шестой ценовой категории, мВт | AV34: ='[1]Одноставочная цена'!D18 -> 0
A36: ж) объем потребления мощности населением и приравненными к нему категориями потребителей, мВт | CI36: ='[1]Одноставочная цена'!D19 -> 84
A38: з) объем потребления электрической энергии потребителями (покупателями), осуществляющими расчеты по второй ценовой категории, мВт·ч
A39: ='[1]Одноставочная цена'!D24 -> 0.846 | Q39: ,
A40: в том числе:
D41: для трех зон суток, мВт·ч | AI41: ='[1]Одноставочная цена'!D25 -> 0
G42: по ночной зоне суток, мВт·ч | AV42: ='[1]Одноставочная цена'!D26 -> 0
G43: по полупиковой зоне суток, мВт·ч | AV43: ='[1]Одноставочная цена'!D27 -> 0
G44: по пиковой зоне суток, мВт·ч | AV44: ='[1]Одноставочная цена'!D28 -> 0
D45: для двух зон суток, мВт·ч | AI45: ='[1]Одноставочная цена'!D29 -> 0.846
G46: по ночной зоне суток, мВт·ч | AV46: ='[1]Одноставочная цена'!D30 -> 0.144
G47: по пиковой зоне суток, мВт·ч | AV47: ='[1]Одноставочная цена'!D31 -> 0.702
A49: и) фактический объем потребления электрической энергии гарантирующим поставщиком
A50: на оптовом рынке, мВт·ч | AE50: ='[1]Одноставочная цена'!D20 -> 161933.52
A52: к) совокупный объем покупки электрической энергии гарантирующим поставщиком у производителей электрической энергии (мощности) на розничных
A53: рынках, мВт·ч | S53: ='[1]Одноставочная цена'!D21 -> 4.046
A54: в т.ч. у собственников и иных законных владельцев объектов
A55: микрогенерации, мВт·ч | S55: ='[1]Одноставочная цена'!D22 -> 0
A57: л) сумма объемов потребления электрической энергии потребителями (покупателями), осуществляющими расчеты по второй - шестой ценовым
A58: категориям, мВт·ч | W58: ='[1]Одноставочная цена'!D23 -> 32690.438 | AM58: ,
A59: в том числе:
G60: по второй ценовой категории, мВт·ч | AV60: ='[1]Одноставочная цена'!D24 -> 0.846
G61: по третьей ценовой категории, мВт·ч | AV61: ='[1]Одноставочная цена'!D32 -> 16045.659
G62: по четвертой ценовой категории, мВт·ч | AV62: ='[1]Одноставочная цена'!D33 -> 16551.928
G63: по пятой ценовой категории, мВт·ч | AV63: ='[1]Одноставочная цена'!D34 -> 92.005
G64: по шестой ценовой категории, мВт·ч | AV64: ='[1]Одноставочная цена'!D35 -> 0
A66: м) объем потребления электрической энергии населением и приравненными к нему категориями
A67: потребителей, мВт·ч | T67: ='[1]Одноставочная цена'!D36 -> 42000
A69: н) величина изменения средневзвешенной нерегулируемой цены на электрическую энергию (мощность), связанная с учетом данных за
A70: предыдущие расчетные периоды, рублей/мВт·ч * | AR70: ='[1]Одноставочная цена'!D10 -> 0
A72: _____*_В случае если величина изменения средневзвешенной нерегулируемой цены на электрическую энергию (мощность) не равна нулю, гарантирующий поставщик публикует также средневзвешенную нерегулируемую цену на электрическую энергию (мощность), используемую для расчета предельного уровня нерегулируемых цен для первой ценовой категории, и составляющие расчета указанной средневзвешенной нерегулируемой цены на электрическую энергию (мощность) за все периоды, предшествующие рассматриваемому, в которых изменились данные, необходимые для расчета средневзвешенной нерегулируемой цены на электрическую энергию (мощность), по сравнению с данными, используемыми для расчета в этих периодах.
A74: II. Вторая ценовая категория (для объемов покупки электрической энергии (мощности), учет которых осуществляется по зонам суток расчетного периода)
G76: 1. Предельный уровень нерегулируемых цен для трех зон суток, рублей/мВт·ч без НДС
A78: Зоны суток | BZ78: Уровень напряжения
BZ79: BH | CS79: CH I | DL79: CH II | ED79: HH
A80: Для категории потребителей с максимальной мощностью энергопринимающих устройств до 670 кВт.
B81: Ночная | BZ81: ='[1]Иные услуги'!$C$6+'[1]Сбытовая надбавка'!$F$6+'[1]Услуги по передаче'!$G$6+'[1]ОАО "АТС"'!$D$9+[1]УРП!$C$8 -> 5032.31 | CS81: ='[1]Иные услуги'!$C$6+'[1]Сбытовая надбавка'!$F$6+'[1]Услуги по передаче'!$H$6+'[1]ОАО "АТС"'!$D$9+[1]УРП!$C$8 -> 5242.81 | DL81: ='[1]Иные услуги'!$C$6+'[1]Сбытовая надбавка'!$F$6+'[1]Услуги по передаче'!$I$6+'[1]ОАО "АТС"'!$D$9+[1]УРП!$C$8 -> 5887.21 | ED81: ='[1]Иные услуги'!$C$6+'[1]Сбытовая надбавка'!$F$6+'[1]Услуги по передаче'!$J$6+'[1]ОАО "АТС"'!$D$9+[1]УРП!$C$8 -> 6947.27
B82: Полупиковая | BZ82: ='[1]Иные услуги'!$C$6+'[1]Сбытовая надбавка'!$F$6+'[1]Услуги по передаче'!$G$6+'[1]ОАО "АТС"'!$D$10+[1]УРП!$C$8 -> 6007.5 | CS82: ='[1]Иные услуги'!$C$6+'[1]Сбытовая надбавка'!$F$6+'[1]Услуги по передаче'!$H$6+'[1]ОАО "АТС"'!$D$10+[1]УРП!$C$8 -> 6218 | DL82: ='[1]Иные услуги'!$C$6+'[1]Сбытовая надбавка'!$F$6+'[1]Услуги по передаче'!$I$6+'[1]ОАО "АТС"'!$D$10+[1]УРП!$C$8 -> 6862.4 | ED82: ='[1]Иные услуги'!$C$6+'[1]Сбытовая надбавка'!$F$6+'[1]Услуги по передаче'!$J$6+'[1]ОАО "АТС"'!$D$10+[1]УРП!$C$8 -> 7922.46
B83: Пиковая | BZ83: ='[1]Иные услуги'!$C$6+'[1]Сбытовая надбавка'!$F$6+'[1]Услуги по передаче'!$G$6+'[1]ОАО "АТС"'!$D$11+[1]УРП!$C$8 -> 11292.34 | CS83: ='[1]Иные услуги'!$C$6+'[1]Сбытовая надбавка'!$F$6+'[1]Услуги по передаче'!$H$6+'[1]ОАО "АТС"'!$D$11+[1]УРП!$C$8 -> 11502.84 | DL83: ='[1]Иные услуги'!$C$6+'[1]Сбытовая надбавка'!$F$6+'[1]Услуги по передаче'!$I$6+'[1]ОАО "АТС"'!$D$11+[1]УРП!$C$8 -> 12147.24 | ED83: ='[1]Иные услуги'!$C$6+'[1]Сбытовая надбавка'!$F$6+'[1]Услуги по передаче'!$J$6+'[1]ОАО "АТС"'!$D$11+[1]УРП!$C$8 -> 13207.3
G85: 2. Предельный уровень нерегулируемых цен для двух зон суток, рублей/мВт·ч без НДС
A87: Зоны суток | BZ87: Уровень напряжения
BZ88: BH | CS88: CH I | DL88: CH II | ED88: HH
A89: Для категории потребителей с максимальной мощностью энергопринимающих устройств до 670 кВт.
A90: Ночная | BZ90: ='[1]Иные услуги'!$C$6+'[1]Сбытовая надбавка'!$F$6+'[1]Услуги по передаче'!$G$6+'[1]ОАО "АТС"'!$D$13+[1]УРП!$C$8 -> 5032.31 | CS90: ='[1]Иные услуги'!$C$6+'[1]Сбытовая надбавка'!$F$6+'[1]Услуги по передаче'!$H$6+'[1]ОАО "АТС"'!$D$13+[1]УРП!$C$8 -> 5242.81 | DL90: ='[1]Иные услуги'!$C$6+'[1]Сбытовая надбавка'!$F$6+'[1]Услуги по передаче'!$I$6+'[1]ОАО "АТС"'!$D$13+[1]УРП!$C$8 -> 5887.21 | ED90: ='[1]Иные услуги'!$C$6+'[1]Сбытовая надбавка'!$F$6+'[1]Услуги по передаче'!$J$6+'[1]ОАО "АТС"'!$D$13+[1]УРП!$C$8 -> 6947.27
B91: Дневная | BZ91: ='[1]Иные услуги'!$C$6+'[1]Сбытовая надбавка'!$F$6+'[1]Услуги по передаче'!$G$6+'[1]ОАО "АТС"'!$D$14+[1]УРП!$C$8 -> 7559.1 | CS91: ='[1]Иные услуги'!$C$6+'[1]Сбытовая надбавка'!$F$6+'[1]Услуги по передаче'!$H$6+'[1]ОАО "АТС"'!$D$14+[1]УРП!$C$8 -> 7769.6 | DL91: ='[1]Иные услуги'!$C$6+'[1]Сбытовая надбавка'!$F$6+'[1]Услуги по передаче'!$I$6+'[1]ОАО "АТС"'!$D$14+[1]УРП!$C$8 -> 8414 | ED91: ='[1]Иные услуги'!$C$6+'[1]Сбытовая надбавка'!$F$6+'[1]Услуги по передаче'!$J$6+'[1]ОАО "АТС"'!$D$14+[1]УРП!$C$8 -> 9474.06
A93: III. Третья ценовая категория (для объемов покупки электрической энергии (мощности), в отношении которых за расчетный период осуществляется почасовой учет, но не осуществляется почасовое планирование, а стоимость услуг по передаче электрической энергии определяется по тарифу на услуги по передаче электрической энергии в одноставочном выражении)
G95: 1. Ставка за электрическую энергию предельного уровня нерегулируемых цен, рублей/мВт·ч без НДС
A97: Дата | DQ97: Ставка для фактических почасовых объемов покупки электрической энергии, отпущенных на уровне напряжения | DR97: ВН
DK98: для категории потребителей с максимальной мощностью энергопринимающих устройств | DL98: до 670 кВт
I100: 0:00 - 1:00 | O100: 1:00 - 2:00 | U100: 2:00 - 3:00 | AA100: 3:00 - 4:00 | AG100: 4:00 - 5:00 | AM100: 5:00 - 6:00 | AS100: 6:00 - 7:00 | AY100: 7:00 - 8:00 | BE100: 8:00 - 9:00 | BK100: 9:00 - 10:00 | BQ100: 10:00 - 11:00 | BW100: 11:00 - 12:00 | CC100: 12:00 - 13:00 | CI100: 13:00 - 14:00 | CO100: 14:00 - 15:00 | CU100: 15:00 - 16:00 | DA100: 16:00 - 17:00 | DG100: 17:00 - 18:00 | DM100: 18:00 - 19:00 | DS100: 19:00 - 20:00 | DY100: 20:00 - 21:00 | EE100: 21:00 - 22:00 | EK100: 22:00 - 23:00 | EQ100: 23:00 - 0:00
A101: ='[1]3 категория'!A16 -> 45566 | I101: =IF($A101="-","-",ROUND(VLOOKUP($A101+ROUND(LEFT(I$100,1)/24,5),'[1]ОАО "АТС"'!$A$57:$F$800,6,FALSE)+HLOOKUP($DL$98,'[1]Сбытовая надбавка'!$F$5:$H$6,2,FALSE),2)+'[1]Иные услуги'!$C$6+HLOOKUP($DR$97,'[1]Услуги по передаче'!$G$5:$J$7,2,FALSE)) -> 4995.33 | O101: =IF($A101="-","-",ROUND(VLOOKUP($A101+ROUND(LEFT(O$100,1)/24,5),'[1]ОАО "АТС"'!$A$57:$F$800,6,FALSE)+HLOOKUP($DL$98,'[1]Сбытовая надбавка'!$F$5:$H$6,2,FALSE),2)+'[1]Иные услуги'!$C$6+HLOOKUP($DR$97,'[1]Услуги по передаче'!$G$5:$J$7,2,FALSE)) -> 4995.95 | U101: =IF($A101="-","-",ROUND(VLOOKUP($A101+ROUND(LEFT(U$100,1)/24,5),'[1]ОАО "АТС"'!$A$57:$F$800,6,FALSE)+HLOOKUP($DL$98,'[1]Сбытовая надбавка'!$F$5:$H$6,2,FALSE),2)+'[1]Иные услуги'!$C$6+HLOOKUP($DR$97,'[1]Услуги по передаче'!$G$5:$J$7,2,FALSE)) -> 4995.95 | AA101: =IF($A101="-","-",ROUND(VLOOKUP($A101+ROUND(LEFT(AA$100,1)/24,5),'[1]ОАО "АТС"'!$A$57:$F$800,6,FALSE)+HLOOKUP($DL$98,'[1]Сбытовая надбавка'!$F$5:$H$6,2,FALSE),2)+'[1]Иные услуги'!$C$6+HLOOKUP($DR$97,'[1]Услуги по передаче'!$G$5:$J$7,2,FALSE)) -> 4995.95 | AG101: =IF($A101="-","-",ROUND(VLOOKUP($A101+ROUND(LEFT(AG$100,1)/24,5),'[1]ОАО "АТС"'!$A$57:$F$800,6,FALSE)+HLOOKUP($DL$98,'[1]Сбытовая надбавка'!$F$5:$H$6,2,FALSE),2)+'[1]Иные услуги'!$C$6+HLOOKUP($DR$97,'[1]Услуги по передаче'!$G$5:$J$7,2,FALSE)) -> 4995.95 | AM101: =IF($A101="-","-",ROUND(VLOOKUP($A101+ROUND(LEFT(AM$100,1)/24,5),'[1]ОАО "АТС"'!$A$57:$F$800,6,FALSE)+HLOOKUP($DL$98,'[1]Сбытовая надбавка'!$F$5:$H$6,2,FALSE),2)+'[1]Иные услуги'!$C$6+HLOOKUP($DR$97,'[1]Услуги по передаче'!$G$5:$J$7,2,FALSE)) -> 4995.49 | AS101: =IF($A101="-","-",ROUND(VLOOKUP($A101+ROUND(LEFT(AS$100,1)/24,5),'[1]ОАО "АТС"'!$A$57:$F$800,6,FALSE)+HLOOKUP($DL$98,'[1]Сбытовая надбавка'!$F$5:$H$6,2,FALSE),2)+'[1]Иные услуги'!$C$6+HLOOKUP($DR$97,'[1]Услуги по передаче'!$G$5:$J$7,2,FALSE)) -> 4995.18 | AY101: =IF($A101="-","-",ROUND(VLOOKUP($A101+ROUND(LEFT(AY$100,1)/24,5),'[1]ОАО "АТС"'!$A$57:$F$800,6,FALSE)+HLOOKUP($DL$98,'[1]Сбытовая надбавка'!$F$5:$H$6,2,FALSE),2)+'[1]Иные услуги'!$C$6+HLOOKUP($DR$97,'[1]Услуги по передаче'!$G$5:$J$7,2,FALSE)) -> 5011.82 | BE101: =IF($A101="-","-",ROUND(VLOOKUP($A101+ROUND(LEFT(BE$100,1)/24,5),'[1]ОАО "АТС"'!$A$57:$F$800,6,FALSE)+HLOOKUP($DL$98,'[1]Сбытовая надбавка'!$F$5:$H$6,2,FALSE),2)+'[1]Иные услуги'!$C$6+HLOOKUP($DR$97,'[1]Услуги по передаче'!$G$5:$J$7,2,FALSE)) -> 4994.83 | BK101: =IF($A101="-","-",ROUND(VLOOKUP($A101+ROUND(LEFT(BK$100,1)/24,5),'[1]ОАО "АТС"'!$A$57:$F$800,6,FALSE)+HLOOKUP($DL$98,'[1]Сбытовая надбавка'!$F$5:$H$6,2,FALSE),2)+'[1]Иные услуги'!$C$6+HLOOKUP($DR$97,'[1]Услуги по передаче'!$G$5:$J$7,2,FALSE)) -> 4994.8 | BQ101: =IF($A101="-","-",ROUND(VLOOKUP($A101+ROUND(LEFT(BQ$100,2)/24,5),'[1]ОАО "АТС"'!$A$57:$F$800,6,FALSE)+HLOOKUP($DL$98,'[1]Сбытовая надбавка'!$F$5:$H$6,2,FALSE),2)+'[1]Иные услуги'!$C$6+HLOOKUP($DR$97,'[1]Услуги по передаче'!$G$5:$J$7,2,FALSE)) -> 5025.33 | BW101: =IF($A101="-","-",ROUND(VLOOKUP($A101+ROUND(LEFT(BW$100,2)/24,5),'[1]ОАО "АТС"'!$A$57:$F$800,6,FALSE)+HLOOKUP($DL$98,'[1]Сбытовая надбавка'!$F$5:$H$6,2,FALSE),2)+'[1]Иные услуги'!$C$6+HLOOKUP($DR$97,'[1]Услуги по передаче'!$G$5:$J$7,2,FALSE)) -> 5035.84 | CC101: =IF($A101="-","-",ROUND(VLOOKUP($A101+ROUND(LEFT(CC$100,2)/24,5),'[1]ОАО "АТС"'!$A$57:$F$800,6,FALSE)+HLOOKUP($DL$98,'[1]Сбытовая надбавка'!$F$5:$H$6,2,FALSE),2)+'[1]Иные услуги'!$C$6+HLOOKUP($DR$97,'[1]Услуги по передаче'!$G$5:$J$7,2,FALSE)) -> 5008.84 | CI101: =IF($A101="-","-",ROUND(VLOOKUP($A101+ROUND(LEFT(CI$100,2)/24,5),'[1]ОАО "АТС"'!$A$57:$F$800,6,FALSE)+HLOOKUP($DL$98,'[1]Сбытовая надбавка'!$F$5:$H$6,2,FALSE),2)+'[1]Иные услуги'!$C$6+HLOOKUP($DR$97,'[1]Услуги по передаче'!$G$5:$J$7,2,FALSE)) -> 5015.55 | CO101: =IF($A101="-","-",ROUND(VLOOKUP($A101+ROUND(LEFT(CO$100,2)/24,5),'[1]ОАО "АТС"'!$A$57:$F$800,6,FALSE)+HLOOKUP($DL$98,'[1]Сбытовая надбавка'!$F$5:$H$6,2,FALSE),2)+'[1]Иные услуги'!$C$6+HLOOKUP($DR$97,'[1]Услуги по передаче'!$G$5:$J$7,2,FALSE)) -> 5021.61 | CU101: =IF($A101="-","-",ROUND(VLOOKUP($A101+ROUND(LEFT(CU$100,2)/24,5),'[1]ОАО "АТС"'!$A$57:$F$800,6,FALSE)+HLOOKUP($DL$98,'[1]Сбытовая надбавка'!$F$5:$H$6,2,FALSE),2)+'[1]Иные услуги'!$C$6+HLOOKUP($DR$97,'[1]Услуги по передаче'!$G$5:$J$7,2,FALSE)) -> 5015.9 | DA101: =IF($A101="-","-",ROUND(VLOOKUP($A101+ROUND(LEFT(DA$100,2)/24,5),'[1]ОАО "АТС"'!$A$57:$F$800,6,FALSE)+HLOOKUP($DL$98,'[1]Сбытовая надбавка'!$F$5:$H$6,2,FALSE),2)+'[1]Иные услуги'!$C$6+HLOOKUP($DR$97,'[1]Услуги по передаче'!$G$5:$J$7,2,FALSE)) -> 5011 | DG101: =IF($A101="-","-",ROUND(VLOOKUP($A101+ROUND(LEFT(DG$100,2)/24,5),'[1]ОАО "АТС"'!$A$57:$F$800,6,FALSE)+HLOOKUP($DL$98,'[1]Сбытовая надбавка'!$F$5:$H$6,2,FALSE),2)+'[1]Иные услуги'!$C$6+HLOOKUP($DR$97,'[1]Услуги по передаче'!$G$5:$J$7,2,FALSE)) -> 4994.75 | DM101: =IF($A101="-","-",ROUND(VLOOKUP($A101+ROUND(LEFT(DM$100,2)/24,5),'[1]ОАО "АТС"'!$A$57:$F$800,6,FALSE)+HLOOKUP($DL$98,'[1]Сбытовая надбавка'!$F$5:$H$6,2,FALSE),2)+'[1]Иные услуги'!$C$6+HLOOKUP($DR$97,'[1]Услуги по передаче'!$G$5:$J$7,2,FALSE)) -> 5058.22 | DS101: =IF($A101="-","-",ROUND(VLOOKUP($A101+ROUND(LEFT(DS$100,2)/24,5),'[1]ОАО "АТС"'!$A$57:$F$800,6,FALSE)+HLOOKUP($DL$98,'[1]Сбытовая надбавка'!$F$5:$H$6,2,FALSE),2)+'[1]Иные услуги'!$C$6+HLOOKUP($DR$97,'[1]Услуги по передаче'!$G$5:$J$7,2,FALSE)) -> 5086.56 | DY101: =IF($A101="-","-",ROUND(VLOOKUP($A101+ROUND(LEFT(DY$100,2)/24,5),'[1]ОАО "АТС"'!$A$57:$F$800,6,FALSE)+HLOOKUP($DL$98,'[1]Сбытовая надбавка'!$F$5:$H$6,2,FALSE),2)+'[1]Иные услуги'!$C$6+HLOOKUP($DR$97,'[1]Услуги по передаче'!$G$5:$J$7,2,FALSE)) -> 5028.32 | EE101: =IF($A101="-","-",ROUND(VLOOKUP($A101+ROUND(LEFT(EE$100,2)/24,5),'[1]ОАО "АТС"'!$A$57:$F$800,6,FALSE)+HLOOKUP($DL$98,'[1]Сбытовая надбавка'!$F$5:$H$6,2,FALSE),2)+'[1]Иные услуги'!$C$6+HLOOKUP($DR$97,'[1]Услуги по передаче'!$G$5:$J$7,2,FALSE)) -> 4993.9 | EK101: =IF($A101="-","-",ROUND(VLOOKUP($A101+ROUND(LEFT(EK$100,2)/24,5),'[1]ОАО "АТС"'!$A$57:$F$800,6,FALSE)+HLOOKUP($DL$98,'[1]Сбытовая надбавка'!$F$5:$H$6,2,FALSE),2)+'[1]Иные услуги'!$C$6+HLOOKUP($DR$97,'[1]Услуги по передаче'!$G$5:$J$7,2,FALSE)) -> 4994.11 | EQ101: =IF($A101="-","-",ROUND(VLOOKUP($A101+ROUND(LEFT(EQ$100,2)/24,5),'[1]ОАО "АТС"'!$A$57:$F$800,6,FALSE)+HLOOKUP($DL$98,'[1]Сбытовая надбавка'!$F$5:$H$6,2,FALSE),2)+'[1]Иные услуги'!$C$6+HLOOKUP($DR$97,'[1]Услуги по передаче'!$G$5:$J$7,2,FALSE)) -> 5024.31
A102: ='[1]3 категория'!A17 -> 45567 | I102: =IF($A102="-","-",ROUND(VLOOKUP($A102+ROUND(LEFT(I$100,1)/24,5),'[1]ОАО "АТС"'!$A$57:$F$800,6,FALSE)+HLOOKUP($DL$98,'[1]Сбытовая надбавка'!$F$5:$H$6,2,FALSE),2)+'[1]Иные услуги'!$C$6+HLOOKUP($DR$97,'[1]Услуги по передаче'!$G$5:$J$7,2,FALSE)) -> 4999.16 | O102: =IF($A102="-","-",ROUND(VLOOKUP($A102+ROUND(LEFT(O$100,1)/24,5),'[1]ОАО "АТС"'!$A$57:$F$800,6,FALSE)+HLOOKUP($DL$98,'[1]Сбытовая надбавка'!$F$5:$H$6,2,FALSE),2)+'[1]Иные услуги'!$C$6+HLOOKUP($DR$97,'[1]Услуги по передаче'!$G$5:$J$7,2,FALSE)) -> 4995.45 | U102: =IF($A102="-","-",ROUND(VLOOKUP($A102+ROUND(LEFT(U$100,1)/24,5),'[1]ОАО "АТС"'!$A$57:$F$800,6,FALSE)+HLOOKUP($DL$98,'[1]Сбытовая надбавка'!$F$5:$H$6,2,FALSE),2)+'[1]Иные услуги'!$C$6+HLOOKUP($DR$97,'[1]Услуги по передаче'!$G$5:$J$7,2,FALSE)) -> 4995.47 | AA102: =IF($A102="-","-",ROUND(VLOOKUP($A102+ROUND(LEFT(AA$100,1)/24,5),'[1]ОАО "АТС"'!$A$57:$F$800,6,FALSE)+HLOOKUP($DL$98,'[1]Сбытовая надбавка'!$F$5:$H$6,2,FALSE),2)+'[1]Иные услуги'!$C$6+HLOOKUP($DR$97,'[1]Услуги по передаче'!$G$5:$J$7,2,FALSE)) -> 4995.47 | AG102: =IF($A102="-","-",ROUND(VLOOKUP($A102+ROUND(LEFT(AG$100,1)/24,5),'[1]ОАО "АТС"'!$A$57:$F$800,6,FALSE)+HLOOKUP($DL$98,'[1]Сбытовая надбавка'!$F$5:$H$6,2,FALSE),2)+'[1]Иные услуги'!$C$6+HLOOKUP($DR$97,'[1]Услуги по передаче'!$G$5:$J$7,2,FALSE)) -> 4995.42 | AM102: =IF($A102="-","-",ROUND(VLOOKUP($A102+ROUND(LEFT(AM$100,1)/24,5),'[1]ОАО "АТС"'!$A$57:$F$800,6,FALSE)+HLOOKUP($DL$98,'[1]Сбытовая надбавка'!$F$5:$H$6,2,FALSE),2)+'[1]Иные услуги'!$C$6+HLOOKUP($DR$97,'[1]Услуги по передаче'!$G$5:$J$7,2,FALSE)) -> 4995.33 | AS102: =IF($A102="-","-",ROUND(VLOOKUP($A102+ROUND(LEFT(AS$100,1)/24,5),'[1]ОАО "АТС"'!$A$57:$F$800,6,FALSE)+HLOOKUP($DL$98,'[1]Сбытовая надбавка'!$F$5:$H$6,2,FALSE),2)+'[1]Иные услуги'!$C$6+HLOOKUP($DR$97,'[1]Услуги по передаче'!$G$5:$J$7,2,FALSE)) -> 4994.9 | AY102: =IF($A102="-","-",ROUND(VLOOKUP($A102+ROUND(LEFT(AY$100,1)/24,5),'[1]ОАО "АТС"'!$A$57:$F$800,6,FALSE)+HLOOKUP($DL$98,'[1]Сбытовая надбавка'!$F$5:$H$6,2,FALSE),2)+'[1]Иные услуги'!$C$6+HLOOKUP($DR$97,'[1]Услуги по передаче'!$G$5:$J$7,2,FALSE)) -> 5077.16 | BE102: =IF($A102="-","-",ROUND(VLOOKUP($A102+ROUND(LEFT(BE$100,1)/24,5),'[1]ОАО "АТС"'!$A$57:$F$800,6,FALSE)+HLOOKUP($DL$98,'[1]Сбытовая надбавка'!$F$5:$H$6,2,FALSE),2)+'[1]Иные услуги'!$C$6+HLOOKUP($DR$97,'[1]Услуги по передаче'!$G$5:$J$7,2,FALSE)) -> 4994.75 | BK102: =IF($A102="-","-",ROUND(VLOOKUP($A102+ROUND(LEFT(BK$100,1)/24,5),'[1]ОАО "АТС"'!$A$57:$F$800,6,FALSE)+HLOOKUP($DL$98,'[1]Сбытовая надбавка'!$F$5:$H$6,2,FALSE),2)+'[1]Иные услуги'!$C$6+HLOOKUP($DR$97,'[1]Услуги по передаче'!$G$5:$J$7,2,FALSE)) -> 5060.68 | BQ102: =IF($A102="-","-",ROUND(VLOOKUP($A102+ROUND(LEFT(BQ$100,2)/24,5),'[1]ОАО "АТС"'!$A$57:$F$800,6,FALSE)+HLOOKUP($DL$98,'[1]Сбытовая надбавка'!$F$5:$H$6,2,FALSE),2)+'[1]Иные услуги'!$C$6+HLOOKUP($DR$97,'[1]Услуги по передаче'!$G$5:$J$7,2,FALSE)) -> 5082.51 | BW102: =IF($A102="-","-",ROUND(VLOOKUP($A102+ROUND(LEFT(BW$100,2)/24,5),'[1]ОАО "АТС"'!$A$57:$F$800,6,FALSE)+HLOOKUP($DL$98,'[1]Сбытовая надбавка'!$F$5:$H$6,2,FALSE),2)+'[1]Иные услуги'!$C$6+HLOOKUP($DR$97,'[1]Услуги по передаче'!$G$5:$J$7,2,FALSE)) -> 5082.12 | CC102: =IF($A102="-","-",ROUND(VLOOKUP($A102+ROUND(LEFT(CC$100,2)/24,5),'[1]ОАО "АТС"'!$A$57:$F$800,6,FALSE)+HLOOKUP($DL$98,'[1]Сбытовая надбавка'!$F$5:$H$6,2,FALSE),2)+'[1]Иные услуги'!$C$6+HLOOKUP($DR$97,'[1]Услуги по передаче'!$G$5:$J$7,2,FALSE)) -> 5059.77 | CI102: =IF($A102="-","-",ROUND(VLOOKUP($A102+ROUND(LEFT(CI$100,2)/24,5),'[1]ОАО "АТС"'!$A$57:$F$800,6,FALSE)+HLOOKUP($DL$98,'[1]Сбытовая надбавка'!$F$5:$H$6,2,FALSE),2)+'[1]Иные услуги'!$C$6+HLOOKUP($DR$97,'[1]Услуги по передаче'!$G$5:$J$7,2,FALSE)) -> 5060.85 | CO102: =IF($A102="-","-",ROUND(VLOOKUP($A102+ROUND(LEFT(CO$100,2)/24,5),'[1]ОАО "АТС"'!$A$57:$F$800,6,FALSE)+HLOOKUP($DL$98,'[1]Сбытовая надбавка'!$F$5:$H$6,2,FALSE),2)+'[1]Иные услуги'!$C$6+HLOOKUP($DR$97,'[1]Услуги по передаче'!$G$5:$J$7,2,FALSE)) -> 5070.14 | CU102: =IF($A102="-","-",ROUND(VLOOKUP($A102+ROUND(LEFT(CU$100,2)/24,5),'[1]ОАО "АТС"'!$A$57:$F$800,6,FALSE)+HLOOKUP($DL$98,'[1]Сбытовая надбавка'!$F$5:$H$6,2,FALSE),2)+'[1]Иные услуги'!$C$6+HLOOKUP($DR$97,'[1]Услуги по передаче'!$G$5:$J$7,2,FALSE)) -> 5062.37 | DA102: =IF($A102="-","-",ROUND(VLOOKUP($A102+ROUND(LEFT(DA$100,2)/24,5),'[1]ОАО "АТС"'!$A$57:$F$800,6,FALSE)+HLOOKUP($DL$98,'[1]Сбытовая надбавка'!$F$5:$H$6,2,FALSE),2)+'[1]Иные услуги'!$C$6+HLOOKUP($DR$97,'[1]Услуги по передаче'!$G$5:$J$7,2,FALSE)) -> 5051.96 | DG102: =IF($A102="-","-",ROUND(VLOOKUP($A102+ROUND(LEFT(DG$100,2)/24,5),'[1]ОАО "АТС"'!$A$57:$F$800,6,FALSE)+HLOOKUP($DL$98,'[1]Сбытовая надбавка'!$F$5:$H$6,2,FALSE),2)+'[1]Иные услуги'!$C$6+HLOOKUP($DR$97,'[1]Услуги по передаче'!$G$5:$J$7,2,FALSE)) -> 5037.07 | DM102: =IF($A102="-","-",ROUND(VLOOKUP($A102+ROUND(LEFT(DM$100,2)/24,5),'[1]ОАО "АТС"'!$A$57:$F$800,6,FALSE)+HLOOKUP($DL$98,'[1]Сбытовая надбавка'!$F$5:$H$6,2,FALSE),2)+'[1]Иные услуги'!$C$6+HLOOKUP($DR$97,'[1]Услуги по передаче'!$G$5:$J$7,2,FALSE)) -> 5110.72 | DS102: =IF($A102="-","-",ROUND(VLOOKUP($A102+ROUND(LEFT(DS$100,2)/24,5),'[1]ОАО "АТС"'!$A$57:$F$800,6,FALSE)+HLOOKUP($DL$98,'[1]Сбытовая надбавка'!$F$5:$H$6,2,FALSE),2)+'[1]Иные услуги'!$C$6+HLOOKUP($DR$97,'[1]Услуги по передаче'!$G$5:$J$7,2,FALSE)) -> 5147.43 | DY102: =IF($A102="-","-",ROUND(VLOOKUP($A102+ROUND(LEFT(DY$100,2)/24,5),'[1]ОАО "АТС"'!$A$57:$F$800,6,FALSE)+HLOOKUP($DL$98,'[1]Сбытовая надбавка'!$F$5:$H$6,2,FALSE),2)+'[1]Иные услуги'!$C$6+HLOOKUP($DR$97,'[1]Услуги по передаче'!$G$5:$J$7,2,FALSE)) -> 5080.53 | EE102: =IF($A102="-","-",ROUND(VLOOKUP($A102+ROUND(LEFT(EE$100,2)/24,5),'[1]ОАО "АТС"'!$A$57:$F$800,6,FALSE)+HLOOKUP($DL$98,'[1]Сбытовая надбавка'!$F$5:$H$6,2,FALSE),2)+'[1]Иные услуги'!$C$6+HLOOKUP($DR$97,'[1]Услуги по передаче'!$G$5:$J$7,2,FALSE)) -> 4993.81 | EK102: =IF($A102="-","-",ROUND(VLOOKUP($A102+ROUND(LEFT(EK$100,2)/24,5),'[1]ОАО "АТС"'!$A$57:$F$800,6,FALSE)+HLOOKUP($DL$98,'[1]Сбытовая надбавка'!$F$5:$H$6,2,FALSE),2)+'[1]Иные услуги'!$C$6+HLOOKUP($DR$97,'[1]Услуги по передаче'!$G$5:$J$7,2,FALSE)) -> 4993.94 | EQ102: =IF($A102="-","-",ROUND(VLOOKUP($A102+ROUND(LEFT(EQ$100,2)/24,5),'[1]ОАО "АТС"'!$A$57:$F$800,6,FALSE)+HLOOKUP($DL$98,'[1]Сбытовая надбавка'!$F$5:$H$6,2,FALSE),2)+'[1]Иные услуги'!$C$6+HLOOKUP($DR$97,'[1]Услуги по передаче'!$G$5:$J$7,2,FALSE)) -> 5099.09
A103: ='[1]3 категория'!A18 -> 45568 | I103: =IF($A103="-","-",ROUND(VLOOKUP($A103+ROUND(LEFT(I$100,1)/24,5),'[1]ОАО "АТС"'!$A$57:$F$800,6,FALSE)+HLOOKUP($DL$98,'[1]Сбытовая надбавка'!$F$5:$H$6,2,FALSE),2)+'[1]Иные услуги'!$C$6+HLOOKUP($DR$97,'[1]Услуги по передаче'!$G$5:$J$7,2,FALSE)) -> 5013.41 | O103: =IF($A103="-","-",ROUND(VLOOKUP($A103+ROUND(LEFT(O$100,1)/24,5),'[1]ОАО "АТС"'!$A$57:$F$800,6,FALSE)+HLOOKUP($DL$98,'[1]Сбытовая надбавка'!$F$5:$H$6,2,FALSE),2)+'[1]Иные услуги'!$C$6+HLOOKUP($DR$97,'[1]Услуги по передаче'!$G$5:$J$7,2,FALSE)) -> 4995.02 | U103: =IF($A103="-","-",ROUND(VLOOKUP($A103+ROUND(LEFT(U$100,1)/24,5),'[1]ОАО "АТС"'!$A$57:$F$800,6,FALSE)+HLOOKUP($DL$98,'[1]Сбытовая надбавка'!$F$5:$H$6,2,FALSE),2)+'[1]Иные услуги'!$C$6+HLOOKUP($DR$97,'[1]Услуги по передаче'!$G$5:$J$7,2,FALSE)) -> 4995.08 | AA103: =IF($A103="-","-",ROUND(VLOOKUP($A103+ROUND(LEFT(AA$100,1)/24,5),'[1]ОАО "АТС"'!$A$57:$F$800,6,FALSE)+HLOOKUP($DL$98,'[1]Сбытовая надбавка'!$F$5:$H$6,2,FALSE),2)+'[1]Иные услуги'!$C$6+HLOOKUP($DR$97,'[1]Услуги по передаче'!$G$5:$J$7,2,FALSE)) -> 4995.07 | AG103: =IF($A103="-","-",ROUND(VLOOKUP($A103+ROUND(LEFT(AG$100,1)/24,5),'[1]ОАО "АТС"'!$A$57:$F$800,6,FALSE)+HLOOKUP($DL$98,'[1]Сбытовая надбавка'!$F$5:$H$6,2,FALSE),2)+'[1]Иные услуги'!$C$6+HLOOKUP($DR$97,'[1]Услуги по передаче'!$G$5:$J$7,2,FALSE)) -> 4994.99 | AM103: =IF($A103="-","-",ROUND(VLOOKUP($A103+ROUND(LEFT(AM$100,1)/24,5),'[1]ОАО "АТС"'!$A$57:$F$800,6,FALSE)+HLOOKUP($DL$98,'[1]Сбытовая надбавка'!$F$5:$H$6,2,FALSE),2)+'[1]Иные услуги'!$C$6+HLOOKUP($DR$97,'[1]Услуги по передаче'!$G$5:$J$7,2,FALSE)) -> 4994.93 | AS103: =IF($A103="-","-",ROUND(VLOOKUP($A103+ROUND(LEFT(AS$100,1)/24,5),'[1]ОАО "АТС"'!$A$57:$F$800,6,FALSE)+HLOOKUP($DL$98,'[1]Сбытовая надбавка'!$F$5:$H$6,2,FALSE),2)+'[1]Иные услуги'!$C$6+HLOOKUP($DR$97,'[1]Услуги по передаче'!$G$5:$J$7,2,FALSE)) -> 4994.36 | AY103: =IF($A103="-","-",ROUND(VLOOKUP($A103+ROUND(LEFT(AY$100,1)/24,5),'[1]ОАО "АТС"'!$A$57:$F$800,6,FALSE)+HLOOKUP($DL$98,'[1]Сбытовая надбавка'!$F$5:$H$6,2,FALSE),2)+'[1]Иные услуги'!$C$6+HLOOKUP($DR$97,'[1]Услуги по передаче'!$G$5:$J$7,2,FALSE)) -> 5092.17 | BE103: =IF($A103="-","-",ROUND(VLOOKUP($A103+ROUND(LEFT(BE$100,1)/24,5),'[1]ОАО "АТС"'!$A$57:$F$800,6,FALSE)+HLOOKUP($DL$98,'[1]Сбытовая надбавка'!$F$5:$H$6,2,FALSE),2)+'[1]Иные услуги'!$C$6+HLOOKUP($DR$97,'[1]Услуги по передаче'!$G$5:$J$7,2,FALSE)) -> 4994.03 | BK103: =IF($A103="-","-",ROUND(VLOOKUP($A103+ROUND(LEFT(BK$100,1)/24,5),'[1]ОАО "АТС"'!$A$57:$F$800,6,FALSE)+HLOOKUP($DL$98,'[1]Сбытовая надбавка'!$F$5:$H$6,2,FALSE),2)+'[1]Иные услуги'!$C$6+HLOOKUP($DR$97,'[1]Услуги по передаче'!$G$5:$J$7,2,FALSE)) -> 5045.63 | BQ103: =IF($A103="-","-",ROUND(VLOOKUP($A103+ROUND(LEFT(BQ$100,2)/24,5),'[1]ОАО "АТС"'!$A$57:$F$800,6,FALSE)+HLOOKUP($DL$98,'[1]Сбытовая надбавка'!$F$5:$H$6,2,FALSE),2)+'[1]Иные услуги'!$C$6+HLOOKUP($DR$97,'[1]Услуги по передаче'!$G$5:$J$7,2,FALSE)) -> 5084.88 | BW103: =IF($A103="-","-",ROUND(VLOOKUP($A103+ROUND(LEFT(BW$100,2)/24,5),'[1]ОАО "АТС"'!$A$57:$F$800,6,FALSE)+HLOOKUP($DL$98,'[1]Сбытовая надбавка'!$F$5:$H$6,2,FALSE),2)+'[1]Иные услуги'!$C$6+HLOOKUP($DR$97,'[1]Услуги по передаче'!$G$5:$J$7,2,FALSE)) -> 5078.81 | CC103: =IF($A103="-","-",ROUND(VLOOKUP($A103+ROUND(LEFT(CC$100,2)/24,5),'[1]ОАО "АТС"'!$A$57:$F$800,6,FALSE)+HLOOKUP($DL$98,'[1]Сбытовая надбавка'!$F$5:$H$6,2,FALSE),2)+'[1]Иные услуги'!$C$6+HLOOKUP($DR$97,'[1]Услуги по передаче'!$G$5:$J$7,2,FALSE)) -> 5031.61 | CI103: =IF($A103="-","-",ROUND(VLOOKUP($A103+ROUND(LEFT(CI$100,2)/24,5),'[1]ОАО "АТС"'!$A$57:$F$800,6,FALSE)+HLOOKUP($DL$98,'[1]Сбытовая надбавка'!$F$5:$H$6,2,FALSE),2)+'[1]Иные услуги'!$C$6+HLOOKUP($DR$97,'[1]Услуги по передаче'!$G$5:$J$7,2,FALSE)) -> 5018.3 | CO103: =IF($A103="-","-",ROUND(VLOOKUP($A103+ROUND(LEFT(CO$100,2)/24,5),'[1]ОАО "АТС"'!$A$57:$F$800,6,FALSE)+HLOOKUP($DL$98,'[1]Сбытовая надбавка'!$F$5:$H$6,2,FALSE),2)+'[1]Иные услуги'!$C$6+HLOOKUP($DR$97,'[1]Услуги по передаче'!$G$5:$J$7,2,FALSE)) -> 5025.36 | CU103: =IF($A103="-","-",ROUND(VLOOKUP($A103+ROUND(LEFT(CU$100,2)/24,5),'[1]ОАО "АТС"'!$A$57:$F$800,6,FALSE)+HLOOKUP($DL$98,'[1]Сбытовая надбавка'!$F$5:$H$6,2,FALSE),2)+'[1]Иные услуги'!$C$6+HLOOKUP($DR$97,'[1]Услуги по передаче'!$G$5:$J$7,2,FALSE)) -> 5010.31 | DA103: =IF($A103="-","-",ROUND(VLOOKUP($A103+ROUND(LEFT(DA$100,2)/24,5),'[1]ОАО "АТС"'!$A$57:$F$800,6,FALSE)+HLOOKUP($DL$98,'[1]Сбытовая надбавка'!$F$5:$H$6,2,FALSE),2)+'[1]Иные услуги'!$C$6+HLOOKUP($DR$97,'[1]Услуги по передаче'!$G$5:$J$7,2,FALSE)) -> 4994.16 | DG103: =IF($A103="-","-",ROUND(VLOOKUP($A103+ROUND(LEFT(DG$100,2)/24,5),'[1]ОАО "АТС"'!$A$57:$F$800,6,FALSE)+HLOOKUP($DL$98,'[1]Сбытовая надбавка'!$F$5:$H$6,2,FALSE),2)+'[1]Иные услуги'!$C$6+HLOOKUP($DR$97,'[1]Услуги по передаче'!$G$5:$J$7,2,FALSE)) -> 4994.07 | DM103: =IF($A103="-","-",ROUND(VLOOKUP($A103+ROUND(LEFT(DM$100,2)/24,5),'[1]ОАО "АТС"'!$A$57:$F$800,6,FALSE)+HLOOKUP($DL$98,'[1]Сбытовая надбавка'!$F$5:$H$6,2,FALSE),2)+'[1]Иные услуги'!$C$6+HLOOKUP($DR$97,'[1]Услуги по передаче'!$G$5:$J$7,2,FALSE)) -> 5113.56 | DS103: =IF($A103="-","-",ROUND(VLOOKUP($A103+ROUND(LEFT(DS$100,2)/24,5),'[1]ОАО "АТС"'!$A$57:$F$800,6,FALSE)+HLOOKUP($DL$98,'[1]Сбытовая надбавка'!$F$5:$H$6,2,FALSE),2)+'[1]Иные услуги'!$C$6+HLOOKUP($DR$97,'[1]Услуги по передаче'!$G$5:$J$7,2,FALSE)) -> 5178.41 | DY103: =IF($A103="-","-",ROUND(VLOOKUP($A103+ROUND(LEFT(DY$100,2)/24,5),'[1]ОАО "АТС"'!$A$57:$F$800,6,FALSE)+HLOOKUP($DL$98,'[1]Сбытовая надбавка'!$F$5:$H$6,2,FALSE),2)+'[1]Иные услуги'!$C$6+HLOOKUP($DR$97,'[1]Услуги по передаче'!$G$5:$J$7,2,FALSE)) -> 5118.41 | EE103: =IF($A103="-","-",ROUND(VLOOKUP($A103+ROUND(LEFT(EE$100,2)/24,5),'[1]ОАО "АТС"'!$A$57:$F$800,6,FALSE)+HLOOKUP($DL$98,'[1]Сбытовая надбавка'!$F$5:$H$6,2,FALSE),2)+'[1]Иные услуги'!$C$6+HLOOKUP($DR$97,'[1]Услуги по передаче'!$G$5:$J$7,2,FALSE)) -> 4999.72 | EK103: =IF($A103="-","-",ROUND(VLOOKUP($A103+ROUND(LEFT(EK$100,2)/24,5),'[1]ОАО "АТС"'!$A$57:$F$800,6,FALSE)+HLOOKUP($DL$98,'[1]Сбытовая надбавка'!$F$5:$H$6,2,FALSE),2)+'[1]Иные услуги'!$C$6+HLOOKUP($DR$97,'[1]Услуги по передаче'!$G$5:$J$7,2,FALSE)) -> 4993.17 | EQ103: =IF($A103="-","-",ROUND(VLOOKUP($A103+ROUND(LEFT(EQ$100,2)/24,5),'[1]ОАО "АТС"'!$A$57:$F$800,6,FALSE)+HLOOKUP($DL$98,'[1]Сбытовая надбавка'!$F$5:$H$6,2,FALSE),2)+'[1]Иные услуги'!$C$6+HLOOKUP($DR$97,'[1]Услуги по передаче'!$G$5:$J$7,2,FALSE)) -> 5066.1
A104: ='[1]3 категория'!A19 -> 45569 | I104: =IF($A104="-","-",ROUND(VLOOKUP($A104+ROUND(LEFT(I$100,1)/24,5),'[1]ОАО "АТС"'!$A$57:$F$800,6,FALSE)+HLOOKUP($DL$98,'[1]Сбытовая надбавка'!$F$5:$H$6,2,FALSE),2)+'[1]Иные услуги'!$C$6+HLOOKUP($DR$97,'[1]Услуги по передаче'!$G$5:$J$7,2,FALSE)) -> 4999.17 | O104: =IF($A104="-","-",ROUND(VLOOKUP($A104+ROUND(LEFT(O$100,1)/24,5),'[1]ОАО "АТС"'!$A$57:$F$800,6,FALSE)+HLOOKUP($DL$98,'[1]Сбытовая надбавка'!$F$5:$H$6,2,FALSE),2)+'[1]Иные услуги'!$C$6+HLOOKUP($DR$97,'[1]Услуги по передаче'!$G$5:$J$7,2,FALSE)) -> 4995.25 | U104: =IF($A104="-","-",ROUND(VLOOKUP($A104+ROUND(LEFT(U$100,1)/24,5),'[1]ОАО "АТС"'!$A$57:$F$800,6,FALSE)+HLOOKUP($DL$98,'[1]Сбытовая надбавка'!$F$5:$H$6,2,FALSE),2)+'[1]Иные услуги'!$C$6+HLOOKUP($DR$97,'[1]Услуги по передаче'!$G$5:$J$7,2,FALSE)) -> 4995.31 | AA104: =IF($A104="-","-",ROUND(VLOOKUP($A104+ROUND(LEFT(AA$100,1)/24,5),'[1]ОАО "АТС"'!$A$57:$F$800,6,FALSE)+HLOOKUP($DL$98,'[1]Сбытовая надбавка'!$F$5:$H$6,2,FALSE),2)+'[1]Иные услуги'!$C$6+HLOOKUP($DR$97,'[1]Услуги по передаче'!$G$5:$J$7,2,FALSE)) -> 4995.32 | AG104: =IF($A104="-","-",ROUND(VLOOKUP($A104+ROUND(LEFT(AG$100,1)/24,5),'[1]ОАО "АТС"'!$A$57:$F$800,6,FALSE)+HLOOKUP($DL$98,'[1]Сбытовая надбавка'!$F$5:$H$6,2,FALSE),2)+'[1]Иные услуги'!$C$6+HLOOKUP($DR$97,'[1]Услуги по передаче'!$G$5:$J$7,2,FALSE)) -> 4995.23 | AM104: =IF($A104="-","-",ROUND(VLOOKUP($A104+ROUND(LEFT(AM$100,1)/24,5),'[1]ОАО "АТС"'!$A$57:$F$800,6,FALSE)+HLOOKUP($DL$98,'[1]Сбытовая надбавка'!$F$5:$H$6,2,FALSE),2)+'[1]Иные услуги'!$C$6+HLOOKUP($DR$97,'[1]Услуги по передаче'!$G$5:$J$7,2,FALSE)) -> 4995 | AS104: =IF($A104="-","-",ROUND(VLOOKUP($A104+ROUND(LEFT(AS$100,1)/24,5),'[1]ОАО "АТС"'!$A$57:$F$800,6,FALSE)+HLOOKUP($DL$98,'[1]Сбытовая надбавка'!$F$5:$H$6,2,FALSE),2)+'[1]Иные услуги'!$C$6+HLOOKUP($DR$97,'[1]Услуги по передаче'!$G$5:$J$7,2,FALSE)) -> 4994.26 | AY104: =IF($A104="-","-",ROUND(VLOOKUP($A104+ROUND(LEFT(AY$100,1)/24,5),'[1]ОАО "АТС"'!$A$57:$F$800,6,FALSE)+HLOOKUP($DL$98,'[1]Сбытовая надбавка'!$F$5:$H$6,2,FALSE),2)+'[1]Иные услуги'!$C$6+HLOOKUP($DR$97,'[1]Услуги по передаче'!$G$5:$J$7,2,FALSE)) -> 5081.09 | BE104: =IF($A104="-","-",ROUND(VLOOKUP($A104+ROUND(LEFT(BE$100,1)/24,5),'[1]ОАО "АТС"'!$A$57:$F$800,6,FALSE)+HLOOKUP($DL$98,'[1]Сбытовая надбавка'!$F$5:$H$6,2,FALSE),2)+'[1]Иные услуги'!$C$6+HLOOKUP($DR$97,'[1]Услуги по передаче'!$G$5:$J$7,2,FALSE)) -> 4994.19 | BK104: =IF($A104="-","-",ROUND(VLOOKUP($A104+ROUND(LEFT(BK$100,1)/24,5),'[1]ОАО "АТС"'!$A$57:$F$800,6,FALSE)+HLOOKUP($DL$98,'[1]Сбытовая надбавка'!$F$5:$H$6,2,FALSE),2)+'[1]Иные услуги'!$C$6+HLOOKUP($DR$97,'[1]Услуги по передаче'!$G$5:$J$7,2,FALSE)) -> 5033.7 | BQ104: =IF($A104="-","-",ROUND(VLOOKUP($A104+ROUND(LEFT(BQ$100,2)/24,5),'[1]ОАО "АТС"'!$A$57:$F$800,6,FALSE)+HLOOKUP($DL$98,'[1]Сбытовая надбавка'!$F$5:$H$6,2,FALSE),2)+'[1]Иные услуги'!$C$6+HLOOKUP($DR$97,'[1]Услуги по передаче'!$G$5:$J$7,2,FALSE)) -> 5066.96 | BW104: =IF($A104="-","-",ROUND(VLOOKUP($A104+ROUND(LEFT(BW$100,2)/24,5),'[1]ОАО "АТС"'!$A$57:$F$800,6,FALSE)+HLOOKUP($DL$98,'[1]Сбытовая надбавка'!$F$5:$H$6,2,FALSE),2)+'[1]Иные услуги'!$C$6+HLOOKUP($DR$97,'[1]Услуги по передаче'!$G$5:$J$7,2,FALSE)) -> 5074.7 | CC104: =IF($A104="-","-",ROUND(VLOOKUP($A104+ROUND(LEFT(CC$100,2)/24,5),'[1]ОАО "АТС"'!$A$57:$F$800,6,FALSE)+HLOOKUP($DL$98,'[1]Сбытовая надбавка'!$F$5:$H$6,2,FALSE),2)+'[1]Иные услуги'!$C$6+HLOOKUP($DR$97,'[1]Услуги по передаче'!$G$5:$J$7,2,FALSE)) -> 5041.6 | CI104: =IF($A104="-","-",ROUND(VLOOKUP($A104+ROUND(LEFT(CI$100,2)/24,5),'[1]ОАО "АТС"'!$A$57:$F$800,6,FALSE)+HLOOKUP($DL$98,'[1]Сбытовая надбавка'!$F$5:$H$6,2,FALSE),2)+'[1]Иные услуги'!$C$6+HLOOKUP($DR$97,'[1]Услуги по передаче'!$G$5:$J$7,2,FALSE)) -> 5028.2 | CO104: =IF($A104="-","-",ROUND(VLOOKUP($A104+ROUND(LEFT(CO$100,2)/24,5),'[1]ОАО "АТС"'!$A$57:$F$800,6,FALSE)+HLOOKUP($DL$98,'[1]Сбытовая надбавка'!$F$5:$H$6,2,FALSE),2)+'[1]Иные услуги'!$C$6+HLOOKUP($DR$97,'[1]Услуги по передаче'!$G$5:$J$7,2,FALSE)) -> 5028.13 | CU104: =IF($A104="-","-",ROUND(VLOOKUP($A104+ROUND(LEFT(CU$100,2)/24,5),'[1]ОАО "АТС"'!$A$57:$F$800,6,FALSE)+HLOOKUP($DL$98,'[1]Сбытовая надбавка'!$F$5:$H$6,2,FALSE),2)+'[1]Иные услуги'!$C$6+HLOOKUP($DR$97,'[1]Услуги по передаче'!$G$5:$J$7,2,FALSE)) -> 5020.38 | DA104: =IF($A104="-","-",ROUND(VLOOKUP($A104+ROUND(LEFT(DA$100,2)/24,5),'[1]ОАО "АТС"'!$A$57:$F$800,6,FALSE)+HLOOKUP($DL$98,'[1]Сбытовая надбавка'!$F$5:$H$6,2,FALSE),2)+'[1]Иные услуги'!$C$6+HLOOKUP($DR$97,'[1]Услуги по передаче'!$G$5:$J$7,2,FALSE)) -> 5004.57 | DG104: =IF($A104="-","-",ROUND(VLOOKUP($A104+ROUND(LEFT(DG$100,2)/24,5),'[1]ОАО "АТС"'!$A$57:$F$800,6,FALSE)+HLOOKUP($DL$98,'[1]Сбытовая надбавка'!$F$5:$H$6,2,FALSE),2)+'[1]Иные услуги'!$C$6+HLOOKUP($DR$97,'[1]Услуги по передаче'!$G$5:$J$7,2,FALSE)) -> 5025.64 | DM104: =IF($A104="-","-",ROUND(VLOOKUP($A104+ROUND(LEFT(DM$100,2)/24,5),'[1]ОАО "АТС"'!$A$57:$F$800,6,FALSE)+HLOOKUP($DL$98,'[1]Сбытовая надбавка'!$F$5:$H$6,2,FALSE),2)+'[1]Иные услуги'!$C$6+HLOOKUP($DR$97,'[1]Услуги по передаче'!$G$5:$J$7,2,FALSE)) -> 5142.29 | DS104: =IF($A104="-","-",ROUND(VLOOKUP($A104+ROUND(LEFT(DS$100,2)/24,5),'[1]ОАО "АТС"'!$A$57:$F$800,6,FALSE)+HLOOKUP($DL$98,'[1]Сбытовая надбавка'!$F$5:$H$6,2,FALSE),2)+'[1]Иные услуги'!$C$6+HLOOKUP($DR$97,'[1]Услуги по передаче'!$G$5:$J$7,2,FALSE)) -> 5175.72 | DY104: =IF($A104="-","-",ROUND(VLOOKUP($A104+ROUND(LEFT(DY$100,2)/24,5),'[1]ОАО "АТС"'!$A$57:$F$800,6,FALSE)+HLOOKUP($DL$98,'[1]Сбытовая надбавка'!$F$5:$H$6,2,FALSE),2)+'[1]Иные услуги'!$C$6+HLOOKUP($DR$97,'[1]Услуги по передаче'!$G$5:$J$7,2,FALSE)) -> 5141.05 | EE104: =IF($A104="-","-",ROUND(VLOOKUP($A104+ROUND(LEFT(EE$100,2)/24,5),'[1]ОАО "АТС"'!$A$57:$F$800,6,FALSE)+HLOOKUP($DL$98,'[1]Сбытовая надбавка'!$F$5:$H$6,2,FALSE),2)+'[1]Иные услуги'!$C$6+HLOOKUP($DR$97,'[1]Услуги по передаче'!$G$5:$J$7,2,FALSE)) -> 5023.37 | EK104: =IF($A104="-","-",ROUND(VLOOKUP($A104+ROUND(LEFT(EK$100,2)/24,5),'[1]ОАО "АТС"'!$A$57:$F$800,6,FALSE)+HLOOKUP($DL$98,'[1]Сбытовая надбавка'!$F$5:$H$6,2,FALSE),2)+'[1]Иные услуги'!$C$6+HLOOKUP($DR$97,'[1]Услуги по передаче'!$G$5:$J$7,2,FALSE)) -> 4992.56 | EQ104: =IF($A104="-","-",ROUND(VLOOKUP($A104+ROUND(LEFT(EQ$100,2)/24,5),'[1]ОАО "АТС"'!$A$57:$F$800,6,FALSE)+HLOOKUP($DL$98,'[1]Сбытовая надбавка'!$F$5:$H$6,2,FALSE),2)+'[1]Иные услуги'!$C$6+HLOOKUP($DR$97,'[1]Услуги по передаче'!$G$5:$J$7,2,FALSE)) -> 5118.64
A105: ='[1]3 категория'!A20 -> 45570 | I105: =IF($A105="-","-",ROUND(VLOOKUP($A105+ROUND(LEFT(I$100,1)/24,5),'[1]ОАО "АТС"'!$A$57:$F$800,6,FALSE)+HLOOKUP($DL$98,'[1]Сбытовая надбавка'!$F$5:$H$6,2,FALSE),2)+'[1]Иные услуги'!$C$6+HLOOKUP($DR$97,'[1]Услуги по передаче'!$G$5:$J$7,2,FALSE)) -> 5017.23 | O105: =IF($A105="-","-",ROUND(VLOOKUP($A105+ROUND(LEFT(O$100,1)/24,5),'[1]ОАО "АТС"'!$A$57:$F$800,6,FALSE)+HLOOKUP($DL$98,'[1]Сбытовая надбавка'!$F$5:$H$6,2,FALSE),2)+'[1]Иные услуги'!$C$6+HLOOKUP($DR$97,'[1]Услуги по передаче'!$G$5:$J$7,2,FALSE)) -> 4994.96 | U105: =IF($A105="-","-",ROUND(VLOOKUP($A105+ROUND(LEFT(U$100,1)/24,5),'[1]ОАО "АТС"'!$A$57:$F$800,6,FALSE)+HLOOKUP($DL$98,'[1]Сбытовая надбавка'!$F$5:$H$6,2,FALSE),2)+'[1]Иные услуги'!$C$6+HLOOKUP($DR$97,'[1]Услуги по передаче'!$G$5:$J$7,2,FALSE)) -> 4995.09 | AA105: =IF($A105="-","-",ROUND(VLOOKUP($A105+ROUND(LEFT(AA$100,1)/24,5),'[1]ОАО "АТС"'!$A$57:$F$800,6,FALSE)+HLOOKUP($DL$98,'[1]Сбытовая надбавка'!$F$5:$H$6,2,FALSE),2)+'[1]Иные услуги'!$C$6+HLOOKUP($DR$97,'[1]Услуги по передаче'!$G$5:$J$7,2,FALSE)) -> 4995.1 | AG105: =IF($A105="-","-",ROUND(VLOOKUP($A105+ROUND(LEFT(AG$100,1)/24,5),'[1]ОАО "АТС"'!$A$57:$F$800,6,FALSE)+HLOOKUP($DL$98,'[1]Сбытовая надбавка'!$F$5:$H$6,2,FALSE),2)+'[1]Иные услуги'!$C$6+HLOOKUP($DR$97,'[1]Услуги по передаче'!$G$5:$J$7,2,FALSE)) -> 4995.04 | AM105: =IF($A105="-","-",ROUND(VLOOKUP($A105+ROUND(LEFT(AM$100,1)/24,5),'[1]ОАО "АТС"'!$A$57:$F$800,6,FALSE)+HLOOKUP($DL$98,'[1]Сбытовая надбавка'!$F$5:$H$6,2,FALSE),2)+'[1]Иные услуги'!$C$6+HLOOKUP($DR$97,'[1]Услуги по передаче'!$G$5:$J$7,2,FALSE)) -> 4994.9 | AS105: =IF($A105="-","-",ROUND(VLOOKUP($A105+ROUND(LEFT(AS$100,1)/24,5),'[1]ОАО "АТС"'!$A$57:$F$800,6,FALSE)+HLOOKUP($DL$98,'[1]Сбытовая надбавка'!$F$5:$H$6,2,FALSE),2)+'[1]Иные услуги'!$C$6+HLOOKUP($DR$97,'[1]Услуги по передаче'!$G$5:$J$7,2,FALSE)) -> 4994.35 | AY105: =IF($A105="-","-",ROUND(VLOOKUP($A105+ROUND(LEFT(AY$100,1)/24,5),'[1]ОАО "АТС"'!$A$57:$F$800,6,FALSE)+HLOOKUP($DL$98,'[1]Сбытовая надбавка'!$F$5:$H$6,2,FALSE),2)+'[1]Иные услуги'!$C$6+HLOOKUP($DR$97,'[1]Услуги по передаче'!$G$5:$J$7,2,FALSE)) -> 4994 | BE105: =IF($A105="-","-",ROUND(VLOOKUP($A105+ROUND(LEFT(BE$100,1)/24,5),'[1]ОАО "АТС"'!$A$57:$F$800,6,FALSE)+HLOOKUP($DL$98,'[1]Сбытовая надбавка'!$F$5:$H$6,2,FALSE),2)+'[1]Иные услуги'!$C$6+HLOOKUP($DR$97,'[1]Услуги по передаче'!$G$5:$J$7,2,FALSE)) -> 4994.12 | BK105: =IF($A105="-","-",ROUND(VLOOKUP($A105+ROUND(LEFT(BK$100,1)/24,5),'[1]ОАО "АТС"'!$A$57:$F$800,6,FALSE)+HLOOKUP($DL$98,'[1]Сбытовая надбавка'!$F$5:$H$6,2,FALSE),2)+'[1]Иные услуги'!$C$6+HLOOKUP($DR$97,'[1]Услуги по передаче'!$G$5:$J$7,2,FALSE)) -> 4994.28 | BQ105: =IF($A105="-","-",ROUND(VLOOKUP($A105+ROUND(LEFT(BQ$100,2)/24,5),'[1]ОАО "АТС"'!$A$57:$F$800,6,FALSE)+HLOOKUP($DL$98,'[1]Сбытовая надбавка'!$F$5:$H$6,2,FALSE),2)+'[1]Иные услуги'!$C$6+HLOOKUP($DR$97,'[1]Услуги по передаче'!$G$5:$J$7,2,FALSE)) -> 5004.81 | BW105: =IF($A105="-","-",ROUND(VLOOKUP($A105+ROUND(LEFT(BW$100,2)/24,5),'[1]ОАО "АТС"'!$A$57:$F$800,6,FALSE)+HLOOKUP($DL$98,'[1]Сбытовая надбавка'!$F$5:$H$6,2,FALSE),2)+'[1]Иные услуги'!$C$6+HLOOKUP($DR$97,'[1]Услуги по передаче'!$G$5:$J$7,2,FALSE)) -> 5013.33 | CC105: =IF($A105="-","-",ROUND(VLOOKUP($A105+ROUND(LEFT(CC$100,2)/24,5),'[1]ОАО "АТС"'!$A$57:$F$800,6,FALSE)+HLOOKUP($DL$98,'[1]Сбытовая надбавка'!$F$5:$H$6,2,FALSE),2)+'[1]Иные услуги'!$C$6+HLOOKUP($DR$97,'[1]Услуги по передаче'!$G$5:$J$7,2,FALSE)) -> 4994.19 | CI105: =IF($A105="-","-",ROUND(VLOOKUP($A105+ROUND(LEFT(CI$100,2)/24,5),'[1]ОАО "АТС"'!$A$57:$F$800,6,FALSE)+HLOOKUP($DL$98,'[1]Сбытовая надбавка'!$F$5:$H$6,2,FALSE),2)+'[1]Иные услуги'!$C$6+HLOOKUP($DR$97,'[1]Услуги по передаче'!$G$5:$J$7,2,FALSE)) -> 4994.21 | CO105: =IF($A105="-","-",ROUND(VLOOKUP($A105+ROUND(LEFT(CO$100,2)/24,5),'[1]ОАО "АТС"'!$A$57:$F$800,6,FALSE)+HLOOKUP($DL$98,'[1]Сбытовая надбавка'!$F$5:$H$6,2,FALSE),2)+'[1]Иные услуги'!$C$6+HLOOKUP($DR$97,'[1]Услуги по передаче'!$G$5:$J$7,2,FALSE)) -> 4994.24 | CU105: =IF($A105="-","-",ROUND(VLOOKUP($A105+ROUND(LEFT(CU$100,2)/24,5),'[1]ОАО "АТС"'!$A$57:$F$800,6,FALSE)+HLOOKUP($DL$98,'[1]Сбытовая надбавка'!$F$5:$H$6,2,FALSE),2)+'[1]Иные услуги'!$C$6+HLOOKUP($DR$97,'[1]Услуги по передаче'!$G$5:$J$7,2,FALSE)) -> 4994.21 | DA105: =IF($A105="-","-",ROUND(VLOOKUP($A105+ROUND(LEFT(DA$100,2)/24,5),'[1]ОАО "АТС"'!$A$57:$F$800,6,FALSE)+HLOOKUP($DL$98,'[1]Сбытовая надбавка'!$F$5:$H$6,2,FALSE),2)+'[1]Иные услуги'!$C$6+HLOOKUP($DR$97,'[1]Услуги по передаче'!$G$5:$J$7,2,FALSE)) -> 4994.21 | DG105: =IF($A105="-","-",ROUND(VLOOKUP($A105+ROUND(LEFT(DG$100,2)/24,5),'[1]ОАО "АТС"'!$A$57:$F$800,6,FALSE)+HLOOKUP($DL$98,'[1]Сбытовая надбавка'!$F$5:$H$6,2,FALSE),2)+'[1]Иные услуги'!$C$6+HLOOKUP($DR$97,'[1]Услуги по передаче'!$G$5:$J$7,2,FALSE)) -> 4994.22 | DM105: =IF($A105="-","-",ROUND(VLOOKUP($A105+ROUND(LEFT(DM$100,2)/24,5),'[1]ОАО "АТС"'!$A$57:$F$800,6,FALSE)+HLOOKUP($DL$98,'[1]Сбытовая надбавка'!$F$5:$H$6,2,FALSE),2)+'[1]Иные услуги'!$C$6+HLOOKUP($DR$97,'[1]Услуги по передаче'!$G$5:$J$7,2,FALSE)) -> 5102.66 | DS105: =IF($A105="-","-",ROUND(VLOOKUP($A105+ROUND(LEFT(DS$100,2)/24,5),'[1]ОАО "АТС"'!$A$57:$F$800,6,FALSE)+HLOOKUP($DL$98,'[1]Сбытовая надбавка'!$F$5:$H$6,2,FALSE),2)+'[1]Иные услуги'!$C$6+HLOOKUP($DR$97,'[1]Услуги по передаче'!$G$5:$J$7,2,FALSE)) -> 5154.03 | DY105: =IF($A105="-","-",ROUND(VLOOKUP($A105+ROUND(LEFT(DY$100,2)/24,5),'[1]ОАО "АТС"'!$A$57:$F$800,6,FALSE)+HLOOKUP($DL$98,'[1]Сбытовая надбавка'!$F$5:$H$6,2,FALSE),2)+'[1]Иные услуги'!$C$6+HLOOKUP($DR$97,'[1]Услуги по передаче'!$G$5:$J$7,2,FALSE)) -> 5071.63 | EE105: =IF($A105="-","-",ROUND(VLOOKUP($A105+ROUND(LEFT(EE$100,2)/24,5),'[1]ОАО "АТС"'!$A$57:$F$800,6,FALSE)+HLOOKUP($DL$98,'[1]Сбытовая надбавка'!$F$5:$H$6,2,FALSE),2)+'[1]Иные услуги'!$C$6+HLOOKUP($DR$97,'[1]Услуги по передаче'!$G$5:$J$7,2,FALSE)) -> 4991.98 | EK105: =IF($A105="-","-",ROUND(VLOOKUP($A105+ROUND(LEFT(EK$100,2)/24,5),'[1]ОАО "АТС"'!$A$57:$F$800,6,FALSE)+HLOOKUP($DL$98,'[1]Сбытовая надбавка'!$F$5:$H$6,2,FALSE),2)+'[1]Иные услуги'!$C$6+HLOOKUP($DR$97,'[1]Услуги по передаче'!$G$5:$J$7,2,FALSE)) -> 4992.29 | EQ105: =IF($A105="-","-",ROUND(VLOOKUP($A105+ROUND(LEFT(EQ$100,2)/24,5),'[1]ОАО "АТС"'!$A$57:$F$800,6,FALSE)+HLOOKUP($DL$98,'[1]Сбытовая надбавка'!$F$5:$H$6,2,FALSE),2)+'[1]Иные услуги'!$C$6+HLOOKUP($DR$97,'[1]Услуги по передаче'!$G$5:$J$7,2,FALSE)) -> 5092.83
A106: ='[1]3 категория'!A21 -> 45571 | I106: =IF($A106="-","-",ROUND(VLOOKUP($A106+ROUND(LEFT(I$100,1)/24,5),'[1]ОАО "АТС"'!$A$57:$F$800,6,FALSE)+HLOOKUP($DL$98,'[1]Сбытовая надбавка'!$F$5:$H$6,2,FALSE),2)+'[1]Иные услуги'!$C$6+HLOOKUP($DR$97,'[1]Услуги по передаче'!$G$5:$J$7,2,FALSE)) -> 5017.7 | O106: =IF($A106="-","-",ROUND(VLOOKUP($A106+ROUND(LEFT(O$100,1)/24,5),'[1]ОАО "АТС"'!$A$57:$F$800,6,FALSE)+HLOOKUP($DL$98,'[1]Сбытовая надбавка'!$F$5:$H$6,2,FALSE),2)+'[1]Иные услуги'!$C$6+HLOOKUP($DR$97,'[1]Услуги по передаче'!$G$5:$J$7,2,FALSE)) -> 4994.98 | U106: =IF($A106="-","-",ROUND(VLOOKUP($A106+ROUND(LEFT(U$100,1)/24,5),'[1]ОАО "АТС"'!$A$57:$F$800,6,FALSE)+HLOOKUP($DL$98,'[1]Сбытовая надбавка'!$F$5:$H$6,2,FALSE),2)+'[1]Иные услуги'!$C$6+HLOOKUP($DR$97,'[1]Услуги по передаче'!$G$5:$J$7,2,FALSE)) -> 4995.08 | AA106: =IF($A106="-","-",ROUND(VLOOKUP($A106+ROUND(LEFT(AA$100,1)/24,5),'[1]ОАО "АТС"'!$A$57:$F$800,6,FALSE)+HLOOKUP($DL$98,'[1]Сбытовая надбавка'!$F$5:$H$6,2,FALSE),2)+'[1]Иные услуги'!$C$6+HLOOKUP($DR$97,'[1]Услуги по передаче'!$G$5:$J$7,2,FALSE)) -> 4995.1 | AG106: =IF($A106="-","-",ROUND(VLOOKUP($A106+ROUND(LEFT(AG$100,1)/24,5),'[1]ОАО "АТС"'!$A$57:$F$800,6,FALSE)+HLOOKUP($DL$98,'[1]Сбытовая надбавка'!$F$5:$H$6,2,FALSE),2)+'[1]Иные услуги'!$C$6+HLOOKUP($DR$97,'[1]Услуги по передаче'!$G$5:$J$7,2,FALSE)) -> 4995.06 | AM106: =IF($A106="-","-",ROUND(VLOOKUP($A106+ROUND(LEFT(AM$100,1)/24,5),'[1]ОАО "АТС"'!$A$57:$F$800,6,FALSE)+HLOOKUP($DL$98,'[1]Сбытовая надбавка'!$F$5:$H$6,2,FALSE),2)+'[1]Иные услуги'!$C$6+HLOOKUP($DR$97,'[1]Услуги по передаче'!$G$5:$J$7,2,FALSE)) -> 4995.01 | AS106: =IF($A106="-","-",ROUND(VLOOKUP($A106+ROUND(LEFT(AS$100,1)/24,5),'[1]ОАО "АТС"'!$A$57:$F$800,6,FALSE)+HLOOKUP($DL$98,'[1]Сбытовая надбавка'!$F$5:$H$6,2,FALSE),2)+'[1]Иные услуги'!$C$6+HLOOKUP($DR$97,'[1]Услуги по передаче'!$G$5:$J$7,2,FALSE)) -> 4994.35 | AY106: =IF($A106="-","-",ROUND(VLOOKUP($A106+ROUND(LEFT(AY$100,1)/24,5),'[1]ОАО "АТС"'!$A$57:$F$800,6,FALSE)+HLOOKUP($DL$98,'[1]Сбытовая надбавка'!$F$5:$H$6,2,FALSE),2)+'[1]Иные услуги'!$C$6+HLOOKUP($DR$97,'[1]Услуги по передаче'!$G$5:$J$7,2,FALSE)) -> 4994.2 | BE106: =IF($A106="-","-",ROUND(VLOOKUP($A106+ROUND(LEFT(BE$100,1)/24,5),'[1]ОАО "АТС"'!$A$57:$F$800,6,FALSE)+HLOOKUP($DL$98,'[1]Сбытовая надбавка'!$F$5:$H$6,2,FALSE),2)+'[1]Иные услуги'!$C$6+HLOOKUP($DR$97,'[1]Услуги по передаче'!$G$5:$J$7,2,FALSE)) -> 4994.17 | BK106: =IF($A106="-","-",ROUND(VLOOKUP($A106+ROUND(LEFT(BK$100,1)/24,5),'[1]ОАО "АТС"'!$A$57:$F$800,6,FALSE)+HLOOKUP($DL$98,'[1]Сбытовая надбавка'!$F$5:$H$6,2,FALSE),2)+'[1]Иные услуги'!$C$6+HLOOKUP($DR$97,'[1]Услуги по передаче'!$G$5:$J$7,2,FALSE)) -> 4994.2 | BQ106: =IF($A106="-","-",ROUND(VLOOKUP($A106+ROUND(LEFT(BQ$100,2)/24,5),'[1]ОАО "АТС"'!$A$57:$F$800,6,FALSE)+HLOOKUP($DL$98,'[1]Сбытовая надбавка'!$F$5:$H$6,2,FALSE),2)+'[1]Иные услуги'!$C$6+HLOOKUP($DR$97,'[1]Услуги по передаче'!$G$5:$J$7,2,FALSE)) -> 4994.26 | BW106: =IF($A106="-","-",ROUND(VLOOKUP($A106+ROUND(LEFT(BW$100,2)/24,5),'[1]ОАО "АТС"'!$A$57:$F$800,6,FALSE)+HLOOKUP($DL$98,'[1]Сбытовая надбавка'!$F$5:$H$6,2,FALSE),2)+'[1]Иные услуги'!$C$6+HLOOKUP($DR$97,'[1]Услуги по передаче'!$G$5:$J$7,2,FALSE)) -> 4994.3 | CC106: =IF($A106="-","-",ROUND(VLOOKUP($A106+ROUND(LEFT(CC$100,2)/24,5),'[1]ОАО "АТС"'!$A$57:$F$800,6,FALSE)+HLOOKUP($DL$98,'[1]Сбытовая надбавка'!$F$5:$H$6,2,FALSE),2)+'[1]Иные услуги'!$C$6+HLOOKUP($DR$97,'[1]Услуги по передаче'!$G$5:$J$7,2,FALSE)) -> 4994.29 | CI106: =IF($A106="-","-",ROUND(VLOOKUP($A106+ROUND(LEFT(CI$100,2)/24,5),'[1]ОАО "АТС"'!$A$57:$F$800,6,FALSE)+HLOOKUP($DL$98,'[1]Сбытовая надбавка'!$F$5:$H$6,2,FALSE),2)+'[1]Иные услуги'!$C$6+HLOOKUP($DR$97,'[1]Услуги по передаче'!$G$5:$J$7,2,FALSE)) -> 4994.31 | CO106: =IF($A106="-","-",ROUND(VLOOKUP($A106+ROUND(LEFT(CO$100,2)/24,5),'[1]ОАО "АТС"'!$A$57:$F$800,6,FALSE)+HLOOKUP($DL$98,'[1]Сбытовая надбавка'!$F$5:$H$6,2,FALSE),2)+'[1]Иные услуги'!$C$6+HLOOKUP($DR$97,'[1]Услуги по передаче'!$G$5:$J$7,2,FALSE)) -> 4994.3 | CU106: =IF($A106="-","-",ROUND(VLOOKUP($A106+ROUND(LEFT(CU$100,2)/24,5),'[1]ОАО "АТС"'!$A$57:$F$800,6,FALSE)+HLOOKUP($DL$98,'[1]Сбытовая надбавка'!$F$5:$H$6,2,FALSE),2)+'[1]Иные услуги'!$C$6+HLOOKUP($DR$97,'[1]Услуги по передаче'!$G$5:$J$7,2,FALSE)) -> 4994.29 | DA106: =IF($A106="-","-",ROUND(VLOOKUP($A106+ROUND(LEFT(DA$100,2)/24,5),'[1]ОАО "АТС"'!$A$57:$F$800,6,FALSE)+HLOOKUP($DL$98,'[1]Сбытовая надбавка'!$F$5:$H$6,2,FALSE),2)+'[1]Иные услуги'!$C$6+HLOOKUP($DR$97,'[1]Услуги по передаче'!$G$5:$J$7,2,FALSE)) -> 4994.3 | DG106: =IF($A106="-","-",ROUND(VLOOKUP($A106+ROUND(LEFT(DG$100,2)/24,5),'[1]ОАО "АТС"'!$A$57:$F$800,6,FALSE)+HLOOKUP($DL$98,'[1]Сбытовая надбавка'!$F$5:$H$6,2,FALSE),2)+'[1]Иные услуги'!$C$6+HLOOKUP($DR$97,'[1]Услуги по передаче'!$G$5:$J$7,2,FALSE)) -> 4994.08 | DM106: =IF($A106="-","-",ROUND(VLOOKUP($A106+ROUND(LEFT(DM$100,2)/24,5),'[1]ОАО "АТС"'!$A$57:$F$800,6,FALSE)+HLOOKUP($DL$98,'[1]Сбытовая надбавка'!$F$5:$H$6,2,FALSE),2)+'[1]Иные услуги'!$C$6+HLOOKUP($DR$97,'[1]Услуги по передаче'!$G$5:$J$7,2,FALSE)) -> 5083.67 | DS106: =IF($A106="-","-",ROUND(VLOOKUP($A106+ROUND(LEFT(DS$100,2)/24,5),'[1]ОАО "АТС"'!$A$57:$F$800,6,FALSE)+HLOOKUP($DL$98,'[1]Сбытовая надбавка'!$F$5:$H$6,2,FALSE),2)+'[1]Иные услуги'!$C$6+HLOOKUP($DR$97,'[1]Услуги по передаче'!$G$5:$J$7,2,FALSE)) -> 5146.54 | DY106: =IF($A106="-","-",ROUND(VLOOKUP($A106+ROUND(LEFT(DY$100,2)/24,5),'[1]ОАО "АТС"'!$A$57:$F$800,6,FALSE)+HLOOKUP($DL$98,'[1]Сбытовая надбавка'!$F$5:$H$6,2,FALSE),2)+'[1]Иные услуги'!$C$6+HLOOKUP($DR$97,'[1]Услуги по передаче'!$G$5:$J$7,2,FALSE)) -> 5101.77 | EE106: =IF($A106="-","-",ROUND(VLOOKUP($A106+ROUND(LEFT(EE$100,2)/24,5),'[1]ОАО "АТС"'!$A$57:$F$800,6,FALSE)+HLOOKUP($DL$98,'[1]Сбытовая надбавка'!$F$5:$H$6,2,FALSE),2)+'[1]Иные услуги'!$C$6+HLOOKUP($DR$97,'[1]Услуги по передаче'!$G$5:$J$7,2,FALSE)) -> 4992.53 | EK106: =IF($A106="-","-",ROUND(VLOOKUP($A106+ROUND(LEFT(EK$100,2)/24,5),'[1]ОАО "АТС"'!$A$57:$F$800,6,FALSE)+HLOOKUP($DL$98,'[1]Сбытовая надбавка'!$F$5:$H$6,2,FALSE),2)+'[1]Иные услуги'!$C$6+HLOOKUP($DR$97,'[1]Услуги по передаче'!$G$5:$J$7,2,FALSE)) -> 4992.42 | EQ106: =IF($A106="-","-",ROUND(VLOOKUP($A106+ROUND(LEFT(EQ$100,2)/24,5),'[1]ОАО "АТС"'!$A$57:$F$800,6,FALSE)+HLOOKUP($DL$98,'[1]Сбытовая надбавка'!$F$5:$H$6,2,FALSE),2)+'[1]Иные услуги'!$C$6+HLOOKUP($DR$97,'[1]Услуги по передаче'!$G$5:$J$7,2,FALSE)) -> 5056.15
A107: ='[1]3 категория'!A22 -> 45572 | I107: =IF($A107="-","-",ROUND(VLOOKUP($A107+ROUND(LEFT(I$100,1)/24,5),'[1]ОАО "АТС"'!$A$57:$F$800,6,FALSE)+HLOOKUP($DL$98,'[1]Сбытовая надбавка'!$F$5:$H$6,2,FALSE),2)+'[1]Иные услуги'!$C$6+HLOOKUP($DR$97,'[1]Услуги по передаче'!$G$5:$J$7,2,FALSE)) -> 4997.67 | O107: =IF($A107="-","-",ROUND(VLOOKUP($A107+ROUND(LEFT(O$100,1)/24,5),'[1]ОАО "АТС"'!$A$57:$F$800,6,FALSE)+HLOOKUP($DL$98,'[1]Сбытовая надбавка'!$F$5:$H$6,2,FALSE),2)+'[1]Иные услуги'!$C$6+HLOOKUP($DR$97,'[1]Услуги по передаче'!$G$5:$J$7,2,FALSE)) -> 4995.09 | U107: =IF($A107="-","-",ROUND(VLOOKUP($A107+ROUND(LEFT(U$100,1)/24,5),'[1]ОАО "АТС"'!$A$57:$F$800,6,FALSE)+HLOOKUP($DL$98,'[1]Сбытовая надбавка'!$F$5:$H$6,2,FALSE),2)+'[1]Иные услуги'!$C$6+HLOOKUP($DR$97,'[1]Услуги по передаче'!$G$5:$J$7,2,FALSE)) -> 4995.18 | AA107: =IF($A107="-","-",ROUND(VLOOKUP($A107+ROUND(LEFT(AA$100,1)/24,5),'[1]ОАО "АТС"'!$A$57:$F$800,6,FALSE)+HLOOKUP($DL$98,'[1]Сбытовая надбавка'!$F$5:$H$6,2,FALSE),2)+'[1]Иные услуги'!$C$6+HLOOKUP($DR$97,'[1]Услуги по передаче'!$G$5:$J$7,2,FALSE)) -> 4995.18 | AG107: =IF($A107="-","-",ROUND(VLOOKUP($A107+ROUND(LEFT(AG$100,1)/24,5),'[1]ОАО "АТС"'!$A$57:$F$800,6,FALSE)+HLOOKUP($DL$98,'[1]Сбытовая надбавка'!$F$5:$H$6,2,FALSE),2)+'[1]Иные услуги'!$C$6+HLOOKUP($DR$97,'[1]Услуги по передаче'!$G$5:$J$7,2,FALSE)) -> 4995.07 | AM107: =IF($A107="-","-",ROUND(VLOOKUP($A107+ROUND(LEFT(AM$100,1)/24,5),'[1]ОАО "АТС"'!$A$57:$F$800,6,FALSE)+HLOOKUP($DL$98,'[1]Сбытовая надбавка'!$F$5:$H$6,2,FALSE),2)+'[1]Иные услуги'!$C$6+HLOOKUP($DR$97,'[1]Услуги по передаче'!$G$5:$J$7,2,FALSE)) -> 4995.07 | AS107: =IF($A107="-","-",ROUND(VLOOKUP($A107+ROUND(LEFT(AS$100,1)/24,5),'[1]ОАО "АТС"'!$A$57:$F$800,6,FALSE)+HLOOKUP($DL$98,'[1]Сбытовая надбавка'!$F$5:$H$6,2,FALSE),2)+'[1]Иные услуги'!$C$6+HLOOKUP($DR$97,'[1]Услуги по передаче'!$G$5:$J$7,2,FALSE)) -> 4994.4 | AY107: =IF($A107="-","-",ROUND(VLOOKUP($A107+ROUND(LEFT(AY$100,1)/24,5),'[1]ОАО "АТС"'!$A$57:$F$800,6,FALSE)+HLOOKUP($DL$98,'[1]Сбытовая надбавка'!$F$5:$H$6,2,FALSE),2)+'[1]Иные услуги'!$C$6+HLOOKUP($DR$97,'[1]Услуги по передаче'!$G$5:$J$7,2,FALSE)) -> 5070.91 | BE107: =IF($A107="-","-",ROUND(VLOOKUP($A107+ROUND(LEFT(BE$100,1)/24,5),'[1]ОАО "АТС"'!$A$57:$F$800,6,FALSE)+HLOOKUP($DL$98,'[1]Сбытовая надбавка'!$F$5:$H$6,2,FALSE),2)+'[1]Иные услуги'!$C$6+HLOOKUP($DR$97,'[1]Услуги по передаче'!$G$5:$J$7,2,FALSE)) -> 4994.28 | BK107: =IF($A107="-","-",ROUND(VLOOKUP($A107+ROUND(LEFT(BK$100,1)/24,5),'[1]ОАО "АТС"'!$A$57:$F$800,6,FALSE)+HLOOKUP($DL$98,'[1]Сбытовая надбавка'!$F$5:$H$6,2,FALSE),2)+'[1]Иные услуги'!$C$6+HLOOKUP($DR$97,'[1]Услуги по передаче'!$G$5:$J$7,2,FALSE)) -> 5038.17 | BQ107: =IF($A107="-","-",ROUND(VLOOKUP($A107+ROUND(LEFT(BQ$100,2)/24,5),'[1]ОАО "АТС"'!$A$57:$F$800,6,FALSE)+HLOOKUP($DL$98,'[1]Сбытовая надбавка'!$F$5:$H$6,2,FALSE),2)+'[1]Иные услуги'!$C$6+HLOOKUP($DR$97,'[1]Услуги по передаче'!$G$5:$J$7,2,FALSE)) -> 5089.11 | BW107: =IF($A107="-","-",ROUND(VLOOKUP($A107+ROUND(LEFT(BW$100,2)/24,5),'[1]ОАО "АТС"'!$A$57:$F$800,6,FALSE)+HLOOKUP($DL$98,'[1]Сбытовая надбавка'!$F$5:$H$6,2,FALSE),2)+'[1]Иные услуги'!$C$6+HLOOKUP($DR$97,'[1]Услуги по передаче'!$G$5:$J$7,2,FALSE)) -> 5091.64 | CC107: =IF($A107="-","-",ROUND(VLOOKUP($A107+ROUND(LEFT(CC$100,2)/24,5),'[1]ОАО "АТС"'!$A$57:$F$800,6,FALSE)+HLOOKUP($DL$98,'[1]Сбытовая надбавка'!$F$5:$H$6,2,FALSE),2)+'[1]Иные услуги'!$C$6+HLOOKUP($DR$97,'[1]Услуги по передаче'!$G$5:$J$7,2,FALSE)) -> 5055.47 | CI107: =IF($A107="-","-",ROUND(VLOOKUP($A107+ROUND(LEFT(CI$100,2)/24,5),'[1]ОАО "АТС"'!$A$57:$F$800,6,FALSE)+HLOOKUP($DL$98,'[1]Сбытовая надбавка'!$F$5:$H$6,2,FALSE),2)+'[1]Иные услуги'!$C$6+HLOOKUP($DR$97,'[1]Услуги по передаче'!$G$5:$J$7,2,FALSE)) -> 5037.82 | CO107: =IF($A107="-","-",ROUND(VLOOKUP($A107+ROUND(LEFT(CO$100,2)/24,5),'[1]ОАО "АТС"'!$A$57:$F$800,6,FALSE)+HLOOKUP($DL$98,'[1]Сбытовая надбавка'!$F$5:$H$6,2,FALSE),2)+'[1]Иные услуги'!$C$6+HLOOKUP($DR$97,'[1]Услуги по передаче'!$G$5:$J$7,2,FALSE)) -> 5062.33 | CU107: =IF($A107="-","-",ROUND(VLOOKUP($A107+ROUND(LEFT(CU$100,2)/24,5),'[1]ОАО "АТС"'!$A$57:$F$800,6,FALSE)+HLOOKUP($DL$98,'[1]Сбытовая надбавка'!$F$5:$H$6,2,FALSE),2)+'[1]Иные услуги'!$C$6+HLOOKUP($DR$97,'[1]Услуги по передаче'!$G$5:$J$7,2,FALSE)) -> 5080.01 | DA107: =IF($A107="-","-",ROUND(VLOOKUP($A107+ROUND(LEFT(DA$100,2)/24,5),'[1]ОАО "АТС"'!$A$57:$F$800,6,FALSE)+HLOOKUP($DL$98,'[1]Сбытовая надбавка'!$F$5:$H$6,2,FALSE),2)+'[1]Иные услуги'!$C$6+HLOOKUP($DR$97,'[1]Услуги по передаче'!$G$5:$J$7,2,FALSE)) -> 5069.43 | DG107: =IF($A107="-","-",ROUND(VLOOKUP($A107+ROUND(LEFT(DG$100,2)/24,5),'[1]ОАО "АТС"'!$A$57:$F$800,6,FALSE)+HLOOKUP($DL$98,'[1]Сбытовая надбавка'!$F$5:$H$6,2,FALSE),2)+'[1]Иные услуги'!$C$6+HLOOKUP($DR$97,'[1]Услуги по передаче'!$G$5:$J$7,2,FALSE)) -> 5089.18 | DM107: =IF($A107="-","-",ROUND(VLOOKUP($A107+ROUND(LEFT(DM$100,2)/24,5),'[1]ОАО "АТС"'!$A$57:$F$800,6,FALSE)+HLOOKUP($DL$98,'[1]Сбытовая надбавка'!$F$5:$H$6,2,FALSE),2)+'[1]Иные услуги'!$C$6+HLOOKUP($DR$97,'[1]Услуги по передаче'!$G$5:$J$7,2,FALSE)) -> 5146.11 | DS107: =IF($A107="-","-",ROUND(VLOOKUP($A107+ROUND(LEFT(DS$100,2)/24,5),'[1]ОАО "АТС"'!$A$57:$F$800,6,FALSE)+HLOOKUP($DL$98,'[1]Сбытовая надбавка'!$F$5:$H$6,2,FALSE),2)+'[1]Иные услуги'!$C$6+HLOOKUP($DR$97,'[1]Услуги по передаче'!$G$5:$J$7,2,FALSE)) -> 5174.96 | DY107: =IF($A107="-","-",ROUND(VLOOKUP($A107+ROUND(LEFT(DY$100,2)/24,5),'[1]ОАО "АТС"'!$A$57:$F$800,6,FALSE)+HLOOKUP($DL$98,'[1]Сбытовая надбавка'!$F$5:$H$6,2,FALSE),2)+'[1]Иные услуги'!$C$6+HLOOKUP($DR$97,'[1]Услуги по передаче'!$G$5:$J$7,2,FALSE)) -> 5115.6 | EE107: =IF($A107="-","-",ROUND(VLOOKUP($A107+ROUND(LEFT(EE$100,2)/24,5),'[1]ОАО "АТС"'!$A$57:$F$800,6,FALSE)+HLOOKUP($DL$98,'[1]Сбытовая надбавка'!$F$5:$H$6,2,FALSE),2)+'[1]Иные услуги'!$C$6+HLOOKUP($DR$97,'[1]Услуги по передаче'!$G$5:$J$7,2,FALSE)) -> 5002.72 | EK107: =IF($A107="-","-",ROUND(VLOOKUP($A107+ROUND(LEFT(EK$100,2)/24,5),'[1]ОАО "АТС"'!$A$57:$F$800,6,FALSE)+HLOOKUP($DL$98,'[1]Сбытовая надбавка'!$F$5:$H$6,2,FALSE),2)+'[1]Иные услуги'!$C$6+HLOOKUP($DR$97,'[1]Услуги по передаче'!$G$5:$J$7,2,FALSE)) -> 4993.25 | EQ107: =IF($A107="-","-",ROUND(VLOOKUP($A107+ROUND(LEFT(EQ$100,2)/24,5),'[1]ОАО "АТС"'!$A$57:$F$800,6,FALSE)+HLOOKUP($DL$98,'[1]Сбытовая надбавка'!$F$5:$H$6,2,FALSE),2)+'[1]Иные услуги'!$C$6+HLOOKUP($DR$97,'[1]Услуги по передаче'!$G$5:$J$7,2,FALSE)) -> 5044.87
A108: ='[1]3 категория'!A23 -> 45573 | I108: =IF($A108="-","-",ROUND(VLOOKUP($A108+ROUND(LEFT(I$100,1)/24,5),'[1]ОАО "АТС"'!$A$57:$F$800,6,FALSE)+HLOOKUP($DL$98,'[1]Сбытовая надбавка'!$F$5:$H$6,2,FALSE),2)+'[1]Иные услуги'!$C$6+HLOOKUP($DR$97,'[1]Услуги по передаче'!$G$5:$J$7,2,FALSE)) -> 4995.32 | O108: =IF($A108="-","-",ROUND(VLOOKUP($A108+ROUND(LEFT(O$100,1)/24,5),'[1]ОАО "АТС"'!$A$57:$F$800,6,FALSE)+HLOOKUP($DL$98,'[1]Сбытовая надбавка'!$F$5:$H$6,2,FALSE),2)+'[1]Иные услуги'!$C$6+HLOOKUP($DR$97,'[1]Услуги по передаче'!$G$5:$J$7,2,FALSE)) -> 4995.37 | U108: =IF($A108="-","-",ROUND(VLOOKUP($A108+ROUND(LEFT(U$100,1)/24,5),'[1]ОАО "АТС"'!$A$57:$F$800,6,FALSE)+HLOOKUP($DL$98,'[1]Сбытовая надбавка'!$F$5:$H$6,2,FALSE),2)+'[1]Иные услуги'!$C$6+HLOOKUP($DR$97,'[1]Услуги по передаче'!$G$5:$J$7,2,FALSE)) -> 4995.41 | AA108: =IF($A108="-","-",ROUND(VLOOKUP($A108+ROUND(LEFT(AA$100,1)/24,5),'[1]ОАО "АТС"'!$A$57:$F$800,6,FALSE)+HLOOKUP($DL$98,'[1]Сбытовая надбавка'!$F$5:$H$6,2,FALSE),2)+'[1]Иные услуги'!$C$6+HLOOKUP($DR$97,'[1]Услуги по передаче'!$G$5:$J$7,2,FALSE)) -> 4995.42 | AG108: =IF($A108="-","-",ROUND(VLOOKUP($A108+ROUND(LEFT(AG$100,1)/24,5),'[1]ОАО "АТС"'!$A$57:$F$800,6,FALSE)+HLOOKUP($DL$98,'[1]Сбытовая надбавка'!$F$5:$H$6,2,FALSE),2)+'[1]Иные услуги'!$C$6+HLOOKUP($DR$97,'[1]Услуги по передаче'!$G$5:$J$7,2,FALSE)) -> 4995.37 | AM108: =IF($A108="-","-",ROUND(VLOOKUP($A108+ROUND(LEFT(AM$100,1)/24,5),'[1]ОАО "АТС"'!$A$57:$F$800,6,FALSE)+HLOOKUP($DL$98,'[1]Сбытовая надбавка'!$F$5:$H$6,2,FALSE),2)+'[1]Иные услуги'!$C$6+HLOOKUP($DR$97,'[1]Услуги по передаче'!$G$5:$J$7,2,FALSE)) -> 4995.25 | AS108: =IF($A108="-","-",ROUND(VLOOKUP($A108+ROUND(LEFT(AS$100,1)/24,5),'[1]ОАО "АТС"'!$A$57:$F$800,6,FALSE)+HLOOKUP($DL$98,'[1]Сбытовая надбавка'!$F$5:$H$6,2,FALSE),2)+'[1]Иные услуги'!$C$6+HLOOKUP($DR$97,'[1]Услуги по передаче'!$G$5:$J$7,2,FALSE)) -> 4994.63 | AY108: =IF($A108="-","-",ROUND(VLOOKUP($A108+ROUND(LEFT(AY$100,1)/24,5),'[1]ОАО "АТС"'!$A$57:$F$800,6,FALSE)+HLOOKUP($DL$98,'[1]Сбытовая надбавка'!$F$5:$H$6,2,FALSE),2)+'[1]Иные услуги'!$C$6+HLOOKUP($DR$97,'[1]Услуги по передаче'!$G$5:$J$7,2,FALSE)) -> 5044.13 | BE108: =IF($A108="-","-",ROUND(VLOOKUP($A108+ROUND(LEFT(BE$100,1)/24,5),'[1]ОАО "АТС"'!$A$57:$F$800,6,FALSE)+HLOOKUP($DL$98,'[1]Сбытовая надбавка'!$F$5:$H$6,2,FALSE),2)+'[1]Иные услуги'!$C$6+HLOOKUP($DR$97,'[1]Услуги по передаче'!$G$5:$J$7,2,FALSE)) -> 4994.21 | BK108: =IF($A108="-","-",ROUND(VLOOKUP($A108+ROUND(LEFT(BK$100,1)/24,5),'[1]ОАО "АТС"'!$A$57:$F$800,6,FALSE)+HLOOKUP($DL$98,'[1]Сбытовая надбавка'!$F$5:$H$6,2,FALSE),2)+'[1]Иные услуги'!$C$6+HLOOKUP($DR$97,'[1]Услуги по передаче'!$G$5:$J$7,2,FALSE)) -> 5029.04 | BQ108: =IF($A108="-","-",ROUND(VLOOKUP($A108+ROUND(LEFT(BQ$100,2)/24,5),'[1]ОАО "АТС"'!$A$57:$F$800,6,FALSE)+HLOOKUP($DL$98,'[1]Сбытовая надбавка'!$F$5:$H$6,2,FALSE),2)+'[1]Иные услуги'!$C$6+HLOOKUP($DR$97,'[1]Услуги по передаче'!$G$5:$J$7,2,FALSE)) -> 5074.9 | BW108: =IF($A108="-","-",ROUND(VLOOKUP($A108+ROUND(LEFT(BW$100,2)/24,5),'[1]ОАО "АТС"'!$A$57:$F$800,6,FALSE)+HLOOKUP($DL$98,'[1]Сбытовая надбавка'!$F$5:$H$6,2,FALSE),2)+'[1]Иные услуги'!$C$6+HLOOKUP($DR$97,'[1]Услуги по передаче'!$G$5:$J$7,2,FALSE)) -> 5077.67 | CC108: =IF($A108="-","-",ROUND(VLOOKUP($A108+ROUND(LEFT(CC$100,2)/24,5),'[1]ОАО "АТС"'!$A$57:$F$800,6,FALSE)+HLOOKUP($DL$98,'[1]Сбытовая надбавка'!$F$5:$H$6,2,FALSE),2)+'[1]Иные услуги'!$C$6+HLOOKUP($DR$97,'[1]Услуги по передаче'!$G$5:$J$7,2,FALSE)) -> 5043.9 | CI108: =IF($A108="-","-",ROUND(VLOOKUP($A108+ROUND(LEFT(CI$100,2)/24,5),'[1]ОАО "АТС"'!$A$57:$F$800,6,FALSE)+HLOOKUP($DL$98,'[1]Сбытовая надбавка'!$F$5:$H$6,2,FALSE),2)+'[1]Иные услуги'!$C$6+HLOOKUP($DR$97,'[1]Услуги по передаче'!$G$5:$J$7,2,FALSE)) -> 5028.01 | CO108: =IF($A108="-","-",ROUND(VLOOKUP($A108+ROUND(LEFT(CO$100,2)/24,5),'[1]ОАО "АТС"'!$A$57:$F$800,6,FALSE)+HLOOKUP($DL$98,'[1]Сбытовая надбавка'!$F$5:$H$6,2,FALSE),2)+'[1]Иные услуги'!$C$6+HLOOKUP($DR$97,'[1]Услуги по передаче'!$G$5:$J$7,2,FALSE)) -> 5051.27 | CU108: =IF($A108="-","-",ROUND(VLOOKUP($A108+ROUND(LEFT(CU$100,2)/24,5),'[1]ОАО "АТС"'!$A$57:$F$800,6,FALSE)+HLOOKUP($DL$98,'[1]Сбытовая надбавка'!$F$5:$H$6,2,FALSE),2)+'[1]Иные услуги'!$C$6+HLOOKUP($DR$97,'[1]Услуги по передаче'!$G$5:$J$7,2,FALSE)) -> 5069.18 | DA108: =IF($A108="-","-",ROUND(VLOOKUP($A108+ROUND(LEFT(DA$100,2)/24,5),'[1]ОАО "АТС"'!$A$57:$F$800,6,FALSE)+HLOOKUP($DL$98,'[1]Сбытовая надбавка'!$F$5:$H$6,2,FALSE),2)+'[1]Иные услуги'!$C$6+HLOOKUP($DR$97,'[1]Услуги по передаче'!$G$5:$J$7,2,FALSE)) -> 5064.08 | DG108: =IF($A108="-","-",ROUND(VLOOKUP($A108+ROUND(LEFT(DG$100,2)/24,5),'[1]ОАО "АТС"'!$A$57:$F$800,6,FALSE)+HLOOKUP($DL$98,'[1]Сбытовая надбавка'!$F$5:$H$6,2,FALSE),2)+'[1]Иные услуги'!$C$6+HLOOKUP($DR$97,'[1]Услуги по передаче'!$G$5:$J$7,2,FALSE)) -> 5080.31 | DM108: =IF($A108="-","-",ROUND(VLOOKUP($A108+ROUND(LEFT(DM$100,2)/24,5),'[1]ОАО "АТС"'!$A$57:$F$800,6,FALSE)+HLOOKUP($DL$98,'[1]Сбытовая надбавка'!$F$5:$H$6,2,FALSE),2)+'[1]Иные услуги'!$C$6+HLOOKUP($DR$97,'[1]Услуги по передаче'!$G$5:$J$7,2,FALSE)) -> 5135.54 | DS108: =IF($A108="-","-",ROUND(VLOOKUP($A108+ROUND(LEFT(DS$100,2)/24,5),'[1]ОАО "АТС"'!$A$57:$F$800,6,FALSE)+HLOOKUP($DL$98,'[1]Сбытовая надбавка'!$F$5:$H$6,2,FALSE),2)+'[1]Иные услуги'!$C$6+HLOOKUP($DR$97,'[1]Услуги по передаче'!$G$5:$J$7,2,FALSE)) -> 5162.9 | DY108: =IF($A108="-","-",ROUND(VLOOKUP($A108+ROUND(LEFT(DY$100,2)/24,5),'[1]ОАО "АТС"'!$A$57:$F$800,6,FALSE)+HLOOKUP($DL$98,'[1]Сбытовая надбавка'!$F$5:$H$6,2,FALSE),2)+'[1]Иные услуги'!$C$6+HLOOKUP($DR$97,'[1]Услуги по передаче'!$G$5:$J$7,2,FALSE)) -> 5103.87 | EE108: =IF($A108="-","-",ROUND(VLOOKUP($A108+ROUND(LEFT(EE$100,2)/24,5),'[1]ОАО "АТС"'!$A$57:$F$800,6,FALSE)+HLOOKUP($DL$98,'[1]Сбытовая надбавка'!$F$5:$H$6,2,FALSE),2)+'[1]Иные услуги'!$C$6+HLOOKUP($DR$97,'[1]Услуги по передаче'!$G$5:$J$7,2,FALSE)) -> 4993.35 | EK108: =IF($A108="-","-",ROUND(VLOOKUP($A108+ROUND(LEFT(EK$100,2)/24,5),'[1]ОАО "АТС"'!$A$57:$F$800,6,FALSE)+HLOOKUP($DL$98,'[1]Сбытовая надбавка'!$F$5:$H$6,2,FALSE),2)+'[1]Иные услуги'!$C$6+HLOOKUP($DR$97,'[1]Услуги по передаче'!$G$5:$J$7,2,FALSE)) -> 4993.6 | EQ108: =IF($A108="-","-",ROUND(VLOOKUP($A108+ROUND(LEFT(EQ$100,2)/24,5),'[1]ОАО "АТС"'!$A$57:$F$800,6,FALSE)+HLOOKUP($DL$98,'[1]Сбытовая надбавка'!$F$5:$H$6,2,FALSE),2)+'[1]Иные услуги'!$C$6+HLOOKUP($DR$97,'[1]Услуги по передаче'!$G$5:$J$7,2,FALSE)) -> 5046.75
A109: ='[1]3 категория'!A24 -> 45574 | I109: =IF($A109="-","-",ROUND(VLOOKUP($A109+ROUND(LEFT(I$100,1)/24,5),'[1]ОАО "АТС"'!$A$57:$F$800,6,FALSE)+HLOOKUP($DL$98,'[1]Сбытовая надбавка'!$F$5:$H$6,2,FALSE),2)+'[1]Иные услуги'!$C$6+HLOOKUP($DR$97,'[1]Услуги по передаче'!$G$5:$J$7,2,FALSE)) -> 5003.64 | O109: =IF($A109="-","-",ROUND(VLOOKUP($A109+ROUND(LEFT(O$100,1)/24,5),'[1]ОАО "АТС"'!$A$57:$F$800,6,FALSE)+HLOOKUP($DL$98,'[1]Сбытовая надбавка'!$F$5:$H$6,2,FALSE),2)+'[1]Иные услуги'!$C$6+HLOOKUP($DR$97,'[1]Услуги по передаче'!$G$5:$J$7,2,FALSE)) -> 4995.26 | U109: =IF($A109="-","-",ROUND(VLOOKUP($A109+ROUND(LEFT(U$100,1)/24,5),'[1]ОАО "АТС"'!$A$57:$F$800,6,FALSE)+HLOOKUP($DL$98,'[1]Сбытовая надбавка'!$F$5:$H$6,2,FALSE),2)+'[1]Иные услуги'!$C$6+HLOOKUP($DR$97,'[1]Услуги по передаче'!$G$5:$J$7,2,FALSE)) -> 4995.3 | AA109: =IF($A109="-","-",ROUND(VLOOKUP($A109+ROUND(LEFT(AA$100,1)/24,5),'[1]ОАО "АТС"'!$A$57:$F$800,6,FALSE)+HLOOKUP($DL$98,'[1]Сбытовая надбавка'!$F$5:$H$6,2,FALSE),2)+'[1]Иные услуги'!$C$6+HLOOKUP($DR$97,'[1]Услуги по передаче'!$G$5:$J$7,2,FALSE)) -> 4995.3 | AG109: =IF($A109="-","-",ROUND(VLOOKUP($A109+ROUND(LEFT(AG$100,1)/24,5),'[1]ОАО "АТС"'!$A$57:$F$800,6,FALSE)+HLOOKUP($DL$98,'[1]Сбытовая надбавка'!$F$5:$H$6,2,FALSE),2)+'[1]Иные услуги'!$C$6+HLOOKUP($DR$97,'[1]Услуги по передаче'!$G$5:$J$7,2,FALSE)) -> 4995.28 | AM109: =IF($A109="-","-",ROUND(VLOOKUP($A109+ROUND(LEFT(AM$100,1)/24,5),'[1]ОАО "АТС"'!$A$57:$F$800,6,FALSE)+HLOOKUP($DL$98,'[1]Сбытовая надбавка'!$F$5:$H$6,2,FALSE),2)+'[1]Иные услуги'!$C$6+HLOOKUP($DR$97,'[1]Услуги по передаче'!$G$5:$J$7,2,FALSE)) -> 4997.93 | AS109: =IF($A109="-","-",ROUND(VLOOKUP($A109+ROUND(LEFT(AS$100,1)/24,5),'[1]ОАО "АТС"'!$A$57:$F$800,6,FALSE)+HLOOKUP($DL$98,'[1]Сбытовая надбавка'!$F$5:$H$6,2,FALSE),2)+'[1]Иные услуги'!$C$6+HLOOKUP($DR$97,'[1]Услуги по передаче'!$G$5:$J$7,2,FALSE)) -> 4994.21 | AY109: =IF($A109="-","-",ROUND(VLOOKUP($A109+ROUND(LEFT(AY$100,1)/24,5),'[1]ОАО "АТС"'!$A$57:$F$800,6,FALSE)+HLOOKUP($DL$98,'[1]Сбытовая надбавка'!$F$5:$H$6,2,FALSE),2)+'[1]Иные услуги'!$C$6+HLOOKUP($DR$97,'[1]Услуги по передаче'!$G$5:$J$7,2,FALSE)) -> 5099.49 | BE109: =IF($A109="-","-",ROUND(VLOOKUP($A109+ROUND(LEFT(BE$100,1)/24,5),'[1]ОАО "АТС"'!$A$57:$F$800,6,FALSE)+HLOOKUP($DL$98,'[1]Сбытовая надбавка'!$F$5:$H$6,2,FALSE),2)+'[1]Иные услуги'!$C$6+HLOOKUP($DR$97,'[1]Услуги по передаче'!$G$5:$J$7,2,FALSE)) -> 4994.23 | BK109: =IF($A109="-","-",ROUND(VLOOKUP($A109+ROUND(LEFT(BK$100,1)/24,5),'[1]ОАО "АТС"'!$A$57:$F$800,6,FALSE)+HLOOKUP($DL$98,'[1]Сбытовая надбавка'!$F$5:$H$6,2,FALSE),2)+'[1]Иные услуги'!$C$6+HLOOKUP($DR$97,'[1]Услуги по передаче'!$G$5:$J$7,2,FALSE)) -> 5061.4 | BQ109: =IF($A109="-","-",ROUND(VLOOKUP($A109+ROUND(LEFT(BQ$100,2)/24,5),'[1]ОАО "АТС"'!$A$57:$F$800,6,FALSE)+HLOOKUP($DL$98,'[1]Сбытовая надбавка'!$F$5:$H$6,2,FALSE),2)+'[1]Иные услуги'!$C$6+HLOOKUP($DR$97,'[1]Услуги по передаче'!$G$5:$J$7,2,FALSE)) -> 5083.63 | BW109: =IF($A109="-","-",ROUND(VLOOKUP($A109+ROUND(LEFT(BW$100,2)/24,5),'[1]ОАО "АТС"'!$A$57:$F$800,6,FALSE)+HLOOKUP($DL$98,'[1]Сбытовая надбавка'!$F$5:$H$6,2,FALSE),2)+'[1]Иные услуги'!$C$6+HLOOKUP($DR$97,'[1]Услуги по передаче'!$G$5:$J$7,2,FALSE)) -> 5081.63 | CC109: =IF($A109="-","-",ROUND(VLOOKUP($A109+ROUND(LEFT(CC$100,2)/24,5),'[1]ОАО "АТС"'!$A$57:$F$800,6,FALSE)+HLOOKUP($DL$98,'[1]Сбытовая надбавка'!$F$5:$H$6,2,FALSE),2)+'[1]Иные услуги'!$C$6+HLOOKUP($DR$97,'[1]Услуги по передаче'!$G$5:$J$7,2,FALSE)) -> 5058.56 | CI109: =IF($A109="-","-",ROUND(VLOOKUP($A109+ROUND(LEFT(CI$100,2)/24,5),'[1]ОАО "АТС"'!$A$57:$F$800,6,FALSE)+HLOOKUP($DL$98,'[1]Сбытовая надбавка'!$F$5:$H$6,2,FALSE),2)+'[1]Иные услуги'!$C$6+HLOOKUP($DR$97,'[1]Услуги по передаче'!$G$5:$J$7,2,FALSE)) -> 5059.59 | CO109: =IF($A109="-","-",ROUND(VLOOKUP($A109+ROUND(LEFT(CO$100,2)/24,5),'[1]ОАО "АТС"'!$A$57:$F$800,6,FALSE)+HLOOKUP($DL$98,'[1]Сбытовая надбавка'!$F$5:$H$6,2,FALSE),2)+'[1]Иные услуги'!$C$6+HLOOKUP($DR$97,'[1]Услуги по передаче'!$G$5:$J$7,2,FALSE)) -> 5066.87 | CU109: =IF($A109="-","-",ROUND(VLOOKUP($A109+ROUND(LEFT(CU$100,2)/24,5),'[1]ОАО "АТС"'!$A$57:$F$800,6,FALSE)+HLOOKUP($DL$98,'[1]Сбытовая надбавка'!$F$5:$H$6,2,FALSE),2)+'[1]Иные услуги'!$C$6+HLOOKUP($DR$97,'[1]Услуги по передаче'!$G$5:$J$7,2,FALSE)) -> 5061.91 | DA109: =IF($A109="-","-",ROUND(VLOOKUP($A109+ROUND(LEFT(DA$100,2)/24,5),'[1]ОАО "АТС"'!$A$57:$F$800,6,FALSE)+HLOOKUP($DL$98,'[1]Сбытовая надбавка'!$F$5:$H$6,2,FALSE),2)+'[1]Иные услуги'!$C$6+HLOOKUP($DR$97,'[1]Услуги по передаче'!$G$5:$J$7,2,FALSE)) -> 5030.58 | DG109: =IF($A109="-","-",ROUND(VLOOKUP($A109+ROUND(LEFT(DG$100,2)/24,5),'[1]ОАО "АТС"'!$A$57:$F$800,6,FALSE)+HLOOKUP($DL$98,'[1]Сбытовая надбавка'!$F$5:$H$6,2,FALSE),2)+'[1]Иные услуги'!$C$6+HLOOKUP($DR$97,'[1]Услуги по передаче'!$G$5:$J$7,2,FALSE)) -> 5037.63 | DM109: =IF($A109="-","-",ROUND(VLOOKUP($A109+ROUND(LEFT(DM$100,2)/24,5),'[1]ОАО "АТС"'!$A$57:$F$800,6,FALSE)+HLOOKUP($DL$98,'[1]Сбытовая надбавка'!$F$5:$H$6,2,FALSE),2)+'[1]Иные услуги'!$C$6+HLOOKUP($DR$97,'[1]Услуги по передаче'!$G$5:$J$7,2,FALSE)) -> 5147.37 | DS109: =IF($A109="-","-",ROUND(VLOOKUP($A109+ROUND(LEFT(DS$100,2)/24,5),'[1]ОАО "АТС"'!$A$57:$F$800,6,FALSE)+HLOOKUP($DL$98,'[1]Сбытовая надбавка'!$F$5:$H$6,2,FALSE),2)+'[1]Иные услуги'!$C$6+HLOOKUP($DR$97,'[1]Услуги по передаче'!$G$5:$J$7,2,FALSE)) -> 5193.92 | DY109: =IF($A109="-","-",ROUND(VLOOKUP($A109+ROUND(LEFT(DY$100,2)/24,5),'[1]ОАО "АТС"'!$A$57:$F$800,6,FALSE)+HLOOKUP($DL$98,'[1]Сбытовая надбавка'!$F$5:$H$6,2,FALSE),2)+'[1]Иные услуги'!$C$6+HLOOKUP($DR$97,'[1]Услуги по передаче'!$G$5:$J$7,2,FALSE)) -> 5162.72 | EE109: =IF($A109="-","-",ROUND(VLOOKUP($A109+ROUND(LEFT(EE$100,2)/24,5),'[1]ОАО "АТС"'!$A$57:$F$800,6,FALSE)+HLOOKUP($DL$98,'[1]Сбытовая надбавка'!$F$5:$H$6,2,FALSE),2)+'[1]Иные услуги'!$C$6+HLOOKUP($DR$97,'[1]Услуги по передаче'!$G$5:$J$7,2,FALSE)) -> 5066.86 | EK109: =IF($A109="-","-",ROUND(VLOOKUP($A109+ROUND(LEFT(EK$100,2)/24,5),'[1]ОАО "АТС"'!$A$57:$F$800,6,FALSE)+HLOOKUP($DL$98,'[1]Сбытовая надбавка'!$F$5:$H$6,2,FALSE),2)+'[1]Иные услуги'!$C$6+HLOOKUP($DR$97,'[1]Услуги по передаче'!$G$5:$J$7,2,FALSE)) -> 4992.27 | EQ109: =IF($A109="-","-",ROUND(VLOOKUP($A109+ROUND(LEFT(EQ$100,2)/24,5),'[1]ОАО "АТС"'!$A$57:$F$800,6,FALSE)+HLOOKUP($DL$98,'[1]Сбытовая надбавка'!$F$5:$H$6,2,FALSE),2)+'[1]Иные услуги'!$C$6+HLOOKUP($DR$97,'[1]Услуги по передаче'!$G$5:$J$7,2,FALSE)) -> 5132.42
A110: ='[1]3 категория'!A25 -> 45575 | I110: =IF($A110="-","-",ROUND(VLOOKUP($A110+ROUND(LEFT(I$100,1)/24,5),'[1]ОАО "АТС"'!$A$57:$F$800,6,FALSE)+HLOOKUP($DL$98,'[1]Сбытовая надбавка'!$F$5:$H$6,2,FALSE),2)+'[1]Иные услуги'!$C$6+HLOOKUP($DR$97,'[1]Услуги по передаче'!$G$5:$J$7,2,FALSE)) -> 5023.28 | O110: =IF($A110="-","-",ROUND(VLOOKUP($A110+ROUND(LEFT(O$100,1)/24,5),'[1]ОАО "АТС"'!$A$57:$F$800,6,FALSE)+HLOOKUP($DL$98,'[1]Сбытовая надбавка'!$F$5:$H$6,2,FALSE),2)+'[1]Иные услуги'!$C$6+HLOOKUP($DR$97,'[1]Услуги по передаче'!$G$5:$J$7,2,FALSE)) -> 4997.17 | U110: =IF($A110="-","-",ROUND(VLOOKUP($A110+ROUND(LEFT(U$100,1)/24,5),'[1]ОАО "АТС"'!$A$57:$F$800,6,FALSE)+HLOOKUP($DL$98,'[1]Сбытовая надбавка'!$F$5:$H$6,2,FALSE),2)+'[1]Иные услуги'!$C$6+HLOOKUP($DR$97,'[1]Услуги по передаче'!$G$5:$J$7,2,FALSE)) -> 4995.22 | AA110: =IF($A110="-","-",ROUND(VLOOKUP($A110+ROUND(LEFT(AA$100,1)/24,5),'[1]ОАО "АТС"'!$A$57:$F$800,6,FALSE)+HLOOKUP($DL$98,'[1]Сбытовая надбавка'!$F$5:$H$6,2,FALSE),2)+'[1]Иные услуги'!$C$6+HLOOKUP($DR$97,'[1]Услуги по передаче'!$G$5:$J$7,2,FALSE)) -> 4995.21 | AG110: =IF($A110="-","-",ROUND(VLOOKUP($A110+ROUND(LEFT(AG$100,1)/24,5),'[1]ОАО "АТС"'!$A$57:$F$800,6,FALSE)+HLOOKUP($DL$98,'[1]Сбытовая надбавка'!$F$5:$H$6,2,FALSE),2)+'[1]Иные услуги'!$C$6+HLOOKUP($DR$97,'[1]Услуги по передаче'!$G$5:$J$7,2,FALSE)) -> 4995.15 | AM110: =IF($A110="-","-",ROUND(VLOOKUP($A110+ROUND(LEFT(AM$100,1)/24,5),'[1]ОАО "АТС"'!$A$57:$F$800,6,FALSE)+HLOOKUP($DL$98,'[1]Сбытовая надбавка'!$F$5:$H$6,2,FALSE),2)+'[1]Иные услуги'!$C$6+HLOOKUP($DR$97,'[1]Услуги по передаче'!$G$5:$J$7,2,FALSE)) -> 5007.43 | AS110: =IF($A110="-","-",ROUND(VLOOKUP($A110+ROUND(LEFT(AS$100,1)/24,5),'[1]ОАО "АТС"'!$A$57:$F$800,6,FALSE)+HLOOKUP($DL$98,'[1]Сбытовая надбавка'!$F$5:$H$6,2,FALSE),2)+'[1]Иные услуги'!$C$6+HLOOKUP($DR$97,'[1]Услуги по передаче'!$G$5:$J$7,2,FALSE)) -> 4994.22 | AY110: =IF($A110="-","-",ROUND(VLOOKUP($A110+ROUND(LEFT(AY$100,1)/24,5),'[1]ОАО "АТС"'!$A$57:$F$800,6,FALSE)+HLOOKUP($DL$98,'[1]Сбытовая надбавка'!$F$5:$H$6,2,FALSE),2)+'[1]Иные услуги'!$C$6+HLOOKUP($DR$97,'[1]Услуги по передаче'!$G$5:$J$7,2,FALSE)) -> 5126.81 | BE110: =IF($A110="-","-",ROUND(VLOOKUP($A110+ROUND(LEFT(BE$100,1)/24,5),'[1]ОАО "АТС"'!$A$57:$F$800,6,FALSE)+HLOOKUP($DL$98,'[1]Сбытовая надбавка'!$F$5:$H$6,2,FALSE),2)+'[1]Иные услуги'!$C$6+HLOOKUP($DR$97,'[1]Услуги по передаче'!$G$5:$J$7,2,FALSE)) -> 4993.77 | BK110: =IF($A110="-","-",ROUND(VLOOKUP($A110+ROUND(LEFT(BK$100,1)/24,5),'[1]ОАО "АТС"'!$A$57:$F$800,6,FALSE)+HLOOKUP($DL$98,'[1]Сбытовая надбавка'!$F$5:$H$6,2,FALSE),2)+'[1]Иные услуги'!$C$6+HLOOKUP($DR$97,'[1]Услуги по передаче'!$G$5:$J$7,2,FALSE)) -> 5110.84 | BQ110: =IF($A110="-","-",ROUND(VLOOKUP($A110+ROUND(LEFT(BQ$100,2)/24,5),'[1]ОАО "АТС"'!$A$57:$F$800,6,FALSE)+HLOOKUP($DL$98,'[1]Сбытовая надбавка'!$F$5:$H$6,2,FALSE),2)+'[1]Иные услуги'!$C$6+HLOOKUP($DR$97,'[1]Услуги по передаче'!$G$5:$J$7,2,FALSE)) -> 5165.27 | BW110: =IF($A110="-","-",ROUND(VLOOKUP($A110+ROUND(LEFT(BW$100,2)/24,5),'[1]ОАО "АТС"'!$A$57:$F$800,6,FALSE)+HLOOKUP($DL$98,'[1]Сбытовая надбавка'!$F$5:$H$6,2,FALSE),2)+'[1]Иные услуги'!$C$6+HLOOKUP($DR$97,'[1]Услуги по передаче'!$G$5:$J$7,2,FALSE)) -> 5156.67 | CC110: =IF($A110="-","-",ROUND(VLOOKUP($A110+ROUND(LEFT(CC$100,2)/24,5),'[1]ОАО "АТС"'!$A$57:$F$800,6,FALSE)+HLOOKUP($DL$98,'[1]Сбытовая надбавка'!$F$5:$H$6,2,FALSE),2)+'[1]Иные услуги'!$C$6+HLOOKUP($DR$97,'[1]Услуги по передаче'!$G$5:$J$7,2,FALSE)) -> 5111.12 | CI110: =IF($A110="-","-",ROUND(VLOOKUP($A110+ROUND(LEFT(CI$100,2)/24,5),'[1]ОАО "АТС"'!$A$57:$F$800,6,FALSE)+HLOOKUP($DL$98,'[1]Сбытовая надбавка'!$F$5:$H$6,2,FALSE),2)+'[1]Иные услуги'!$C$6+HLOOKUP($DR$97,'[1]Услуги по передаче'!$G$5:$J$7,2,FALSE)) -> 5126.33 | CO110: =IF($A110="-","-",ROUND(VLOOKUP($A110+ROUND(LEFT(CO$100,2)/24,5),'[1]ОАО "АТС"'!$A$57:$F$800,6,FALSE)+HLOOKUP($DL$98,'[1]Сбытовая надбавка'!$F$5:$H$6,2,FALSE),2)+'[1]Иные услуги'!$C$6+HLOOKUP($DR$97,'[1]Услуги по передаче'!$G$5:$J$7,2,FALSE)) -> 5114.55 | CU110: =IF($A110="-","-",ROUND(VLOOKUP($A110+ROUND(LEFT(CU$100,2)/24,5),'[1]ОАО "АТС"'!$A$57:$F$800,6,FALSE)+HLOOKUP($DL$98,'[1]Сбытовая надбавка'!$F$5:$H$6,2,FALSE),2)+'[1]Иные услуги'!$C$6+HLOOKUP($DR$97,'[1]Услуги по передаче'!$G$5:$J$7,2,FALSE)) -> 5079.52 | DA110: =IF($A110="-","-",ROUND(VLOOKUP($A110+ROUND(LEFT(DA$100,2)/24,5),'[1]ОАО "АТС"'!$A$57:$F$800,6,FALSE)+HLOOKUP($DL$98,'[1]Сбытовая надбавка'!$F$5:$H$6,2,FALSE),2)+'[1]Иные услуги'!$C$6+HLOOKUP($DR$97,'[1]Услуги по передаче'!$G$5:$J$7,2,FALSE)) -> 5041.09 | DG110: =IF($A110="-","-",ROUND(VLOOKUP($A110+ROUND(LEFT(DG$100,2)/24,5),'[1]ОАО "АТС"'!$A$57:$F$800,6,FALSE)+HLOOKUP($DL$98,'[1]Сбытовая надбавка'!$F$5:$H$6,2,FALSE),2)+'[1]Иные услуги'!$C$6+HLOOKUP($DR$97,'[1]Услуги по передаче'!$G$5:$J$7,2,FALSE)) -> 5041.62 | DM110: =IF($A110="-","-",ROUND(VLOOKUP($A110+ROUND(LEFT(DM$100,2)/24,5),'[1]ОАО "АТС"'!$A$57:$F$800,6,FALSE)+HLOOKUP($DL$98,'[1]Сбытовая надбавка'!$F$5:$H$6,2,FALSE),2)+'[1]Иные услуги'!$C$6+HLOOKUP($DR$97,'[1]Услуги по передаче'!$G$5:$J$7,2,FALSE)) -> 5295.84 | DS110: =IF($A110="-","-",ROUND(VLOOKUP($A110+ROUND(LEFT(DS$100,2)/24,5),'[1]ОАО "АТС"'!$A$57:$F$800,6,FALSE)+HLOOKUP($DL$98,'[1]Сбытовая надбавка'!$F$5:$H$6,2,FALSE),2)+'[1]Иные услуги'!$C$6+HLOOKUP($DR$97,'[1]Услуги по передаче'!$G$5:$J$7,2,FALSE)) -> 5414.26 | DY110: =IF($A110="-","-",ROUND(VLOOKUP($A110+ROUND(LEFT(DY$100,2)/24,5),'[1]ОАО "АТС"'!$A$57:$F$800,6,FALSE)+HLOOKUP($DL$98,'[1]Сбытовая надбавка'!$F$5:$H$6,2,FALSE),2)+'[1]Иные услуги'!$C$6+HLOOKUP($DR$97,'[1]Услуги по передаче'!$G$5:$J$7,2,FALSE)) -> 5237.23 | EE110: =IF($A110="-","-",ROUND(VLOOKUP($A110+ROUND(LEFT(EE$100,2)/24,5),'[1]ОАО "АТС"'!$A$57:$F$800,6,FALSE)+HLOOKUP($DL$98,'[1]Сбытовая надбавка'!$F$5:$H$6,2,FALSE),2)+'[1]Иные услуги'!$C$6+HLOOKUP($DR$97,'[1]Услуги по передаче'!$G$5:$J$7,2,FALSE)) -> 5102.95 | EK110: =IF($A110="-","-",ROUND(VLOOKUP($A110+ROUND(LEFT(EK$100,2)/24,5),'[1]ОАО "АТС"'!$A$57:$F$800,6,FALSE)+HLOOKUP($DL$98,'[1]Сбытовая надбавка'!$F$5:$H$6,2,FALSE),2)+'[1]Иные услуги'!$C$6+HLOOKUP($DR$97,'[1]Услуги по передаче'!$G$5:$J$7,2,FALSE)) -> 4992.88 | EQ110: =IF($A110="-","-",ROUND(VLOOKUP($A110+ROUND(LEFT(EQ$100,2)/24,5),'[1]ОАО "АТС"'!$A$57:$F$800,6,FALSE)+HLOOKUP($DL$98,'[1]Сбытовая надбавка'!$F$5:$H$6,2,FALSE),2)+'[1]Иные услуги'!$C$6+HLOOKUP($DR$97,'[1]Услуги по передаче'!$G$5:$J$7,2,FALSE)) -> 5153.34
A111: ='[1]3 категория'!A26 -> 45576 | I111: =IF($A111="-","-",ROUND(VLOOKUP($A111+ROUND(LEFT(I$100,1)/24,5),'[1]ОАО "АТС"'!$A$57:$F$800,6,FALSE)+HLOOKUP($DL$98,'[1]Сбытовая надбавка'!$F$5:$H$6,2,FALSE),2)+'[1]Иные услуги'!$C$6+HLOOKUP($DR$97,'[1]Услуги по передаче'!$G$5:$J$7,2,FALSE)) -> 5020.27 | O111: =IF($A111="-","-",ROUND(VLOOKUP($A111+ROUND(LEFT(O$100,1)/24,5),'[1]ОАО "АТС"'!$A$57:$F$800,6,FALSE)+HLOOKUP($DL$98,'[1]Сбытовая надбавка'!$F$5:$H$6,2,FALSE),2)+'[1]Иные услуги'!$C$6+HLOOKUP($DR$97,'[1]Услуги по передаче'!$G$5:$J$7,2,FALSE)) -> 5000.06 | U111: =IF($A111="-","-",ROUND(VLOOKUP($A111+ROUND(LEFT(U$100,1)/24,5),'[1]ОАО "АТС"'!$A$57:$F$800,6,FALSE)+HLOOKUP($DL$98,'[1]Сбытовая надбавка'!$F$5:$H$6,2,FALSE),2)+'[1]Иные услуги'!$C$6+HLOOKUP($DR$97,'[1]Услуги по передаче'!$G$5:$J$7,2,FALSE)) -> 4995.29 | AA111: =IF($A111="-","-",ROUND(VLOOKUP($A111+ROUND(LEFT(AA$100,1)/24,5),'[1]ОАО "АТС"'!$A$57:$F$800,6,FALSE)+HLOOKUP($DL$98,'[1]Сбытовая надбавка'!$F$5:$H$6,2,FALSE),2)+'[1]Иные услуги'!$C$6+HLOOKUP($DR$97,'[1]Услуги по передаче'!$G$5:$J$7,2,FALSE)) -> 4995.28 | AG111: =IF($A111="-","-",ROUND(VLOOKUP($A111+ROUND(LEFT(AG$100,1)/24,5),'[1]ОАО "АТС"'!$A$57:$F$800,6,FALSE)+HLOOKUP($DL$98,'[1]Сбытовая надбавка'!$F$5:$H$6,2,FALSE),2)+'[1]Иные услуги'!$C$6+HLOOKUP($DR$97,'[1]Услуги по передаче'!$G$5:$J$7,2,FALSE)) -> 4995.24 | AM111: =IF($A111="-","-",ROUND(VLOOKUP($A111+ROUND(LEFT(AM$100,1)/24,5),'[1]ОАО "АТС"'!$A$57:$F$800,6,FALSE)+HLOOKUP($DL$98,'[1]Сбытовая надбавка'!$F$5:$H$6,2,FALSE),2)+'[1]Иные услуги'!$C$6+HLOOKUP($DR$97,'[1]Услуги по передаче'!$G$5:$J$7,2,FALSE)) -> 5010.14 | AS111: =IF($A111="-","-",ROUND(VLOOKUP($A111+ROUND(LEFT(AS$100,1)/24,5),'[1]ОАО "АТС"'!$A$57:$F$800,6,FALSE)+HLOOKUP($DL$98,'[1]Сбытовая надбавка'!$F$5:$H$6,2,FALSE),2)+'[1]Иные услуги'!$C$6+HLOOKUP($DR$97,'[1]Услуги по передаче'!$G$5:$J$7,2,FALSE)) -> 5003.21 | AY111: =IF($A111="-","-",ROUND(VLOOKUP($A111+ROUND(LEFT(AY$100,1)/24,5),'[1]ОАО "АТС"'!$A$57:$F$800,6,FALSE)+HLOOKUP($DL$98,'[1]Сбытовая надбавка'!$F$5:$H$6,2,FALSE),2)+'[1]Иные услуги'!$C$6+HLOOKUP($DR$97,'[1]Услуги по передаче'!$G$5:$J$7,2,FALSE)) -> 5160.98 | BE111: =IF($A111="-","-",ROUND(VLOOKUP($A111+ROUND(LEFT(BE$100,1)/24,5),'[1]ОАО "АТС"'!$A$57:$F$800,6,FALSE)+HLOOKUP($DL$98,'[1]Сбытовая надбавка'!$F$5:$H$6,2,FALSE),2)+'[1]Иные услуги'!$C$6+HLOOKUP($DR$97,'[1]Услуги по передаче'!$G$5:$J$7,2,FALSE)) -> 4994.37 | BK111: =IF($A111="-","-",ROUND(VLOOKUP($A111+ROUND(LEFT(BK$100,1)/24,5),'[1]ОАО "АТС"'!$A$57:$F$800,6,FALSE)+HLOOKUP($DL$98,'[1]Сбытовая надбавка'!$F$5:$H$6,2,FALSE),2)+'[1]Иные услуги'!$C$6+HLOOKUP($DR$97,'[1]Услуги по передаче'!$G$5:$J$7,2,FALSE)) -> 5097.94 | BQ111: =IF($A111="-","-",ROUND(VLOOKUP($A111+ROUND(LEFT(BQ$100,2)/24,5),'[1]ОАО "АТС"'!$A$57:$F$800,6,FALSE)+HLOOKUP($DL$98,'[1]Сбытовая надбавка'!$F$5:$H$6,2,FALSE),2)+'[1]Иные услуги'!$C$6+HLOOKUP($DR$97,'[1]Услуги по передаче'!$G$5:$J$7,2,FALSE)) -> 5121.79 | BW111: =IF($A111="-","-",ROUND(VLOOKUP($A111+ROUND(LEFT(BW$100,2)/24,5),'[1]ОАО "АТС"'!$A$57:$F$800,6,FALSE)+HLOOKUP($DL$98,'[1]Сбытовая надбавка'!$F$5:$H$6,2,FALSE),2)+'[1]Иные услуги'!$C$6+HLOOKUP($DR$97,'[1]Услуги по передаче'!$G$5:$J$7,2,FALSE)) -> 5108.47 | CC111: =IF($A111="-","-",ROUND(VLOOKUP($A111+ROUND(LEFT(CC$100,2)/24,5),'[1]ОАО "АТС"'!$A$57:$F$800,6,FALSE)+HLOOKUP($DL$98,'[1]Сбытовая надбавка'!$F$5:$H$6,2,FALSE),2)+'[1]Иные услуги'!$C$6+HLOOKUP($DR$97,'[1]Услуги по передаче'!$G$5:$J$7,2,FALSE)) -> 5071.65 | CI111: =IF($A111="-","-",ROUND(VLOOKUP($A111+ROUND(LEFT(CI$100,2)/24,5),'[1]ОАО "АТС"'!$A$57:$F$800,6,FALSE)+HLOOKUP($DL$98,'[1]Сбытовая надбавка'!$F$5:$H$6,2,FALSE),2)+'[1]Иные услуги'!$C$6+HLOOKUP($DR$97,'[1]Услуги по передаче'!$G$5:$J$7,2,FALSE)) -> 5052.99 | CO111: =IF($A111="-","-",ROUND(VLOOKUP($A111+ROUND(LEFT(CO$100,2)/24,5),'[1]ОАО "АТС"'!$A$57:$F$800,6,FALSE)+HLOOKUP($DL$98,'[1]Сбытовая надбавка'!$F$5:$H$6,2,FALSE),2)+'[1]Иные услуги'!$C$6+HLOOKUP($DR$97,'[1]Услуги по передаче'!$G$5:$J$7,2,FALSE)) -> 5072.25 | CU111: =IF($A111="-","-",ROUND(VLOOKUP($A111+ROUND(LEFT(CU$100,2)/24,5),'[1]ОАО "АТС"'!$A$57:$F$800,6,FALSE)+HLOOKUP($DL$98,'[1]Сбытовая надбавка'!$F$5:$H$6,2,FALSE),2)+'[1]Иные услуги'!$C$6+HLOOKUP($DR$97,'[1]Услуги по передаче'!$G$5:$J$7,2,FALSE)) -> 5079.75 | DA111: =IF($A111="-","-",ROUND(VLOOKUP($A111+ROUND(LEFT(DA$100,2)/24,5),'[1]ОАО "АТС"'!$A$57:$F$800,6,FALSE)+HLOOKUP($DL$98,'[1]Сбытовая надбавка'!$F$5:$H$6,2,FALSE),2)+'[1]Иные услуги'!$C$6+HLOOKUP($DR$97,'[1]Услуги по передаче'!$G$5:$J$7,2,FALSE)) -> 5060.86 | DG111: =IF($A111="-","-",ROUND(VLOOKUP($A111+ROUND(LEFT(DG$100,2)/24,5),'[1]ОАО "АТС"'!$A$57:$F$800,6,FALSE)+HLOOKUP($DL$98,'[1]Сбытовая надбавка'!$F$5:$H$6,2,FALSE),2)+'[1]Иные услуги'!$C$6+HLOOKUP($DR$97,'[1]Услуги по передаче'!$G$5:$J$7,2,FALSE)) -> 5058.16 | DM111: =IF($A111="-","-",ROUND(VLOOKUP($A111+ROUND(LEFT(DM$100,2)/24,5),'[1]ОАО "АТС"'!$A$57:$F$800,6,FALSE)+HLOOKUP($DL$98,'[1]Сбытовая надбавка'!$F$5:$H$6,2,FALSE),2)+'[1]Иные услуги'!$C$6+HLOOKUP($DR$97,'[1]Услуги по передаче'!$G$5:$J$7,2,FALSE)) -> 5166.1 | DS111: =IF($A111="-","-",ROUND(VLOOKUP($A111+ROUND(LEFT(DS$100,2)/24,5),'[1]ОАО "АТС"'!$A$57:$F$800,6,FALSE)+HLOOKUP($DL$98,'[1]Сбытовая надбавка'!$F$5:$H$6,2,FALSE),2)+'[1]Иные услуги'!$C$6+HLOOKUP($DR$97,'[1]Услуги по передаче'!$G$5:$J$7,2,FALSE)) -> 5231.35 | DY111: =IF($A111="-","-",ROUND(VLOOKUP($A111+ROUND(LEFT(DY$100,2)/24,5),'[1]ОАО "АТС"'!$A$57:$F$800,6,FALSE)+HLOOKUP($DL$98,'[1]Сбытовая надбавка'!$F$5:$H$6,2,FALSE),2)+'[1]Иные услуги'!$C$6+HLOOKUP($DR$97,'[1]Услуги по передаче'!$G$5:$J$7,2,FALSE)) -> 5181.66 | EE111: =IF($A111="-","-",ROUND(VLOOKUP($A111+ROUND(LEFT(EE$100,2)/24,5),'[1]ОАО "АТС"'!$A$57:$F$800,6,FALSE)+HLOOKUP($DL$98,'[1]Сбытовая надбавка'!$F$5:$H$6,2,FALSE),2)+'[1]Иные услуги'!$C$6+HLOOKUP($DR$97,'[1]Услуги по передаче'!$G$5:$J$7,2,FALSE)) -> 5093.02 | EK111: =IF($A111="-","-",ROUND(VLOOKUP($A111+ROUND(LEFT(EK$100,2)/24,5),'[1]ОАО "АТС"'!$A$57:$F$800,6,FALSE)+HLOOKUP($DL$98,'[1]Сбытовая надбавка'!$F$5:$H$6,2,FALSE),2)+'[1]Иные услуги'!$C$6+HLOOKUP($DR$97,'[1]Услуги по передаче'!$G$5:$J$7,2,FALSE)) -> 4992.58 | EQ111: =IF($A111="-","-",ROUND(VLOOKUP($A111+ROUND(LEFT(EQ$100,2)/24,5),'[1]ОАО "АТС"'!$A$57:$F$800,6,FALSE)+HLOOKUP($DL$98,'[1]Сбытовая надбавка'!$F$5:$H$6,2,FALSE),2)+'[1]Иные услуги'!$C$6+HLOOKUP($DR$97,'[1]Услуги по передаче'!$G$5:$J$7,2,FALSE)) -> 5127.88
A112: ='[1]3 категория'!A27 -> 45577 | I112: =IF($A112="-","-",ROUND(VLOOKUP($A112+ROUND(LEFT(I$100,1)/24,5),'[1]ОАО "АТС"'!$A$57:$F$800,6,FALSE)+HLOOKUP($DL$98,'[1]Сбытовая надбавка'!$F$5:$H$6,2,FALSE),2)+'[1]Иные услуги'!$C$6+HLOOKUP($DR$97,'[1]Услуги по передаче'!$G$5:$J$7,2,FALSE)) -> 5017.67 | O112: =IF($A112="-","-",ROUND(VLOOKUP($A112+ROUND(LEFT(O$100,1)/24,5),'[1]ОАО "АТС"'!$A$57:$F$800,6,FALSE)+HLOOKUP($DL$98,'[1]Сбытовая надбавка'!$F$5:$H$6,2,FALSE),2)+'[1]Иные услуги'!$C$6+HLOOKUP($DR$97,'[1]Услуги по передаче'!$G$5:$J$7,2,FALSE)) -> 4994.5 | U112: =IF($A112="-","-",ROUND(VLOOKUP($A112+ROUND(LEFT(U$100,1)/24,5),'[1]ОАО "АТС"'!$A$57:$F$800,6,FALSE)+HLOOKUP($DL$98,'[1]Сбытовая надбавка'!$F$5:$H$6,2,FALSE),2)+'[1]Иные услуги'!$C$6+HLOOKUP($DR$97,'[1]Услуги по передаче'!$G$5:$J$7,2,FALSE)) -> 4994.68 | AA112: =IF($A112="-","-",ROUND(VLOOKUP($A112+ROUND(LEFT(AA$100,1)/24,5),'[1]ОАО "АТС"'!$A$57:$F$800,6,FALSE)+HLOOKUP($DL$98,'[1]Сбытовая надбавка'!$F$5:$H$6,2,FALSE),2)+'[1]Иные услуги'!$C$6+HLOOKUP($DR$97,'[1]Услуги по передаче'!$G$5:$J$7,2,FALSE)) -> 4994.7 | AG112: =IF($A112="-","-",ROUND(VLOOKUP($A112+ROUND(LEFT(AG$100,1)/24,5),'[1]ОАО "АТС"'!$A$57:$F$800,6,FALSE)+HLOOKUP($DL$98,'[1]Сбытовая надбавка'!$F$5:$H$6,2,FALSE),2)+'[1]Иные услуги'!$C$6+HLOOKUP($DR$97,'[1]Услуги по передаче'!$G$5:$J$7,2,FALSE)) -> 4994.7 | AM112: =IF($A112="-","-",ROUND(VLOOKUP($A112+ROUND(LEFT(AM$100,1)/24,5),'[1]ОАО "АТС"'!$A$57:$F$800,6,FALSE)+HLOOKUP($DL$98,'[1]Сбытовая надбавка'!$F$5:$H$6,2,FALSE),2)+'[1]Иные услуги'!$C$6+HLOOKUP($DR$97,'[1]Услуги по передаче'!$G$5:$J$7,2,FALSE)) -> 4994.51 | AS112: =IF($A112="-","-",ROUND(VLOOKUP($A112+ROUND(LEFT(AS$100,1)/24,5),'[1]ОАО "АТС"'!$A$57:$F$800,6,FALSE)+HLOOKUP($DL$98,'[1]Сбытовая надбавка'!$F$5:$H$6,2,FALSE),2)+'[1]Иные услуги'!$C$6+HLOOKUP($DR$97,'[1]Услуги по передаче'!$G$5:$J$7,2,FALSE)) -> 4993.58 | AY112: =IF($A112="-","-",ROUND(VLOOKUP($A112+ROUND(LEFT(AY$100,1)/24,5),'[1]ОАО "АТС"'!$A$57:$F$800,6,FALSE)+HLOOKUP($DL$98,'[1]Сбытовая надбавка'!$F$5:$H$6,2,FALSE),2)+'[1]Иные услуги'!$C$6+HLOOKUP($DR$97,'[1]Услуги по передаче'!$G$5:$J$7,2,FALSE)) -> 4992.93 | BE112: =IF($A112="-","-",ROUND(VLOOKUP($A112+ROUND(LEFT(BE$100,1)/24,5),'[1]ОАО "АТС"'!$A$57:$F$800,6,FALSE)+HLOOKUP($DL$98,'[1]Сбытовая надбавка'!$F$5:$H$6,2,FALSE),2)+'[1]Иные услуги'!$C$6+HLOOKUP($DR$97,'[1]Услуги по передаче'!$G$5:$J$7,2,FALSE)) -> 4993.76 | BK112: =IF($A112="-","-",ROUND(VLOOKUP($A112+ROUND(LEFT(BK$100,1)/24,5),'[1]ОАО "АТС"'!$A$57:$F$800,6,FALSE)+HLOOKUP($DL$98,'[1]Сбытовая надбавка'!$F$5:$H$6,2,FALSE),2)+'[1]Иные услуги'!$C$6+HLOOKUP($DR$97,'[1]Услуги по передаче'!$G$5:$J$7,2,FALSE)) -> 4993.86 | BQ112: =IF($A112="-","-",ROUND(VLOOKUP($A112+ROUND(LEFT(BQ$100,2)/24,5),'[1]ОАО "АТС"'!$A$57:$F$800,6,FALSE)+HLOOKUP($DL$98,'[1]Сбытовая надбавка'!$F$5:$H$6,2,FALSE),2)+'[1]Иные услуги'!$C$6+HLOOKUP($DR$97,'[1]Услуги по передаче'!$G$5:$J$7,2,FALSE)) -> 5018.46 | BW112: =IF($A112="-","-",ROUND(VLOOKUP($A112+ROUND(LEFT(BW$100,2)/24,5),'[1]ОАО "АТС"'!$A$57:$F$800,6,FALSE)+HLOOKUP($DL$98,'[1]Сбытовая надбавка'!$F$5:$H$6,2,FALSE),2)+'[1]Иные услуги'!$C$6+HLOOKUP($DR$97,'[1]Услуги по передаче'!$G$5:$J$7,2,FALSE)) -> 5024.95 | CC112: =IF($A112="-","-",ROUND(VLOOKUP($A112+ROUND(LEFT(CC$100,2)/24,5),'[1]ОАО "АТС"'!$A$57:$F$800,6,FALSE)+HLOOKUP($DL$98,'[1]Сбытовая надбавка'!$F$5:$H$6,2,FALSE),2)+'[1]Иные услуги'!$C$6+HLOOKUP($DR$97,'[1]Услуги по передаче'!$G$5:$J$7,2,FALSE)) -> 5018.21 | CI112: =IF($A112="-","-",ROUND(VLOOKUP($A112+ROUND(LEFT(CI$100,2)/24,5),'[1]ОАО "АТС"'!$A$57:$F$800,6,FALSE)+HLOOKUP($DL$98,'[1]Сбытовая надбавка'!$F$5:$H$6,2,FALSE),2)+'[1]Иные услуги'!$C$6+HLOOKUP($DR$97,'[1]Услуги по передаче'!$G$5:$J$7,2,FALSE)) -> 5010.81 | CO112: =IF($A112="-","-",ROUND(VLOOKUP($A112+ROUND(LEFT(CO$100,2)/24,5),'[1]ОАО "АТС"'!$A$57:$F$800,6,FALSE)+HLOOKUP($DL$98,'[1]Сбытовая надбавка'!$F$5:$H$6,2,FALSE),2)+'[1]Иные услуги'!$C$6+HLOOKUP($DR$97,'[1]Услуги по передаче'!$G$5:$J$7,2,FALSE)) -> 5018.49 | CU112: =IF($A112="-","-",ROUND(VLOOKUP($A112+ROUND(LEFT(CU$100,2)/24,5),'[1]ОАО "АТС"'!$A$57:$F$800,6,FALSE)+HLOOKUP($DL$98,'[1]Сбытовая надбавка'!$F$5:$H$6,2,FALSE),2)+'[1]Иные услуги'!$C$6+HLOOKUP($DR$97,'[1]Услуги по передаче'!$G$5:$J$7,2,FALSE)) -> 5005.33 | DA112: =IF($A112="-","-",ROUND(VLOOKUP($A112+ROUND(LEFT(DA$100,2)/24,5),'[1]ОАО "АТС"'!$A$57:$F$800,6,FALSE)+HLOOKUP($DL$98,'[1]Сбытовая надбавка'!$F$5:$H$6,2,FALSE),2)+'[1]Иные услуги'!$C$6+HLOOKUP($DR$97,'[1]Услуги по передаче'!$G$5:$J$7,2,FALSE)) -> 4993.83 | DG112: =IF($A112="-","-",ROUND(VLOOKUP($A112+ROUND(LEFT(DG$100,2)/24,5),'[1]ОАО "АТС"'!$A$57:$F$800,6,FALSE)+HLOOKUP($DL$98,'[1]Сбытовая надбавка'!$F$5:$H$6,2,FALSE),2)+'[1]Иные услуги'!$C$6+HLOOKUP($DR$97,'[1]Услуги по передаче'!$G$5:$J$7,2,FALSE)) -> 5001.9 | DM112: =IF($A112="-","-",ROUND(VLOOKUP($A112+ROUND(LEFT(DM$100,2)/24,5),'[1]ОАО "АТС"'!$A$57:$F$800,6,FALSE)+HLOOKUP($DL$98,'[1]Сбытовая надбавка'!$F$5:$H$6,2,FALSE),2)+'[1]Иные услуги'!$C$6+HLOOKUP($DR$97,'[1]Услуги по передаче'!$G$5:$J$7,2,FALSE)) -> 5117.82 | DS112: =IF($A112="-","-",ROUND(VLOOKUP($A112+ROUND(LEFT(DS$100,2)/24,5),'[1]ОАО "АТС"'!$A$57:$F$800,6,FALSE)+HLOOKUP($DL$98,'[1]Сбытовая надбавка'!$F$5:$H$6,2,FALSE),2)+'[1]Иные услуги'!$C$6+HLOOKUP($DR$97,'[1]Услуги по передаче'!$G$5:$J$7,2,FALSE)) -> 5152.29 | DY112: =IF($A112="-","-",ROUND(VLOOKUP($A112+ROUND(LEFT(DY$100,2)/24,5),'[1]ОАО "АТС"'!$A$57:$F$800,6,FALSE)+HLOOKUP($DL$98,'[1]Сбытовая надбавка'!$F$5:$H$6,2,FALSE),2)+'[1]Иные услуги'!$C$6+HLOOKUP($DR$97,'[1]Услуги по передаче'!$G$5:$J$7,2,FALSE)) -> 5113.08 | EE112: =IF($A112="-","-",ROUND(VLOOKUP($A112+ROUND(LEFT(EE$100,2)/24,5),'[1]ОАО "АТС"'!$A$57:$F$800,6,FALSE)+HLOOKUP($DL$98,'[1]Сбытовая надбавка'!$F$5:$H$6,2,FALSE),2)+'[1]Иные услуги'!$C$6+HLOOKUP($DR$97,'[1]Услуги по передаче'!$G$5:$J$7,2,FALSE)) -> 5031.76 | EK112: =IF($A112="-","-",ROUND(VLOOKUP($A112+ROUND(LEFT(EK$100,2)/24,5),'[1]ОАО "АТС"'!$A$57:$F$800,6,FALSE)+HLOOKUP($DL$98,'[1]Сбытовая надбавка'!$F$5:$H$6,2,FALSE),2)+'[1]Иные услуги'!$C$6+HLOOKUP($DR$97,'[1]Услуги по передаче'!$G$5:$J$7,2,FALSE)) -> 4990.78 | EQ112: =IF($A112="-","-",ROUND(VLOOKUP($A112+ROUND(LEFT(EQ$100,2)/24,5),'[1]ОАО "АТС"'!$A$57:$F$800,6,FALSE)+HLOOKUP($DL$98,'[1]Сбытовая надбавка'!$F$5:$H$6,2,FALSE),2)+'[1]Иные услуги'!$C$6+HLOOKUP($DR$97,'[1]Услуги по передаче'!$G$5:$J$7,2,FALSE)) -> 5052.02
... A131: ='[1]3 категория'!A46 -> 45596 | I131: =IF($A131="-","-",ROUND(VLOOKUP($A131+ROUND(LEFT(I$100,1)/24,5),'[1]ОАО "АТС"'!$A$57:$F$800,6,FALSE)+HLOOKUP($DL$98,'[1]Сбытовая надбавка'!$F$5:$H$6,2,FALSE),2)+'[1]Иные услуги'!$C$6+HLOOKUP($DR$97,'[1]Услуги по передаче'!$G$5:$J$7,2,FALSE)) -> 5040.59 | O131: =IF($A131="-","-",ROUND(VLOOKUP($A131+ROUND(LEFT(O$100,1)/24,5),'[1]ОАО "АТС"'!$A$57:$F$800,6,FALSE)+HLOOKUP($DL$98,'[1]Сбытовая надбавка'!$F$5:$H$6,2,FALSE),2)+'[1]Иные услуги'!$C$6+HLOOKUP($DR$97,'[1]Услуги по передаче'!$G$5:$J$7,2,FALSE)) -> 5014.64 | U131: =IF($A131="-","-",ROUND(VLOOKUP($A131+ROUND(LEFT(U$100,1)/24,5),'[1]ОАО "АТС"'!$A$57:$F$800,6,FALSE)+HLOOKUP($DL$98,'[1]Сбытовая надбавка'!$F$5:$H$6,2,FALSE),2)+'[1]Иные услуги'!$C$6+HLOOKUP($DR$97,'[1]Услуги по передаче'!$G$5:$J$7,2,FALSE)) -> 5009.04 | AA131: =IF($A131="-","-",ROUND(VLOOKUP($A131+ROUND(LEFT(AA$100,1)/24,5),'[1]ОАО "АТС"'!$A$57:$F$800,6,FALSE)+HLOOKUP($DL$98,'[1]Сбытовая надбавка'!$F$5:$H$6,2,FALSE),2)+'[1]Иные услуги'!$C$6+HLOOKUP($DR$97,'[1]Услуги по передаче'!$G$5:$J$7,2,FALSE)) -> 5006.58 | AG131: =IF($A131="-","-",ROUND(VLOOKUP($A131+ROUND(LEFT(AG$100,1)/24,5),'[1]ОАО "АТС"'!$A$57:$F$800,6,FALSE)+HLOOKUP($DL$98,'[1]Сбытовая надбавка'!$F$5:$H$6,2,FALSE),2)+'[1]Иные услуги'!$C$6+HLOOKUP($DR$97,'[1]Услуги по передаче'!$G$5:$J$7,2,FALSE)) -> 5007.07 | AM131: =IF($A131="-","-",ROUND(VLOOKUP($A131+ROUND(LEFT(AM$100,1)/24,5),'[1]ОАО "АТС"'!$A$57:$F$800,6,FALSE)+HLOOKUP($DL$98,'[1]Сбытовая надбавка'!$F$5:$H$6,2,FALSE),2)+'[1]Иные услуги'!$C$6+HLOOKUP($DR$97,'[1]Услуги по передаче'!$G$5:$J$7,2,FALSE)) -> 5039.57 | AS131: =IF($A131="-","-",ROUND(VLOOKUP($A131+ROUND(LEFT(AS$100,1)/24,5),'[1]ОАО "АТС"'!$A$57:$F$800,6,FALSE)+HLOOKUP($DL$98,'[1]Сбытовая надбавка'!$F$5:$H$6,2,FALSE),2)+'[1]Иные услуги'!$C$6+HLOOKUP($DR$97,'[1]Услуги по передаче'!$G$5:$J$7,2,FALSE)) -> 5107.57 | AY131: =IF($A131="-","-",ROUND(VLOOKUP($A131+ROUND(LEFT(AY$100,1)/24,5),'[1]ОАО "АТС"'!$A$57:$F$800,6,FALSE)+HLOOKUP($DL$98,'[1]Сбытовая надбавка'!$F$5:$H$6,2,FALSE),2)+'[1]Иные услуги'!$C$6+HLOOKUP($DR$97,'[1]Услуги по передаче'!$G$5:$J$7,2,FALSE)) -> 5263.72 | BE131: =IF($A131="-","-",ROUND(VLOOKUP($A131+ROUND(LEFT(BE$100,1)/24,5),'[1]ОАО "АТС"'!$A$57:$F$800,6,FALSE)+HLOOKUP($DL$98,'[1]Сбытовая надбавка'!$F$5:$H$6,2,FALSE),2)+'[1]Иные услуги'!$C$6+HLOOKUP($DR$97,'[1]Услуги по передаче'!$G$5:$J$7,2,FALSE)) -> 5110.08 | BK131: =IF($A131="-","-",ROUND(VLOOKUP($A131+ROUND(LEFT(BK$100,1)/24,5),'[1]ОАО "АТС"'!$A$57:$F$800,6,FALSE)+HLOOKUP($DL$98,'[1]Сбытовая надбавка'!$F$5:$H$6,2,FALSE),2)+'[1]Иные услуги'!$C$6+HLOOKUP($DR$97,'[1]Услуги по передаче'!$G$5:$J$7,2,FALSE)) -> 5210.49 | BQ131: =IF($A131="-","-",ROUND(VLOOKUP($A131+ROUND(LEFT(BQ$100,2)/24,5),'[1]ОАО "АТС"'!$A$57:$F$800,6,FALSE)+HLOOKUP($DL$98,'[1]Сбытовая надбавка'!$F$5:$H$6,2,FALSE),2)+'[1]Иные услуги'!$C$6+HLOOKUP($DR$97,'[1]Услуги по передаче'!$G$5:$J$7,2,FALSE)) -> 5223.93 | BW131: =IF($A131="-","-",ROUND(VLOOKUP($A131+ROUND(LEFT(BW$100,2)/24,5),'[1]ОАО "АТС"'!$A$57:$F$800,6,FALSE)+HLOOKUP($DL$98,'[1]Сбытовая надбавка'!$F$5:$H$6,2,FALSE),2)+'[1]Иные услуги'!$C$6+HLOOKUP($DR$97,'[1]Услуги по передаче'!$G$5:$J$7,2,FALSE)) -> 5219.21 | CC131: =IF($A131="-","-",ROUND(VLOOKUP($A131+ROUND(LEFT(CC$100,2)/24,5),'[1]ОАО "АТС"'!$A$57:$F$800,6,FALSE)+HLOOKUP($DL$98,'[1]Сбытовая надбавка'!$F$5:$H$6,2,FALSE),2)+'[1]Иные услуги'!$C$6+HLOOKUP($DR$97,'[1]Услуги по передаче'!$G$5:$J$7,2,FALSE)) -> 5191.1 | CI131: =IF($A131="-","-",ROUND(VLOOKUP($A131+ROUND(LEFT(CI$100,2)/24,5),'[1]ОАО "АТС"'!$A$57:$F$800,6,FALSE)+HLOOKUP($DL$98,'[1]Сбытовая надбавка'!$F$5:$H$6,2,FALSE),2)+'[1]Иные услуги'!$C$6+HLOOKUP($DR$97,'[1]Услуги по передаче'!$G$5:$J$7,2,FALSE)) -> 5196.7 | CO131: =IF($A131="-","-",ROUND(VLOOKUP($A131+ROUND(LEFT(CO$100,2)/24,5),'[1]ОАО "АТС"'!$A$57:$F$800,6,FALSE)+HLOOKUP($DL$98,'[1]Сбытовая надбавка'!$F$5:$H$6,2,FALSE),2)+'[1]Иные услуги'!$C$6+HLOOKUP($DR$97,'[1]Услуги по передаче'!$G$5:$J$7,2,FALSE)) -> 5204.48 | CU131: =IF($A131="-","-",ROUND(VLOOKUP($A131+ROUND(LEFT(CU$100,2)/24,5),'[1]ОАО "АТС"'!$A$57:$F$800,6,FALSE)+HLOOKUP($DL$98,'[1]Сбытовая надбавка'!$F$5:$H$6,2,FALSE),2)+'[1]Иные услуги'!$C$6+HLOOKUP($DR$97,'[1]Услуги по передаче'!$G$5:$J$7,2,FALSE)) -> 5181.4 | DA131: =IF($A131="-","-",ROUND(VLOOKUP($A131+ROUND(LEFT(DA$100,2)/24,5),'[1]ОАО "АТС"'!$A$57:$F$800,6,FALSE)+HLOOKUP($DL$98,'[1]Сбытовая надбавка'!$F$5:$H$6,2,FALSE),2)+'[1]Иные услуги'!$C$6+HLOOKUP($DR$97,'[1]Услуги по передаче'!$G$5:$J$7,2,FALSE)) -> 5205.73 | DG131: =IF($A131="-","-",ROUND(VLOOKUP($A131+ROUND(LEFT(DG$100,2)/24,5),'[1]ОАО "АТС"'!$A$57:$F$800,6,FALSE)+HLOOKUP($DL$98,'[1]Сбытовая надбавка'!$F$5:$H$6,2,FALSE),2)+'[1]Иные услуги'!$C$6+HLOOKUP($DR$97,'[1]Услуги по передаче'!$G$5:$J$7,2,FALSE)) -> 5244.86 | DM131: =IF($A131="-","-",ROUND(VLOOKUP($A131+ROUND(LEFT(DM$100,2)/24,5),'[1]ОАО "АТС"'!$A$57:$F$800,6,FALSE)+HLOOKUP($DL$98,'[1]Сбытовая надбавка'!$F$5:$H$6,2,FALSE),2)+'[1]Иные услуги'!$C$6+HLOOKUP($DR$97,'[1]Услуги по передаче'!$G$5:$J$7,2,FALSE)) -> 5273.48 | DS131: =IF($A131="-","-",ROUND(VLOOKUP($A131+ROUND(LEFT(DS$100,2)/24,5),'[1]ОАО "АТС"'!$A$57:$F$800,6,FALSE)+HLOOKUP($DL$98,'[1]Сбытовая надбавка'!$F$5:$H$6,2,FALSE),2)+'[1]Иные услуги'!$C$6+HLOOKUP($DR$97,'[1]Услуги по передаче'!$G$5:$J$7,2,FALSE)) -> 5343.56 | DY131: =IF($A131="-","-",ROUND(VLOOKUP($A131+ROUND(LEFT(DY$100,2)/24,5),'[1]ОАО "АТС"'!$A$57:$F$800,6,FALSE)+HLOOKUP($DL$98,'[1]Сбытовая надбавка'!$F$5:$H$6,2,FALSE),2)+'[1]Иные услуги'!$C$6+HLOOKUP($DR$97,'[1]Услуги по передаче'!$G$5:$J$7,2,FALSE)) -> 5292.79 | EE131: =IF($A131="-","-",ROUND(VLOOKUP($A131+ROUND(LEFT(EE$100,2)/24,5),'[1]ОАО "АТС"'!$A$57:$F$800,6,FALSE)+HLOOKUP($DL$98,'[1]Сбытовая надбавка'!$F$5:$H$6,2,FALSE),2)+'[1]Иные услуги'!$C$6+HLOOKUP($DR$97,'[1]Услуги по передаче'!$G$5:$J$7,2,FALSE)) -> 5179.31 | EK131: =IF($A131="-","-",ROUND(VLOOKUP($A131+ROUND(LEFT(EK$100,2)/24,5),'[1]ОАО "АТС"'!$A$57:$F$800,6,FALSE)+HLOOKUP($DL$98,'[1]Сбытовая надбавка'!$F$5:$H$6,2,FALSE),2)+'[1]Иные услуги'!$C$6+HLOOKUP($DR$97,'[1]Услуги по передаче'!$G$5:$J$7,2,FALSE)) -> 5049.65 | EQ131: =IF($A131="-","-",ROUND(VLOOKUP($A131+ROUND(LEFT(EQ$100,2)/24,5),'[1]ОАО "АТС"'!$A$57:$F$800,6,FALSE)+HLOOKUP($DL$98,'[1]Сбытовая надбавка'!$F$5:$H$6,2,FALSE),2)+'[1]Иные услуги'!$C$6+HLOOKUP($DR$97,'[1]Услуги по передаче'!$G$5:$J$7,2,FALSE)) -> 5122.32
A133: Дата | DQ133: Ставка для фактических почасовых объемов покупки электрической энергии, отпущенных на уровне напряжения | DR133: ВН
DK134: для категории потребителей с максимальной мощностью энергопринимающих устройств | DL134: от 670 кВт до 10 мВт
I136: 0:00 - 1:00 | O136: 1:00 - 2:00 | U136: 2:00 - 3:00 | AA136: 3:00 - 4:00 | AG136: 4:00 - 5:00 | AM136: 5:00 - 6:00 | AS136: 6:00 - 7:00 | AY136: 7:00 - 8:00 | BE136: 8:00 - 9:00 | BK136: 9:00 - 10:00 | BQ136: 10:00 - 11:00 | BW136: 11:00 - 12:00 | CC136: 12:00 - 13:00 | CI136: 13:00 - 14:00 | CO136: 14:00 - 15:00 | CU136: 15:00 - 16:00 | DA136: 16:00 - 17:00 | DG136: 17:00 - 18:00 | DM136: 18:00 - 19:00 | DS136: 19:00 - 20:00 | DY136: 20:00 - 21:00 | EE136: 21:00 - 22:00 | EK136: 22:00 - 23:00 | EQ136: 23:00 - 0:00
A137: =$A$101 -> 45566 | I137: =IF($A137="-","-",ROUND(VLOOKUP($A137+ROUND(LEFT(I$136,1)/24,5),'[1]ОАО "АТС"'!$A$57:$F$800,6,FALSE)+HLOOKUP($DL$134,'[1]Сбытовая надбавка'!$F$5:$H$6,2,FALSE),2)+'[1]Иные услуги'!$C$6+HLOOKUP($DR$133,'[1]Услуги по передаче'!$G$5:$J$7,2,FALSE)) -> 4466.88 | O137: =IF($A137="-","-",ROUND(VLOOKUP($A137+ROUND(LEFT(O$136,1)/24,5),'[1]ОАО "АТС"'!$A$57:$F$800,6,FALSE)+HLOOKUP($DL$134,'[1]Сбытовая надбавка'!$F$5:$H$6,2,FALSE),2)+'[1]Иные услуги'!$C$6+HLOOKUP($DR$133,'[1]Услуги по передаче'!$G$5:$J$7,2,FALSE)) -> 4467.5 | U137: =IF($A137="-","-",ROUND(VLOOKUP($A137+ROUND(LEFT(U$136,1)/24,5),'[1]ОАО "АТС"'!$A$57:$F$800,6,FALSE)+HLOOKUP($DL$134,'[1]Сбытовая надбавка'!$F$5:$H$6,2,FALSE),2)+'[1]Иные услуги'!$C$6+HLOOKUP($DR$133,'[1]Услуги по передаче'!$G$5:$J$7,2,FALSE)) -> 4467.5 | AA137: =IF($A137="-","-",ROUND(VLOOKUP($A137+ROUND(LEFT(AA$136,1)/24,5),'[1]ОАО "АТС"'!$A$57:$F$800,6,FALSE)+HLOOKUP($DL$134,'[1]Сбытовая надбавка'!$F$5:$H$6,2,FALSE),2)+'[1]Иные услуги'!$C$6+HLOOKUP($DR$133,'[1]Услуги по передаче'!$G$5:$J$7,2,FALSE)) -> 4467.5 | AG137: =IF($A137="-","-",ROUND(VLOOKUP($A137+ROUND(LEFT(AG$136,1)/24,5),'[1]ОАО "АТС"'!$A$57:$F$800,6,FALSE)+HLOOKUP($DL$134,'[1]Сбытовая надбавка'!$F$5:$H$6,2,FALSE),2)+'[1]Иные услуги'!$C$6+HLOOKUP($DR$133,'[1]Услуги по передаче'!$G$5:$J$7,2,FALSE)) -> 4467.5 | AM137: =IF($A137="-","-",ROUND(VLOOKUP($A137+ROUND(LEFT(AM$136,1)/24,5),'[1]ОАО "АТС"'!$A$57:$F$800,6,FALSE)+HLOOKUP($DL$134,'[1]Сбытовая надбавка'!$F$5:$H$6,2,FALSE),2)+'[1]Иные услуги'!$C$6+HLOOKUP($DR$133,'[1]Услуги по передаче'!$G$5:$J$7,2,FALSE)) -> 4467.04 | AS137: =IF($A137="-","-",ROUND(VLOOKUP($A137+ROUND(LEFT(AS$136,1)/24,5),'[1]ОАО "АТС"'!$A$57:$F$800,6,FALSE)+HLOOKUP($DL$134,'[1]Сбытовая надбавка'!$F$5:$H$6,2,FALSE),2)+'[1]Иные услуги'!$C$6+HLOOKUP($DR$133,'[1]Услуги по передаче'!$G$5:$J$7,2,FALSE)) -> 4466.73 | AY137: =IF($A137="-","-",ROUND(VLOOKUP($A137+ROUND(LEFT(AY$136,1)/24,5),'[1]ОАО "АТС"'!$A$57:$F$800,6,FALSE)+HLOOKUP($DL$134,'[1]Сбытовая надбавка'!$F$5:$H$6,2,FALSE),2)+'[1]Иные услуги'!$C$6+HLOOKUP($DR$133,'[1]Услуги по передаче'!$G$5:$J$7,2,FALSE)) -> 4483.37 | BE137: =IF($A137="-","-",ROUND(VLOOKUP($A137+ROUND(LEFT(BE$136,1)/24,5),'[1]ОАО "АТС"'!$A$57:$F$800,6,FALSE)+HLOOKUP($DL$134,'[1]Сбытовая надбавка'!$F$5:$H$6,2,FALSE),2)+'[1]Иные услуги'!$C$6+HLOOKUP($DR$133,'[1]Услуги по передаче'!$G$5:$J$7,2,FALSE)) -> 4466.38 | BK137: =IF($A137="-","-",ROUND(VLOOKUP($A137+ROUND(LEFT(BK$136,1)/24,5),'[1]ОАО "АТС"'!$A$57:$F$800,6,FALSE)+HLOOKUP($DL$134,'[1]Сбытовая надбавка'!$F$5:$H$6,2,FALSE),2)+'[1]Иные услуги'!$C$6+HLOOKUP($DR$133,'[1]Услуги по передаче'!$G$5:$J$7,2,FALSE)) -> 4466.35 | BQ137: =IF($A137="-","-",ROUND(VLOOKUP($A137+ROUND(LEFT(BQ$136,2)/24,5),'[1]ОАО "АТС"'!$A$57:$F$800,6,FALSE)+HLOOKUP($DL$134,'[1]Сбытовая надбавка'!$F$5:$H$6,2,FALSE),2)+'[1]Иные услуги'!$C$6+HLOOKUP($DR$133,'[1]Услуги по передаче'!$G$5:$J$7,2,FALSE)) -> 4496.88 | BW137: =IF($A137="-","-",ROUND(VLOOKUP($A137+ROUND(LEFT(BW$136,2)/24,5),'[1]ОАО "АТС"'!$A$57:$F$800,6,FALSE)+HLOOKUP($DL$134,'[1]Сбытовая надбавка'!$F$5:$H$6,2,FALSE),2)+'[1]Иные услуги'!$C$6+HLOOKUP($DR$133,'[1]Услуги по передаче'!$G$5:$J$7,2,FALSE)) -> 4507.39 | CC137: =IF($A137="-","-",ROUND(VLOOKUP($A137+ROUND(LEFT(CC$136,2)/24,5),'[1]ОАО "АТС"'!$A$57:$F$800,6,FALSE)+HLOOKUP($DL$134,'[1]Сбытовая надбавка'!$F$5:$H$6,2,FALSE),2)+'[1]Иные услуги'!$C$6+HLOOKUP($DR$133,'[1]Услуги по передаче'!$G$5:$J$7,2,FALSE)) -> 4480.39 | CI137: =IF($A137="-","-",ROUND(VLOOKUP($A137+ROUND(LEFT(CI$136,2)/24,5),'[1]ОАО "АТС"'!$A$57:$F$800,6,FALSE)+HLOOKUP($DL$134,'[1]Сбытовая надбавка'!$F$5:$H$6,2,FALSE),2)+'[1]Иные услуги'!$C$6+HLOOKUP($DR$133,'[1]Услуги по передаче'!$G$5:$J$7,2,FALSE)) -> 4487.1 | CO137: =IF($A137="-","-",ROUND(VLOOKUP($A137+ROUND(LEFT(CO$136,2)/24,5),'[1]ОАО "АТС"'!$A$57:$F$800,6,FALSE)+HLOOKUP($DL$134,'[1]Сбытовая надбавка'!$F$5:$H$6,2,FALSE),2)+'[1]Иные услуги'!$C$6+HLOOKUP($DR$133,'[1]Услуги по передаче'!$G$5:$J$7,2,FALSE)) -> 4493.16 | CU137: =IF($A137="-","-",ROUND(VLOOKUP($A137+ROUND(LEFT(CU$136,2)/24,5),'[1]ОАО "АТС"'!$A$57:$F$800,6,FALSE)+HLOOKUP($DL$134,'[1]Сбытовая надбавка'!$F$5:$H$6,2,FALSE),2)+'[1]Иные услуги'!$C$6+HLOOKUP($DR$133,'[1]Услуги по передаче'!$G$5:$J$7,2,FALSE)) -> 4487.45 | DA137: =IF($A137="-","-",ROUND(VLOOKUP($A137+ROUND(LEFT(DA$136,2)/24,5),'[1]ОАО "АТС"'!$A$57:$F$800,6,FALSE)+HLOOKUP($DL$134,'[1]Сбытовая надбавка'!$F$5:$H$6,2,FALSE),2)+'[1]Иные услуги'!$C$6+HLOOKUP($DR$133,'[1]Услуги по передаче'!$G$5:$J$7,2,FALSE)) -> 4482.55 | DG137: =IF($A137="-","-",ROUND(VLOOKUP($A137+ROUND(LEFT(DG$136,2)/24,5),'[1]ОАО "АТС"'!$A$57:$F$800,6,FALSE)+HLOOKUP($DL$134,'[1]Сбытовая надбавка'!$F$5:$H$6,2,FALSE),2)+'[1]Иные услуги'!$C$6+HLOOKUP($DR$133,'[1]Услуги по передаче'!$G$5:$J$7,2,FALSE)) -> 4466.3 | DM137: =IF($A137="-","-",ROUND(VLOOKUP($A137+ROUND(LEFT(DM$136,2)/24,5),'[1]ОАО "АТС"'!$A$57:$F$800,6,FALSE)+HLOOKUP($DL$134,'[1]Сбытовая надбавка'!$F$5:$H$6,2,FALSE),2)+'[1]Иные услуги'!$C$6+HLOOKUP($DR$133,'[1]Услуги по передаче'!$G$5:$J$7,2,FALSE)) -> 4529.77 | DS137: =IF($A137="-","-",ROUND(VLOOKUP($A137+ROUND(LEFT(DS$136,2)/24,5),'[1]ОАО "АТС"'!$A$57:$F$800,6,FALSE)+HLOOKUP($DL$134,'[1]Сбытовая надбавка'!$F$5:$H$6,2,FALSE),2)+'[1]Иные услуги'!$C$6+HLOOKUP($DR$133,'[1]Услуги по передаче'!$G$5:$J$7,2,FALSE)) -> 4558.11 | DY137: =IF($A137="-","-",ROUND(VLOOKUP($A137+ROUND(LEFT(DY$136,2)/24,5),'[1]ОАО "АТС"'!$A$57:$F$800,6,FALSE)+HLOOKUP($DL$134,'[1]Сбытовая надбавка'!$F$5:$H$6,2,FALSE),2)+'[1]Иные услуги'!$C$6+HLOOKUP($DR$133,'[1]Услуги по передаче'!$G$5:$J$7,2,FALSE)) -> 4499.87 | EE137: =IF($A137="-","-",ROUND(VLOOKUP($A137+ROUND(LEFT(EE$136,2)/24,5),'[1]ОАО "АТС"'!$A$57:$F$800,6,FALSE)+HLOOKUP($DL$134,'[1]Сбытовая надбавка'!$F$5:$H$6,2,FALSE),2)+'[1]Иные услуги'!$C$6+HLOOKUP($DR$133,'[1]Услуги по передаче'!$G$5:$J$7,2,FALSE)) -> 4465.45 | EK137: =IF($A137="-","-",ROUND(VLOOKUP($A137+ROUND(LEFT(EK$136,2)/24,5),'[1]ОАО "АТС"'!$A$57:$F$800,6,FALSE)+HLOOKUP($DL$134,'[1]Сбытовая надбавка'!$F$5:$H$6,2,FALSE),2)+'[1]Иные услуги'!$C$6+HLOOKUP($DR$133,'[1]Услуги по передаче'!$G$5:$J$7,2,FALSE)) -> 4465.66 | EQ137: =IF($A137="-","-",ROUND(VLOOKUP($A137+ROUND(LEFT(EQ$136,2)/24,5),'[1]ОАО "АТС"'!$A$57:$F$800,6,FALSE)+HLOOKUP($DL$134,'[1]Сбытовая надбавка'!$F$5:$H$6,2,FALSE),2)+'[1]Иные услуги'!$C$6+HLOOKUP($DR$133,'[1]Услуги по передаче'!$G$5:$J$7,2,FALSE)) -> 4495.86
A138: =$A$102 -> 45567 | I138: =IF($A138="-","-",ROUND(VLOOKUP($A138+ROUND(LEFT(I$136,1)/24,5),'[1]ОАО "АТС"'!$A$57:$F$800,6,FALSE)+HLOOKUP($DL$134,'[1]Сбытовая надбавка'!$F$5:$H$6,2,FALSE),2)+'[1]Иные услуги'!$C$6+HLOOKUP($DR$133,'[1]Услуги по передаче'!$G$5:$J$7,2,FALSE)) -> 4470.71 | O138: =IF($A138="-","-",ROUND(VLOOKUP($A138+ROUND(LEFT(O$136,1)/24,5),'[1]ОАО "АТС"'!$A$57:$F$800,6,FALSE)+HLOOKUP($DL$134,'[1]Сбытовая надбавка'!$F$5:$H$6,2,FALSE),2)+'[1]Иные услуги'!$C$6+HLOOKUP($DR$133,'[1]Услуги по передаче'!$G$5:$J$7,2,FALSE)) -> 4467 | U138: =IF($A138="-","-",ROUND(VLOOKUP($A138+ROUND(LEFT(U$136,1)/24,5),'[1]ОАО "АТС"'!$A$57:$F$800,6,FALSE)+HLOOKUP($DL$134,'[1]Сбытовая надбавка'!$F$5:$H$6,2,FALSE),2)+'[1]Иные услуги'!$C$6+HLOOKUP($DR$133,'[1]Услуги по передаче'!$G$5:$J$7,2,FALSE)) -> 4467.02 | AA138: =IF($A138="-","-",ROUND(VLOOKUP($A138+ROUND(LEFT(AA$136,1)/24,5),'[1]ОАО "АТС"'!$A$57:$F$800,6,FALSE)+HLOOKUP($DL$134,'[1]Сбытовая надбавка'!$F$5:$H$6,2,FALSE),2)+'[1]Иные услуги'!$C$6+HLOOKUP($DR$133,'[1]Услуги по передаче'!$G$5:$J$7,2,FALSE)) -> 4467.02 | AG138: =IF($A138="-","-",ROUND(VLOOKUP($A138+ROUND(LEFT(AG$136,1)/24,5),'[1]ОАО "АТС"'!$A$57:$F$800,6,FALSE)+HLOOKUP($DL$134,'[1]Сбытовая надбавка'!$F$5:$H$6,2,FALSE),2)+'[1]Иные услуги'!$C$6+HLOOKUP($DR$133,'[1]Услуги по передаче'!$G$5:$J$7,2,FALSE)) -> 4466.97 | AM138: =IF($A138="-","-",ROUND(VLOOKUP($A138+ROUND(LEFT(AM$136,1)/24,5),'[1]ОАО "АТС"'!$A$57:$F$800,6,FALSE)+HLOOKUP($DL$134,'[1]Сбытовая надбавка'!$F$5:$H$6,2,FALSE),2)+'[1]Иные услуги'!$C$6+HLOOKUP($DR$133,'[1]Услуги по передаче'!$G$5:$J$7,2,FALSE)) -> 4466.88 | AS138: =IF($A138="-","-",ROUND(VLOOKUP($A138+ROUND(LEFT(AS$136,1)/24,5),'[1]ОАО "АТС"'!$A$57:$F$800,6,FALSE)+HLOOKUP($DL$134,'[1]Сбытовая надбавка'!$F$5:$H$6,2,FALSE),2)+'[1]Иные услуги'!$C$6+HLOOKUP($DR$133,'[1]Услуги по передаче'!$G$5:$J$7,2,FALSE)) -> 4466.45 | AY138: =IF($A138="-","-",ROUND(VLOOKUP($A138+ROUND(LEFT(AY$136,1)/24,5),'[1]ОАО "АТС"'!$A$57:$F$800,6,FALSE)+HLOOKUP($DL$134,'[1]Сбытовая надбавка'!$F$5:$H$6,2,FALSE),2)+'[1]Иные услуги'!$C$6+HLOOKUP($DR$133,'[1]Услуги по передаче'!$G$5:$J$7,2,FALSE)) -> 4548.71 | BE138: =IF($A138="-","-",ROUND(VLOOKUP($A138+ROUND(LEFT(BE$136,1)/24,5),'[1]ОАО "АТС"'!$A$57:$F$800,6,FALSE)+HLOOKUP($DL$134,'[1]Сбытовая надбавка'!$F$5:$H$6,2,FALSE),2)+'[1]Иные услуги'!$C$6+HLOOKUP($DR$133,'[1]Услуги по передаче'!$G$5:$J$7,2,FALSE)) -> 4466.3 | BK138: =IF($A138="-","-",ROUND(VLOOKUP($A138+ROUND(LEFT(BK$136,1)/24,5),'[1]ОАО "АТС"'!$A$57:$F$800,6,FALSE)+HLOOKUP($DL$134,'[1]Сбытовая надбавка'!$F$5:$H$6,2,FALSE),2)+'[1]Иные услуги'!$C$6+HLOOKUP($DR$133,'[1]Услуги по передаче'!$G$5:$J$7,2,FALSE)) -> 4532.23 | BQ138: =IF($A138="-","-",ROUND(VLOOKUP($A138+ROUND(LEFT(BQ$136,2)/24,5),'[1]ОАО "АТС"'!$A$57:$F$800,6,FALSE)+HLOOKUP($DL$134,'[1]Сбытовая надбавка'!$F$5:$H$6,2,FALSE),2)+'[1]Иные услуги'!$C$6+HLOOKUP($DR$133,'[1]Услуги по передаче'!$G$5:$J$7,2,FALSE)) -> 4554.06 | BW138: =IF($A138="-","-",ROUND(VLOOKUP($A138+ROUND(LEFT(BW$136,2)/24,5),'[1]ОАО "АТС"'!$A$57:$F$800,6,FALSE)+HLOOKUP($DL$134,'[1]Сбытовая надбавка'!$F$5:$H$6,2,FALSE),2)+'[1]Иные услуги'!$C$6+HLOOKUP($DR$133,'[1]Услуги по передаче'!$G$5:$J$7,2,FALSE)) -> 4553.67 | CC138: =IF($A138="-","-",ROUND(VLOOKUP($A138+ROUND(LEFT(CC$136,2)/24,5),'[1]ОАО "АТС"'!$A$57:$F$800,6,FALSE)+HLOOKUP($DL$134,'[1]Сбытовая надбавка'!$F$5:$H$6,2,FALSE),2)+'[1]Иные услуги'!$C$6+HLOOKUP($DR$133,'[1]Услуги по передаче'!$G$5:$J$7,2,FALSE)) -> 4531.32 | CI138: =IF($A138="-","-",ROUND(VLOOKUP($A138+ROUND(LEFT(CI$136,2)/24,5),'[1]ОАО "АТС"'!$A$57:$F$800,6,FALSE)+HLOOKUP($DL$134,'[1]Сбытовая надбавка'!$F$5:$H$6,2,FALSE),2)+'[1]Иные услуги'!$C$6+HLOOKUP($DR$133,'[1]Услуги по передаче'!$G$5:$J$7,2,FALSE)) -> 4532.4 | CO138: =IF($A138="-","-",ROUND(VLOOKUP($A138+ROUND(LEFT(CO$136,2)/24,5),'[1]ОАО "АТС"'!$A$57:$F$800,6,FALSE)+HLOOKUP($DL$134,'[1]Сбытовая надбавка'!$F$5:$H$6,2,FALSE),2)+'[1]Иные услуги'!$C$6+HLOOKUP($DR$133,'[1]Услуги по передаче'!$G$5:$J$7,2,FALSE)) -> 4541.69 | CU138: =IF($A138="-","-",ROUND(VLOOKUP($A138+ROUND(LEFT(CU$136,2)/24,5),'[1]ОАО "АТС"'!$A$57:$F$800,6,FALSE)+HLOOKUP($DL$134,'[1]Сбытовая надбавка'!$F$5:$H$6,2,FALSE),2)+'[1]Иные услуги'!$C$6+HLOOKUP($DR$133,'[1]Услуги по передаче'!$G$5:$J$7,2,FALSE)) -> 4533.92 | DA138: =IF($A138="-","-",ROUND(VLOOKUP($A138+ROUND(LEFT(DA$136,2)/24,5),'[1]ОАО "АТС"'!$A$57:$F$800,6,FALSE)+HLOOKUP($DL$134,'[1]Сбытовая надбавка'!$F$5:$H$6,2,FALSE),2)+'[1]Иные услуги'!$C$6+HLOOKUP($DR$133,'[1]Услуги по передаче'!$G$5:$J$7,2,FALSE)) -> 4523.51 | DG138: =IF($A138="-","-",ROUND(VLOOKUP($A138+ROUND(LEFT(DG$136,2)/24,5),'[1]ОАО "АТС"'!$A$57:$F$800,6,FALSE)+HLOOKUP($DL$134,'[1]Сбытовая надбавка'!$F$5:$H$6,2,FALSE),2)+'[1]Иные услуги'!$C$6+HLOOKUP($DR$133,'[1]Услуги по передаче'!$G$5:$J$7,2,FALSE)) -> 4508.62 | DM138: =IF($A138="-","-",ROUND(VLOOKUP($A138+ROUND(LEFT(DM$136,2)/24,5),'[1]ОАО "АТС"'!$A$57:$F$800,6,FALSE)+HLOOKUP($DL$134,'[1]Сбытовая надбавка'!$F$5:$H$6,2,FALSE),2)+'[1]Иные услуги'!$C$6+HLOOKUP($DR$133,'[1]Услуги по передаче'!$G$5:$J$7,2,FALSE)) -> 4582.27 | DS138: =IF($A138="-","-",ROUND(VLOOKUP($A138+ROUND(LEFT(DS$136,2)/24,5),'[1]ОАО "АТС"'!$A$57:$F$800,6,FALSE)+HLOOKUP($DL$134,'[1]Сбытовая надбавка'!$F$5:$H$6,2,FALSE),2)+'[1]Иные услуги'!$C$6+HLOOKUP($DR$133,'[1]Услуги по передаче'!$G$5:$J$7,2,FALSE)) -> 4618.98 | DY138: =IF($A138="-","-",ROUND(VLOOKUP($A138+ROUND(LEFT(DY$136,2)/24,5),'[1]ОАО "АТС"'!$A$57:$F$800,6,FALSE)+HLOOKUP($DL$134,'[1]Сбытовая надбавка'!$F$5:$H$6,2,FALSE),2)+'[1]Иные услуги'!$C$6+HLOOKUP($DR$133,'[1]Услуги по передаче'!$G$5:$J$7,2,FALSE)) -> 4552.08 | EE138: =IF($A138="-","-",ROUND(VLOOKUP($A138+ROUND(LEFT(EE$136,2)/24,5),'[1]ОАО "АТС"'!$A$57:$F$800,6,FALSE)+HLOOKUP($DL$134,'[1]Сбытовая надбавка'!$F$5:$H$6,2,FALSE),2)+'[1]Иные услуги'!$C$6+HLOOKUP($DR$133,'[1]Услуги по передаче'!$G$5:$J$7,2,FALSE)) -> 4465.36 | EK138: =IF($A138="-","-",ROUND(VLOOKUP($A138+ROUND(LEFT(EK$136,2)/24,5),'[1]ОАО "АТС"'!$A$57:$F$800,6,FALSE)+HLOOKUP($DL$134,'[1]Сбытовая надбавка'!$F$5:$H$6,2,FALSE),2)+'[1]Иные услуги'!$C$6+HLOOKUP($DR$133,'[1]Услуги по передаче'!$G$5:$J$7,2,FALSE)) -> 4465.49 | EQ138: =IF($A138="-","-",ROUND(VLOOKUP($A138+ROUND(LEFT(EQ$136,2)/24,5),'[1]ОАО "АТС"'!$A$57:$F$800,6,FALSE)+HLOOKUP($DL$134,'[1]Сбытовая надбавка'!$F$5:$H$6,2,FALSE),2)+'[1]Иные услуги'!$C$6+HLOOKUP($DR$133,'[1]Услуги по передаче'!$G$5:$J$7,2,FALSE)) -> 4570.64
A139: =$A$103 -> 45568 | I139: =IF($A139="-","-",ROUND(VLOOKUP($A139+ROUND(LEFT(I$136,1)/24,5),'[1]ОАО "АТС"'!$A$57:$F$800,6,FALSE)+HLOOKUP($DL$134,'[1]Сбытовая надбавка'!$F$5:$H$6,2,FALSE),2)+'[1]Иные услуги'!$C$6+HLOOKUP($DR$133,'[1]Услуги по передаче'!$G$5:$J$7,2,FALSE)) -> 4484.96 | O139: =IF($A139="-","-",ROUND(VLOOKUP($A139+ROUND(LEFT(O$136,1)/24,5),'[1]ОАО "АТС"'!$A$57:$F$800,6,FALSE)+HLOOKUP($DL$134,'[1]Сбытовая надбавка'!$F$5:$H$6,2,FALSE),2)+'[1]Иные услуги'!$C$6+HLOOKUP($DR$133,'[1]Услуги по передаче'!$G$5:$J$7,2,FALSE)) -> 4466.57 | U139: =IF($A139="-","-",ROUND(VLOOKUP($A139+ROUND(LEFT(U$136,1)/24,5),'[1]ОАО "АТС"'!$A$57:$F$800,6,FALSE)+HLOOKUP($DL$134,'[1]Сбытовая надбавка'!$F$5:$H$6,2,FALSE),2)+'[1]Иные услуги'!$C$6+HLOOKUP($DR$133,'[1]Услуги по передаче'!$G$5:$J$7,2,FALSE)) -> 4466.63 | AA139: =IF($A139="-","-",ROUND(VLOOKUP($A139+ROUND(LEFT(AA$136,1)/24,5),'[1]ОАО "АТС"'!$A$57:$F$800,6,FALSE)+HLOOKUP($DL$134,'[1]Сбытовая надбавка'!$F$5:$H$6,2,FALSE),2)+'[1]Иные услуги'!$C$6+HLOOKUP($DR$133,'[1]Услуги по передаче'!$G$5:$J$7,2,FALSE)) -> 4466.62 | AG139: =IF($A139="-","-",ROUND(VLOOKUP($A139+ROUND(LEFT(AG$136,1)/24,5),'[1]ОАО "АТС"'!$A$57:$F$800,6,FALSE)+HLOOKUP($DL$134,'[1]Сбытовая надбавка'!$F$5:$H$6,2,FALSE),2)+'[1]Иные услуги'!$C$6+HLOOKUP($DR$133,'[1]Услуги по передаче'!$G$5:$J$7,2,FALSE)) -> 4466.54 | AM139: =IF($A139="-","-",ROUND(VLOOKUP($A139+ROUND(LEFT(AM$136,1)/24,5),'[1]ОАО "АТС"'!$A$57:$F$800,6,FALSE)+HLOOKUP($DL$134,'[1]Сбытовая надбавка'!$F$5:$H$6,2,FALSE),2)+'[1]Иные услуги'!$C$6+HLOOKUP($DR$133,'[1]Услуги по передаче'!$G$5:$J$7,2,FALSE)) -> 4466.48 | AS139: =IF($A139="-","-",ROUND(VLOOKUP($A139+ROUND(LEFT(AS$136,1)/24,5),'[1]ОАО "АТС"'!$A$57:$F$800,6,FALSE)+HLOOKUP($DL$134,'[1]Сбытовая надбавка'!$F$5:$H$6,2,FALSE),2)+'[1]Иные услуги'!$C$6+HLOOKUP($DR$133,'[1]Услуги по передаче'!$G$5:$J$7,2,FALSE)) -> 4465.91 | AY139: =IF($A139="-","-",ROUND(VLOOKUP($A139+ROUND(LEFT(AY$136,1)/24,5),'[1]ОАО "АТС"'!$A$57:$F$800,6,FALSE)+HLOOKUP($DL$134,'[1]Сбытовая надбавка'!$F$5:$H$6,2,FALSE),2)+'[1]Иные услуги'!$C$6+HLOOKUP($DR$133,'[1]Услуги по передаче'!$G$5:$J$7,2,FALSE)) -> 4563.72 | BE139: =IF($A139="-","-",ROUND(VLOOKUP($A139+ROUND(LEFT(BE$136,1)/24,5),'[1]ОАО "АТС"'!$A$57:$F$800,6,FALSE)+HLOOKUP($DL$134,'[1]Сбытовая надбавка'!$F$5:$H$6,2,FALSE),2)+'[1]Иные услуги'!$C$6+HLOOKUP($DR$133,'[1]Услуги по передаче'!$G$5:$J$7,2,FALSE)) -> 4465.58 | BK139: =IF($A139="-","-",ROUND(VLOOKUP($A139+ROUND(LEFT(BK$136,1)/24,5),'[1]ОАО "АТС"'!$A$57:$F$800,6,FALSE)+HLOOKUP($DL$134,'[1]Сбытовая надбавка'!$F$5:$H$6,2,FALSE),2)+'[1]Иные услуги'!$C$6+HLOOKUP($DR$133,'[1]Услуги по передаче'!$G$5:$J$7,2,FALSE)) -> 4517.18 | BQ139: =IF($A139="-","-",ROUND(VLOOKUP($A139+ROUND(LEFT(BQ$136,2)/24,5),'[1]ОАО "АТС"'!$A$57:$F$800,6,FALSE)+HLOOKUP($DL$134,'[1]Сбытовая надбавка'!$F$5:$H$6,2,FALSE),2)+'[1]Иные услуги'!$C$6+HLOOKUP($DR$133,'[1]Услуги по передаче'!$G$5:$J$7,2,FALSE)) -> 4556.43 | BW139: =IF($A139="-","-",ROUND(VLOOKUP($A139+ROUND(LEFT(BW$136,2)/24,5),'[1]ОАО "АТС"'!$A$57:$F$800,6,FALSE)+HLOOKUP($DL$134,'[1]Сбытовая надбавка'!$F$5:$H$6,2,FALSE),2)+'[1]Иные услуги'!$C$6+HLOOKUP($DR$133,'[1]Услуги по передаче'!$G$5:$J$7,2,FALSE)) -> 4550.36 | CC139: =IF($A139="-","-",ROUND(VLOOKUP($A139+ROUND(LEFT(CC$136,2)/24,5),'[1]ОАО "АТС"'!$A$57:$F$800,6,FALSE)+HLOOKUP($DL$134,'[1]Сбытовая надбавка'!$F$5:$H$6,2,FALSE),2)+'[1]Иные услуги'!$C$6+HLOOKUP($DR$133,'[1]Услуги по передаче'!$G$5:$J$7,2,FALSE)) -> 4503.16 | CI139: =IF($A139="-","-",ROUND(VLOOKUP($A139+ROUND(LEFT(CI$136,2)/24,5),'[1]ОАО "АТС"'!$A$57:$F$800,6,FALSE)+HLOOKUP($DL$134,'[1]Сбытовая надбавка'!$F$5:$H$6,2,FALSE),2)+'[1]Иные услуги'!$C$6+HLOOKUP($DR$133,'[1]Услуги по передаче'!$G$5:$J$7,2,FALSE)) -> 4489.85 | CO139: =IF($A139="-","-",ROUND(VLOOKUP($A139+ROUND(LEFT(CO$136,2)/24,5),'[1]ОАО "АТС"'!$A$57:$F$800,6,FALSE)+HLOOKUP($DL$134,'[1]Сбытовая надбавка'!$F$5:$H$6,2,FALSE),2)+'[1]Иные услуги'!$C$6+HLOOKUP($DR$133,'[1]Услуги по передаче'!$G$5:$J$7,2,FALSE)) -> 4496.91 | CU139: =IF($A139="-","-",ROUND(VLOOKUP($A139+ROUND(LEFT(CU$136,2)/24,5),'[1]ОАО "АТС"'!$A$57:$F$800,6,FALSE)+HLOOKUP($DL$134,'[1]Сбытовая надбавка'!$F$5:$H$6,2,FALSE),2)+'[1]Иные услуги'!$C$6+HLOOKUP($DR$133,'[1]Услуги по передаче'!$G$5:$J$7,2,FALSE)) -> 4481.86 | DA139: =IF($A139="-","-",ROUND(VLOOKUP($A139+ROUND(LEFT(DA$136,2)/24,5),'[1]ОАО "АТС"'!$A$57:$F$800,6,FALSE)+HLOOKUP($DL$134,'[1]Сбытовая надбавка'!$F$5:$H$6,2,FALSE),2)+'[1]Иные услуги'!$C$6+HLOOKUP($DR$133,'[1]Услуги по передаче'!$G$5:$J$7,2,FALSE)) -> 4465.71 | DG139: =IF($A139="-","-",ROUND(VLOOKUP($A139+ROUND(LEFT(DG$136,2)/24,5),'[1]ОАО "АТС"'!$A$57:$F$800,6,FALSE)+HLOOKUP($DL$134,'[1]Сбытовая надбавка'!$F$5:$H$6,2,FALSE),2)+'[1]Иные услуги'!$C$6+HLOOKUP($DR$133,'[1]Услуги по передаче'!$G$5:$J$7,2,FALSE)) -> 4465.62 | DM139: =IF($A139="-","-",ROUND(VLOOKUP($A139+ROUND(LEFT(DM$136,2)/24,5),'[1]ОАО "АТС"'!$A$57:$F$800,6,FALSE)+HLOOKUP($DL$134,'[1]Сбытовая надбавка'!$F$5:$H$6,2,FALSE),2)+'[1]Иные услуги'!$C$6+HLOOKUP($DR$133,'[1]Услуги по передаче'!$G$5:$J$7,2,FALSE)) -> 4585.11 | DS139: =IF($A139="-","-",ROUND(VLOOKUP($A139+ROUND(LEFT(DS$136,2)/24,5),'[1]ОАО "АТС"'!$A$57:$F$800,6,FALSE)+HLOOKUP($DL$134,'[1]Сбытовая надбавка'!$F$5:$H$6,2,FALSE),2)+'[1]Иные услуги'!$C$6+HLOOKUP($DR$133,'[1]Услуги по передаче'!$G$5:$J$7,2,FALSE)) -> 4649.96 | DY139: =IF($A139="-","-",ROUND(VLOOKUP($A139+ROUND(LEFT(DY$136,2)/24,5),'[1]ОАО "АТС"'!$A$57:$F$800,6,FALSE)+HLOOKUP($DL$134,'[1]Сбытовая надбавка'!$F$5:$H$6,2,FALSE),2)+'[1]Иные услуги'!$C$6+HLOOKUP($DR$133,'[1]Услуги по передаче'!$G$5:$J$7,2,FALSE)) -> 4589.96 | EE139: =IF($A139="-","-",ROUND(VLOOKUP($A139+ROUND(LEFT(EE$136,2)/24,5),'[1]ОАО "АТС"'!$A$57:$F$800,6,FALSE)+HLOOKUP($DL$134,'[1]Сбытовая надбавка'!$F$5:$H$6,2,FALSE),2)+'[1]Иные услуги'!$C$6+HLOOKUP($DR$133,'[1]Услуги по передаче'!$G$5:$J$7,2,FALSE)) -> 4471.27 | EK139: =IF($A139="-","-",ROUND(VLOOKUP($A139+ROUND(LEFT(EK$136,2)/24,5),'[1]ОАО "АТС"'!$A$57:$F$800,6,FALSE)+HLOOKUP($DL$134,'[1]Сбытовая надбавка'!$F$5:$H$6,2,FALSE),2)+'[1]Иные услуги'!$C$6+HLOOKUP($DR$133,'[1]Услуги по передаче'!$G$5:$J$7,2,FALSE)) -> 4464.72 | EQ139: =IF($A139="-","-",ROUND(VLOOKUP($A139+ROUND(LEFT(EQ$136,2)/24,5),'[1]ОАО "АТС"'!$A$57:$F$800,6,FALSE)+HLOOKUP($DL$134,'[1]Сбытовая надбавка'!$F$5:$H$6,2,FALSE),2)+'[1]Иные услуги'!$C$6+HLOOKUP($DR$133,'[1]Услуги по передаче'!$G$5:$J$7,2,FALSE)) -> 4537.65
A140: =$A$104 -> 45569 | I140: =IF($A140="-","-",ROUND(VLOOKUP($A140+ROUND(LEFT(I$136,1)/24,5),'[1]ОАО "АТС"'!$A$57:$F$800,6,FALSE)+HLOOKUP($DL$134,'[1]Сбытовая надбавка'!$F$5:$H$6,2,FALSE),2)+'[1]Иные услуги'!$C$6+HLOOKUP($DR$133,'[1]Услуги по передаче'!$G$5:$J$7,2,FALSE)) -> 4470.72 | O140: =IF($A140="-","-",ROUND(VLOOKUP($A140+ROUND(LEFT(O$136,1)/24,5),'[1]ОАО "АТС"'!$A$57:$F$800,6,FALSE)+HLOOKUP($DL$134,'[1]Сбытовая надбавка'!$F$5:$H$6,2,FALSE),2)+'[1]Иные услуги'!$C$6+HLOOKUP($DR$133,'[1]Услуги по передаче'!$G$5:$J$7,2,FALSE)) -> 4466.8 | U140: =IF($A140="-","-",ROUND(VLOOKUP($A140+ROUND(LEFT(U$136,1)/24,5),'[1]ОАО "АТС"'!$A$57:$F$800,6,FALSE)+HLOOKUP($DL$134,'[1]Сбытовая надбавка'!$F$5:$H$6,2,FALSE),2)+'[1]Иные услуги'!$C$6+HLOOKUP($DR$133,'[1]Услуги по передаче'!$G$5:$J$7,2,FALSE)) -> 4466.86 | AA140: =IF($A140="-","-",ROUND(VLOOKUP($A140+ROUND(LEFT(AA$136,1)/24,5),'[1]ОАО "АТС"'!$A$57:$F$800,6,FALSE)+HLOOKUP($DL$134,'[1]Сбытовая надбавка'!$F$5:$H$6,2,FALSE),2)+'[1]Иные услуги'!$C$6+HLOOKUP($DR$133,'[1]Услуги по передаче'!$G$5:$J$7,2,FALSE)) -> 4466.87 | AG140: =IF($A140="-","-",ROUND(VLOOKUP($A140+ROUND(LEFT(AG$136,1)/24,5),'[1]ОАО "АТС"'!$A$57:$F$800,6,FALSE)+HLOOKUP($DL$134,'[1]Сбытовая надбавка'!$F$5:$H$6,2,FALSE),2)+'[1]Иные услуги'!$C$6+HLOOKUP($DR$133,'[1]Услуги по передаче'!$G$5:$J$7,2,FALSE)) -> 4466.78 | AM140: =IF($A140="-","-",ROUND(VLOOKUP($A140+ROUND(LEFT(AM$136,1)/24,5),'[1]ОАО "АТС"'!$A$57:$F$800,6,FALSE)+HLOOKUP($DL$134,'[1]Сбытовая надбавка'!$F$5:$H$6,2,FALSE),2)+'[1]Иные услуги'!$C$6+HLOOKUP($DR$133,'[1]Услуги по передаче'!$G$5:$J$7,2,FALSE)) -> 4466.55 | AS140: =IF($A140="-","-",ROUND(VLOOKUP($A140+ROUND(LEFT(AS$136,1)/24,5),'[1]ОАО "АТС"'!$A$57:$F$800,6,FALSE)+HLOOKUP($DL$134,'[1]Сбытовая надбавка'!$F$5:$H$6,2,FALSE),2)+'[1]Иные услуги'!$C$6+HLOOKUP($DR$133,'[1]Услуги по передаче'!$G$5:$J$7,2,FALSE)) -> 4465.81 | AY140: =IF($A140="-","-",ROUND(VLOOKUP($A140+ROUND(LEFT(AY$136,1)/24,5),'[1]ОАО "АТС"'!$A$57:$F$800,6,FALSE)+HLOOKUP($DL$134,'[1]Сбытовая надбавка'!$F$5:$H$6,2,FALSE),2)+'[1]Иные услуги'!$C$6+HLOOKUP($DR$133,'[1]Услуги по передаче'!$G$5:$J$7,2,FALSE)) -> 4552.64 | BE140: =IF($A140="-","-",ROUND(VLOOKUP($A140+ROUND(LEFT(BE$136,1)/24,5),'[1]ОАО "АТС"'!$A$57:$F$800,6,FALSE)+HLOOKUP($DL$134,'[1]Сбытовая надбавка'!$F$5:$H$6,2,FALSE),2)+'[1]Иные услуги'!$C$6+HLOOKUP($DR$133,'[1]Услуги по передаче'!$G$5:$J$7,2,FALSE)) -> 4465.74 | BK140: =IF($A140="-","-",ROUND(VLOOKUP($A140+ROUND(LEFT(BK$136,1)/24,5),'[1]ОАО "АТС"'!$A$57:$F$800,6,FALSE)+HLOOKUP($DL$134,'[1]Сбытовая надбавка'!$F$5:$H$6,2,FALSE),2)+'[1]Иные услуги'!$C$6+HLOOKUP($DR$133,'[1]Услуги по передаче'!$G$5:$J$7,2,FALSE)) -> 4505.25 | BQ140: =IF($A140="-","-",ROUND(VLOOKUP($A140+ROUND(LEFT(BQ$136,2)/24,5),'[1]ОАО "АТС"'!$A$57:$F$800,6,FALSE)+HLOOKUP($DL$134,'[1]Сбытовая надбавка'!$F$5:$H$6,2,FALSE),2)+'[1]Иные услуги'!$C$6+HLOOKUP($DR$133,'[1]Услуги по передаче'!$G$5:$J$7,2,FALSE)) -> 4538.51 | BW140: =IF($A140="-","-",ROUND(VLOOKUP($A140+ROUND(LEFT(BW$136,2)/24,5),'[1]ОАО "АТС"'!$A$57:$F$800,6,FALSE)+HLOOKUP($DL$134,'[1]Сбытовая надбавка'!$F$5:$H$6,2,FALSE),2)+'[1]Иные услуги'!$C$6+HLOOKUP($DR$133,'[1]Услуги по передаче'!$G$5:$J$7,2,FALSE)) -> 4546.25 | CC140: =IF($A140="-","-",ROUND(VLOOKUP($A140+ROUND(LEFT(CC$136,2)/24,5),'[1]ОАО "АТС"'!$A$57:$F$800,6,FALSE)+HLOOKUP($DL$134,'[1]Сбытовая надбавка'!$F$5:$H$6,2,FALSE),2)+'[1]Иные услуги'!$C$6+HLOOKUP($DR$133,'[1]Услуги по передаче'!$G$5:$J$7,2,FALSE)) -> 4513.15 | CI140: =IF($A140="-","-",ROUND(VLOOKUP($A140+ROUND(LEFT(CI$136,2)/24,5),'[1]ОАО "АТС"'!$A$57:$F$800,6,FALSE)+HLOOKUP($DL$134,'[1]Сбытовая надбавка'!$F$5:$H$6,2,FALSE),2)+'[1]Иные услуги'!$C$6+HLOOKUP($DR$133,'[1]Услуги по передаче'!$G$5:$J$7,2,FALSE)) -> 4499.75 | CO140: =IF($A140="-","-",ROUND(VLOOKUP($A140+ROUND(LEFT(CO$136,2)/24,5),'[1]ОАО "АТС"'!$A$57:$F$800,6,FALSE)+HLOOKUP($DL$134,'[1]Сбытовая надбавка'!$F$5:$H$6,2,FALSE),2)+'[1]Иные услуги'!$C$6+HLOOKUP($DR$133,'[1]Услуги по передаче'!$G$5:$J$7,2,FALSE)) -> 4499.68 | CU140: =IF($A140="-","-",ROUND(VLOOKUP($A140+ROUND(LEFT(CU$136,2)/24,5),'[1]ОАО "АТС"'!$A$57:$F$800,6,FALSE)+HLOOKUP($DL$134,'[1]Сбытовая надбавка'!$F$5:$H$6,2,FALSE),2)+'[1]Иные услуги'!$C$6+HLOOKUP($DR$133,'[1]Услуги по передаче'!$G$5:$J$7,2,FALSE)) -> 4491.93 | DA140: =IF($A140="-","-",ROUND(VLOOKUP($A140+ROUND(LEFT(DA$136,2)/24,5),'[1]ОАО "АТС"'!$A$57:$F$800,6,FALSE)+HLOOKUP($DL$134,'[1]Сбытовая надбавка'!$F$5:$H$6,2,FALSE),2)+'[1]Иные услуги'!$C$6+HLOOKUP($DR$133,'[1]Услуги по передаче'!$G$5:$J$7,2,FALSE)) -> 4476.12 | DG140: =IF($A140="-","-",ROUND(VLOOKUP($A140+ROUND(LEFT(DG$136,2)/24,5),'[1]ОАО "АТС"'!$A$57:$F$800,6,FALSE)+HLOOKUP($DL$134,'[1]Сбытовая надбавка'!$F$5:$H$6,2,FALSE),2)+'[1]Иные услуги'!$C$6+HLOOKUP($DR$133,'[1]Услуги по передаче'!$G$5:$J$7,2,FALSE)) -> 4497.19 | DM140: =IF($A140="-","-",ROUND(VLOOKUP($A140+ROUND(LEFT(DM$136,2)/24,5),'[1]ОАО "АТС"'!$A$57:$F$800,6,FALSE)+HLOOKUP($DL$134,'[1]Сбытовая надбавка'!$F$5:$H$6,2,FALSE),2)+'[1]Иные услуги'!$C$6+HLOOKUP($DR$133,'[1]Услуги по передаче'!$G$5:$J$7,2,FALSE)) -> 4613.84 | DS140: =IF($A140="-","-",ROUND(VLOOKUP($A140+ROUND(LEFT(DS$136,2)/24,5),'[1]ОАО "АТС"'!$A$57:$F$800,6,FALSE)+HLOOKUP($DL$134,'[1]Сбытовая надбавка'!$F$5:$H$6,2,FALSE),2)+'[1]Иные услуги'!$C$6+HLOOKUP($DR$133,'[1]Услуги по передаче'!$G$5:$J$7,2,FALSE)) -> 4647.27 | DY140: =IF($A140="-","-",ROUND(VLOOKUP($A140+ROUND(LEFT(DY$136,2)/24,5),'[1]ОАО "АТС"'!$A$57:$F$800,6,FALSE)+HLOOKUP($DL$134,'[1]Сбытовая надбавка'!$F$5:$H$6,2,FALSE),2)+'[1]Иные услуги'!$C$6+HLOOKUP($DR$133,'[1]Услуги по передаче'!$G$5:$J$7,2,FALSE)) -> 4612.6 | EE140: =IF($A140="-","-",ROUND(VLOOKUP($A140+ROUND(LEFT(EE$136,2)/24,5),'[1]ОАО "АТС"'!$A$57:$F$800,6,FALSE)+HLOOKUP($DL$134,'[1]Сбытовая надбавка'!$F$5:$H$6,2,FALSE),2)+'[1]Иные услуги'!$C$6+HLOOKUP($DR$133,'[1]Услуги по передаче'!$G$5:$J$7,2,FALSE)) -> 4494.92 | EK140: =IF($A140="-","-",ROUND(VLOOKUP($A140+ROUND(LEFT(EK$136,2)/24,5),'[1]ОАО "АТС"'!$A$57:$F$800,6,FALSE)+HLOOKUP($DL$134,'[1]Сбытовая надбавка'!$F$5:$H$6,2,FALSE),2)+'[1]Иные услуги'!$C$6+HLOOKUP($DR$133,'[1]Услуги по передаче'!$G$5:$J$7,2,FALSE)) -> 4464.11 | EQ140: =IF($A140="-","-",ROUND(VLOOKUP($A140+ROUND(LEFT(EQ$136,2)/24,5),'[1]ОАО "АТС"'!$A$57:$F$800,6,FALSE)+HLOOKUP($DL$134,'[1]Сбытовая надбавка'!$F$5:$H$6,2,FALSE),2)+'[1]Иные услуги'!$C$6+HLOOKUP($DR$133,'[1]Услуги по передаче'!$G$5:$J$7,2,FALSE)) -> 4590.19
A141: =$A$105 -> 45570 | I141: =IF($A141="-","-",ROUND(VLOOKUP($A141+ROUND(LEFT(I$136,1)/24,5),'[1]ОАО "АТС"'!$A$57:$F$800,6,FALSE)+HLOOKUP($DL$134,'[1]Сбытовая надбавка'!$F$5:$H$6,2,FALSE),2)+'[1]Иные услуги'!$C$6+HLOOKUP($DR$133,'[1]Услуги по передаче'!$G$5:$J$7,2,FALSE)) -> 4488.78 | O141: =IF($A141="-","-",ROUND(VLOOKUP($A141+ROUND(LEFT(O$136,1)/24,5),'[1]ОАО "АТС"'!$A$57:$F$800,6,FALSE)+HLOOKUP($DL$134,'[1]Сбытовая надбавка'!$F$5:$H$6,2,FALSE),2)+'[1]Иные услуги'!$C$6+HLOOKUP($DR$133,'[1]Услуги по передаче'!$G$5:$J$7,2,FALSE)) -> 4466.51 | U141: =IF($A141="-","-",ROUND(VLOOKUP($A141+ROUND(LEFT(U$136,1)/24,5),'[1]ОАО "АТС"'!$A$57:$F$800,6,FALSE)+HLOOKUP($DL$134,'[1]Сбытовая надбавка'!$F$5:$H$6,2,FALSE),2)+'[1]Иные услуги'!$C$6+HLOOKUP($DR$133,'[1]Услуги по передаче'!$G$5:$J$7,2,FALSE)) -> 4466.64 | AA141: =IF($A141="-","-",ROUND(VLOOKUP($A141+ROUND(LEFT(AA$136,1)/24,5),'[1]ОАО "АТС"'!$A$57:$F$800,6,FALSE)+HLOOKUP($DL$134,'[1]Сбытовая надбавка'!$F$5:$H$6,2,FALSE),2)+'[1]Иные услуги'!$C$6+HLOOKUP($DR$133,'[1]Услуги по передаче'!$G$5:$J$7,2,FALSE)) -> 4466.65 | AG141: =IF($A141="-","-",ROUND(VLOOKUP($A141+ROUND(LEFT(AG$136,1)/24,5),'[1]ОАО "АТС"'!$A$57:$F$800,6,FALSE)+HLOOKUP($DL$134,'[1]Сбытовая надбавка'!$F$5:$H$6,2,FALSE),2)+'[1]Иные услуги'!$C$6+HLOOKUP($DR$133,'[1]Услуги по передаче'!$G$5:$J$7,2,FALSE)) -> 4466.59 | AM141: =IF($A141="-","-",ROUND(VLOOKUP($A141+ROUND(LEFT(AM$136,1)/24,5),'[1]ОАО "АТС"'!$A$57:$F$800,6,FALSE)+HLOOKUP($DL$134,'[1]Сбытовая надбавка'!$F$5:$H$6,2,FALSE),2)+'[1]Иные услуги'!$C$6+HLOOKUP($DR$133,'[1]Услуги по передаче'!$G$5:$J$7,2,FALSE)) -> 4466.45 | AS141: =IF($A141="-","-",ROUND(VLOOKUP($A141+ROUND(LEFT(AS$136,1)/24,5),'[1]ОАО "АТС"'!$A$57:$F$800,6,FALSE)+HLOOKUP($DL$134,'[1]Сбытовая надбавка'!$F$5:$H$6,2,FALSE),2)+'[1]Иные услуги'!$C$6+HLOOKUP($DR$133,'[1]Услуги по передаче'!$G$5:$J$7,2,FALSE)) -> 4465.9 | AY141: =IF($A141="-","-",ROUND(VLOOKUP($A141+ROUND(LEFT(AY$136,1)/24,5),'[1]ОАО "АТС"'!$A$57:$F$800,6,FALSE)+HLOOKUP($DL$134,'[1]Сбытовая надбавка'!$F$5:$H$6,2,FALSE),2)+'[1]Иные услуги'!$C$6+HLOOKUP($DR$133,'[1]Услуги по передаче'!$G$5:$J$7,2,FALSE)) -> 4465.55 | BE141: =IF($A141="-","-",ROUND(VLOOKUP($A141+ROUND(LEFT(BE$136,1)/24,5),'[1]ОАО "АТС"'!$A$57:$F$800,6,FALSE)+HLOOKUP($DL$134,'[1]Сбытовая надбавка'!$F$5:$H$6,2,FALSE),2)+'[1]Иные услуги'!$C$6+HLOOKUP($DR$133,'[1]Услуги по передаче'!$G$5:$J$7,2,FALSE)) -> 4465.67 | BK141: =IF($A141="-","-",ROUND(VLOOKUP($A141+ROUND(LEFT(BK$136,1)/24,5),'[1]ОАО "АТС"'!$A$57:$F$800,6,FALSE)+HLOOKUP($DL$134,'[1]Сбытовая надбавка'!$F$5:$H$6,2,FALSE),2)+'[1]Иные услуги'!$C$6+HLOOKUP($DR$133,'[1]Услуги по передаче'!$G$5:$J$7,2,FALSE)) -> 4465.83 | BQ141: =IF($A141="-","-",ROUND(VLOOKUP($A141+ROUND(LEFT(BQ$136,2)/24,5),'[1]ОАО "АТС"'!$A$57:$F$800,6,FALSE)+HLOOKUP($DL$134,'[1]Сбытовая надбавка'!$F$5:$H$6,2,FALSE),2)+'[1]Иные услуги'!$C$6+HLOOKUP($DR$133,'[1]Услуги по передаче'!$G$5:$J$7,2,FALSE)) -> 4476.36 | BW141: =IF($A141="-","-",ROUND(VLOOKUP($A141+ROUND(LEFT(BW$136,2)/24,5),'[1]ОАО "АТС"'!$A$57:$F$800,6,FALSE)+HLOOKUP($DL$134,'[1]Сбытовая надбавка'!$F$5:$H$6,2,FALSE),2)+'[1]Иные услуги'!$C$6+HLOOKUP($DR$133,'[1]Услуги по передаче'!$G$5:$J$7,2,FALSE)) -> 4484.88 | CC141: =IF($A141="-","-",ROUND(VLOOKUP($A141+ROUND(LEFT(CC$136,2)/24,5),'[1]ОАО "АТС"'!$A$57:$F$800,6,FALSE)+HLOOKUP($DL$134,'[1]Сбытовая надбавка'!$F$5:$H$6,2,FALSE),2)+'[1]Иные услуги'!$C$6+HLOOKUP($DR$133,'[1]Услуги по передаче'!$G$5:$J$7,2,FALSE)) -> 4465.74 | CI141: =IF($A141="-","-",ROUND(VLOOKUP($A141+ROUND(LEFT(CI$136,2)/24,5),'[1]ОАО "АТС"'!$A$57:$F$800,6,FALSE)+HLOOKUP($DL$134,'[1]Сбытовая надбавка'!$F$5:$H$6,2,FALSE),2)+'[1]Иные услуги'!$C$6+HLOOKUP($DR$133,'[1]Услуги по передаче'!$G$5:$J$7,2,FALSE)) -> 4465.76 | CO141: =IF($A141="-","-",ROUND(VLOOKUP($A141+ROUND(LEFT(CO$136,2)/24,5),'[1]ОАО "АТС"'!$A$57:$F$800,6,FALSE)+HLOOKUP($DL$134,'[1]Сбытовая надбавка'!$F$5:$H$6,2,FALSE),2)+'[1]Иные услуги'!$C$6+HLOOKUP($DR$133,'[1]Услуги по передаче'!$G$5:$J$7,2,FALSE)) -> 4465.79 | CU141: =IF($A141="-","-",ROUND(VLOOKUP($A141+ROUND(LEFT(CU$136,2)/24,5),'[1]ОАО "АТС"'!$A$57:$F$800,6,FALSE)+HLOOKUP($DL$134,'[1]Сбытовая надбавка'!$F$5:$H$6,2,FALSE),2)+'[1]Иные услуги'!$C$6+HLOOKUP($DR$133,'[1]Услуги по передаче'!$G$5:$J$7,2,FALSE)) -> 4465.76 | DA141: =IF($A141="-","-",ROUND(VLOOKUP($A141+ROUND(LEFT(DA$136,2)/24,5),'[1]ОАО "АТС"'!$A$57:$F$800,6,FALSE)+HLOOKUP($DL$134,'[1]Сбытовая надбавка'!$F$5:$H$6,2,FALSE),2)+'[1]Иные услуги'!$C$6+HLOOKUP($DR$133,'[1]Услуги по передаче'!$G$5:$J$7,2,FALSE)) -> 4465.76 | DG141: =IF($A141="-","-",ROUND(VLOOKUP($A141+ROUND(LEFT(DG$136,2)/24,5),'[1]ОАО "АТС"'!$A$57:$F$800,6,FALSE)+HLOOKUP($DL$134,'[1]Сбытовая надбавка'!$F$5:$H$6,2,FALSE),2)+'[1]Иные услуги'!$C$6+HLOOKUP($DR$133,'[1]Услуги по передаче'!$G$5:$J$7,2,FALSE)) -> 4465.77 | DM141: =IF($A141="-","-",ROUND(VLOOKUP($A141+ROUND(LEFT(DM$136,2)/24,5),'[1]ОАО "АТС"'!$A$57:$F$800,6,FALSE)+HLOOKUP($DL$134,'[1]Сбытовая надбавка'!$F$5:$H$6,2,FALSE),2)+'[1]Иные услуги'!$C$6+HLOOKUP($DR$133,'[1]Услуги по передаче'!$G$5:$J$7,2,FALSE)) -> 4574.21 | DS141: =IF($A141="-","-",ROUND(VLOOKUP($A141+ROUND(LEFT(DS$136,2)/24,5),'[1]ОАО "АТС"'!$A$57:$F$800,6,FALSE)+HLOOKUP($DL$134,'[1]Сбытовая надбавка'!$F$5:$H$6,2,FALSE),2)+'[1]Иные услуги'!$C$6+HLOOKUP($DR$133,'[1]Услуги по передаче'!$G$5:$J$7,2,FALSE)) -> 4625.58 | DY141: =IF($A141="-","-",ROUND(VLOOKUP($A141+ROUND(LEFT(DY$136,2)/24,5),'[1]ОАО "АТС"'!$A$57:$F$800,6,FALSE)+HLOOKUP($DL$134,'[1]Сбытовая надбавка'!$F$5:$H$6,2,FALSE),2)+'[1]Иные услуги'!$C$6+HLOOKUP($DR$133,'[1]Услуги по передаче'!$G$5:$J$7,2,FALSE)) -> 4543.18 | EE141: =IF($A141="-","-",ROUND(VLOOKUP($A141+ROUND(LEFT(EE$136,2)/24,5),'[1]ОАО "АТС"'!$A$57:$F$800,6,FALSE)+HLOOKUP($DL$134,'[1]Сбытовая надбавка'!$F$5:$H$6,2,FALSE),2)+'[1]Иные услуги'!$C$6+HLOOKUP($DR$133,'[1]Услуги по передаче'!$G$5:$J$7,2,FALSE)) -> 4463.53 | EK141: =IF($A141="-","-",ROUND(VLOOKUP($A141+ROUND(LEFT(EK$136,2)/24,5),'[1]ОАО "АТС"'!$A$57:$F$800,6,FALSE)+HLOOKUP($DL$134,'[1]Сбытовая надбавка'!$F$5:$H$6,2,FALSE),2)+'[1]Иные услуги'!$C$6+HLOOKUP($DR$133,'[1]Услуги по передаче'!$G$5:$J$7,2,FALSE)) -> 4463.84 | EQ141: =IF($A141="-","-",ROUND(VLOOKUP($A141+ROUND(LEFT(EQ$136,2)/24,5),'[1]ОАО "АТС"'!$A$57:$F$800,6,FALSE)+HLOOKUP($DL$134,'[1]Сбытовая надбавка'!$F$5:$H$6,2,FALSE),2)+'[1]Иные услуги'!$C$6+HLOOKUP($DR$133,'[1]Услуги по передаче'!$G$5:$J$7,2,FALSE)) -> 4564.38
A142: =$A$106 -> 45571 | I142: =IF($A142="-","-",ROUND(VLOOKUP($A142+ROUND(LEFT(I$136,1)/24,5),'[1]ОАО "АТС"'!$A$57:$F$800,6,FALSE)+HLOOKUP($DL$134,'[1]Сбытовая надбавка'!$F$5:$H$6,2,FALSE),2)+'[1]Иные услуги'!$C$6+HLOOKUP($DR$133,'[1]Услуги по передаче'!$G$5:$J$7,2,FALSE)) -> 4489.25 | O142: =IF($A142="-","-",ROUND(VLOOKUP($A142+ROUND(LEFT(O$136,1)/24,5),'[1]ОАО "АТС"'!$A$57:$F$800,6,FALSE)+HLOOKUP($DL$134,'[1]Сбытовая надбавка'!$F$5:$H$6,2,FALSE),2)+'[1]Иные услуги'!$C$6+HLOOKUP($DR$133,'[1]Услуги по передаче'!$G$5:$J$7,2,FALSE)) -> 4466.53 | U142: =IF($A142="-","-",ROUND(VLOOKUP($A142+ROUND(LEFT(U$136,1)/24,5),'[1]ОАО "АТС"'!$A$57:$F$800,6,FALSE)+HLOOKUP($DL$134,'[1]Сбытовая надбавка'!$F$5:$H$6,2,FALSE),2)+'[1]Иные услуги'!$C$6+HLOOKUP($DR$133,'[1]Услуги по передаче'!$G$5:$J$7,2,FALSE)) -> 4466.63 | AA142: =IF($A142="-","-",ROUND(VLOOKUP($A142+ROUND(LEFT(AA$136,1)/24,5),'[1]ОАО "АТС"'!$A$57:$F$800,6,FALSE)+HLOOKUP($DL$134,'[1]Сбытовая надбавка'!$F$5:$H$6,2,FALSE),2)+'[1]Иные услуги'!$C$6+HLOOKUP($DR$133,'[1]Услуги по передаче'!$G$5:$J$7,2,FALSE)) -> 4466.65 | AG142: =IF($A142="-","-",ROUND(VLOOKUP($A142+ROUND(LEFT(AG$136,1)/24,5),'[1]ОАО "АТС"'!$A$57:$F$800,6,FALSE)+HLOOKUP($DL$134,'[1]Сбытовая надбавка'!$F$5:$H$6,2,FALSE),2)+'[1]Иные услуги'!$C$6+HLOOKUP($DR$133,'[1]Услуги по передаче'!$G$5:$J$7,2,FALSE)) -> 4466.61 | AM142: =IF($A142="-","-",ROUND(VLOOKUP($A142+ROUND(LEFT(AM$136,1)/24,5),'[1]ОАО "АТС"'!$A$57:$F$800,6,FALSE)+HLOOKUP($DL$134,'[1]Сбытовая надбавка'!$F$5:$H$6,2,FALSE),2)+'[1]Иные услуги'!$C$6+HLOOKUP($DR$133,'[1]Услуги по передаче'!$G$5:$J$7,2,FALSE)) -> 4466.56 | AS142: =IF($A142="-","-",ROUND(VLOOKUP($A142+ROUND(LEFT(AS$136,1)/24,5),'[1]ОАО "АТС"'!$A$57:$F$800,6,FALSE)+HLOOKUP($DL$134,'[1]Сбытовая надбавка'!$F$5:$H$6,2,FALSE),2)+'[1]Иные услуги'!$C$6+HLOOKUP($DR$133,'[1]Услуги по передаче'!$G$5:$J$7,2,FALSE)) -> 4465.9 | AY142: =IF($A142="-","-",ROUND(VLOOKUP($A142+ROUND(LEFT(AY$136,1)/24,5),'[1]ОАО "АТС"'!$A$57:$F$800,6,FALSE)+HLOOKUP($DL$134,'[1]Сбытовая надбавка'!$F$5:$H$6,2,FALSE),2)+'[1]Иные услуги'!$C$6+HLOOKUP($DR$133,'[1]Услуги по передаче'!$G$5:$J$7,2,FALSE)) -> 4465.75 | BE142: =IF($A142="-","-",ROUND(VLOOKUP($A142+ROUND(LEFT(BE$136,1)/24,5),'[1]ОАО "АТС"'!$A$57:$F$800,6,FALSE)+HLOOKUP($DL$134,'[1]Сбытовая надбавка'!$F$5:$H$6,2,FALSE),2)+'[1]Иные услуги'!$C$6+HLOOKUP($DR$133,'[1]Услуги по передаче'!$G$5:$J$7,2,FALSE)) -> 4465.72 | BK142: =IF($A142="-","-",ROUND(VLOOKUP($A142+ROUND(LEFT(BK$136,1)/24,5),'[1]ОАО "АТС"'!$A$57:$F$800,6,FALSE)+HLOOKUP($DL$134,'[1]Сбытовая надбавка'!$F$5:$H$6,2,FALSE),2)+'[1]Иные услуги'!$C$6+HLOOKUP($DR$133,'[1]Услуги по передаче'!$G$5:$J$7,2,FALSE)) -> 4465.75 | BQ142: =IF($A142="-","-",ROUND(VLOOKUP($A142+ROUND(LEFT(BQ$136,2)/24,5),'[1]ОАО "АТС"'!$A$57:$F$800,6,FALSE)+HLOOKUP($DL$134,'[1]Сбытовая надбавка'!$F$5:$H$6,2,FALSE),2)+'[1]Иные услуги'!$C$6+HLOOKUP($DR$133,'[1]Услуги по передаче'!$G$5:$J$7,2,FALSE)) -> 4465.81 | BW142: =IF($A142="-","-",ROUND(VLOOKUP($A142+ROUND(LEFT(BW$136,2)/24,5),'[1]ОАО "АТС"'!$A$57:$F$800,6,FALSE)+HLOOKUP($DL$134,'[1]Сбытовая надбавка'!$F$5:$H$6,2,FALSE),2)+'[1]Иные услуги'!$C$6+HLOOKUP($DR$133,'[1]Услуги по передаче'!$G$5:$J$7,2,FALSE)) -> 4465.85 | CC142: =IF($A142="-","-",ROUND(VLOOKUP($A142+ROUND(LEFT(CC$136,2)/24,5),'[1]ОАО "АТС"'!$A$57:$F$800,6,FALSE)+HLOOKUP($DL$134,'[1]Сбытовая надбавка'!$F$5:$H$6,2,FALSE),2)+'[1]Иные услуги'!$C$6+HLOOKUP($DR$133,'[1]Услуги по передаче'!$G$5:$J$7,2,FALSE)) -> 4465.84 | CI142: =IF($A142="-","-",ROUND(VLOOKUP($A142+ROUND(LEFT(CI$136,2)/24,5),'[1]ОАО "АТС"'!$A$57:$F$800,6,FALSE)+HLOOKUP($DL$134,'[1]Сбытовая надбавка'!$F$5:$H$6,2,FALSE),2)+'[1]Иные услуги'!$C$6+HLOOKUP($DR$133,'[1]Услуги по передаче'!$G$5:$J$7,2,FALSE)) -> 4465.86 | CO142: =IF($A142="-","-",ROUND(VLOOKUP($A142+ROUND(LEFT(CO$136,2)/24,5),'[1]ОАО "АТС"'!$A$57:$F$800,6,FALSE)+HLOOKUP($DL$134,'[1]Сбытовая надбавка'!$F$5:$H$6,2,FALSE),2)+'[1]Иные услуги'!$C$6+HLOOKUP($DR$133,'[1]Услуги по передаче'!$G$5:$J$7,2,FALSE)) -> 4465.85 | CU142: =IF($A142="-","-",ROUND(VLOOKUP($A142+ROUND(LEFT(CU$136,2)/24,5),'[1]ОАО "АТС"'!$A$57:$F$800,6,FALSE)+HLOOKUP($DL$134,'[1]Сбытовая надбавка'!$F$5:$H$6,2,FALSE),2)+'[1]Иные услуги'!$C$6+HLOOKUP($DR$133,'[1]Услуги по передаче'!$G$5:$J$7,2,FALSE)) -> 4465.84 | DA142: =IF($A142="-","-",ROUND(VLOOKUP($A142+ROUND(LEFT(DA$136,2)/24,5),'[1]ОАО "АТС"'!$A$57:$F$800,6,FALSE)+HLOOKUP($DL$134,'[1]Сбытовая надбавка'!$F$5:$H$6,2,FALSE),2)+'[1]Иные услуги'!$C$6+HLOOKUP($DR$133,'[1]Услуги по передаче'!$G$5:$J$7,2,FALSE)) -> 4465.85 | DG142: =IF($A142="-","-",ROUND(VLOOKUP($A142+ROUND(LEFT(DG$136,2)/24,5),'[1]ОАО "АТС"'!$A$57:$F$800,6,FALSE)+HLOOKUP($DL$134,'[1]Сбытовая надбавка'!$F$5:$H$6,2,FALSE),2)+'[1]Иные услуги'!$C$6+HLOOKUP($DR$133,'[1]Услуги по передаче'!$G$5:$J$7,2,FALSE)) -> 4465.63 | DM142: =IF($A142="-","-",ROUND(VLOOKUP($A142+ROUND(LEFT(DM$136,2)/24,5),'[1]ОАО "АТС"'!$A$57:$F$800,6,FALSE)+HLOOKUP($DL$134,'[1]Сбытовая надбавка'!$F$5:$H$6,2,FALSE),2)+'[1]Иные услуги'!$C$6+HLOOKUP($DR$133,'[1]Услуги по передаче'!$G$5:$J$7,2,FALSE)) -> 4555.22 | DS142: =IF($A142="-","-",ROUND(VLOOKUP($A142+ROUND(LEFT(DS$136,2)/24,5),'[1]ОАО "АТС"'!$A$57:$F$800,6,FALSE)+HLOOKUP($DL$134,'[1]Сбытовая надбавка'!$F$5:$H$6,2,FALSE),2)+'[1]Иные услуги'!$C$6+HLOOKUP($DR$133,'[1]Услуги по передаче'!$G$5:$J$7,2,FALSE)) -> 4618.09 | DY142: =IF($A142="-","-",ROUND(VLOOKUP($A142+ROUND(LEFT(DY$136,2)/24,5),'[1]ОАО "АТС"'!$A$57:$F$800,6,FALSE)+HLOOKUP($DL$134,'[1]Сбытовая надбавка'!$F$5:$H$6,2,FALSE),2)+'[1]Иные услуги'!$C$6+HLOOKUP($DR$133,'[1]Услуги по передаче'!$G$5:$J$7,2,FALSE)) -> 4573.32 | EE142: =IF($A142="-","-",ROUND(VLOOKUP($A142+ROUND(LEFT(EE$136,2)/24,5),'[1]ОАО "АТС"'!$A$57:$F$800,6,FALSE)+HLOOKUP($DL$134,'[1]Сбытовая надбавка'!$F$5:$H$6,2,FALSE),2)+'[1]Иные услуги'!$C$6+HLOOKUP($DR$133,'[1]Услуги по передаче'!$G$5:$J$7,2,FALSE)) -> 4464.08 | EK142: =IF($A142="-","-",ROUND(VLOOKUP($A142+ROUND(LEFT(EK$136,2)/24,5),'[1]ОАО "АТС"'!$A$57:$F$800,6,FALSE)+HLOOKUP($DL$134,'[1]Сбытовая надбавка'!$F$5:$H$6,2,FALSE),2)+'[1]Иные услуги'!$C$6+HLOOKUP($DR$133,'[1]Услуги по передаче'!$G$5:$J$7,2,FALSE)) -> 4463.97 | EQ142: =IF($A142="-","-",ROUND(VLOOKUP($A142+ROUND(LEFT(EQ$136,2)/24,5),'[1]ОАО "АТС"'!$A$57:$F$800,6,FALSE)+HLOOKUP($DL$134,'[1]Сбытовая надбавка'!$F$5:$H$6,2,FALSE),2)+'[1]Иные услуги'!$C$6+HLOOKUP($DR$133,'[1]Услуги по передаче'!$G$5:$J$7,2,FALSE)) -> 4527.7
A143: =$A$107 -> 45572 | I143: =IF($A143="-","-",ROUND(VLOOKUP($A143+ROUND(LEFT(I$136,1)/24,5),'[1]ОАО "АТС"'!$A$57:$F$800,6,FALSE)+HLOOKUP($DL$134,'[1]Сбытовая надбавка'!$F$5:$H$6,2,FALSE),2)+'[1]Иные услуги'!$C$6+HLOOKUP($DR$133,'[1]Услуги по передаче'!$G$5:$J$7,2,FALSE)) -> 4469.22 | O143: =IF($A143="-","-",ROUND(VLOOKUP($A143+ROUND(LEFT(O$136,1)/24,5),'[1]ОАО "АТС"'!$A$57:$F$800,6,FALSE)+HLOOKUP($DL$134,'[1]Сбытовая надбавка'!$F$5:$H$6,2,FALSE),2)+'[1]Иные услуги'!$C$6+HLOOKUP($DR$133,'[1]Услуги по передаче'!$G$5:$J$7,2,FALSE)) -> 4466.64 | U143: =IF($A143="-","-",ROUND(VLOOKUP($A143+ROUND(LEFT(U$136,1)/24,5),'[1]ОАО "АТС"'!$A$57:$F$800,6,FALSE)+HLOOKUP($DL$134,'[1]Сбытовая надбавка'!$F$5:$H$6,2,FALSE),2)+'[1]Иные услуги'!$C$6+HLOOKUP($DR$133,'[1]Услуги по передаче'!$G$5:$J$7,2,FALSE)) -> 4466.73 | AA143: =IF($A143="-","-",ROUND(VLOOKUP($A143+ROUND(LEFT(AA$136,1)/24,5),'[1]ОАО "АТС"'!$A$57:$F$800,6,FALSE)+HLOOKUP($DL$134,'[1]Сбытовая надбавка'!$F$5:$H$6,2,FALSE),2)+'[1]Иные услуги'!$C$6+HLOOKUP($DR$133,'[1]Услуги по передаче'!$G$5:$J$7,2,FALSE)) -> 4466.73 | AG143: =IF($A143="-","-",ROUND(VLOOKUP($A143+ROUND(LEFT(AG$136,1)/24,5),'[1]ОАО "АТС"'!$A$57:$F$800,6,FALSE)+HLOOKUP($DL$134,'[1]Сбытовая надбавка'!$F$5:$H$6,2,FALSE),2)+'[1]Иные услуги'!$C$6+HLOOKUP($DR$133,'[1]Услуги по передаче'!$G$5:$J$7,2,FALSE)) -> 4466.62 | AM143: =IF($A143="-","-",ROUND(VLOOKUP($A143+ROUND(LEFT(AM$136,1)/24,5),'[1]ОАО "АТС"'!$A$57:$F$800,6,FALSE)+HLOOKUP($DL$134,'[1]Сбытовая надбавка'!$F$5:$H$6,2,FALSE),2)+'[1]Иные услуги'!$C$6+HLOOKUP($DR$133,'[1]Услуги по передаче'!$G$5:$J$7,2,FALSE)) -> 4466.62 | AS143: =IF($A143="-","-",ROUND(VLOOKUP($A143+ROUND(LEFT(AS$136,1)/24,5),'[1]ОАО "АТС"'!$A$57:$F$800,6,FALSE)+HLOOKUP($DL$134,'[1]Сбытовая надбавка'!$F$5:$H$6,2,FALSE),2)+'[1]Иные услуги'!$C$6+HLOOKUP($DR$133,'[1]Услуги по передаче'!$G$5:$J$7,2,FALSE)) -> 4465.95 | AY143: =IF($A143="-","-",ROUND(VLOOKUP($A143+ROUND(LEFT(AY$136,1)/24,5),'[1]ОАО "АТС"'!$A$57:$F$800,6,FALSE)+HLOOKUP($DL$134,'[1]Сбытовая надбавка'!$F$5:$H$6,2,FALSE),2)+'[1]Иные услуги'!$C$6+HLOOKUP($DR$133,'[1]Услуги по передаче'!$G$5:$J$7,2,FALSE)) -> 4542.46 | BE143: =IF($A143="-","-",ROUND(VLOOKUP($A143+ROUND(LEFT(BE$136,1)/24,5),'[1]ОАО "АТС"'!$A$57:$F$800,6,FALSE)+HLOOKUP($DL$134,'[1]Сбытовая надбавка'!$F$5:$H$6,2,FALSE),2)+'[1]Иные услуги'!$C$6+HLOOKUP($DR$133,'[1]Услуги по передаче'!$G$5:$J$7,2,FALSE)) -> 4465.83 | BK143: =IF($A143="-","-",ROUND(VLOOKUP($A143+ROUND(LEFT(BK$136,1)/24,5),'[1]ОАО "АТС"'!$A$57:$F$800,6,FALSE)+HLOOKUP($DL$134,'[1]Сбытовая надбавка'!$F$5:$H$6,2,FALSE),2)+'[1]Иные услуги'!$C$6+HLOOKUP($DR$133,'[1]Услуги по передаче'!$G$5:$J$7,2,FALSE)) -> 4509.72 | BQ143: =IF($A143="-","-",ROUND(VLOOKUP($A143+ROUND(LEFT(BQ$136,2)/24,5),'[1]ОАО "АТС"'!$A$57:$F$800,6,FALSE)+HLOOKUP($DL$134,'[1]Сбытовая надбавка'!$F$5:$H$6,2,FALSE),2)+'[1]Иные услуги'!$C$6+HLOOKUP($DR$133,'[1]Услуги по передаче'!$G$5:$J$7,2,FALSE)) -> 4560.66 | BW143: =IF($A143="-","-",ROUND(VLOOKUP($A143+ROUND(LEFT(BW$136,2)/24,5),'[1]ОАО "АТС"'!$A$57:$F$800,6,FALSE)+HLOOKUP($DL$134,'[1]Сбытовая надбавка'!$F$5:$H$6,2,FALSE),2)+'[1]Иные услуги'!$C$6+HLOOKUP($DR$133,'[1]Услуги по передаче'!$G$5:$J$7,2,FALSE)) -> 4563.19 | CC143: =IF($A143="-","-",ROUND(VLOOKUP($A143+ROUND(LEFT(CC$136,2)/24,5),'[1]ОАО "АТС"'!$A$57:$F$800,6,FALSE)+HLOOKUP($DL$134,'[1]Сбытовая надбавка'!$F$5:$H$6,2,FALSE),2)+'[1]Иные услуги'!$C$6+HLOOKUP($DR$133,'[1]Услуги по передаче'!$G$5:$J$7,2,FALSE)) -> 4527.02 | CI143: =IF($A143="-","-",ROUND(VLOOKUP($A143+ROUND(LEFT(CI$136,2)/24,5),'[1]ОАО "АТС"'!$A$57:$F$800,6,FALSE)+HLOOKUP($DL$134,'[1]Сбытовая надбавка'!$F$5:$H$6,2,FALSE),2)+'[1]Иные услуги'!$C$6+HLOOKUP($DR$133,'[1]Услуги по передаче'!$G$5:$J$7,2,FALSE)) -> 4509.37 | CO143: =IF($A143="-","-",ROUND(VLOOKUP($A143+ROUND(LEFT(CO$136,2)/24,5),'[1]ОАО "АТС"'!$A$57:$F$800,6,FALSE)+HLOOKUP($DL$134,'[1]Сбытовая надбавка'!$F$5:$H$6,2,FALSE),2)+'[1]Иные услуги'!$C$6+HLOOKUP($DR$133,'[1]Услуги по передаче'!$G$5:$J$7,2,FALSE)) -> 4533.88 | CU143: =IF($A143="-","-",ROUND(VLOOKUP($A143+ROUND(LEFT(CU$136,2)/24,5),'[1]ОАО "АТС"'!$A$57:$F$800,6,FALSE)+HLOOKUP($DL$134,'[1]Сбытовая надбавка'!$F$5:$H$6,2,FALSE),2)+'[1]Иные услуги'!$C$6+HLOOKUP($DR$133,'[1]Услуги по передаче'!$G$5:$J$7,2,FALSE)) -> 4551.56 | DA143: =IF($A143="-","-",ROUND(VLOOKUP($A143+ROUND(LEFT(DA$136,2)/24,5),'[1]ОАО "АТС"'!$A$57:$F$800,6,FALSE)+HLOOKUP($DL$134,'[1]Сбытовая надбавка'!$F$5:$H$6,2,FALSE),2)+'[1]Иные услуги'!$C$6+HLOOKUP($DR$133,'[1]Услуги по передаче'!$G$5:$J$7,2,FALSE)) -> 4540.98 | DG143: =IF($A143="-","-",ROUND(VLOOKUP($A143+ROUND(LEFT(DG$136,2)/24,5),'[1]ОАО "АТС"'!$A$57:$F$800,6,FALSE)+HLOOKUP($DL$134,'[1]Сбытовая надбавка'!$F$5:$H$6,2,FALSE),2)+'[1]Иные услуги'!$C$6+HLOOKUP($DR$133,'[1]Услуги по передаче'!$G$5:$J$7,2,FALSE)) -> 4560.73 | DM143: =IF($A143="-","-",ROUND(VLOOKUP($A143+ROUND(LEFT(DM$136,2)/24,5),'[1]ОАО "АТС"'!$A$57:$F$800,6,FALSE)+HLOOKUP($DL$134,'[1]Сбытовая надбавка'!$F$5:$H$6,2,FALSE),2)+'[1]Иные услуги'!$C$6+HLOOKUP($DR$133,'[1]Услуги по передаче'!$G$5:$J$7,2,FALSE)) -> 4617.66 | DS143: =IF($A143="-","-",ROUND(VLOOKUP($A143+ROUND(LEFT(DS$136,2)/24,5),'[1]ОАО "АТС"'!$A$57:$F$800,6,FALSE)+HLOOKUP($DL$134,'[1]Сбытовая надбавка'!$F$5:$H$6,2,FALSE),2)+'[1]Иные услуги'!$C$6+HLOOKUP($DR$133,'[1]Услуги по передаче'!$G$5:$J$7,2,FALSE)) -> 4646.51 | DY143: =IF($A143="-","-",ROUND(VLOOKUP($A143+ROUND(LEFT(DY$136,2)/24,5),'[1]ОАО "АТС"'!$A$57:$F$800,6,FALSE)+HLOOKUP($DL$134,'[1]Сбытовая надбавка'!$F$5:$H$6,2,FALSE),2)+'[1]Иные услуги'!$C$6+HLOOKUP($DR$133,'[1]Услуги по передаче'!$G$5:$J$7,2,FALSE)) -> 4587.15 | EE143: =IF($A143="-","-",ROUND(VLOOKUP($A143+ROUND(LEFT(EE$136,2)/24,5),'[1]ОАО "АТС"'!$A$57:$F$800,6,FALSE)+HLOOKUP($DL$134,'[1]Сбытовая надбавка'!$F$5:$H$6,2,FALSE),2)+'[1]Иные услуги'!$C$6+HLOOKUP($DR$133,'[1]Услуги по передаче'!$G$5:$J$7,2,FALSE)) -> 4474.27 | EK143: =IF($A143="-","-",ROUND(VLOOKUP($A143+ROUND(LEFT(EK$136,2)/24,5),'[1]ОАО "АТС"'!$A$57:$F$800,6,FALSE)+HLOOKUP($DL$134,'[1]Сбытовая надбавка'!$F$5:$H$6,2,FALSE),2)+'[1]Иные услуги'!$C$6+HLOOKUP($DR$133,'[1]Услуги по передаче'!$G$5:$J$7,2,FALSE)) -> 4464.8 | EQ143: =IF($A143="-","-",ROUND(VLOOKUP($A143+ROUND(LEFT(EQ$136,2)/24,5),'[1]ОАО "АТС"'!$A$57:$F$800,6,FALSE)+HLOOKUP($DL$134,'[1]Сбытовая надбавка'!$F$5:$H$6,2,FALSE),2)+'[1]Иные услуги'!$C$6+HLOOKUP($DR$133,'[1]Услуги по передаче'!$G$5:$J$7,2,FALSE)) -> 4516.42
A144: =$A$108 -> 45573 | I144: =IF($A144="-","-",ROUND(VLOOKUP($A144+ROUND(LEFT(I$136,1)/24,5),'[1]ОАО "АТС"'!$A$57:$F$800,6,FALSE)+HLOOKUP($DL$134,'[1]Сбытовая надбавка'!$F$5:$H$6,2,FALSE),2)+'[1]Иные услуги'!$C$6+HLOOKUP($DR$133,'[1]Услуги по передаче'!$G$5:$J$7,2,FALSE)) -> 4466.87 | O144: =IF($A144="-","-",ROUND(VLOOKUP($A144+ROUND(LEFT(O$136,1)/24,5),'[1]ОАО "АТС"'!$A$57:$F$800,6,FALSE)+HLOOKUP($DL$134,'[1]Сбытовая надбавка'!$F$5:$H$6,2,FALSE),2)+'[1]Иные услуги'!$C$6+HLOOKUP($DR$133,'[1]Услуги по передаче'!$G$5:$J$7,2,FALSE)) -> 4466.92 | U144: =IF($A144="-","-",ROUND(VLOOKUP($A144+ROUND(LEFT(U$136,1)/24,5),'[1]ОАО "АТС"'!$A$57:$F$800,6,FALSE)+HLOOKUP($DL$134,'[1]Сбытовая надбавка'!$F$5:$H$6,2,FALSE),2)+'[1]Иные услуги'!$C$6+HLOOKUP($DR$133,'[1]Услуги по передаче'!$G$5:$J$7,2,FALSE)) -> 4466.96 | AA144: =IF($A144="-","-",ROUND(VLOOKUP($A144+ROUND(LEFT(AA$136,1)/24,5),'[1]ОАО "АТС"'!$A$57:$F$800,6,FALSE)+HLOOKUP($DL$134,'[1]Сбытовая надбавка'!$F$5:$H$6,2,FALSE),2)+'[1]Иные услуги'!$C$6+HLOOKUP($DR$133,'[1]Услуги по передаче'!$G$5:$J$7,2,FALSE)) -> 4466.97 | AG144: =IF($A144="-","-",ROUND(VLOOKUP($A144+ROUND(LEFT(AG$136,1)/24,5),'[1]ОАО "АТС"'!$A$57:$F$800,6,FALSE)+HLOOKUP($DL$134,'[1]Сбытовая надбавка'!$F$5:$H$6,2,FALSE),2)+'[1]Иные услуги'!$C$6+HLOOKUP($DR$133,'[1]Услуги по передаче'!$G$5:$J$7,2,FALSE)) -> 4466.92 | AM144: =IF($A144="-","-",ROUND(VLOOKUP($A144+ROUND(LEFT(AM$136,1)/24,5),'[1]ОАО "АТС"'!$A$57:$F$800,6,FALSE)+HLOOKUP($DL$134,'[1]Сбытовая надбавка'!$F$5:$H$6,2,FALSE),2)+'[1]Иные услуги'!$C$6+HLOOKUP($DR$133,'[1]Услуги по передаче'!$G$5:$J$7,2,FALSE)) -> 4466.8 | AS144: =IF($A144="-","-",ROUND(VLOOKUP($A144+ROUND(LEFT(AS$136,1)/24,5),'[1]ОАО "АТС"'!$A$57:$F$800,6,FALSE)+HLOOKUP($DL$134,'[1]Сбытовая надбавка'!$F$5:$H$6,2,FALSE),2)+'[1]Иные услуги'!$C$6+HLOOKUP($DR$133,'[1]Услуги по передаче'!$G$5:$J$7,2,FALSE)) -> 4466.18 | AY144: =IF($A144="-","-",ROUND(VLOOKUP($A144+ROUND(LEFT(AY$136,1)/24,5),'[1]ОАО "АТС"'!$A$57:$F$800,6,FALSE)+HLOOKUP($DL$134,'[1]Сбытовая надбавка'!$F$5:$H$6,2,FALSE),2)+'[1]Иные услуги'!$C$6+HLOOKUP($DR$133,'[1]Услуги по передаче'!$G$5:$J$7,2,FALSE)) -> 4515.68 | BE144: =IF($A144="-","-",ROUND(VLOOKUP($A144+ROUND(LEFT(BE$136,1)/24,5),'[1]ОАО "АТС"'!$A$57:$F$800,6,FALSE)+HLOOKUP($DL$134,'[1]Сбытовая надбавка'!$F$5:$H$6,2,FALSE),2)+'[1]Иные услуги'!$C$6+HLOOKUP($DR$133,'[1]Услуги по передаче'!$G$5:$J$7,2,FALSE)) -> 4465.76 | BK144: =IF($A144="-","-",ROUND(VLOOKUP($A144+ROUND(LEFT(BK$136,1)/24,5),'[1]ОАО "АТС"'!$A$57:$F$800,6,FALSE)+HLOOKUP($DL$134,'[1]Сбытовая надбавка'!$F$5:$H$6,2,FALSE),2)+'[1]Иные услуги'!$C$6+HLOOKUP($DR$133,'[1]Услуги по передаче'!$G$5:$J$7,2,FALSE)) -> 4500.59 | BQ144: =IF($A144="-","-",ROUND(VLOOKUP($A144+ROUND(LEFT(BQ$136,2)/24,5),'[1]ОАО "АТС"'!$A$57:$F$800,6,FALSE)+HLOOKUP($DL$134,'[1]Сбытовая надбавка'!$F$5:$H$6,2,FALSE),2)+'[1]Иные услуги'!$C$6+HLOOKUP($DR$133,'[1]Услуги по передаче'!$G$5:$J$7,2,FALSE)) -> 4546.45 | BW144: =IF($A144="-","-",ROUND(VLOOKUP($A144+ROUND(LEFT(BW$136,2)/24,5),'[1]ОАО "АТС"'!$A$57:$F$800,6,FALSE)+HLOOKUP($DL$134,'[1]Сбытовая надбавка'!$F$5:$H$6,2,FALSE),2)+'[1]Иные услуги'!$C$6+HLOOKUP($DR$133,'[1]Услуги по передаче'!$G$5:$J$7,2,FALSE)) -> 4549.22 | CC144: =IF($A144="-","-",ROUND(VLOOKUP($A144+ROUND(LEFT(CC$136,2)/24,5),'[1]ОАО "АТС"'!$A$57:$F$800,6,FALSE)+HLOOKUP($DL$134,'[1]Сбытовая надбавка'!$F$5:$H$6,2,FALSE),2)+'[1]Иные услуги'!$C$6+HLOOKUP($DR$133,'[1]Услуги по передаче'!$G$5:$J$7,2,FALSE)) -> 4515.45 | CI144: =IF($A144="-","-",ROUND(VLOOKUP($A144+ROUND(LEFT(CI$136,2)/24,5),'[1]ОАО "АТС"'!$A$57:$F$800,6,FALSE)+HLOOKUP($DL$134,'[1]Сбытовая надбавка'!$F$5:$H$6,2,FALSE),2)+'[1]Иные услуги'!$C$6+HLOOKUP($DR$133,'[1]Услуги по передаче'!$G$5:$J$7,2,FALSE)) -> 4499.56 | CO144: =IF($A144="-","-",ROUND(VLOOKUP($A144+ROUND(LEFT(CO$136,2)/24,5),'[1]ОАО "АТС"'!$A$57:$F$800,6,FALSE)+HLOOKUP($DL$134,'[1]Сбытовая надбавка'!$F$5:$H$6,2,FALSE),2)+'[1]Иные услуги'!$C$6+HLOOKUP($DR$133,'[1]Услуги по передаче'!$G$5:$J$7,2,FALSE)) -> 4522.82 | CU144: =IF($A144="-","-",ROUND(VLOOKUP($A144+ROUND(LEFT(CU$136,2)/24,5),'[1]ОАО "АТС"'!$A$57:$F$800,6,FALSE)+HLOOKUP($DL$134,'[1]Сбытовая надбавка'!$F$5:$H$6,2,FALSE),2)+'[1]Иные услуги'!$C$6+HLOOKUP($DR$133,'[1]Услуги по передаче'!$G$5:$J$7,2,FALSE)) -> 4540.73 | DA144: =IF($A144="-","-",ROUND(VLOOKUP($A144+ROUND(LEFT(DA$136,2)/24,5),'[1]ОАО "АТС"'!$A$57:$F$800,6,FALSE)+HLOOKUP($DL$134,'[1]Сбытовая надбавка'!$F$5:$H$6,2,FALSE),2)+'[1]Иные услуги'!$C$6+HLOOKUP($DR$133,'[1]Услуги по передаче'!$G$5:$J$7,2,FALSE)) -> 4535.63 | DG144: =IF($A144="-","-",ROUND(VLOOKUP($A144+ROUND(LEFT(DG$136,2)/24,5),'[1]ОАО "АТС"'!$A$57:$F$800,6,FALSE)+HLOOKUP($DL$134,'[1]Сбытовая надбавка'!$F$5:$H$6,2,FALSE),2)+'[1]Иные услуги'!$C$6+HLOOKUP($DR$133,'[1]Услуги по передаче'!$G$5:$J$7,2,FALSE)) -> 4551.86 | DM144: =IF($A144="-","-",ROUND(VLOOKUP($A144+ROUND(LEFT(DM$136,2)/24,5),'[1]ОАО "АТС"'!$A$57:$F$800,6,FALSE)+HLOOKUP($DL$134,'[1]Сбытовая надбавка'!$F$5:$H$6,2,FALSE),2)+'[1]Иные услуги'!$C$6+HLOOKUP($DR$133,'[1]Услуги по передаче'!$G$5:$J$7,2,FALSE)) -> 4607.09 | DS144: =IF($A144="-","-",ROUND(VLOOKUP($A144+ROUND(LEFT(DS$136,2)/24,5),'[1]ОАО "АТС"'!$A$57:$F$800,6,FALSE)+HLOOKUP($DL$134,'[1]Сбытовая надбавка'!$F$5:$H$6,2,FALSE),2)+'[1]Иные услуги'!$C$6+HLOOKUP($DR$133,'[1]Услуги по передаче'!$G$5:$J$7,2,FALSE)) -> 4634.45 | DY144: =IF($A144="-","-",ROUND(VLOOKUP($A144+ROUND(LEFT(DY$136,2)/24,5),'[1]ОАО "АТС"'!$A$57:$F$800,6,FALSE)+HLOOKUP($DL$134,'[1]Сбытовая надбавка'!$F$5:$H$6,2,FALSE),2)+'[1]Иные услуги'!$C$6+HLOOKUP($DR$133,'[1]Услуги по передаче'!$G$5:$J$7,2,FALSE)) -> 4575.42 | EE144: =IF($A144="-","-",ROUND(VLOOKUP($A144+ROUND(LEFT(EE$136,2)/24,5),'[1]ОАО "АТС"'!$A$57:$F$800,6,FALSE)+HLOOKUP($DL$134,'[1]Сбытовая надбавка'!$F$5:$H$6,2,FALSE),2)+'[1]Иные услуги'!$C$6+HLOOKUP($DR$133,'[1]Услуги по передаче'!$G$5:$J$7,2,FALSE)) -> 4464.9 | EK144: =IF($A144="-","-",ROUND(VLOOKUP($A144+ROUND(LEFT(EK$136,2)/24,5),'[1]ОАО "АТС"'!$A$57:$F$800,6,FALSE)+HLOOKUP($DL$134,'[1]Сбытовая надбавка'!$F$5:$H$6,2,FALSE),2)+'[1]Иные услуги'!$C$6+HLOOKUP($DR$133,'[1]Услуги по передаче'!$G$5:$J$7,2,FALSE)) -> 4465.15 | EQ144: =IF($A144="-","-",ROUND(VLOOKUP($A144+ROUND(LEFT(EQ$136,2)/24,5),'[1]ОАО "АТС"'!$A$57:$F$800,6,FALSE)+HLOOKUP($DL$134,'[1]Сбытовая надбавка'!$F$5:$H$6,2,FALSE),2)+'[1]Иные услуги'!$C$6+HLOOKUP($DR$133,'[1]Услуги по передаче'!$G$5:$J$7,2,FALSE)) -> 4518.3
A145: =$A$109 -> 45574 | I145: =IF($A145="-","-",ROUND(VLOOKUP($A145+ROUND(LEFT(I$136,1)/24,5),'[1]ОАО "АТС"'!$A$57:$F$800,6,FALSE)+HLOOKUP($DL$134,'[1]Сбытовая надбавка'!$F$5:$H$6,2,FALSE),2)+'[1]Иные услуги'!$C$6+HLOOKUP($DR$133,'[1]Услуги по передаче'!$G$5:$J$7,2,FALSE)) -> 4475.19 | O145: =IF($A145="-","-",ROUND(VLOOKUP($A145+ROUND(LEFT(O$136,1)/24,5),'[1]ОАО "АТС"'!$A$57:$F$800,6,FALSE)+HLOOKUP($DL$134,'[1]Сбытовая надбавка'!$F$5:$H$6,2,FALSE),2)+'[1]Иные услуги'!$C$6+HLOOKUP($DR$133,'[1]Услуги по передаче'!$G$5:$J$7,2,FALSE)) -> 4466.81 | U145: =IF($A145="-","-",ROUND(VLOOKUP($A145+ROUND(LEFT(U$136,1)/24,5),'[1]ОАО "АТС"'!$A$57:$F$800,6,FALSE)+HLOOKUP($DL$134,'[1]Сбытовая надбавка'!$F$5:$H$6,2,FALSE),2)+'[1]Иные услуги'!$C$6+HLOOKUP($DR$133,'[1]Услуги по передаче'!$G$5:$J$7,2,FALSE)) -> 4466.85 | AA145: =IF($A145="-","-",ROUND(VLOOKUP($A145+ROUND(LEFT(AA$136,1)/24,5),'[1]ОАО "АТС"'!$A$57:$F$800,6,FALSE)+HLOOKUP($DL$134,'[1]Сбытовая надбавка'!$F$5:$H$6,2,FALSE),2)+'[1]Иные услуги'!$C$6+HLOOKUP($DR$133,'[1]Услуги по передаче'!$G$5:$J$7,2,FALSE)) -> 4466.85 | AG145: =IF($A145="-","-",ROUND(VLOOKUP($A145+ROUND(LEFT(AG$136,1)/24,5),'[1]ОАО "АТС"'!$A$57:$F$800,6,FALSE)+HLOOKUP($DL$134,'[1]Сбытовая надбавка'!$F$5:$H$6,2,FALSE),2)+'[1]Иные услуги'!$C$6+HLOOKUP($DR$133,'[1]Услуги по передаче'!$G$5:$J$7,2,FALSE)) -> 4466.83 | AM145: =IF($A145="-","-",ROUND(VLOOKUP($A145+ROUND(LEFT(AM$136,1)/24,5),'[1]ОАО "АТС"'!$A$57:$F$800,6,FALSE)+HLOOKUP($DL$134,'[1]Сбытовая надбавка'!$F$5:$H$6,2,FALSE),2)+'[1]Иные услуги'!$C$6+HLOOKUP($DR$133,'[1]Услуги по передаче'!$G$5:$J$7,2,FALSE)) -> 4469.48 | AS145: =IF($A145="-","-",ROUND(VLOOKUP($A145+ROUND(LEFT(AS$136,1)/24,5),'[1]ОАО "АТС"'!$A$57:$F$800,6,FALSE)+HLOOKUP($DL$134,'[1]Сбытовая надбавка'!$F$5:$H$6,2,FALSE),2)+'[1]Иные услуги'!$C$6+HLOOKUP($DR$133,'[1]Услуги по передаче'!$G$5:$J$7,2,FALSE)) -> 4465.76 | AY145: =IF($A145="-","-",ROUND(VLOOKUP($A145+ROUND(LEFT(AY$136,1)/24,5),'[1]ОАО "АТС"'!$A$57:$F$800,6,FALSE)+HLOOKUP($DL$134,'[1]Сбытовая надбавка'!$F$5:$H$6,2,FALSE),2)+'[1]Иные услуги'!$C$6+HLOOKUP($DR$133,'[1]Услуги по передаче'!$G$5:$J$7,2,FALSE)) -> 4571.04 | BE145: =IF($A145="-","-",ROUND(VLOOKUP($A145+ROUND(LEFT(BE$136,1)/24,5),'[1]ОАО "АТС"'!$A$57:$F$800,6,FALSE)+HLOOKUP($DL$134,'[1]Сбытовая надбавка'!$F$5:$H$6,2,FALSE),2)+'[1]Иные услуги'!$C$6+HLOOKUP($DR$133,'[1]Услуги по передаче'!$G$5:$J$7,2,FALSE)) -> 4465.78 | BK145: =IF($A145="-","-",ROUND(VLOOKUP($A145+ROUND(LEFT(BK$136,1)/24,5),'[1]ОАО "АТС"'!$A$57:$F$800,6,FALSE)+HLOOKUP($DL$134,'[1]Сбытовая надбавка'!$F$5:$H$6,2,FALSE),2)+'[1]Иные услуги'!$C$6+HLOOKUP($DR$133,'[1]Услуги по передаче'!$G$5:$J$7,2,FALSE)) -> 4532.95 | BQ145: =IF($A145="-","-",ROUND(VLOOKUP($A145+ROUND(LEFT(BQ$136,2)/24,5),'[1]ОАО "АТС"'!$A$57:$F$800,6,FALSE)+HLOOKUP($DL$134,'[1]Сбытовая надбавка'!$F$5:$H$6,2,FALSE),2)+'[1]Иные услуги'!$C$6+HLOOKUP($DR$133,'[1]Услуги по передаче'!$G$5:$J$7,2,FALSE)) -> 4555.18 | BW145: =IF($A145="-","-",ROUND(VLOOKUP($A145+ROUND(LEFT(BW$136,2)/24,5),'[1]ОАО "АТС"'!$A$57:$F$800,6,FALSE)+HLOOKUP($DL$134,'[1]Сбытовая надбавка'!$F$5:$H$6,2,FALSE),2)+'[1]Иные услуги'!$C$6+HLOOKUP($DR$133,'[1]Услуги по передаче'!$G$5:$J$7,2,FALSE)) -> 4553.18 | CC145: =IF($A145="-","-",ROUND(VLOOKUP($A145+ROUND(LEFT(CC$136,2)/24,5),'[1]ОАО "АТС"'!$A$57:$F$800,6,FALSE)+HLOOKUP($DL$134,'[1]Сбытовая надбавка'!$F$5:$H$6,2,FALSE),2)+'[1]Иные услуги'!$C$6+HLOOKUP($DR$133,'[1]Услуги по передаче'!$G$5:$J$7,2,FALSE)) -> 4530.11 | CI145: =IF($A145="-","-",ROUND(VLOOKUP($A145+ROUND(LEFT(CI$136,2)/24,5),'[1]ОАО "АТС"'!$A$57:$F$800,6,FALSE)+HLOOKUP($DL$134,'[1]Сбытовая надбавка'!$F$5:$H$6,2,FALSE),2)+'[1]Иные услуги'!$C$6+HLOOKUP($DR$133,'[1]Услуги по передаче'!$G$5:$J$7,2,FALSE)) -> 4531.14 | CO145: =IF($A145="-","-",ROUND(VLOOKUP($A145+ROUND(LEFT(CO$136,2)/24,5),'[1]ОАО "АТС"'!$A$57:$F$800,6,FALSE)+HLOOKUP($DL$134,'[1]Сбытовая надбавка'!$F$5:$H$6,2,FALSE),2)+'[1]Иные услуги'!$C$6+HLOOKUP($DR$133,'[1]Услуги по передаче'!$G$5:$J$7,2,FALSE)) -> 4538.42 | CU145: =IF($A145="-","-",ROUND(VLOOKUP($A145+ROUND(LEFT(CU$136,2)/24,5),'[1]ОАО "АТС"'!$A$57:$F$800,6,FALSE)+HLOOKUP($DL$134,'[1]Сбытовая надбавка'!$F$5:$H$6,2,FALSE),2)+'[1]Иные услуги'!$C$6+HLOOKUP($DR$133,'[1]Услуги по передаче'!$G$5:$J$7,2,FALSE)) -> 4533.46 | DA145: =IF($A145="-","-",ROUND(VLOOKUP($A145+ROUND(LEFT(DA$136,2)/24,5),'[1]ОАО "АТС"'!$A$57:$F$800,6,FALSE)+HLOOKUP($DL$134,'[1]Сбытовая надбавка'!$F$5:$H$6,2,FALSE),2)+'[1]Иные услуги'!$C$6+HLOOKUP($DR$133,'[1]Услуги по передаче'!$G$5:$J$7,2,FALSE)) -> 4502.13 | DG145: =IF($A145="-","-",ROUND(VLOOKUP($A145+ROUND(LEFT(DG$136,2)/24,5),'[1]ОАО "АТС"'!$A$57:$F$800,6,FALSE)+HLOOKUP($DL$134,'[1]Сбытовая надбавка'!$F$5:$H$6,2,FALSE),2)+'[1]Иные услуги'!$C$6+HLOOKUP($DR$133,'[1]Услуги по передаче'!$G$5:$J$7,2,FALSE)) -> 4509.18 | DM145: =IF($A145="-","-",ROUND(VLOOKUP($A145+ROUND(LEFT(DM$136,2)/24,5),'[1]ОАО "АТС"'!$A$57:$F$800,6,FALSE)+HLOOKUP($DL$134,'[1]Сбытовая надбавка'!$F$5:$H$6,2,FALSE),2)+'[1]Иные услуги'!$C$6+HLOOKUP($DR$133,'[1]Услуги по передаче'!$G$5:$J$7,2,FALSE)) -> 4618.92 | DS145: =IF($A145="-","-",ROUND(VLOOKUP($A145+ROUND(LEFT(DS$136,2)/24,5),'[1]ОАО "АТС"'!$A$57:$F$800,6,FALSE)+HLOOKUP($DL$134,'[1]Сбытовая надбавка'!$F$5:$H$6,2,FALSE),2)+'[1]Иные услуги'!$C$6+HLOOKUP($DR$133,'[1]Услуги по передаче'!$G$5:$J$7,2,FALSE)) -> 4665.47 | DY145: =IF($A145="-","-",ROUND(VLOOKUP($A145+ROUND(LEFT(DY$136,2)/24,5),'[1]ОАО "АТС"'!$A$57:$F$800,6,FALSE)+HLOOKUP($DL$134,'[1]Сбытовая надбавка'!$F$5:$H$6,2,FALSE),2)+'[1]Иные услуги'!$C$6+HLOOKUP($DR$133,'[1]Услуги по передаче'!$G$5:$J$7,2,FALSE)) -> 4634.27 | EE145: =IF($A145="-","-",ROUND(VLOOKUP($A145+ROUND(LEFT(EE$136,2)/24,5),'[1]ОАО "АТС"'!$A$57:$F$800,6,FALSE)+HLOOKUP($DL$134,'[1]Сбытовая надбавка'!$F$5:$H$6,2,FALSE),2)+'[1]Иные услуги'!$C$6+HLOOKUP($DR$133,'[1]Услуги по передаче'!$G$5:$J$7,2,FALSE)) -> 4538.41 | EK145: =IF($A145="-","-",ROUND(VLOOKUP($A145+ROUND(LEFT(EK$136,2)/24,5),'[1]ОАО "АТС"'!$A$57:$F$800,6,FALSE)+HLOOKUP($DL$134,'[1]Сбытовая надбавка'!$F$5:$H$6,2,FALSE),2)+'[1]Иные услуги'!$C$6+HLOOKUP($DR$133,'[1]Услуги по передаче'!$G$5:$J$7,2,FALSE)) -> 4463.82 | EQ145: =IF($A145="-","-",ROUND(VLOOKUP($A145+ROUND(LEFT(EQ$136,2)/24,5),'[1]ОАО "АТС"'!$A$57:$F$800,6,FALSE)+HLOOKUP($DL$134,'[1]Сбытовая надбавка'!$F$5:$H$6,2,FALSE),2)+'[1]Иные услуги'!$C$6+HLOOKUP($DR$133,'[1]Услуги по передаче'!$G$5:$J$7,2,FALSE)) -> 4603.97
A146: =$A$110 -> 45575 | I146: =IF($A146="-","-",ROUND(VLOOKUP($A146+ROUND(LEFT(I$136,1)/24,5),'[1]ОАО "АТС"'!$A$57:$F$800,6,FALSE)+HLOOKUP($DL$134,'[1]Сбытовая надбавка'!$F$5:$H$6,2,FALSE),2)+'[1]Иные услуги'!$C$6+HLOOKUP($DR$133,'[1]Услуги по передаче'!$G$5:$J$7,2,FALSE)) -> 4494.83 | O146: =IF($A146="-","-",ROUND(VLOOKUP($A146+ROUND(LEFT(O$136,1)/24,5),'[1]ОАО "АТС"'!$A$57:$F$800,6,FALSE)+HLOOKUP($DL$134,'[1]Сбытовая надбавка'!$F$5:$H$6,2,FALSE),2)+'[1]Иные услуги'!$C$6+HLOOKUP($DR$133,'[1]Услуги по передаче'!$G$5:$J$7,2,FALSE)) -> 4468.72 | U146: =IF($A146="-","-",ROUND(VLOOKUP($A146+ROUND(LEFT(U$136,1)/24,5),'[1]ОАО "АТС"'!$A$57:$F$800,6,FALSE)+HLOOKUP($DL$134,'[1]Сбытовая надбавка'!$F$5:$H$6,2,FALSE),2)+'[1]Иные услуги'!$C$6+HLOOKUP($DR$133,'[1]Услуги по передаче'!$G$5:$J$7,2,FALSE)) -> 4466.77 | AA146: =IF($A146="-","-",ROUND(VLOOKUP($A146+ROUND(LEFT(AA$136,1)/24,5),'[1]ОАО "АТС"'!$A$57:$F$800,6,FALSE)+HLOOKUP($DL$134,'[1]Сбытовая надбавка'!$F$5:$H$6,2,FALSE),2)+'[1]Иные услуги'!$C$6+HLOOKUP($DR$133,'[1]Услуги по передаче'!$G$5:$J$7,2,FALSE)) -> 4466.76 | AG146: =IF($A146="-","-",ROUND(VLOOKUP($A146+ROUND(LEFT(AG$136,1)/24,5),'[1]ОАО "АТС"'!$A$57:$F$800,6,FALSE)+HLOOKUP($DL$134,'[1]Сбытовая надбавка'!$F$5:$H$6,2,FALSE),2)+'[1]Иные услуги'!$C$6+HLOOKUP($DR$133,'[1]Услуги по передаче'!$G$5:$J$7,2,FALSE)) -> 4466.7 | AM146: =IF($A146="-","-",ROUND(VLOOKUP($A146+ROUND(LEFT(AM$136,1)/24,5),'[1]ОАО "АТС"'!$A$57:$F$800,6,FALSE)+HLOOKUP($DL$134,'[1]Сбытовая надбавка'!$F$5:$H$6,2,FALSE),2)+'[1]Иные услуги'!$C$6+HLOOKUP($DR$133,'[1]Услуги по передаче'!$G$5:$J$7,2,FALSE)) -> 4478.98 | AS146: =IF($A146="-","-",ROUND(VLOOKUP($A146+ROUND(LEFT(AS$136,1)/24,5),'[1]ОАО "АТС"'!$A$57:$F$800,6,FALSE)+HLOOKUP($DL$134,'[1]Сбытовая надбавка'!$F$5:$H$6,2,FALSE),2)+'[1]Иные услуги'!$C$6+HLOOKUP($DR$133,'[1]Услуги по передаче'!$G$5:$J$7,2,FALSE)) -> 4465.77 | AY146: =IF($A146="-","-",ROUND(VLOOKUP($A146+ROUND(LEFT(AY$136,1)/24,5),'[1]ОАО "АТС"'!$A$57:$F$800,6,FALSE)+HLOOKUP($DL$134,'[1]Сбытовая надбавка'!$F$5:$H$6,2,FALSE),2)+'[1]Иные услуги'!$C$6+HLOOKUP($DR$133,'[1]Услуги по передаче'!$G$5:$J$7,2,FALSE)) -> 4598.36 | BE146: =IF($A146="-","-",ROUND(VLOOKUP($A146+ROUND(LEFT(BE$136,1)/24,5),'[1]ОАО "АТС"'!$A$57:$F$800,6,FALSE)+HLOOKUP($DL$134,'[1]Сбытовая надбавка'!$F$5:$H$6,2,FALSE),2)+'[1]Иные услуги'!$C$6+HLOOKUP($DR$133,'[1]Услуги по передаче'!$G$5:$J$7,2,FALSE)) -> 4465.32 | BK146: =IF($A146="-","-",ROUND(VLOOKUP($A146+ROUND(LEFT(BK$136,1)/24,5),'[1]ОАО "АТС"'!$A$57:$F$800,6,FALSE)+HLOOKUP($DL$134,'[1]Сбытовая надбавка'!$F$5:$H$6,2,FALSE),2)+'[1]Иные услуги'!$C$6+HLOOKUP($DR$133,'[1]Услуги по передаче'!$G$5:$J$7,2,FALSE)) -> 4582.39 | BQ146: =IF($A146="-","-",ROUND(VLOOKUP($A146+ROUND(LEFT(BQ$136,2)/24,5),'[1]ОАО "АТС"'!$A$57:$F$800,6,FALSE)+HLOOKUP($DL$134,'[1]Сбытовая надбавка'!$F$5:$H$6,2,FALSE),2)+'[1]Иные услуги'!$C$6+HLOOKUP($DR$133,'[1]Услуги по передаче'!$G$5:$J$7,2,FALSE)) -> 4636.82 | BW146: =IF($A146="-","-",ROUND(VLOOKUP($A146+ROUND(LEFT(BW$136,2)/24,5),'[1]ОАО "АТС"'!$A$57:$F$800,6,FALSE)+HLOOKUP($DL$134,'[1]Сбытовая надбавка'!$F$5:$H$6,2,FALSE),2)+'[1]Иные услуги'!$C$6+HLOOKUP($DR$133,'[1]Услуги по передаче'!$G$5:$J$7,2,FALSE)) -> 4628.22 | CC146: =IF($A146="-","-",ROUND(VLOOKUP($A146+ROUND(LEFT(CC$136,2)/24,5),'[1]ОАО "АТС"'!$A$57:$F$800,6,FALSE)+HLOOKUP($DL$134,'[1]Сбытовая надбавка'!$F$5:$H$6,2,FALSE),2)+'[1]Иные услуги'!$C$6+HLOOKUP($DR$133,'[1]Услуги по передаче'!$G$5:$J$7,2,FALSE)) -> 4582.67 | CI146: =IF($A146="-","-",ROUND(VLOOKUP($A146+ROUND(LEFT(CI$136,2)/24,5),'[1]ОАО "АТС"'!$A$57:$F$800,6,FALSE)+HLOOKUP($DL$134,'[1]Сбытовая надбавка'!$F$5:$H$6,2,FALSE),2)+'[1]Иные услуги'!$C$6+HLOOKUP($DR$133,'[1]Услуги по передаче'!$G$5:$J$7,2,FALSE)) -> 4597.88 | CO146: =IF($A146="-","-",ROUND(VLOOKUP($A146+ROUND(LEFT(CO$136,2)/24,5),'[1]ОАО "АТС"'!$A$57:$F$800,6,FALSE)+HLOOKUP($DL$134,'[1]Сбытовая надбавка'!$F$5:$H$6,2,FALSE),2)+'[1]Иные услуги'!$C$6+HLOOKUP($DR$133,'[1]Услуги по передаче'!$G$5:$J$7,2,FALSE)) -> 4586.1 | CU146: =IF($A146="-","-",ROUND(VLOOKUP($A146+ROUND(LEFT(CU$136,2)/24,5),'[1]ОАО "АТС"'!$A$57:$F$800,6,FALSE)+HLOOKUP($DL$134,'[1]Сбытовая надбавка'!$F$5:$H$6,2,FALSE),2)+'[1]Иные услуги'!$C$6+HLOOKUP($DR$133,'[1]Услуги по передаче'!$G$5:$J$7,2,FALSE)) -> 4551.07 | DA146: =IF($A146="-","-",ROUND(VLOOKUP($A146+ROUND(LEFT(DA$136,2)/24,5),'[1]ОАО "АТС"'!$A$57:$F$800,6,FALSE)+HLOOKUP($DL$134,'[1]Сбытовая надбавка'!$F$5:$H$6,2,FALSE),2)+'[1]Иные услуги'!$C$6+HLOOKUP($DR$133,'[1]Услуги по передаче'!$G$5:$J$7,2,FALSE)) -> 4512.64 | DG146: =IF($A146="-","-",ROUND(VLOOKUP($A146+ROUND(LEFT(DG$136,2)/24,5),'[1]ОАО "АТС"'!$A$57:$F$800,6,FALSE)+HLOOKUP($DL$134,'[1]Сбытовая надбавка'!$F$5:$H$6,2,FALSE),2)+'[1]Иные услуги'!$C$6+HLOOKUP($DR$133,'[1]Услуги по передаче'!$G$5:$J$7,2,FALSE)) -> 4513.17 | DM146: =IF($A146="-","-",ROUND(VLOOKUP($A146+ROUND(LEFT(DM$136,2)/24,5),'[1]ОАО "АТС"'!$A$57:$F$800,6,FALSE)+HLOOKUP($DL$134,'[1]Сбытовая надбавка'!$F$5:$H$6,2,FALSE),2)+'[1]Иные услуги'!$C$6+HLOOKUP($DR$133,'[1]Услуги по передаче'!$G$5:$J$7,2,FALSE)) -> 4767.39 | DS146: =IF($A146="-","-",ROUND(VLOOKUP($A146+ROUND(LEFT(DS$136,2)/24,5),'[1]ОАО "АТС"'!$A$57:$F$800,6,FALSE)+HLOOKUP($DL$134,'[1]Сбытовая надбавка'!$F$5:$H$6,2,FALSE),2)+'[1]Иные услуги'!$C$6+HLOOKUP($DR$133,'[1]Услуги по передаче'!$G$5:$J$7,2,FALSE)) -> 4885.81 | DY146: =IF($A146="-","-",ROUND(VLOOKUP($A146+ROUND(LEFT(DY$136,2)/24,5),'[1]ОАО "АТС"'!$A$57:$F$800,6,FALSE)+HLOOKUP($DL$134,'[1]Сбытовая надбавка'!$F$5:$H$6,2,FALSE),2)+'[1]Иные услуги'!$C$6+HLOOKUP($DR$133,'[1]Услуги по передаче'!$G$5:$J$7,2,FALSE)) -> 4708.78 | EE146: =IF($A146="-","-",ROUND(VLOOKUP($A146+ROUND(LEFT(EE$136,2)/24,5),'[1]ОАО "АТС"'!$A$57:$F$800,6,FALSE)+HLOOKUP($DL$134,'[1]Сбытовая надбавка'!$F$5:$H$6,2,FALSE),2)+'[1]Иные услуги'!$C$6+HLOOKUP($DR$133,'[1]Услуги по передаче'!$G$5:$J$7,2,FALSE)) -> 4574.5 | EK146: =IF($A146="-","-",ROUND(VLOOKUP($A146+ROUND(LEFT(EK$136,2)/24,5),'[1]ОАО "АТС"'!$A$57:$F$800,6,FALSE)+HLOOKUP($DL$134,'[1]Сбытовая надбавка'!$F$5:$H$6,2,FALSE),2)+'[1]Иные услуги'!$C$6+HLOOKUP($DR$133,'[1]Услуги по передаче'!$G$5:$J$7,2,FALSE)) -> 4464.43 | EQ146: =IF($A146="-","-",ROUND(VLOOKUP($A146+ROUND(LEFT(EQ$136,2)/24,5),'[1]ОАО "АТС"'!$A$57:$F$800,6,FALSE)+HLOOKUP($DL$134,'[1]Сбытовая надбавка'!$F$5:$H$6,2,FALSE),2)+'[1]Иные услуги'!$C$6+HLOOKUP($DR$133,'[1]Услуги по передаче'!$G$5:$J$7,2,FALSE)) -> 4624.89
A147: =$A$111 -> 45576 | I147: =IF($A147="-","-",ROUND(VLOOKUP($A147+ROUND(LEFT(I$136,1)/24,5),'[1]ОАО "АТС"'!$A$57:$F$800,6,FALSE)+HLOOKUP($DL$134,'[1]Сбытовая надбавка'!$F$5:$H$6,2,FALSE),2)+'[1]Иные услуги'!$C$6+HLOOKUP($DR$133,'[1]Услуги по передаче'!$G$5:$J$7,2,FALSE)) -> 4491.82 | O147: =IF($A147="-","-",ROUND(VLOOKUP($A147+ROUND(LEFT(O$136,1)/24,5),'[1]ОАО "АТС"'!$A$57:$F$800,6,FALSE)+HLOOKUP($DL$134,'[1]Сбытовая надбавка'!$F$5:$H$6,2,FALSE),2)+'[1]Иные услуги'!$C$6+HLOOKUP($DR$133,'[1]Услуги по передаче'!$G$5:$J$7,2,FALSE)) -> 4471.61 | U147: =IF($A147="-","-",ROUND(VLOOKUP($A147+ROUND(LEFT(U$136,1)/24,5),'[1]ОАО "АТС"'!$A$57:$F$800,6,FALSE)+HLOOKUP($DL$134,'[1]Сбытовая надбавка'!$F$5:$H$6,2,FALSE),2)+'[1]Иные услуги'!$C$6+HLOOKUP($DR$133,'[1]Услуги по передаче'!$G$5:$J$7,2,FALSE)) -> 4466.84 | AA147: =IF($A147="-","-",ROUND(VLOOKUP($A147+ROUND(LEFT(AA$136,1)/24,5),'[1]ОАО "АТС"'!$A$57:$F$800,6,FALSE)+HLOOKUP($DL$134,'[1]Сбытовая надбавка'!$F$5:$H$6,2,FALSE),2)+'[1]Иные услуги'!$C$6+HLOOKUP($DR$133,'[1]Услуги по передаче'!$G$5:$J$7,2,FALSE)) -> 4466.83 | AG147: =IF($A147="-","-",ROUND(VLOOKUP($A147+ROUND(LEFT(AG$136,1)/24,5),'[1]ОАО "АТС"'!$A$57:$F$800,6,FALSE)+HLOOKUP($DL$134,'[1]Сбытовая надбавка'!$F$5:$H$6,2,FALSE),2)+'[1]Иные услуги'!$C$6+HLOOKUP($DR$133,'[1]Услуги по передаче'!$G$5:$J$7,2,FALSE)) -> 4466.79 | AM147: =IF($A147="-","-",ROUND(VLOOKUP($A147+ROUND(LEFT(AM$136,1)/24,5),'[1]ОАО "АТС"'!$A$57:$F$800,6,FALSE)+HLOOKUP($DL$134,'[1]Сбытовая надбавка'!$F$5:$H$6,2,FALSE),2)+'[1]Иные услуги'!$C$6+HLOOKUP($DR$133,'[1]Услуги по передаче'!$G$5:$J$7,2,FALSE)) -> 4481.69 | AS147: =IF($A147="-","-",ROUND(VLOOKUP($A147+ROUND(LEFT(AS$136,1)/24,5),'[1]ОАО "АТС"'!$A$57:$F$800,6,FALSE)+HLOOKUP($DL$134,'[1]Сбытовая надбавка'!$F$5:$H$6,2,FALSE),2)+'[1]Иные услуги'!$C$6+HLOOKUP($DR$133,'[1]Услуги по передаче'!$G$5:$J$7,2,FALSE)) -> 4474.76 | AY147: =IF($A147="-","-",ROUND(VLOOKUP($A147+ROUND(LEFT(AY$136,1)/24,5),'[1]ОАО "АТС"'!$A$57:$F$800,6,FALSE)+HLOOKUP($DL$134,'[1]Сбытовая надбавка'!$F$5:$H$6,2,FALSE),2)+'[1]Иные услуги'!$C$6+HLOOKUP($DR$133,'[1]Услуги по передаче'!$G$5:$J$7,2,FALSE)) -> 4632.53 | BE147: =IF($A147="-","-",ROUND(VLOOKUP($A147+ROUND(LEFT(BE$136,1)/24,5),'[1]ОАО "АТС"'!$A$57:$F$800,6,FALSE)+HLOOKUP($DL$134,'[1]Сбытовая надбавка'!$F$5:$H$6,2,FALSE),2)+'[1]Иные услуги'!$C$6+HLOOKUP($DR$133,'[1]Услуги по передаче'!$G$5:$J$7,2,FALSE)) -> 4465.92 | BK147: =IF($A147="-","-",ROUND(VLOOKUP($A147+ROUND(LEFT(BK$136,1)/24,5),'[1]ОАО "АТС"'!$A$57:$F$800,6,FALSE)+HLOOKUP($DL$134,'[1]Сбытовая надбавка'!$F$5:$H$6,2,FALSE),2)+'[1]Иные услуги'!$C$6+HLOOKUP($DR$133,'[1]Услуги по передаче'!$G$5:$J$7,2,FALSE)) -> 4569.49 | BQ147: =IF($A147="-","-",ROUND(VLOOKUP($A147+ROUND(LEFT(BQ$136,2)/24,5),'[1]ОАО "АТС"'!$A$57:$F$800,6,FALSE)+HLOOKUP($DL$134,'[1]Сбытовая надбавка'!$F$5:$H$6,2,FALSE),2)+'[1]Иные услуги'!$C$6+HLOOKUP($DR$133,'[1]Услуги по передаче'!$G$5:$J$7,2,FALSE)) -> 4593.34 | BW147: =IF($A147="-","-",ROUND(VLOOKUP($A147+ROUND(LEFT(BW$136,2)/24,5),'[1]ОАО "АТС"'!$A$57:$F$800,6,FALSE)+HLOOKUP($DL$134,'[1]Сбытовая надбавка'!$F$5:$H$6,2,FALSE),2)+'[1]Иные услуги'!$C$6+HLOOKUP($DR$133,'[1]Услуги по передаче'!$G$5:$J$7,2,FALSE)) -> 4580.02 | CC147: =IF($A147="-","-",ROUND(VLOOKUP($A147+ROUND(LEFT(CC$136,2)/24,5),'[1]ОАО "АТС"'!$A$57:$F$800,6,FALSE)+HLOOKUP($DL$134,'[1]Сбытовая надбавка'!$F$5:$H$6,2,FALSE),2)+'[1]Иные услуги'!$C$6+HLOOKUP($DR$133,'[1]Услуги по передаче'!$G$5:$J$7,2,FALSE)) -> 4543.2 | CI147: =IF($A147="-","-",ROUND(VLOOKUP($A147+ROUND(LEFT(CI$136,2)/24,5),'[1]ОАО "АТС"'!$A$57:$F$800,6,FALSE)+HLOOKUP($DL$134,'[1]Сбытовая надбавка'!$F$5:$H$6,2,FALSE),2)+'[1]Иные услуги'!$C$6+HLOOKUP($DR$133,'[1]Услуги по передаче'!$G$5:$J$7,2,FALSE)) -> 4524.54 | CO147: =IF($A147="-","-",ROUND(VLOOKUP($A147+ROUND(LEFT(CO$136,2)/24,5),'[1]ОАО "АТС"'!$A$57:$F$800,6,FALSE)+HLOOKUP($DL$134,'[1]Сбытовая надбавка'!$F$5:$H$6,2,FALSE),2)+'[1]Иные услуги'!$C$6+HLOOKUP($DR$133,'[1]Услуги по передаче'!$G$5:$J$7,2,FALSE)) -> 4543.8 | CU147: =IF($A147="-","-",ROUND(VLOOKUP($A147+ROUND(LEFT(CU$136,2)/24,5),'[1]ОАО "АТС"'!$A$57:$F$800,6,FALSE)+HLOOKUP($DL$134,'[1]Сбытовая надбавка'!$F$5:$H$6,2,FALSE),2)+'[1]Иные услуги'!$C$6+HLOOKUP($DR$133,'[1]Услуги по передаче'!$G$5:$J$7,2,FALSE)) -> 4551.3 | DA147: =IF($A147="-","-",ROUND(VLOOKUP($A147+ROUND(LEFT(DA$136,2)/24,5),'[1]ОАО "АТС"'!$A$57:$F$800,6,FALSE)+HLOOKUP($DL$134,'[1]Сбытовая надбавка'!$F$5:$H$6,2,FALSE),2)+'[1]Иные услуги'!$C$6+HLOOKUP($DR$133,'[1]Услуги по передаче'!$G$5:$J$7,2,FALSE)) -> 4532.41 | DG147: =IF($A147="-","-",ROUND(VLOOKUP($A147+ROUND(LEFT(DG$136,2)/24,5),'[1]ОАО "АТС"'!$A$57:$F$800,6,FALSE)+HLOOKUP($DL$134,'[1]Сбытовая надбавка'!$F$5:$H$6,2,FALSE),2)+'[1]Иные услуги'!$C$6+HLOOKUP($DR$133,'[1]Услуги по передаче'!$G$5:$J$7,2,FALSE)) -> 4529.71 | DM147: =IF($A147="-","-",ROUND(VLOOKUP($A147+ROUND(LEFT(DM$136,2)/24,5),'[1]ОАО "АТС"'!$A$57:$F$800,6,FALSE)+HLOOKUP($DL$134,'[1]Сбытовая надбавка'!$F$5:$H$6,2,FALSE),2)+'[1]Иные услуги'!$C$6+HLOOKUP($DR$133,'[1]Услуги по передаче'!$G$5:$J$7,2,FALSE)) -> 4637.65 | DS147: =IF($A147="-","-",ROUND(VLOOKUP($A147+ROUND(LEFT(DS$136,2)/24,5),'[1]ОАО "АТС"'!$A$57:$F$800,6,FALSE)+HLOOKUP($DL$134,'[1]Сбытовая надбавка'!$F$5:$H$6,2,FALSE),2)+'[1]Иные услуги'!$C$6+HLOOKUP($DR$133,'[1]Услуги по передаче'!$G$5:$J$7,2,FALSE)) -> 4702.9 | DY147: =IF($A147="-","-",ROUND(VLOOKUP($A147+ROUND(LEFT(DY$136,2)/24,5),'[1]ОАО "АТС"'!$A$57:$F$800,6,FALSE)+HLOOKUP($DL$134,'[1]Сбытовая надбавка'!$F$5:$H$6,2,FALSE),2)+'[1]Иные услуги'!$C$6+HLOOKUP($DR$133,'[1]Услуги по передаче'!$G$5:$J$7,2,FALSE)) -> 4653.21 | EE147: =IF($A147="-","-",ROUND(VLOOKUP($A147+ROUND(LEFT(EE$136,2)/24,5),'[1]ОАО "АТС"'!$A$57:$F$800,6,FALSE)+HLOOKUP($DL$134,'[1]Сбытовая надбавка'!$F$5:$H$6,2,FALSE),2)+'[1]Иные услуги'!$C$6+HLOOKUP($DR$133,'[1]Услуги по передаче'!$G$5:$J$7,2,FALSE)) -> 4564.57 | EK147: =IF($A147="-","-",ROUND(VLOOKUP($A147+ROUND(LEFT(EK$136,2)/24,5),'[1]ОАО "АТС"'!$A$57:$F$800,6,FALSE)+HLOOKUP($DL$134,'[1]Сбытовая надбавка'!$F$5:$H$6,2,FALSE),2)+'[1]Иные услуги'!$C$6+HLOOKUP($DR$133,'[1]Услуги по передаче'!$G$5:$J$7,2,FALSE)) -> 4464.13 | EQ147: =IF($A147="-","-",ROUND(VLOOKUP($A147+ROUND(LEFT(EQ$136,2)/24,5),'[1]ОАО "АТС"'!$A$57:$F$800,6,FALSE)+HLOOKUP($DL$134,'[1]Сбытовая надбавка'!$F$5:$H$6,2,FALSE),2)+'[1]Иные услуги'!$C$6+HLOOKUP($DR$133,'[1]Услуги по передаче'!$G$5:$J$7,2,FALSE)) -> 4599.43
...
