Workbook
Name Код_статуса: #NAME?

Sheet Титул
B2: Информация об организации
B4: Полное наименование | C4: Филиал Публичного Акционерного Общества"Россети Северного Кавказа"-"Дагэнерго"
B5: Сокращенное наименование | C5: Филиал ПАО "Россети Северного Кавказа"-"Дагэнерго"
B6: Место нахождения | C6: 357506,Ставропольский край , город Пятигорск,ул.Подстанцианная ,дом 13 "А"
B7: Фактический адрес | C7: 367700 Республика Дагестан , г.Махачкала,ул.Дахадаева 73 "А"
B8: ИНН | C8: 2632082033
B9: КПП | C9: 057243001
B10: Ф.И.О. руководителя | C10: Исполняющий обязанности директора филиала ПАО "Россети Северный Кавказ"-"Дагэнерго" Гаджиев Арсен Русланович
B11: Адрес электронной почты | C11: info@dag.rossetisk,ru
B12: Контактный телефон | C12: 8(8722)51-87-42,66-32-59
B13: Факс

Sheet 28а)ПР1
F1: Приложение № 1 к Методическим указаниям по определению размера платы за технологическое присоединение к электрическим сетям
A2: Расходы на строительство введенных в эксплуатацию объектов электросетевого хозяйства для целей технологического присоединения и для целей реализации иных мероприятий инвестиционной программы, а также на обеспечение средствами коммерческого учета электрической энергии (мощности) филиала ПАО "Россети Северный Кавказ" - "Дагэнерго" за 2021 - 2023 гг. (факт), план на 2025 год
A3: № п/п код ставки | B3: Объект электросетевого хозяйства/Средство коммерческого учета электрической энергии (мощности) | C3: Год ввода объекта | D3: Уровень напряжения, кВ | E3: Протяженность (для линий электропередачи), метров/Количество пунктов секционирования, штук/количество точек учета, штук | F3: Максимальная мощность, кВт | G3: Расходы на строительство объекта/на обеспечение средствами коммерческого учета электрической энергии (мощности), тыс. руб.
A4: 1 | B4: =A4+1 -> 2 | C4: =B4+1 -> 3 | D4: =C4+1 -> 4 | E4: =D4+1 -> 5 | F4: =E4+1 -> 6 | G4: =F4+1 -> 7
A5: 2 | B5: Строительство воздушных линий
A6: 2.1. | B6: Строительство воздушной линии на деревянных опорах
A7: 2.1.1. | B7: Тип провода - Изолированный
A8: 2.1.1.1. | B8: Материал провода - Медный
A9: 2.1.1.1.1 | B9: Сечение провода до 50 мм2 включительно
A10: 2.1.1.1.1.1 | B10: Однцепные
A11: 2.1.1.1.1.2 | B11: Двухцепные
A12: 2.1.1.1.2 | B12: Сечение провода от 50 мм2 до 100 мм2 включительно
A13: 2.1.1.1.2.1 | B13: Однцепные
A14: 2.1.1.1.2.2 | B14: Двухцепные
A15: 2.1.1.1.3 | B15: Сечение провода от 100 мм2 до 200 мм2 включительно
A16: 2.1.1.1.3.1 | B16: Однцепные
... A47: 2.1.1.3.1 | B47: Сечение провода до 50 мм2 включительно
A48: 2.1.1.3.1.1 | B48: Однцепные | E48: =E49 -> 1000 | G48: =G49 -> 1884.1917
A49: 2.1.1.3.1.1 | B49: Строительство ВЛ-0,4кВ СИП 35мм2 | C49: 2025 | D49: 0.4 | E49: 1000 | G49: =2261.03/1.2 -> 1884.1917
A50: 2.1.1.3.1.2 | B50: Двухцепные
A51: 2.1.1.3.2 | B51: Сечение провода от 50 мм2 до 100 мм2 включительно
A52: 2.1.1.3.2.1 | B52: Однцепные | E52: =SUM(E53:E55) -> 3000 | G52: =SUM(G53:G55) -> 6563.1917
A53: 2.1.1.3.2.1 | B53: Строительство ВЛ-0,4кВ СИП 50мм2 | C53: 2025 | D53: 0.4 | E53: 1000 | G53: =2524.45/1.2 -> 2103.7083
A54: 2.1.1.3.2.1 | B54: Строительство ВЛ-0,4кВ СИП 70мм2 | C54: 2025 | D54: 0.4 | E54: 1000 | G54: =2655.53/1.2 -> 2212.9417
A55: 2.1.1.3.2.1 | B55: Строительство ВЛ-0,4кВ СИП 95мм2 | C55: 2025 | D55: 0.4 | E55: 1000 | G55: =2695.85/1.2 -> 2246.5417
A56: 2.1.1.3.2.2 | B56: Двухцепные
A57: 2.1.1.3.3 | B57: Сечение провода от 100 мм2 до 200 мм2 включительно
A58: 2.1.1.3.3.1 | B58: Однцепные
A59: 2.1.1.3.3.2 | B59: Двухцепные
A60: 2.1.1.3.4 | B60: Сечение провода от 200 мм2 до 500 мм2 включительно
A61: 2.1.1.3.4.1 | B61: Однцепные
A62: 2.1.1.3.4.2 | B62: Двухцепные
A63: 2.1.1.3.5 | B63: Сечение провода от 500 мм2 до 800 мм2 включительно
A64: 2.1.1.3.5.1 | B64: Однцепные
A65: 2.1.1.3.5.2 | B65: Двухцепные
A66: 2.1.1.3.6 | B66: Сечение провода свыше 800 мм4
A67: 2.1.1.3.6.1 | B67: Однцепные
... A131: 2.1.2.3.2 | B131: Сечение провода от 50 мм2 до 100 мм2 включительно
A132: 2.1.2.3.2.1 | B132: Однцепные | E132: =SUM(E133:E135) -> 3000 | G132: =SUM(G133:G135) -> 7133.75
A133: 2.1.2.3.2.1 | B133: Строительство ВЛ-6/10 кВ (АС-50) | C133: 2025 | D133: 10 | E133: 1000 | G133: =2766.6/1.2 -> 2305.5
A134: 2.1.2.3.2.1 | B134: Строительство ВЛ-6/10 кВ (АС-70) | C134: 2025 | D134: 10 | E134: 1000 | G134: =2820.39/1.2 -> 2350.325
A135: 2.1.2.3.2.1 | B135: Строительство ВЛ-6/10 кВ (АС-95) | C135: 2025 | D135: 10 | E135: 1000 | G135: =2973.51/1.2 -> 2477.925
A136: 2.1.2.3.2.2 | B136: Двухцепные
A137: 2.1.2.3.3 | B137: Сечение провода от 100 мм2 до 200 мм2 включительно
A138: 2.1.2.3.3.1 | B138: Однцепные
A139: 2.1.2.3.3.2 | B139: Двухцепные
A140: 2.1.2.3.4 | B140: Сечение провода от 200 мм2 до 500 мм2 включительно
A141: 2.1.2.3.4.1 | B141: Однцепные
A142: 2.1.2.3.4.2 | B142: Двухцепные
A143: 2.1.2.3.5 | B143: Сечение провода от 500 мм2 до 800 мм2 включительно
A144: 2.1.2.3.5.1 | B144: Однцепные
A145: 2.1.2.3.5.2 | B145: Двухцепные
A146: 2.1.2.3.6 | B146: Сечение провода свыше 800 мм4
A147: 2.1.2.3.6.1 | B147: Однцепные
... A556: 2.3.1.3.1 | B556: Сечение провода до 50 мм2 включительно
A557: 2.3.1.3.1.1 | B557: Однцепные | E557: =SUM(E558:E578) -> 16722 | F557: =SUM(F558:F578) -> 6847 | G557: =SUM(G558:G578) -> 40592.73
A558: 2.3.1.3.1.1 | B558: Строительство отпайки ВЛ-10 кВ от ф№13 пс 110 кВ Восточная | C558: 2021 | D558: 10 | E558: 450 | F558: 136 | G558: 3394.8
A559: 2.3.1.3.1.1 | B559: Строительство отпайки ВЛ-10 кВ от ф№13 пс 110 кВКомпас | C559: 2021 | D559: 10 | E559: 65 | F559: 53 | G559: 379.84
A560: 2.3.1.3.1.1 | B560: Строительство ВЛ-10 кВ от Ф№1 пс35 Первомайская | C560: 2021 | D560: 10 | E560: 160 | F560: 136 | G560: 592.98
A561: 2.3.1.3.1.1 | B561: Строительство отпайки ВЛ-10 кВ от Ф№33 пс 110 кв Восточная | C561: 2021 | D561: 10 | E561: 475 | F561: 72 | G561: 916.59
A562: 2.3.1.3.1.1 | B562: Строительство ВЛ-10 кВ от Ф33 пс 35 кВ Сулак | C562: 2021 | D562: 10 | E562: 360 | F562: 136 | G562: 994.34
A563: 2.3.1.3.1.1 | B563: Строительство отпайки ВЛ-10 кв от Ф№2 пс Дженгутай | C563: 2021 | D563: 10 | E563: 2450 | F563: 68 | G563: 3743.12
A564: 2.3.1.3.1.1 | B564: Строительство отпайки ВЛ-6 кВ от Ф-42 п/с ГПП до границы земельного участка ДОО по ул. Азиза Алиева д№ 32 г.Махачкала | C564: 2021 | D564: 6 | E564: 165 | F564: 107 | G564: 945.89
A565: 2.3.1.3.1.1 | B565: Строительство ВЛ-6 кВ от Ф№5 пс 110 кВ Буйнакск-2 | C565: 2021 | D565: 10 | E565: 200 | F565: 160 | G565: 522.6
A566: 2.3.1.3.1.1 | B566: Строительство ВЛ-10 кв от Ф8 пс35 Параул | C566: 2021 | D566: 10 | E566: 3510 | F566: 68 | G566: 4678.7
A567: 2.3.1.3.1.1 | B567: Строительство ВЛ-10 кВ от Ф№1 пс 35 Новокули | C567: 2021 | D567: 10 | E567: 4060 | F567: 400 | G567: 9782.62
A568: 2.3.1.3.1.1 | B568: Отпайка ВЛ-6 кв от Ф№2 пс 110 Изберг-Южная | C568: 2021 | D568: 6 | E568: 229 | F568: 190 | G568: 1285.1
A569: 2.3.1.3.1.1 | B569: Строительство ВЛ 6 кВ от Ф№2 пс Изберг-Южная по ул.Морская | C569: 2021 | D569: 6 | E569: 206 | F569: 151 | G569: 963.21
... A571: 2.3.1.3.1.1 | B571: Строительство отпайки ВЛ-6 кВ от Ф№7 пс 330 кВ Дербент | C571: 2021 | D571: 6 | E571: 212 | F571: 430 | G571: 731.06
A572: 2.3.1.3.1.1 | B572: Строительство отпайки ВЛ-10 кВ от Ф№2 пс 110 кВ Морская ТУ№12751/2021/ДЭ/МАГАРЭС Росграница КПП Яраг-Казмаляр | C572: 2022 | D572: 10 | E572: =2.81*1000 -> 2810 | F572: 900 | G572: 7149.37
A573: 2.3.1.3.1.1 | B573: Строительство отпайки ВЛ-10 кВ от Ф№9 пс 110/35/10 кВ Бабаюрт ТУ№25641/2020/ДГ/БАБАРЭС до границы зем.участка радиопередающего центра с.Бабаюрт | C573: 2022 | D573: 10 | E573: =0.157*1000 -> 157 | F573: 32 | G573: 633.03
A574: 2.3.1.3.1.1 | B574: Строительство отпайки ВЛ-10 кВ от Ф№2 пс 110/10 кВ Магарамкент ТУ№11019/2021/ДЭ/МАГАРЭС до границы зем.участка Система водоснабжения с.Мугерган,Магарамкентского р-на | C574: 2022 | D574: 10 | E574: 21 | F574: 58 | G574: 328.25
A575: 2.3.1.3.1.1 | B575: Строительство отпайки ВЛ-10 кВ от Ф№2 пс 110/10 кВ Стальская ТУ№5817/15 от 28.09.2018г. до КТП "для электроснабжения населения с.Стальское,Кизилюртовского р-на" | C575: 2022 | D575: 10 | E575: 423 | F575: 640 | G575: 901.39
A576: 2.3.1.3.1.1 | B576: Строительство ВЛ-0,4 кВ с.Яруквалар, Магарамкентского р-на, от опоры№12,КТП-19/63 кВА Ф-4 ПС 110/10 Оружба .ТУ№ 6119/2021/ДЭ/МАГАРЭС жилой дом | C576: 2022 | D576: 0.4 | E576: =0.601*1000 -> 601 | F576: 15 | G576: 758.62
A577: 2.3.1.3.1.1 | B577: Строительство ВЛ-0,4 кВ с. Верхнее Инхо Гумбетовский район,от опоры №10,КТП-11/630 еВА Ф№1п/с Тлох ТУ 11850/2021г/ДЭ/ГУМБРЭС"Бактерицидная установка" | C577: 2022 | D577: 0.4 | E577: 53 | F577: 15 | G577: 127.41
A578: 2.3.1.3.1.1 | B578: Строительство ВЛ-6 кВот п/с Дербент-Западная 110/6 кВ от Ф№2,Ф№15 (дворец спорта) | C578: 2023 | D578: 6 | E578: 33 | F578: 2830 | G578: 1080.52
A579: 2.3.1.3.1.2 | B579: Двухцепные
A580: 2.3.1.3.2 | B580: Сечение провода от 50 мм2 до 100 мм2 включительно
A581: 2.3.1.3.2.1 | B581: Однцепные | E581: =SUM(E582:E607) -> 24180 | F581: =SUM(F582:F607) -> 3910.93 | G581: =SUM(G582:G607) -> 56020.725
A582: 2.3.1.3.2.1 | B582: Строительство ВЛ-10 кВ от Ф№27 пс 110 Компас | C582: 2021 | D582: 10 | E582: 176 | F582: 107 | G582: 624.96
A583: 2.3.1.3.2.1 | B583: Строительство отпайки ВЛ-10 кВ от ф№1 п/с 35 кВ Унцукуль | C583: 2021 | D583: 10 | E583: 86 | F583: 136 | G583: 542.57
A584: 2.3.1.3.2.1 | B584: Строительство ВЛ-10 кВ от Ф№14 пс 110 Восточная | C584: 2021 | D584: 10 | E584: 1550 | F584: 73 | G584: 2212.96
A585: 2.3.1.3.2.1 | B585: Строительство отпайки ВЛ-10 кВ от Ф№1 пс 110 кВ Сергокала | C585: 2021 | D585: 10 | E585: 1500 | F585: 136 | G585: 3182.86
A586: 2.3.1.3.2.1 | B586: Строительство ВЛ 10 кВ Ф3 пс 110 Каякент | C586: 2021 | D586: 10 | E586: 763 | F586: 145 | G586: 1929.61
A587: 2.3.1.3.2.1 | B587: Строительство отпайки ВЛ-10 кВ отФ№4 пс 110 Сергокала | C587: 2021 | D587: 10 | E587: 146 | F587: 68 | G587: 723.13
A588: 2.3.1.3.2.1 | B588: Строительство ВЛ -10 кВ от Ф№22 от пс 110 кВ Изберг-Северная | C588: 2021 | D588: 10 | E588: =1530+160 -> 1690 | F588: 21.25 | G588: 5637.96
A589: 2.3.1.3.2.1 | B589: Строительство отпайки ВЛ-10 кВ от Ф№3 пс 110 кВ Цудахар | C589: 2021 | D589: 10 | E589: 4630 | F589: 56.68 | G589: 8073.69
A590: 2.3.1.3.2.1 | B590: Отпайка ВЛ-10 кВ от Ф№1 пс35 Тепличный комбинат | C590: 2021 | D590: 10 | E590: 243 | F590: 250 | G590: 766.49
A591: 2.3.1.3.2.1 | B591: Отпайка 10 кВ от ВЛ 10 кВ Ф№12 пс 110 Изберг-Северная | C591: 2021 | D591: 10 | E591: =391+112 -> 503 | F591: 151 | G591: 1187.28
A592: 2.3.1.3.2.1 | B592: Строительство отпайки 10 кВ от Ф32 пс35 Андрейаул | C592: 2021 | D592: 10 | E592: =772+7 -> 779 | F592: 235 | G592: 1939.14
A593: 2.3.1.3.2.1 | B593: Отпайка ВЛ-10 кВ от Ф№3 пс 35 Дмитрово | C593: 2021 | D593: 10 | E593: =192+10+41 -> 243 | F593: 400 | G593: 680.44
A594: 2.3.1.3.2.1 | B594: отпайка ВЛ-10 кВ от Ф№3 пс 35 кВ Карланюрт - Тяговая | C594: 2021 | D594: 10 | E594: =1385+200 -> 1585 | F594: 176 | G594: 4067.02
A595: 2.3.1.3.2.1 | B595: Отпайка ВЛ-10 кВ от ф№8 пс110 кВ Шамхал | C595: 2021 | D595: 10 | E595: 821 | F595: 235 | G595: 2788.57
A596: 2.3.1.3.2.1 | B596: Строительство отпайки ВЛ-10 кВ от Ф№23 пс 110 кВ Махачала-110 | C596: 2021 | D596: 10 | E596: 101 | F596: 95 | G596: 364.69
A597: 2.3.1.3.2.1 | B597: строительство отпайки ВЛ-10 кВотФ№3 пс 110 кВ Согратль | C597: 2021 | D597: 10 | E597: 400 | F597: 95 | G597: 1046.41
A598: 2.3.1.3.2.1 | B598: строительство отпайки ВЛ-10 кВ от ВЛ-10 кВ Ф-9 ПС 110 кВ Махачкала 110 | C598: 2021 | D598: 10 | E598: 1700 | F598: 190 | G598: 3073.58
A599: 2.3.1.3.2.1 | B599: отпайка ВЛ-10 кВ от Ф№3 пс35 Дмитрова | C599: 2021 | D599: 10 | E599: 223 | F599: 235 | G599: 442.12
A600: 2.3.1.3.2.1 | B600: отпайка ВЛ-6 кВ от Ф-1 пс110 кВ Изберг-Южная | C600: 2021 | D600: 10 | E600: =480+35 -> 515 | F600: 190 | G600: 2443.42
A601: 2.3.1.3.2.1 | B601: Строительство отпайки ВЛ-10 кВ от Ф2 пс110 кВ Шамхал | C601: 2021 | D601: 10 | E601: 140 | F601: 160 | G601: 556.93
A602: 2.3.1.3.2.1 | B602: Строительство отпайки ВЛ-10 кВ от ВЛ-10 кВ Ф№23 п/с 110 кВ Махачкала | C602: 2021 | D602: 10 | E602: 1386 | F602: 230 | G602: 2857.31
...

Sheet 28а)РТУ ПР2
F1: Приложение N 2
F2: к Методическим указаниям
F3: по определению размера платы
F4: за технологическое присоединение
F5: к электрическим сетям
A6: Расходы на выполнение мероприятий по технологическому присоединению, предусмотренных подпунктами "а" и "в" пункта 16 Методических указаний по филиалу ПАО "Россети Северный Кавказ"-"Дагэнерго" за 2023 год
A7: N п/п | B7: Наименование мероприятий | C7: Информация для расчета стандартизированной тарифной ставки С1 | F7: Расходы на одно присоединение (руб. на одно ТП)
C8: Расходы по каждому мероприятию (руб.) | D8: Количество технологических присоединений (шт.) | E8: Объем максимальной мощности (кВт)
A9: 1 | B9: 2 | C9: 3 | D9: 4 | E9: 5 | F9: 6
A10: 1. | B10: Подготовка и выдача сетевой организацией технических условий Заявителю | C10: 9360624.7 | D10: 4190 | E10: 38422.24 | F10: 2234.0393
A11: 2. | B11: Проверка сетевой организацией выполнения технических условий Заявителем
A12: 2.1. | B12: Выдача сетевой организацией уведомления об обеспечении сетевой организацией возможности присоединения к электрическим сетям Заявителям, указанным в абзаце шестом пункта 24 Методических указаний по определению размера платы за технологическое присоединение к электрическим сетям | C12: 1672985.8 | D12: 2619 | E12: 20499.24 | F12: 638.78799
A13: 2.2. | B13: Проверка сетевой организацией выполнения технических условий Заявителями, указанными в абзаце седьмом пункта 24 Методических указаний по определению размера платы за технологическое присоединение к электрическим сетям | C13: 3921389.6 | D13: 1571 | E13: 17923 | F13: 2496.1105
A14: Расходы на выполнение мероприятий по технологическому присоединению, предусмотренных подпунктами "а" и "в" пункта 16 Методических указаний по филиалу ПАО "Россети Северный Кавказ"-"Дагэнерго" за 2022 год
A15: N п/п | B15: Наименование мероприятий | C15: Информация для расчета стандартизированной тарифной ставки С1 | F15: Расходы на одно присоединение (руб. на одно ТП)
C16: Расходы по каждому мероприятию (руб.) | D16: Количество технологических присоединений (шт.) | E16: Объем максимальной мощности (кВт)
A17: 1 | B17: 2 | C17: 3 | D17: 4 | E17: 5 | F17: 6
A18: 1. | B18: Подготовка и выдача сетевой организацией технических условий Заявителю | C18: 3133276 | D18: 4870 | E18: 52916.59 | F18: 643.38317
A19: 2. | B19: Проверка сетевой организацией выполнения технических условий Заявителем | C19: 1145724 | D19: 4870 | E19: 52916.59 | F19: 235.2616
A20: 2.1. | B20: Выдача сетевой организацией уведомления об обеспечении сетевой организацией возможности присоединения к электрическим сетям Заявителям, указанным в абзаце шестом пункта 24 Методических указаний по определению размера платы за технологическое присоединение к электрическим сетям | C20: 89154.734 | D20: 4737 | E20: 42695.54 | F20: 18.820928
A21: 2.2. | B21: Проверка сетевой организацией выполнения технических условий Заявителями, указанными в абзаце седьмом пункта 24 Методических указаний по определению размера платы за технологическое присоединение к электрическим сетям | C21: 28786.609 | D21: 133 | E21: 10221.05 | F21: 216.44067
A22: Расходы на выполнение мероприятий по технологическому присоединению, предусмотренных подпунктами "а" и "в" пункта 16 Методических указаний по филиалу ПАО "Россети Северный Кавказ"-"Дагэнерго" за 2021 год
A23: N п/п | B23: Наименование мероприятий | C23: Информация для расчета стандартизированной тарифной ставки С1 | F23: Расходы на одно присоединение (руб. на одно ТП)
C24: Расходы по каждому мероприятию (руб.) | D24: Количество технологических присоединений (шт.) | E24: Объем максимальной мощности (кВт)
A25: 1 | B25: 2 | C25: 3 | D25: 4 | E25: 5 | F25: 6
A26: 1. | B26: Подготовка и выдача сетевой организацией технических условий Заявителю | C26: 2296113.1 | D26: 9733 | E26: 121076.85 | F26: 235.91011
A27: 2. | B27: Проверка сетевой организацией выполнения технических условий Заявителем | C27: 2017666.8 | D27: 9733 | E27: 121076.85 | F27: 207.30164
A28: 2.1. | B28: Выдача сетевой организацией уведомления об обеспечении сетевой организацией возможности присоединения к электрическим сетям Заявителям, указанным в абзаце шестом пункта 24 Методических указаний по определению размера платы за технологическое присоединение к электрическим сетям | C28: 154580.69 | D28: 9321 | E28: 85015.43 | F28: 16.584131
A29: 2.2. | B29: Проверка сетевой организацией выполнения технических условий Заявителями, указанными в абзаце седьмом пункта 24 Методических указаний по определению размера платы за технологическое присоединение к электрическим сетям | C29: 78575.613 | D29: 412 | E29: 36061.415 | F29: 190.71751

Sheet 28 б) reshenie_tarif_2023
A1: Информация о решении органа исполнительной власти субъекта Российской Федерации в области государственного регулирования тарифов об установлении единых для всех территориальных сетевых организаций на территории субъекта Российской Федерации стандартизированных тарифных ставок, определяющих величину платы за технологическое присоединение к электрическим сетям территориальных сетевых организаций
A2: № | B2: Вид документа | C2: Наименование документа | D2: Реквизиты решения
A3: 1 | B3: Приказ от 25 ноября 2022 № 45-ОД-206/22 | C3: Об установлении платы и формул платы за технологическое присоединение к электрическим сетям территориальных сетевых организаций Республики Дагестан, в отношении которых осуществляется государственное регулирование тарифов | D3: от 25 ноября 2022 № 45-ОД-206/22
A4: 2 | B4: Приказ от 19 декабря 2023 № 45-ОД-294/23 | C4: Об установлении платы и формул платы за технологическое присоединение к электрическим сетям территориальных сетевых организаций Республики Дагестан, в отношении которых осуществляется государственное регулирование тарифов | D4: от 19 декабря 2023 № 45-ОД-294/23

Sheet 28 г) srednie_dannie_dline_VL
D1: Приложение 3
D2: к стандартам раскрытия информации субъектами оптового и розничных рынков электрической энергии
B3: ИНФОРМАЦИЯ
B4: о фактических средних данных о длине линий электропередачи
B5: и об объемах максимальной мощности построенных объектов
B6: за 3 предыдущих года по каждому мероприятию
C7: Расходы на строительство воздушных и кабельных линий электропередачи на i-м уровне напряжения, фактически построенных за последние 3 года (тыс. рублей) | D7: Длина воздушных и кабельных линий электропередачи на i-м уровне напряжения, фактически построенных за последние 3 года (км) | E7: Объем максимальной мощности, присоединенной путем строительства воздушных или кабельных линий за последние 3 года (кВт)
A8: 1. | B8: Строительство кабельных линий электропередачи:
B9: 0,4 кВ
B10: 1 - 20 кВ | C10: ='28а)ПР1'!G3707 -> 108343.02 | D10: ='28а)ПР1'!E3707/1000 -> 0.42876 | E10: ='28а)ПР1'!F3707 -> 3261.5
B11: 35 кВ
A12: 2. | B12: Строительство воздушных линий электропередачи:
B13: 0,4 кВ | C13: ='28а)ПР1'!G3703 -> 886.03 | D13: ='28а)ПР1'!E3703/1000 -> 0.654 | E13: ='28а)ПР1'!F3703 -> 30
B14: 1 - 20 кВ | C14: ='28а)ПР1'!G3704 -> 84847.84 | D14: ='28а)ПР1'!E3704/1000 -> 35.248 | E14: ='28а)ПР1'!F3704 -> 10201.93
B15: 35 кВ

Sheet 28 в) srednie_dannie_fact_mosh
C1: Приложение 2
C2: к стандартам раскрытия информации субъектами оптового и розничных рынков электрической энергии
B3: ИНФОРМАЦИЯ
B4: о фактических средних данных о присоединенных объемах
B5: максимальной мощности за 3 предыдущих года
B6: по каждому мероприятию
C7: Фактические расходы на строительство подстанций за 3 предыдущих года (тыс. рублей) | D7: Объем мощности, введенной в основные фонды за 3 предыдущих года (кВт)
A8: 1. | B8: Строительство пунктов секционирования (распределенных пунктов) | C8: ='28а)ПР1'!G3708 -> 3890.994 | D8: ='28а)ПР1'!F3708 -> 598.5
A9: 2. | B9: Строительство комплектных трансформаторных подстанций и распределительных трансформаторных подстанций с уровнем напряжения до 35 кВ | C9: ='28а)ПР1'!G3710 -> 646.05 | D9: ='28а)ПР1'!F3710 -> 148.8
A10: 3. | B10: Строительство центров питания и подстанций уровнем напряжения 35 кВ и выше

Sheet 28)info_TP_2023
I1: Приложение 4
I2: к стандартам раскрытия информации субъектами оптового и розничных рынков электрической энергии
B3: ИНФОРМАЦИЯ
B4: об осуществлении технологического присоединения
B5: по договорам, заключенным за 6 месяцев 2024 года
A6: Категория заявителей | C6: Количество договоров (штук) | F6: Максимальная мощность (кВт) | I6: Стоимость договоров (без НДС) (тыс. рублей)
C7: 0,4 кВ | D7: 1 - 20 кВ | E7: 35 кВ и выше | F7: 0,4 кВ | G7: 1 - 20 кВ | H7: 35 кВ и выше | I7: 0,4 кВ | J7: 1 - 20 кВ | K7: 35 кВ и выше
A8: 1. | B8: До 15 кВт - всего | C8: 1789 | D8: 10 | E8: 0 | F8: 12317.48 | G8: 85 | H8: 0 | I8: 21543.936 | J8: 592.85833 | K8: 0
B9: в том числе льготная категория <*>
A10: 2. | B10: От 15 до 150 кВт - всего | C10: 23 | D10: 12 | E10: 0 | F10: 965 | G10: 965 | H10: 0 | I10: 1178.531 | J10: 3279.5711 | K10: 0
B11: в том числе льготная категория <**>
A12: 3. | B12: От 150 кВт до 670 кВт - всего | C12: 0 | D12: 1 | E12: 0 | F12: 0 | G12: 600 | H12: 0 | I12: 0 | J12: 405.84821 | K12: 0
B13: в том числе по индивидуальному проекту
A14: 4. | B14: От 670 кВт - всего | C14: 0 | D14: 7 | E14: 0 | F14: 0 | G14: 14519.74 | H14: 0 | I14: 0 | J14: 61418.639 | K14: 0
B15: в том числе по индивидуальному проекту
A17: <*> Заявители, оплачивающие технологическое присоединение своих энергопринимающих устройств в размере не более 550 рублей.
A19: <**> Заявители - юридические лица или индивидуальные предприниматели, заключившие договор об осуществлении технологического присоединения по одному источнику электроснабжения энергопринимающих устройств максимальной мощностью свыше 15 и до 150 кВт включительно (с учетом ранее присоединенных энергопринимающих устройств), у которых в договоре предусматривается беспроцентная рассрочка платежа за технологическое присоединение в размере 95 процентов платы за технологическое присоединение с условием ежеквартального внесения платы равными долями от общей суммы рассрочки до 3 лет со дня подписания сторонами акта об осуществлении технологического присоединения.

Sheet 28e)info_zayavki_TP_2023
F1: Приложение 5
F2: к стандартам раскрытия информации субъектами оптового и розничных рынков электрической энергии
B3: ИНФОРМАЦИЯ
B4: о поданных заявках на технологическое присоединение
B5: за за 6 месяцев 2024 года
A6: Категория заявителей | C6: Количество заявок (штук) | F6: Максимальная мощность (кВт)
C7: 0,4 кВ | D7: 1 - 20 кВ | E7: 35 кВ и выше | F7: 0,4 кВ | G7: 1 - 20 кВ | H7: 35 кВ и выше
A8: 1. | B8: До 15 кВт - всего | C8: 2934 | D8: 22 | E8: 0 | F8: 20422.029 | G8: 222 | H8: 0
B9: в том числе льготная категория <*>
A10: 2. | B10: От 15 до 150 кВт - всего | C10: 92 | D10: 45 | E10: 0 | F10: 5413 | G10: 4332 | H10: 0
B11: в том числе льготная категория <**>
A12: 3. | B12: От 150 кВт до 670 кВт - всего | C12: 3 | D12: 39 | E12: 0 | F12: 565 | G12: 15222 | H12: 0
B13: в том числе по индивидуальному проекту
A14: 4. | B14: От 670 кВт - всего | C14: 0 | D14: 14 | E14: 0 | F14: 0 | G14: 28163.14 | H14: 0
B15: в том числе по индивидуальному проекту
A17: <*> Заявители, оплачивающие технологическое присоединение своих энергопринимающих устройств в размере не более 550 рублей.
A19: <**> Заявители - юридические лица или индивидуальные предприниматели, заключившие договор об осуществлении технологического присоединения по одному источнику электроснабжения энергопринимающих устройств максимальной мощностью свыше 15 и до 150 кВт включительно (с учетом ранее присоединенных энергопринимающих устройств), у которых в договоре предусматривается беспроцентная рассрочка платежа за технологическое присоединение в размере 95 процентов платы за технологическое присоединение с условием ежеквартального внесения платы равными долями от общей суммы рассрочки до 3 лет со дня подписания сторонами акта об осуществлении технологического присоединения.
