Workbook
Name Код_статуса: '[1]Статусы ТП'!$A$2:$A$12

Sheet Титул
B2: Информация об организации
B4: Полное наименование | C4: Филиал Публичного Акционерного Общества «Россети Северный Кавказ» - «Ставропольэнерго»
B5: Сокращенное наименование | C5: Филиал ПАО «Россети Северный Кавказ» - «Ставропольэнерго»
B6: Место нахождения | C6: ул. Университетская, 35, г. Пятигорск, Ставропольский край, 357500
B7: Фактический адрес | C7: ул. Университетская, 35, г. Пятигорск, Ставропольский край, 357500
B8: ИНН | C8: 2632082033
B9: КПП | C9: 263243001
B10: Ф.И.О. руководителя | C10: Демчак Игорь Вячеславович
B11: Адрес электронной почты | C11: info@stv.rossetisk.ru
B12: Контактный телефон | C12: (8793) 39-23-53, (8793) 36-35-86
B13: Факс | C13: (8793) 97-35-02

Sheet 28а) ПР1
F1: Приложение № 1 к Методическим указаниям по определению размера платы за технологическое присоединение к электрическим сетям
A2: Расходы на строительство введенных в эксплуатацию объектов электросетевого хозяйства для целей технологического присоединения и для целей реализации иных мероприятий инвестиционной программы, а также на обеспечение средствами коммерческого учета электрической энергии (мощности) филиала ПАО "Россети Северный Кавказ" - "Ставропольэнерго" за 2021 - 2023 гг.
A3: код ставки | B3: Объект электросетевого хозяйства/Средство коммерческого учета электрической энергии (мощности) | C3: Год ввода объекта | D3: Уровень напряжения, кВ | E3: Протяженность (для линий электропередачи), метров/Количество пунктов секционирования, штук/количество точек учета, штук | F3: Максимальная мощность, кВт | G3: Расходы на строительство объекта/на обеспечение средствами коммерческого учета электрической энергии (мощности), тыс. руб.
A4: 1 | B4: =A4+1 -> 2 | C4: =B4+1 -> 3 | D4: =C4+1 -> 4 | E4: =D4+1 -> 5 | F4: =E4+1 -> 6 | G4: =F4+1 -> 7
A5: 2 | B5: Строительство воздушных линий
A6: 2.2 | B6: Материал опоры - Металлические
A7: 2.2.1 | B7: Тип провода - Изолированный
A8: 2.2.1.3 | B8: Материал провода - Сталеалюминиевый
A9: 2.2.1.3.3 | B9: Сечение провода от 100 мм2 до 200 мм2 включительно
A10: 2.2.1.3.3.1.1 | B10: Однцепные, за исключением многогранных опорах | D10: =SUM(D11) -> 110 | E10: =SUM(E11) -> 60 | F10: =SUM(F11) -> 3000 | G10: =SUM(G11) -> 1387.5681
A11: 2.2.1.3.3.1.1 | B11: Реконструкция ВЛ-110кВ ПС"НС-11П"-ПС"НС-9П"-"НС-14" для тех. присоединения ЭПУ системы орошения, расположенных по адресу: Ставропольский край, Петровский район, с. Гофицкое | C11: 2022 | D11: 110 | E11: 60 | F11: 3000 | G11: 1387.5681
A12: 2.2.2 | B12: Тип провода - Неизолированный
A13: 2.2.2.3 | B13: Материал провода - Сталеалюминиевый
A14: 2.2.2.3.2 | B14: Сечение провода от 50 мм2 до 100 мм2 включительно
A15: 2.2.2.3.2.1.1 | B15: Однцепные, за исключением многогранных опорах | D15: =SUM(D16) -> 35 | E15: =SUM(E16) -> 648 | F15: =SUM(F16) -> 9000 | G15: =SUM(G16) -> 8357.834
A16: 2.2.2.3.2.1.1 | B16: Строительство BЛ 35 кВ от BЛ 35 кВ Терская - Кара-Тюбе (Л-560) до границы земельного участка ООО «ЭнергоМИН» для осуществления технологического присоединения энергопринимающих устройств Горько-Балковской Малой ГЭС в Нефтекумском районе Ставропольского края» для нужд филиала ПАО «Россети Северный Кавказ» - «Ставропольэнерго» | C16: 2021 | D16: 35 | E16: 648 | F16: 9000 | G16: 8357.834
A17: 2.2.2.3.3 | B17: Сечение провода от 100 мм2 до 200 мм2 включительно
A18: 2.2.2.3.3.1.1 | B18: Однцепные, за исключением многогранных опорах | D18: =D19 -> 110 | E18: =SUM(E19) -> 360 | F18: =SUM(F19) -> 60000 | G18: =SUM(G19) -> 5397.5997
A19: 2.2.2.3.3.1.1 | B19: Строительство ВЛ 110 кВ от опоры № 105 ВЛ 110 кВ Новоалександровская - Красная Заря (Л-260) до РУ 110 кВ Кармалиновской ВЭС, техническое перевооружение ПС 110 кВ Новоалександровская и ПС 110 кВ Красная Заря для технологического присоединения объектов по производству электрической энергии Акционерного общества «Ветроэнергетическая Отдельная Генерирующая Компания» (Кармалиновская ВЭС) «под ключ» | C19: 2021 | D19: 110 | E19: 360 | F19: 60000 | G19: 5397.5997
A20: 2.2.2.3.3.2.1 | B20: Двухцепные, за исключением многогранных опорах | D20: =D21 -> 110 | E20: =SUM(E21) -> 2165.6 | F20: =SUM(F21) -> 120000 | G20: =SUM(G21) -> 54779.47
A21: 2.2.2.3.3.2.1 | B21: Реконструкция ВЛ 110 кВ Николина Балка – Ипатово (Л-53) в части строительства заходов на Бондаревскую ВЭС, включая реконструкцию ПС 110 кВ Светлоград, ПС 110 кВ Ипатово и ПС 110 кВ Николина Балка, для технологического присоединения объектов по производству электрической энергии АО «Ветроэнергетическая отдельная генерирующая компания» | C21: 2021 | D21: 110 | E21: 2165.6 | F21: 120000 | G21: 54779.47
A22: 2.3 | B22: Материал опоры - Железобетонные
A23: 2.3.1. | B23: Тип провода Изолированный
A24: 2.3.1.4. | B24: Материал провода - Алюминиевый
A25: 2.3.1.4.1 | B25: Сечение провода до 50 мм2 включительно
A26: 2.3.1.4.1.1 | B26: Одноцепные | E26: =SUM(E27:E739) -> 133041.71 | F26: =SUM(F27:F739) -> 24927.6 | G26: =SUM(G27:G739) -> 170731.52
A27: 2.3.1.4.1.1 | B27: Реконструкция ВЛ-10 кВ Ф-123 ПС 35/10 кВ «Марьинская», строительство ТП-10/0,4 кВ и ЛЭП-0,4кВ, для осуществления технологического присоединения энергопринимающих устройств коровника находящегося примерно 3 км по направлению на северо-восток от ориентира СХП «Марьинское» Кировского района | C27: 2021 | D27: 0.4 | E27: 10 | F27: 15 | G27: 36.9034
A28: 2.3.1.4.1.1 | B28: «Реконструкция ВЛ-10кВ Ф-913, строительство ТП-10/0,4 кВ для тех. присоединения ЭПУ объектов с/х назначения, в с. Белые Копани | C28: 2021 | D28: 10 | E28: 15 | F28: 45 | G28: 71.18671
A29: 2.3.1.4.1.1 | B29: «Реконструкция ВЛ-10кВ Ф-826 ПС 35/10 кВ «Киевская», строительство ТП-10/0,4 кВ, строительство ВЛ-0,4 кВ для осуществления технологического присоединения | C29: 2021 | D29: 10 | E29: 15 | F29: 15 | G29: 77.14264
A30: 2.3.1.4.1.1 | B30: «Реконструкция ВЛ-10кВ Ф-826 ПС 35/10 кВ «Киевская», строительство ТП-10/0,4 кВ, строительство ВЛ-0,4 кВ для осуществления технологического присоединения | C30: 2021 | D30: 0.4 | E30: 20 | F30: 15 | G30: 46.20991
A31: 2.3.1.4.1.1 | B31: Реконструкция ВЛ-10кВ Ф-064 ПС 35/10 кВ «Донская Балка», для осуществления тех.присоединения энергопринимающих устройств объектов с/х назначения | C31: 2021 | D31: 10 | E31: 720 | F31: 15 | G31: 678.21196
A32: 2.3.1.4.1.1 | B32: Строительство ВЛ-0,4кВ от ТП 7/095 для тех.присоединения ЭПУ объектов ЛПХ в с.Ореховка | C32: 2021 | D32: 0.4 | E32: 385 | F32: 10 | G32: 211.04361
A33: 2.3.1.4.1.1 | B33: Реконструкция ВЛ-0,4 кВ Ф-2 ТП-14/313 для тех. присоединения ЭПУ храма в с. Б. Джалга Ипатовского ГО | C33: 2021 | D33: 0.4 | E33: 50 | F33: 15 | G33: 57.88921
A34: 2.3.1.4.1.1 | B34: Реконструкция ВЛ-10 Ф-082, строительство ВЛ-0,4 кВ и ТП-10/0,4 кВ для тех. присоединения ЭПУ вагончика в с. Константиновское, ул. Гагарина 2а | C34: 2021 | D34: 0.4 | E34: 10 | F34: 15 | G34: 35.99022
A35: 2.3.1.4.1.1 | B35: Реконструкция ВЛ-10 Ф-082, строительство ВЛ-0,4 кВ и ТП-10/0,4 кВ для тех. присоединения ЭПУ вагончика в с. Константиновское, ул. Гагарина 2а | C35: 2021 | D35: 10 | E35: 15 | F35: 15 | G35: 71.87274
A36: 2.3.1.4.1.1 | B36: Реконструкция ВЛ-10 Ф-770, строительство ВЛ-0,4кВ и ТП-10/0,4кВ для тех. присоединения жилого дома для животноводов в с.Кучерла Туркменского района | C36: 2021 | D36: 10 | E36: 65 | F36: 15 | G36: 189.04038
A37: 2.3.1.4.1.1 | B37: Реконструкция ВЛ-10 Ф-770, строительство ВЛ-0,4кВ и ТП-10/0,4кВ для тех. присоединения жилого дома для животноводов в с.Кучерла Туркменского района | C37: 2021 | D37: 0.4 | E37: 10 | F37: 15 | G37: 52.18705
A38: 2.3.1.4.1.1 | B38: Реконструкция ВЛ 0,4 кВ от ТП-6/320 для осуществления технологического присоединения энергопринимающих устройств строящегося ж/дома по ул. Колхозная,33 в ст.Новотроицкая Изобильненского р-на | C38: 2021 | D38: 0.4 | E38: 105 | F38: 15 | G38: 93.39876
... A284: 2.3.1.4.1.1 | B284: Реконструкция ВЛ 10 кВ Ф-137 ПС 35 кВ Юцкая, строительство ТП-10/0,4 кВ и ВЛ 0,4 кВ для тех. присоединения ЭПУ стройплощадки в ст. Ессентукская, (Кад № 26:29:110510:79). | C284: 2022 | D284: 0.4 | E284: 15 | F284: 15 | G284: 47.02619
A285: 2.3.1.4.1.1 | B285: Реконструкция (вынос участка) ВЛ 0,4 кВ Ф-1 ТП-382/131 ПС 110 кВ Ессентуки-2 в п. Санамер, ул. Тельмана, д. 1 | C285: 2022 | D285: 0.4 | E285: 100 | G285: 135.75595
...

Sheet 28а) РТУ ПР2
E1: Приложение № 2 к Методическим указаниям по определению размера платы за технологическое присоединение к электрическим сетям
A2: Расходы на выполнение мероприятий по технологическому присоединению, предусмотренным подпунктами «а» и «в» пункта 16 Методических указаний, за 2021 год
A3: № п/п | B3: Наименование мероприятий | C3: Информация для расчета стандартизированной тарифной ставки Ci | F3: Расходы на одно присоединение (руб. на одно ТП)
C4: Расходы по каждому мероприятию (руб.) | D4: Количество технологических присоединений (шт.) | E4: Объем максимальной мощности (кВт)
A5: 1 | B5: 2 | C5: 3 | D5: 4 | E5: 5 | F5: 6
A6: 1. | B6: Подготовка и выдача сетевой организацией технических условий Заявителю | C6: ='[3]прил 2 (2021)'!C7 -> 29873521 | D6: ='[3]прил 2 (2021)'!D7 -> 3426 | E6: ='[3]прил 2 (2021)'!E7 -> 325882.41 | F6: =C6/D6 -> 8719.65
A7: 2. | B7: Проверка сетевой организацией выполнения технических условий Заявителем
A8: 2.1. | B8: Выдача сетевой организацией акта об осуществлении технологического присоединения Заявителям, указанным в абзаце восьмом пункта 24 Методических указаний по определению размера платы за технологическое присоединение к электрическим сетям | C8: ='[3]прил 2 (2021)'!C9 -> 12975814 | D8: ='[3]прил 2 (2021)'!D9 -> 3252 | E8: ='[3]прил 2 (2021)'!E9 -> 37236.35 | F8: =C8/D8 -> 3990.1028
A9: 2.2. | B9: Проверка сетевой организацией выполнения технических условий Заявителями, указанными в абзаце девятом пункта 24 Методических указаний по определению размера платы за технологическое присоединение к электрическим сетям | C9: ='[3]прил 2 (2021)'!C10 -> 1317769.1 | D9: ='[3]прил 2 (2021)'!D10 -> 174 | E9: ='[3]прил 2 (2021)'!E10 -> 288646.06 | F9: =C9/D9 -> 7573.3854
A10: Расходы на выполнение мероприятий по технологическому присоединению, предусмотренным подпунктами «а» и «в» пункта 16 Методических указаний, за 2022 год
A11: № п/п | B11: Наименование мероприятий | C11: Информация для расчета стандартизированной тарифной ставки Ci | F11: Расходы на одно присоединение (руб. на одно ТП)
C12: Расходы по каждому мероприятию (руб.) | D12: Количество технологических присоединений (шт.) | E12: Объем максимальной мощности (кВт)
A13: 1 | B13: 2 | C13: 3 | D13: 4 | E13: 5 | F13: 6
A14: 1. | B14: Подготовка и выдача сетевой организацией технических условий Заявителю | C14: ='[3]прил 2 (2022)'!C7 -> 39064475 | D14: ='[3]прил 2 (2022)'!D7 -> 4287 | E14: ='[3]прил 2 (2022)'!E7 -> 465160.16 | F14: =C14/D14 -> 9112.3104
A15: 2. | B15: Проверка сетевой организацией выполнения технических условий Заявителем
A16: 2.1. | B16: Выдача сетевой организацией акта об осуществлении технологического присоединения Заявителям, указанным в абзаце восьмом пункта 24 Методических указаний по определению размера платы за технологическое присоединение к электрическим сетям | C16: ='[3]прил 2 (2022)'!C9 -> 16898173 | D16: ='[3]прил 2 (2022)'!D9 -> 4040 | E16: ='[3]прил 2 (2022)'!E9 -> 54896.4 | F16: =C16/D16 -> 4182.7162
A17: 2.2. | B17: Проверка сетевой организацией выполнения технических условий Заявителями, указанными в абзаце девятом пункта 24 Методических указаний по определению размера платы за технологическое присоединение к электрическим сетям | C17: ='[3]прил 2 (2022)'!C10 -> 1960707.3 | D17: ='[3]прил 2 (2022)'!D10 -> 247 | E17: ='[3]прил 2 (2022)'!E10 -> 410263.76 | F17: =C17/D17 -> 7938.0862
A18: Расходы на выполнение мероприятий по технологическому присоединению, предусмотренным подпунктами «а» и «в» пункта 16 Методических указаний, за 2023 год
A19: № п/п | B19: Наименование мероприятий | C19: Информация для расчета стандартизированной тарифной ставки Ci | F19: Расходы на одно присоединение (руб. на одно ТП)
C20: Расходы по каждому мероприятию (руб.) | D20: Количество технологических присоединений (шт.) | E20: Объем максимальной мощности (кВт)
A21: 1 | B21: 2 | C21: 3 | D21: 4 | E21: 5 | F21: 6
A22: 1. | B22: Подготовка и выдача сетевой организацией технических условий Заявителю | C22: ='[4]прил 2 (2023)'!$C$7 -> 36341803 | D22: ='[4]прил 2 (2023)'!$D$7 -> 3609 | E22: ='[4]прил 2 (2023)'!$E$7 -> 410902.83 | F22: ='[4]прил 2 (2023)'!$F$7 -> 10069.771
A23: 2. | B23: Проверка сетевой организацией выполнения технических условий Заявителем
A24: 2.1. | B24: Выдача сетевой организацией акта об осуществлении технологического присоединения Заявителям, указанным в абзаце восьмом пункта 24 Методических указаний по определению размера платы за технологическое присоединение к электрическим сетям | C24: ='[4]прил 2 (2023)'!$C$9 -> 15388656 | D24: ='[4]прил 2 (2023)'!$D$9 -> 3333 | E24: ='[4]прил 2 (2023)'!$E$9 -> 38432.83 | F24: ='[4]прил 2 (2023)'!$F$9 -> 4617.0585
A25: 2.2. | B25: Проверка сетевой организацией выполнения технических условий Заявителями, указанными в абзаце девятом пункта 24 Методических указаний по определению размера платы за технологическое присоединение к электрическим сетям | C25: ='[4]прил 2 (2023)'!$C$10 -> 2952824.1 | D25: ='[4]прил 2 (2023)'!$D$10 -> 276 | E25: ='[4]прил 2 (2023)'!$E$10 -> 372470 | F25: ='[4]прил 2 (2023)'!$F$10 -> 10698.638

Sheet 28 б) reshenie_tarif_2024
A1: Информация о решении органа исполнительной власти субъекта Российской Федерации в области государственного регулирования тарифов об установлении единых для всех территориальных сетевых организаций на территории субъекта Российской Федерации стандартизированных тарифных ставок, определяющих величину платы за технологическое присоединение к электрическим сетям территориальных сетевых организаций
A2: № | B2: Вид документа | C2: Наименование документа | D2: Реквизиты решения
B3: Постановление Региональной тарифной комиссии Ставропольского края | C3: Об установлении стандартизированных тарифных ставок и формул для расчета размера платы за технологическое присоединение энергопринимающих устройств заявителей к объектам электросетевого хозяйства территориальных сетевых организаций Ставропольского края на 2024 год | D3: № 82/7 от 25.12.2023
B4: Постановление Региональной тарифной комиссии Ставропольского края | C4: Об установлении стоимости льготной ставки за 1 кВт запрашиваемой максимальной мощности для расчета размера платы за технологическое присоединение энергопринимающих устройств заявителей к объектам электросетевого хозяйства территориальных сетевых организаций Ставропольского края на 2024 год | D4: № 82/8 от 25.12.2023
B5: Постановление Региональной тарифной комиссии Ставропольского края | C5: О внесении изменений в таблицу 2 приложения 1 к постановлению региональной тарифной комиссии Ставропольского края от 25 ноября 2022 г. № 84/1 "Об установлении стандартизированных тарифных ставок, и формул для расчета размера платы за технологическое присоединение энергопринимающих устройств заявителей к объектам электросетевого хозяйства территориальных сетевых организаций Ставропольского края на период с 01 декабря 2022 года по 31 декабря 2023 год " | D5: № 2/1 от 18.01.2023
B6: Постановление Региональной тарифной комиссии Ставропольского края | C6: О внесении изменений в таблицу 2 приложения 1 к постановлению региональной тарифной комиссии Ставропольского края от 25 ноября 2022 г. № 84/1 "Об установлении стандартизированных тарифных ставок, и формул для расчета размера платы за технологическое присоединение энергопринимающих устройств заявителей к объектам электросетевого хозяйства территориальных сетевых организаций Ставропольского края на период с 01 декабря 2022 года по 31 декабря 2023 год " | D6: № 12/1 от 10.03.2023
B7: Постановление Региональной тарифной комиссии Ставропольского края | C7: О внесении изменений в таблицу 2 приложения 1 к постановлению региональной тарифной комиссии Ставропольского края от 25 декабря 2023 г. № 82/7 "Об установлении стандартизированных тарифных ставок и формул для расчета размера платы за технологическое присоединение энергопринимающих устройств заявителей к объектам электросетевого хозяйства территориальных сетевых организаций Ставропольского края на 2024 год | D7: № 3/1 от 26.01.2024
B8: Постановление Региональной тарифной комиссии Ставропольского края | C8: О внесении изменений в таблицу 2 приложения 1 к постановлению Региональной тарифной комиссии Ставропольского края от 25 декабря 2023 г. № 82/7 "Об установлении стандартизированных тарифных ставок и формул для расчета размера платы за технологическое присоединение энергопринимающих устройств заявителей к объектам электросетевого хозяйства территориальных сетевых организаций Ставропольского края на 2024 год | D8: № 5/3 от 05.02.2024
B9: Постановление Региональной тарифной комиссии Ставропольского края | C9: О внесении изменений в таблицу 2 приложения 1 к постановлению Региональной тарифной комиссии Ставропольского края от 25 декабря 2023 г. № 82/7 "Об установлении стандартизированных тарифных ставок и формул для расчета размера платы за технологическое присоединение энергопринимающих устройств заявителей к объектам электросетевого хозяйства территориальных сетевых организаций Ставропольского края на 2024 год | D9: № 16/1 от 03.04.2024
B10: Постановление Региональной тарифной комиссии Ставропольского края | C10: О внесении изменений в таблицу 2 приложения 1 к постановлению Региональной тарифной комиссии Ставропольского края от 25 декабря 2023 г. № 82/7 "Об установлении стандартизированных тарифных ставок и формул для расчета размера платы за технологическое присоединение энергопринимающих устройств заявителей к объектам электросетевого хозяйства территориальных сетевых организаций Ставропольского края на 2024 год | D10: № 37/2 от 27.06.2024

Sheet 28 в) srednie_dannie_fact_mosh
D1: Приложение 2
D2: к стандартам раскрытия информации субъектами оптового и розничных рынков электрической энергии
C4: ИНФОРМАЦИЯ
C5: о фактических средних данных о присоединенных объемах
C6: максимальной мощности за 3 предыдущих года
C7: по каждому мероприятию
D9: Фактические расходы на строительство подстанций за 3 предыдущих года (тыс. рублей) | E9: Объем мощности, введенной в основные фонды за 3 предыдущих года (кВт)
B10: 1. | C10: Строительство пунктов секционирования (распределенных пунктов) | D10: ='28а) ПР1'!G7422 -> 50531.565 | E10: ='28а) ПР1'!F7422 -> 16414
B11: 2. | C11: Строительство комплектных трансформаторных подстанций и распределительных трансформаторных подстанций с уровнем напряжения до 35 кВ | D11: ='28а) ПР1'!G7434 -> 106367.42 | E11: ='28а) ПР1'!F7434 -> 16233.83
B12: 3. | C12: Строительство центров питания и подстанций уровнем напряжения 35 кВ и выше

Sheet 28 г) srednie_dannie_dline_VL
E1: Приложение 3
E2: к стандартам раскрытия информации субъектами оптового и розничных рынков электрической энергии
C4: ИНФОРМАЦИЯ
C5: о фактических средних данных о длине линий электропередачи
C6: и об объемах максимальной мощности построенных объектов
C7: за 3 предыдущих года по каждому мероприятию
D9: Расходы на строительство воздушных и кабельных линий электропередачи на i-м уровне напряжения, фактически построенных за последние 3 года (тыс. рублей) | E9: Длина воздушных и кабельных линий электропередачи на i-м уровне напряжения, фактически построенных за последние 3 года (км) | F9: Объем максимальной мощности, присоединенной путем строительства воздушных или кабельных линий за последние 3 года (кВт)
B10: 1. | C10: Строительство кабельных линий электропередачи: | D10: =SUM(D11:D13) -> 21788.906 | E10: =SUM(E11:E13) -> 3.107 | F10: =SUM(F11:F13) -> 30380
C11: 0,4 кВ
C12: 1 - 20 кВ | D12: ='28а) ПР1'!G7389 -> 21788.906 | E12: ='28а) ПР1'!E7389/1000 -> 3.107 | F12: ='28а) ПР1'!F7389 -> 30380
C13: 35 кВ
B14: 2. | C14: Строительство воздушных линий электропередачи: | D14: =SUM(D15:D17) -> 257490 | E14: =SUM(E15:E17) -> 173.67961 | F14: =SUM(F15:F17) -> 58494.4
C15: 0,4 кВ | D15: ='28а) ПР1'!G7329 -> 130754.3 | E15: ='28а) ПР1'!E7329/1000 -> 117.12371 | F15: ='28а) ПР1'!F7329 -> 15856.1
C16: 1 - 20 кВ | D16: ='28а) ПР1'!G7330 -> 99239.25 | E16: ='28а) ПР1'!E7330/1000 -> 53.7049 | F16: ='28а) ПР1'!F7330 -> 20639.8
C17: 35 кВ | D17: ='28а) ПР1'!G7331 -> 27496.454 | E17: ='28а) ПР1'!E7331/1000 -> 2.851 | F17: ='28а) ПР1'!F7331 -> 21998.5
E20: =E18-E19 -> 0

Sheet 28 д) info_TP_2024
J1: Приложение 4
J2: к стандартам раскрытия информации субъектами оптового и розничных рынков электрической энергии
C4: ИНФОРМАЦИЯ
C5: об осуществлении технологического присоединения
C6: по договорам, заключенным за текущий год (6 месяцев 2024 года)
B8: Категория заявителей | D8: Количество договоров (штук) | G8: Максимальная мощность (кВт) | J8: Стоимость договоров (без НДС) (тыс. рублей)
D9: 0,4 кВ | E9: 1 - 20 кВ | F9: 35 кВ и выше | G9: 0,4 кВ | H9: 1 - 20 кВ | I9: 35 кВ и выше | J9: 0,4 кВ | K9: 1 - 20 кВ | L9: 35 кВ и выше
B10: 1. | C10: До 15 кВт - всего | D10: 1782 | E10: 7 | F10: 0 | G10: 18241.16 | H10: 52 | I10: 0 | J10: 56748.773 | K10: 190.58233 | L10: 0
C11: в том числе льготная категория <*> | D11: 0 | E11: 0 | F11: 0 | G11: 0 | H11: 0 | I11: 0 | J11: 0 | K11: 0 | L11: 0
B12: 2. | C12: От 15 до 150 кВт - всего | D12: 116 | E12: 39 | F12: 1 | G12: 6189.92 | H12: 4061.8 | I12: 150 | J12: 15124.169 | K12: 6048.3659 | L12: 42.79059
C13: в том числе льготная категория <**> | D13: 0 | E13: 0 | F13: 0 | G13: 0 | H13: 0 | I13: 0 | J13: 0 | K13: 0 | L13: 0
B14: 3. | C14: От 150 кВт до 670 кВт - всего | D14: 8 | E14: 42 | F14: 0 | G14: 2530 | H14: 14258.7 | I14: 0 | J14: 12966.631 | K14: 6381.7979 | L14: 0
C15: в том числе по индивидуальному проекту | D15: 0 | E15: 0 | F15: 0 | G15: 0 | H15: 0 | I15: 0 | J15: 0 | K15: 0 | L15: 0
B16: 4. | C16: От 670 кВт - всего | D16: 2 | E16: 41 | F16: 1 | G16: 2371.4 | H16: 80668.8 | I16: 3000 | J16: 126100.77 | K16: 37481.693 | L16: 1656.507
C17: в том числе по индивидуальному проекту | D17: 0 | E17: 0 | F17: 0 | G17: 0 | H17: 0 | I17: 0 | J17: 0 | K17: 0 | L17: 0
B19: <*> Заявители, оплачивающие технологическое присоединение своих энергопринимающих устройств в размере не более 550 рублей.
B21: <**> Заявители - юридические лица или индивидуальные предприниматели, заключившие договор об осуществлении технологического присоединения по одному источнику электроснабжения энергопринимающих устройств максимальной мощностью свыше 15 и до 150 кВт включительно (с учетом ранее присоединенных энергопринимающих устройств), у которых в договоре предусматривается беспроцентная рассрочка платежа за технологическое присоединение в размере 95 процентов платы за технологическое присоединение с условием ежеквартального внесения платы равными долями от общей суммы рассрочки до 3 лет со дня подписания сторонами акта об осуществлении технологического присоединения.

Sheet 28 е) info_zayavki_TP_2024
G1: Приложение 5
G2: к стандартам раскрытия информации субъектами оптового и розничных рынков электрической энергии
C3: ИНФОРМАЦИЯ
C4: о поданных заявках на технологическое присоединение
C5: за текущий год (6 месяцев 2024 год)
B6: Категория заявителей | D6: Количество заявок (штук) | G6: Максимальная мощность (кВт)
D7: 0,4 кВ | E7: 1 - 20 кВ | F7: 35 кВ и выше | G7: 0,4 кВ | H7: 1 - 20 кВ | I7: 35 кВ и выше
B8: 1. | C8: До 15 кВт - всего | D8: 2856 | E8: 27 | F8: 0 | G8: 29903.27 | H8: 273.96 | I8: 0
C9: в том числе льготная категория <*> | D9: 0 | E9: 0 | F9: 0 | G9: 0 | H9: 0 | I9: 0
B10: 2. | C10: От 15 до 150 кВт - всего | D10: 204 | E10: 64 | F10: 0 | G10: 11114.42 | H10: 6113.5 | I10: 0
C11: в том числе льготная категория <**> | D11: 0 | E11: 0 | F11: 0 | G11: 0 | H11: 0 | I11: 0
B12: 3. | C12: От 150 кВт до 670 кВт - всего | D12: 18 | E12: 77 | F12: 0 | G12: 5649.8 | H12: 25877.2 | I12: 0
C13: в том числе по индивидуальному проекту | D13: 0 | E13: 0 | F13: 0 | G13: 0 | H13: 0 | I13: 0
B14: 4. | C14: От 670 кВт - всего | D14: 3 | E14: 47 | F14: 6 | G14: 4767.4 | H14: 91969.8 | I14: 135060
C15: в том числе по индивидуальному проекту | D15: 0 | E15: 0 | F15: 0 | G15: 0 | H15: 0 | I15: 0
B17: <*> Заявители, оплачивающие технологическое присоединение своих энергопринимающих устройств в размере не более 550 рублей.
B19: <**> Заявители - юридические лица или индивидуальные предприниматели, заключившие договор об осуществлении технологического присоединения по одному источнику электроснабжения энергопринимающих устройств максимальной мощностью свыше 15 и до 150 кВт включительно (с учетом ранее присоединенных энергопринимающих устройств), у которых в договоре предусматривается беспроцентная рассрочка платежа за технологическое присоединение в размере 95 процентов платы за технологическое присоединение с условием ежеквартального внесения платы равными долями от общей суммы рассрочки до 3 лет со дня подписания сторонами акта об осуществлении технологического присоединения.
