Workbook

Sheet Лист1

Sheet Ноябрь 2013г
M1: Приложение № 28
M2: к Положению о технологическом присоединении
M3: энергетических установок к электрическим сетям
M4: ОАО «МРСК Северного Кавказа», управляемых
M5: Обществ
B14: Информация о технологическом присоединении энергопринимающих устройств к сетям КБ филиалом ОАО "МРСК Северного Кавказа" за Ноябрь 2013г.
A19: Наименование организации, осуществляющей технологическое присоединение | B19: Наименование субъекта РФ | C19: Наименование центра питания (ПС 35 кВ и выше) | D19: Количество поданных заявок на технологическое присоединение, на общую мощность энергопринимающих устройств, кВт | F19: Заключено договоров на технологическое присоединение, включающие технические условия на общую мощность энергопринимающих устройств, кВт | H19: Расторгнуто договоров на технологическое присоединение, включающие технические условия на общую мощность энергопринимающих устройств, кВт | J19: Суммарная мощность энегргопринимающих устройств, присоединенных к электрическим сетям в соответствии с договором на технологическое присоединение за отчетный период, кВт | L19: Заключено договоров на технологическое присоединение, включающие технические условия на общую мощность генерирущих установок, МВт | N19: Расторгнуто договоров на технологическое присоединение, включающие технические условия на общую мощность генерирущих установок, МВт | P19: Суммарная мощность генерирущих установок, присоединенных к электрическим сетям в соответствии с договором на технологическое присоединение за отчетный период, МВт
A20: 1 | B20: 2 | C20: 3 | D20: 4 | F20: 5 | H20: 6 | J20: 7 | L20: 8 | N20: 9 | P20: 10
D21: шт | E21: кВт | F21: шт | G21: кВт | H21: шт | I21: кВт | J21: шт | K21: кВт | L21: шт | M21: МВт | N21: шт | O21: МВт | P21: шт | Q21: МВт
A22: Кабардино- Балкарсикй филиал ОАО "МРСК Северного Кавказа" | B22: Кабардино- Балкарская Республика | C22: Нальчикская группа ПС
C23: ПС «Нальчик» | D23: ='сентябрь 2014г. по 6-10'!D23+'сентябрь 2014г. по 0,4'!D20 -> 0 | E23: ='сентябрь 2014г. по 6-10'!E23+'сентябрь 2014г. по 0,4'!E20 -> 0 | F23: ='сентябрь 2014г. по 6-10'!F23+'сентябрь 2014г. по 0,4'!F20 -> 0 | G23: ='сентябрь 2014г. по 6-10'!G23+'сентябрь 2014г. по 0,4'!G20 -> 0 | H23: 2 | I23: 11.2 | J23: ='сентябрь 2014г. по 6-10'!J23+'сентябрь 2014г. по 0,4'!J20 -> 0 | K23: ='сентябрь 2014г. по 6-10'!K23+'сентябрь 2014г. по 0,4'!K20 -> 0 | L23: 0 | M23: 0 | N23: 0 | O23: 0 | P23: 0 | Q23: 0
C24: ПС «Телемеханика-1» | D24: ='сентябрь 2014г. по 6-10'!D24+'сентябрь 2014г. по 0,4'!D21 -> 1 | E24: ='сентябрь 2014г. по 6-10'!E24+'сентябрь 2014г. по 0,4'!E21 -> 100 | F24: ='сентябрь 2014г. по 6-10'!F24+'сентябрь 2014г. по 0,4'!F21 -> 1 | G24: ='сентябрь 2014г. по 6-10'!G24+'сентябрь 2014г. по 0,4'!G21 -> 100 | H24: 0 | I24: 0 | J24: ='сентябрь 2014г. по 6-10'!J24+'сентябрь 2014г. по 0,4'!J21 -> 31 | K24: ='сентябрь 2014г. по 6-10'!K24+'сентябрь 2014г. по 0,4'!K21 -> 260 | L24: 0 | M24: 0 | N24: 0 | O24: 0 | P24: 0 | Q24: 0
C25: ПС «Искож» | D25: ='сентябрь 2014г. по 6-10'!D25+'сентябрь 2014г. по 0,4'!D22 -> 1 | E25: ='сентябрь 2014г. по 6-10'!E25+'сентябрь 2014г. по 0,4'!E22 -> 250 | F25: ='сентябрь 2014г. по 6-10'!F25+'сентябрь 2014г. по 0,4'!F22 -> 0 | G25: ='сентябрь 2014г. по 6-10'!G25+'сентябрь 2014г. по 0,4'!G22 -> 0 | H25: 0 | I25: 0 | J25: ='сентябрь 2014г. по 6-10'!J25+'сентябрь 2014г. по 0,4'!J22 -> 0 | K25: ='сентябрь 2014г. по 6-10'!K25+'сентябрь 2014г. по 0,4'!K22 -> 0 | L25: 0 | M25: 0 | N25: 0 | O25: 0 | P25: 0 | Q25: 0
C26: ПС «СКЭП-Н» | D26: ='сентябрь 2014г. по 6-10'!D26+'сентябрь 2014г. по 0,4'!D23 -> 14 | E26: ='сентябрь 2014г. по 6-10'!E26+'сентябрь 2014г. по 0,4'!E23 -> 1700 | F26: ='сентябрь 2014г. по 6-10'!F26+'сентябрь 2014г. по 0,4'!F23 -> 6 | G26: ='сентябрь 2014г. по 6-10'!G26+'сентябрь 2014г. по 0,4'!G23 -> 830 | H26: 0 | I26: 0 | J26: ='сентябрь 2014г. по 6-10'!J26+'сентябрь 2014г. по 0,4'!J23 -> 3 | K26: ='сентябрь 2014г. по 6-10'!K26+'сентябрь 2014г. по 0,4'!K23 -> 210 | L26: 0 | M26: 0 | N26: 0 | O26: 0 | P26: 0 | Q26: 0
C27: ПС «Долинск» | D27: ='сентябрь 2014г. по 6-10'!D27+'сентябрь 2014г. по 0,4'!D24 -> 1 | E27: ='сентябрь 2014г. по 6-10'!E27+'сентябрь 2014г. по 0,4'!E24 -> 80 | F27: ='сентябрь 2014г. по 6-10'!F27+'сентябрь 2014г. по 0,4'!F24 -> 0 | G27: ='сентябрь 2014г. по 6-10'!G27+'сентябрь 2014г. по 0,4'!G24 -> 0 | H27: 0 | I27: 0 | J27: ='сентябрь 2014г. по 6-10'!J27+'сентябрь 2014г. по 0,4'!J24 -> 0 | K27: ='сентябрь 2014г. по 6-10'!K27+'сентябрь 2014г. по 0,4'!K24 -> 0 | L27: 0 | M27: 0 | N27: 0 | O27: 0 | P27: 0 | Q27: 0
C28: ПС «Дубки» | D28: ='сентябрь 2014г. по 6-10'!D28+'сентябрь 2014г. по 0,4'!D25 -> 2 | E28: ='сентябрь 2014г. по 6-10'!E28+'сентябрь 2014г. по 0,4'!E25 -> 970 | F28: ='сентябрь 2014г. по 6-10'!F28+'сентябрь 2014г. по 0,4'!F25 -> 1 | G28: ='сентябрь 2014г. по 6-10'!G28+'сентябрь 2014г. по 0,4'!G25 -> 470 | H28: 0 | I28: 0 | J28: ='сентябрь 2014г. по 6-10'!J28+'сентябрь 2014г. по 0,4'!J25 -> 50 | K28: ='сентябрь 2014г. по 6-10'!K28+'сентябрь 2014г. по 0,4'!K25 -> 390 | L28: 0 | M28: 0 | N28: 0 | O28: 0 | P28: 0 | Q28: 0
C29: ПС «Птицефабрика» | D29: ='сентябрь 2014г. по 6-10'!D29+'сентябрь 2014г. по 0,4'!D26 -> 1 | E29: ='сентябрь 2014г. по 6-10'!E29+'сентябрь 2014г. по 0,4'!E26 -> 30 | F29: ='сентябрь 2014г. по 6-10'!F29+'сентябрь 2014г. по 0,4'!F26 -> 1 | G29: ='сентябрь 2014г. по 6-10'!G29+'сентябрь 2014г. по 0,4'!G26 -> 30 | H29: 1 | I29: 300 | J29: ='сентябрь 2014г. по 6-10'!J29+'сентябрь 2014г. по 0,4'!J26 -> 0 | K29: ='сентябрь 2014г. по 6-10'!K29+'сентябрь 2014г. по 0,4'!K26 -> 0 | L29: 0 | M29: 0 | N29: 0 | O29: 0 | P29: 0 | Q29: 0
C30: итого: | D30: =D23+D24+D25+D26+D27+D28+D29 -> 20 | E30: =E23+E24+E25+E26+E27+E28+E29 -> 3130 | F30: =F23+F24+F25+F26+F27+F28+F29 -> 9 | G30: =G23+G24+G25+G26+G27+G28+G29 -> 1430 | H30: =H23+H24+H25+H26+H27+H28+H29 -> 3 | I30: =I23+I24+I25+I26+I27+I28+I29 -> 311.2 | J30: =J23+J24+J25+J26+J27+J28+J29 -> 84 | K30: =K23+K24+K25+K26+K27+K28+K29 -> 860 | ... Q30: =Q23+Q24+Q25+Q26+Q27+Q28+Q29 -> 0
C31: Малкинская группа ПС
C32: ПС «Малка» | D32: ='сентябрь 2014г. по 6-10'!D32+'сентябрь 2014г. по 0,4'!D29 -> 18 | E32: ='сентябрь 2014г. по 6-10'!E32+'сентябрь 2014г. по 0,4'!E29 -> 1406 | F32: ='сентябрь 2014г. по 6-10'!F32+'сентябрь 2014г. по 0,4'!F29 -> 16 | G32: ='сентябрь 2014г. по 6-10'!G32+'сентябрь 2014г. по 0,4'!G29 -> 1006 | H32: 0 | I32: 0 | J32: ='сентябрь 2014г. по 6-10'!J32+'сентябрь 2014г. по 0,4'!J29 -> 39 | K32: ='сентябрь 2014г. по 6-10'!K32+'сентябрь 2014г. по 0,4'!K29 -> 280 | L32: 0 | M32: 0 | N32: 0 | O32: 0 | P32: 0 | Q32: 0
C33: ПС «Каменномостская» | D33: ='сентябрь 2014г. по 6-10'!D33+'сентябрь 2014г. по 0,4'!D30 -> 14 | E33: ='сентябрь 2014г. по 6-10'!E33+'сентябрь 2014г. по 0,4'!E30 -> 1074.1 | F33: ='сентябрь 2014г. по 6-10'!F33+'сентябрь 2014г. по 0,4'!F30 -> 14 | G33: ='сентябрь 2014г. по 6-10'!G33+'сентябрь 2014г. по 0,4'!G30 -> 1074.1 | H33: 0 | I33: 0 | J33: ='сентябрь 2014г. по 6-10'!J33+'сентябрь 2014г. по 0,4'!J30 -> 41 | K33: ='сентябрь 2014г. по 6-10'!K33+'сентябрь 2014г. по 0,4'!K30 -> 320 | L33: 0 | M33: 0 | N33: 0 | O33: 0 | P33: 0 | Q33: 0
C34: ПС «Залукокоаже» | D34: ='сентябрь 2014г. по 6-10'!D34+'сентябрь 2014г. по 0,4'!D31 -> 19 | E34: ='сентябрь 2014г. по 6-10'!E34+'сентябрь 2014г. по 0,4'!E31 -> 440 | F34: ='сентябрь 2014г. по 6-10'!F34+'сентябрь 2014г. по 0,4'!F31 -> 19 | G34: ='сентябрь 2014г. по 6-10'!G34+'сентябрь 2014г. по 0,4'!G31 -> 440 | H34: 0 | I34: 0 | J34: ='сентябрь 2014г. по 6-10'!J34+'сентябрь 2014г. по 0,4'!J31 -> 25 | K34: ='сентябрь 2014г. по 6-10'!K34+'сентябрь 2014г. по 0,4'!K31 -> 365 | L34: 0 | M34: 0 | N34: 0 | O34: 0 | P34: 0 | Q34: 0
C35: ПС «Залукодес» | D35: ='сентябрь 2014г. по 6-10'!D35+'сентябрь 2014г. по 0,4'!D32 -> 19 | E35: ='сентябрь 2014г. по 6-10'!E35+'сентябрь 2014г. по 0,4'!E32 -> 1085 | F35: ='сентябрь 2014г. по 6-10'!F35+'сентябрь 2014г. по 0,4'!F32 -> 19 | G35: ='сентябрь 2014г. по 6-10'!G35+'сентябрь 2014г. по 0,4'!G32 -> 885 | H35: 0 | I35: 0 | J35: ='сентябрь 2014г. по 6-10'!J35+'сентябрь 2014г. по 0,4'!J32 -> 20 | K35: ='сентябрь 2014г. по 6-10'!K35+'сентябрь 2014г. по 0,4'!K32 -> 216 | L35: 0 | M35: 0 | N35: 0 | O35: 0 | P35: 0 | Q35: 0
C36: ПС «Сармаково» | D36: ='сентябрь 2014г. по 6-10'!D36+'сентябрь 2014г. по 0,4'!D33 -> 55 | E36: ='сентябрь 2014г. по 6-10'!E36+'сентябрь 2014г. по 0,4'!E33 -> 2235.5 | F36: ='сентябрь 2014г. по 6-10'!F36+'сентябрь 2014г. по 0,4'!F33 -> 55 | G36: ='сентябрь 2014г. по 6-10'!G36+'сентябрь 2014г. по 0,4'!G33 -> 1935.5 | H36: 0 | I36: 0 | J36: ='сентябрь 2014г. по 6-10'!J36+'сентябрь 2014г. по 0,4'!J33 -> 38 | K36: ='сентябрь 2014г. по 6-10'!K36+'сентябрь 2014г. по 0,4'!K33 -> 418 | L36: 0 | M36: 0 | N36: 0 | O36: 0 | P36: 0 | Q36: 0
C37: ПС «Аурсентх» | D37: ='сентябрь 2014г. по 6-10'!D37+'сентябрь 2014г. по 0,4'!D34 -> 10 | E37: ='сентябрь 2014г. по 6-10'!E37+'сентябрь 2014г. по 0,4'!E34 -> 984 | F37: ='сентябрь 2014г. по 6-10'!F37+'сентябрь 2014г. по 0,4'!F34 -> 10 | G37: ='сентябрь 2014г. по 6-10'!G37+'сентябрь 2014г. по 0,4'!G34 -> 134 | H37: 0 | I37: 0 | J37: ='сентябрь 2014г. по 6-10'!J37+'сентябрь 2014г. по 0,4'!J34 -> 2 | K37: ='сентябрь 2014г. по 6-10'!K37+'сентябрь 2014г. по 0,4'!K34 -> 14 | L37: 0 | M37: 0 | N37: 0 | O37: 0 | P37: 0 | Q37: 0
C38: итого: | D38: =D32+D33+D34+D35+D36+D37 -> 135 | E38: =E32+E33+E34+E35+E36+E37 -> 7224.6 | F38: =F32+F33+F34+F35+F36+F37 -> 133 | G38: =G32+G33+G34+G35+G36+G37 -> 5474.6 | H38: =H32+H33+H34+H35+H36+H37 -> 0 | I38: =I32+I33+I34+I35+I36+I37 -> 0 | J38: =J32+J33+J34+J35+J36+J37 -> 165 | K38: =K32+K33+K34+K35+K36+K37 -> 1613 | ... Q38: =Q32+Q33+Q34+Q35+Q36+Q37 -> 0
C39: Эльбрусская группа ПС
C40: ПС «ЦРУ» | D40: ='сентябрь 2014г. по 6-10'!D40+'сентябрь 2014г. по 0,4'!D37 -> 69 | E40: ='сентябрь 2014г. по 6-10'!E40+'сентябрь 2014г. по 0,4'!E37 -> 510.5 | F40: ='сентябрь 2014г. по 6-10'!F40+'сентябрь 2014г. по 0,4'!F37 -> 28 | G40: ='сентябрь 2014г. по 6-10'!G40+'сентябрь 2014г. по 0,4'!G37 -> 217 | H40: 0 | I40: 0 | J40: ='сентябрь 2014г. по 6-10'!J40+'сентябрь 2014г. по 0,4'!J37 -> 70 | K40: ='сентябрь 2014г. по 6-10'!K40+'сентябрь 2014г. по 0,4'!K37 -> 1060 | L40: 0 | M40: 0 | N40: 0 | O40: 0 | P40: 0 | Q40: 0
C41: ПС «Адыл-Су» | D41: ='сентябрь 2014г. по 6-10'!D41+'сентябрь 2014г. по 0,4'!D38 -> 36 | E41: ='сентябрь 2014г. по 6-10'!E41+'сентябрь 2014г. по 0,4'!E38 -> 1986.2 | F41: ='сентябрь 2014г. по 6-10'!F41+'сентябрь 2014г. по 0,4'!F38 -> 24 | G41: ='сентябрь 2014г. по 6-10'!G41+'сентябрь 2014г. по 0,4'!G38 -> 309 | H41: 0 | I41: 0 | J41: ='сентябрь 2014г. по 6-10'!J41+'сентябрь 2014г. по 0,4'!J38 -> 12 | K41: ='сентябрь 2014г. по 6-10'!K41+'сентябрь 2014г. по 0,4'!K38 -> 120 | L41: 0 | M41: 0 | N41: 0 | O41: 0 | P41: 0 | Q41: 0
C42: ПС «Нейтрино» | D42: ='сентябрь 2014г. по 6-10'!D42+'сентябрь 2014г. по 0,4'!D39 -> 27 | E42: ='сентябрь 2014г. по 6-10'!E42+'сентябрь 2014г. по 0,4'!E39 -> 1034.1 | F42: ='сентябрь 2014г. по 6-10'!F42+'сентябрь 2014г. по 0,4'!F39 -> 17 | G42: ='сентябрь 2014г. по 6-10'!G42+'сентябрь 2014г. по 0,4'!G39 -> 976.1 | H42: 0 | I42: 0 | J42: ='сентябрь 2014г. по 6-10'!J42+'сентябрь 2014г. по 0,4'!J39 -> 16 | K42: ='сентябрь 2014г. по 6-10'!K42+'сентябрь 2014г. по 0,4'!K39 -> 161 | L42: 0 | M42: 0 | N42: 0 | O42: 0 | P42: 0 | Q42: 0
C43: ПС «Чегет» | D43: ='сентябрь 2014г. по 6-10'!D43+'сентябрь 2014г. по 0,4'!D40 -> 20 | E43: ='сентябрь 2014г. по 6-10'!E43+'сентябрь 2014г. по 0,4'!E40 -> 589 | F43: ='сентябрь 2014г. по 6-10'!F43+'сентябрь 2014г. по 0,4'!F40 -> 8 | G43: ='сентябрь 2014г. по 6-10'!G43+'сентябрь 2014г. по 0,4'!G40 -> 286 | H43: 0 | I43: 0 | J43: ='сентябрь 2014г. по 6-10'!J43+'сентябрь 2014г. по 0,4'!J40 -> 18 | K43: ='сентябрь 2014г. по 6-10'!K43+'сентябрь 2014г. по 0,4'!K40 -> 100 | L43: 0 | M43: 0 | N43: 0 | O43: 0 | P43: 0 | Q43: 0
C44: ПС «Терскол» | D44: ='сентябрь 2014г. по 6-10'!D44+'сентябрь 2014г. по 0,4'!D41 -> 0 | E44: ='сентябрь 2014г. по 6-10'!E44+'сентябрь 2014г. по 0,4'!E41 -> 0 | F44: ='сентябрь 2014г. по 6-10'!F44+'сентябрь 2014г. по 0,4'!F41 -> 0 | G44: ='сентябрь 2014г. по 6-10'!G44+'сентябрь 2014г. по 0,4'!G41 -> 0 | H44: 0 | I44: 0 | J44: ='сентябрь 2014г. по 6-10'!J44+'сентябрь 2014г. по 0,4'!J41 -> 0 | K44: ='сентябрь 2014г. по 6-10'!K44+'сентябрь 2014г. по 0,4'!K41 -> 0 | L44: 0 | M44: 0 | N44: 0 | O44: 0 | P44: 0 | Q44: 0
C45: ПС «Джайлык» | D45: ='сентябрь 2014г. по 6-10'!D45+'сентябрь 2014г. по 0,4'!D42 -> 7 | E45: ='сентябрь 2014г. по 6-10'!E45+'сентябрь 2014г. по 0,4'!E42 -> 527 | F45: ='сентябрь 2014г. по 6-10'!F45+'сентябрь 2014г. по 0,4'!F42 -> 7 | G45: ='сентябрь 2014г. по 6-10'!G45+'сентябрь 2014г. по 0,4'!G42 -> 329 | H45: 0 | I45: 0 | J45: ='сентябрь 2014г. по 6-10'!J45+'сентябрь 2014г. по 0,4'!J42 -> 3 | K45: ='сентябрь 2014г. по 6-10'!K45+'сентябрь 2014г. по 0,4'!K42 -> 12 | L45: 0 | M45: 0 | N45: 0 | O45: 0 | P45: 0 | Q45: 0
C46: ПС «Соц. городок» | D46: ='сентябрь 2014г. по 6-10'!D46+'сентябрь 2014г. по 0,4'!D43 -> 0 | E46: ='сентябрь 2014г. по 6-10'!E46+'сентябрь 2014г. по 0,4'!E43 -> 0 | F46: ='сентябрь 2014г. по 6-10'!F46+'сентябрь 2014г. по 0,4'!F43 -> 0 | G46: ='сентябрь 2014г. по 6-10'!G46+'сентябрь 2014г. по 0,4'!G43 -> 0 | H46: 0 | I46: 0 | J46: ='сентябрь 2014г. по 6-10'!J46+'сентябрь 2014г. по 0,4'!J43 -> 19 | K46: ='сентябрь 2014г. по 6-10'!K46+'сентябрь 2014г. по 0,4'!K43 -> 175 | L46: 0 | M46: 0 | N46: 0 | O46: 0 | P46: 0 | Q46: 0
C47: ПС «Чалмас» | D47: ='сентябрь 2014г. по 6-10'!D47+'сентябрь 2014г. по 0,4'!D44 -> 0 | E47: ='сентябрь 2014г. по 6-10'!E47+'сентябрь 2014г. по 0,4'!E44 -> 0 | F47: ='сентябрь 2014г. по 6-10'!F47+'сентябрь 2014г. по 0,4'!F44 -> 0 | G47: ='сентябрь 2014г. по 6-10'!G47+'сентябрь 2014г. по 0,4'!G44 -> 0 | H47: 0 | I47: 0 | J47: ='сентябрь 2014г. по 6-10'!J47+'сентябрь 2014г. по 0,4'!J44 -> 0 | K47: ='сентябрь 2014г. по 6-10'!K47+'сентябрь 2014г. по 0,4'!K44 -> 0 | L47: 0 | M47: 0 | N47: 0 | O47: 0 | P47: 0 | Q47: 0
C48: ПС «РМЗ» | D48: ='сентябрь 2014г. по 6-10'!D48+'сентябрь 2014г. по 0,4'!D45 -> 29 | E48: ='сентябрь 2014г. по 6-10'!E48+'сентябрь 2014г. по 0,4'!E45 -> 2122 | F48: ='сентябрь 2014г. по 6-10'!F48+'сентябрь 2014г. по 0,4'!F45 -> 22 | G48: ='сентябрь 2014г. по 6-10'!G48+'сентябрь 2014г. по 0,4'!G45 -> 790 | H48: 0 | I48: 0 | J48: ='сентябрь 2014г. по 6-10'!J48+'сентябрь 2014г. по 0,4'!J45 -> 26 | K48: ='сентябрь 2014г. по 6-10'!K48+'сентябрь 2014г. по 0,4'!K45 -> 221 | L48: 0 | M48: 0 | N48: 0 | O48: 0 | P48: 0 | Q48: 0
C49: РП «Водогрейная» | D49: ='сентябрь 2014г. по 6-10'!D49+'сентябрь 2014г. по 0,4'!D46 -> 3 | E49: ='сентябрь 2014г. по 6-10'!E49+'сентябрь 2014г. по 0,4'!E46 -> 201.1 | F49: ='сентябрь 2014г. по 6-10'!F49+'сентябрь 2014г. по 0,4'!F46 -> 3 | G49: ='сентябрь 2014г. по 6-10'!G49+'сентябрь 2014г. по 0,4'!G46 -> 201.1 | H49: 0 | I49: 0 | J49: ='сентябрь 2014г. по 6-10'!J49+'сентябрь 2014г. по 0,4'!J46 -> 4 | K49: ='сентябрь 2014г. по 6-10'!K49+'сентябрь 2014г. по 0,4'!K46 -> 135 | L49: 0 | M49: 0 | N49: 0 | O49: 0 | P49: 0 | Q49: 0
C50: ПС «Былым» | D50: ='сентябрь 2014г. по 6-10'!D50+'сентябрь 2014г. по 0,4'!D47 -> 3 | E50: ='сентябрь 2014г. по 6-10'!E50+'сентябрь 2014г. по 0,4'!E47 -> 183 | F50: ='сентябрь 2014г. по 6-10'!F50+'сентябрь 2014г. по 0,4'!F47 -> 3 | G50: ='сентябрь 2014г. по 6-10'!G50+'сентябрь 2014г. по 0,4'!G47 -> 183 | H50: 0 | I50: 0 | J50: ='сентябрь 2014г. по 6-10'!J50+'сентябрь 2014г. по 0,4'!J47 -> 0 | K50: ='сентябрь 2014г. по 6-10'!K50+'сентябрь 2014г. по 0,4'!K47 -> 0 | L50: 0 | M50: 0 | N50: 0 | O50: 0 | P50: 0 | Q50: 0
C51: ПС "Гунделен" | D51: ='сентябрь 2014г. по 6-10'!D51+'сентябрь 2014г. по 0,4'!D48 -> 8 | E51: ='сентябрь 2014г. по 6-10'!E51+'сентябрь 2014г. по 0,4'!E48 -> 980 | F51: ='сентябрь 2014г. по 6-10'!F51+'сентябрь 2014г. по 0,4'!F48 -> 6 | G51: ='сентябрь 2014г. по 6-10'!G51+'сентябрь 2014г. по 0,4'!G48 -> 475 | H51: 0 | I51: 0 | J51: ='сентябрь 2014г. по 6-10'!J51+'сентябрь 2014г. по 0,4'!J48 -> 42 | K51: ='сентябрь 2014г. по 6-10'!K51+'сентябрь 2014г. по 0,4'!K48 -> 302 | L51: 0 | M51: 0 | N51: 0 | O51: 0 | P51: 0 | Q51: 0
C52: итого: | D52: =D40+D41+D42+D43+D44+D45+D46+D47+D48+D49+D50+D51 -> 202 | E52: =E40+E41+E42+E43+E44+E45+E46+E47+E48+E49+E50+E51 -> 8132.9 | F52: =F40+F41+F42+F43+F44+F45+F46+F47+F48+F49+F50+F51 -> 118 | G52: =G40+G41+G42+G43+G44+G45+G46+G47+G48+G49+G50+G51 -> 3766.2 | H52: =H40+H41+H42+H43+H44+H45+H46+H47+H48+H49+H50+H51 -> 0 | I52: =I40+I41+I42+I43+I44+I45+I46+I47+I48+I49+I50+I51 -> 0 | J52: =J40+J41+J42+J43+J44+J45+J46+J47+J48+J49+J50+J51 -> 210 | K52: =K40+K41+K42+K43+K44+K45+K46+K47+K48+K49+K50+K51 -> 2286 | ... Q52: =Q40+Q41+Q42+Q43+Q44+Q45+Q46+Q47+Q48+Q49+Q50+Q51 -> 0
C53: Терская группа ПС
C54: ПС «Терек-II» | D54: ='сентябрь 2014г. по 6-10'!D54+'сентябрь 2014г. по 0,4'!D51 -> 5 | E54: ='сентябрь 2014г. по 6-10'!E54+'сентябрь 2014г. по 0,4'!E51 -> 438 | F54: ='сентябрь 2014г. по 6-10'!F54+'сентябрь 2014г. по 0,4'!F51 -> 5 | G54: ='сентябрь 2014г. по 6-10'!G54+'сентябрь 2014г. по 0,4'!G51 -> 438 | H54: 2 | I54: 350 | J54: ='сентябрь 2014г. по 6-10'!J54+'сентябрь 2014г. по 0,4'!J51 -> 46 | K54: ='сентябрь 2014г. по 6-10'!K54+'сентябрь 2014г. по 0,4'!K51 -> 364 | L54: 0 | M54: 0 | N54: 0 | O54: 0 | P54: 0 | Q54: 0
C55: ПС «В.Акбаш» | D55: ='сентябрь 2014г. по 6-10'!D55+'сентябрь 2014г. по 0,4'!D52 -> 2 | E55: ='сентябрь 2014г. по 6-10'!E55+'сентябрь 2014г. по 0,4'!E52 -> 24 | F55: ='сентябрь 2014г. по 6-10'!F55+'сентябрь 2014г. по 0,4'!F52 -> 2 | G55: ='сентябрь 2014г. по 6-10'!G55+'сентябрь 2014г. по 0,4'!G52 -> 24 | H55: 0 | I55: 0 | J55: ='сентябрь 2014г. по 6-10'!J55+'сентябрь 2014г. по 0,4'!J52 -> 0 | K55: ='сентябрь 2014г. по 6-10'!K55+'сентябрь 2014г. по 0,4'!K52 -> 0 | L55: 0 | M55: 0 | N55: 0 | O55: 0 | P55: 0 | Q55: 0
C56: ПС «ЗАИ» | D56: ='сентябрь 2014г. по 6-10'!D56+'сентябрь 2014г. по 0,4'!D53 -> 4 | E56: ='сентябрь 2014г. по 6-10'!E56+'сентябрь 2014г. по 0,4'!E53 -> 130 | F56: ='сентябрь 2014г. по 6-10'!F56+'сентябрь 2014г. по 0,4'!F53 -> 4 | G56: ='сентябрь 2014г. по 6-10'!G56+'сентябрь 2014г. по 0,4'!G53 -> 125 | H56: 0 | I56: 0 | J56: ='сентябрь 2014г. по 6-10'!J56+'сентябрь 2014г. по 0,4'!J53 -> 28 | K56: ='сентябрь 2014г. по 6-10'!K56+'сентябрь 2014г. по 0,4'!K53 -> 180 | L56: 0 | M56: 0 | N56: 0 | O56: 0 | P56: 0 | Q56: 0
C57: ПС «Пенькозавод» | D57: ='сентябрь 2014г. по 6-10'!D57+'сентябрь 2014г. по 0,4'!D54 -> 3 | E57: ='сентябрь 2014г. по 6-10'!E57+'сентябрь 2014г. по 0,4'!E54 -> 155 | F57: ='сентябрь 2014г. по 6-10'!F57+'сентябрь 2014г. по 0,4'!F54 -> 3 | G57: ='сентябрь 2014г. по 6-10'!G57+'сентябрь 2014г. по 0,4'!G54 -> 145 | H57: 0 | I57: 0 | J57: ='сентябрь 2014г. по 6-10'!J57+'сентябрь 2014г. по 0,4'!J54 -> 16 | K57: ='сентябрь 2014г. по 6-10'!K57+'сентябрь 2014г. по 0,4'!K54 -> 78 | L57: 0 | M57: 0 | N57: 0 | O57: 0 | P57: 0 | Q57: 0
C58: ПС «Терекская» | D58: ='сентябрь 2014г. по 6-10'!D58+'сентябрь 2014г. по 0,4'!D55 -> 12 | E58: ='сентябрь 2014г. по 6-10'!E58+'сентябрь 2014г. по 0,4'!E55 -> 589 | F58: ='сентябрь 2014г. по 6-10'!F58+'сентябрь 2014г. по 0,4'!F55 -> 11 | G58: ='сентябрь 2014г. по 6-10'!G58+'сентябрь 2014г. по 0,4'!G55 -> 273 | H58: 0 | I58: 0 | J58: ='сентябрь 2014г. по 6-10'!J58+'сентябрь 2014г. по 0,4'!J55 -> 2 | K58: ='сентябрь 2014г. по 6-10'!K58+'сентябрь 2014г. по 0,4'!K55 -> 20 | L58: 0 | M58: 0 | N58: 0 | O58: 0 | P58: 0 | Q58: 0
C59: ПС «Терек-1» | D59: ='сентябрь 2014г. по 6-10'!D59+'сентябрь 2014г. по 0,4'!D56 -> 3 | E59: ='сентябрь 2014г. по 6-10'!E59+'сентябрь 2014г. по 0,4'!E56 -> 106 | F59: ='сентябрь 2014г. по 6-10'!F59+'сентябрь 2014г. по 0,4'!F56 -> 2 | G59: ='сентябрь 2014г. по 6-10'!G59+'сентябрь 2014г. по 0,4'!G56 -> 10 | H59: 2 | I59: 395 | J59: ='сентябрь 2014г. по 6-10'!J59+'сентябрь 2014г. по 0,4'!J56 -> 1 | K59: ='сентябрь 2014г. по 6-10'!K59+'сентябрь 2014г. по 0,4'!K56 -> 5 | L59: 0 | M59: 0 | N59: 0 | O59: 0 | P59: 0 | Q59: 0
C60: ПС «В.Курп» | D60: ='сентябрь 2014г. по 6-10'!D60+'сентябрь 2014г. по 0,4'!D57 -> 3 | E60: ='сентябрь 2014г. по 6-10'!E60+'сентябрь 2014г. по 0,4'!E57 -> 190 | F60: ='сентябрь 2014г. по 6-10'!F60+'сентябрь 2014г. по 0,4'!F57 -> 3 | G60: ='сентябрь 2014г. по 6-10'!G60+'сентябрь 2014г. по 0,4'!G57 -> 190 | H60: 0 | I60: 0 | J60: ='сентябрь 2014г. по 6-10'!J60+'сентябрь 2014г. по 0,4'!J57 -> 34 | K60: ='сентябрь 2014г. по 6-10'!K60+'сентябрь 2014г. по 0,4'!K57 -> 245 | L60: 0 | M60: 0 | N60: 0 | O60: 0 | P60: 0 | Q60: 0
C61: ПС «Н.Курп» | D61: ='сентябрь 2014г. по 6-10'!D61+'сентябрь 2014г. по 0,4'!D58 -> 0 | E61: ='сентябрь 2014г. по 6-10'!E61+'сентябрь 2014г. по 0,4'!E58 -> 0 | F61: ='сентябрь 2014г. по 6-10'!F61+'сентябрь 2014г. по 0,4'!F58 -> 0 | G61: ='сентябрь 2014г. по 6-10'!G61+'сентябрь 2014г. по 0,4'!G58 -> 0 | H61: 0 | I61: 0 | J61: ='сентябрь 2014г. по 6-10'!J61+'сентябрь 2014г. по 0,4'!J58 -> 0 | K61: ='сентябрь 2014г. по 6-10'!K61+'сентябрь 2014г. по 0,4'!K58 -> 0 | L61: 0 | M61: 0 | N61: 0 | O61: 0 | P61: 0 | Q61: 0
C62: ПС «Акбаш-35» | D62: ='сентябрь 2014г. по 6-10'!D62+'сентябрь 2014г. по 0,4'!D59 -> 2 | E62: ='сентябрь 2014г. по 6-10'!E62+'сентябрь 2014г. по 0,4'!E59 -> 15 | F62: ='сентябрь 2014г. по 6-10'!F62+'сентябрь 2014г. по 0,4'!F59 -> 2 | G62: ='сентябрь 2014г. по 6-10'!G62+'сентябрь 2014г. по 0,4'!G59 -> 15 | H62: 0 | I62: 0 | J62: ='сентябрь 2014г. по 6-10'!J62+'сентябрь 2014г. по 0,4'!J59 -> 0 | K62: ='сентябрь 2014г. по 6-10'!K62+'сентябрь 2014г. по 0,4'!K59 -> 0 | L62: 0 | M62: 0 | N62: 0 | O62: 0 | P62: 0 | Q62: 0
C63: итого: | D63: =D54+D55+D56+D57+D58+D59+D60+D61+D62 -> 34 | E63: =E54+E55+E56+E57+E58+E59+E60+E61+E62 -> 1647 | F63: =F54+F55+F56+F57+F58+F59+F60+F61+F62 -> 32 | G63: =G54+G55+G56+G57+G58+G59+G60+G61+G62 -> 1220 | H63: =H54+H55+H56+H57+H58+H59+H60+H61+H62 -> 4 | I63: =I54+I55+I56+I57+I58+I59+I60+I61+I62 -> 745 | J63: =J54+J55+J56+J57+J58+J59+J60+J61+J62 -> 127 | K63: =K54+K55+K56+K57+K58+K59+K60+K61+K62 -> 892 | ... Q63: =Q54+Q55+Q56+Q57+Q58+Q59+Q60+Q61+Q62 -> 0
C64: Майская группа ПС
C65: ПС «Майская» | D65: ='сентябрь 2014г. по 6-10'!D64+'сентябрь 2014г. по 0,4'!D61 -> 517 | E65: ='сентябрь 2014г. по 6-10'!E64+'сентябрь 2014г. по 0,4'!E61 -> 26011.4 | F65: ='сентябрь 2014г. по 6-10'!F64+'сентябрь 2014г. по 0,4'!F61 -> 394 | G65: ='сентябрь 2014г. по 6-10'!G64+'сентябрь 2014г. по 0,4'!G61 -> 13944.2 | H65: 0 | I65: 0 | J65: ='сентябрь 2014г. по 6-10'!J64+'сентябрь 2014г. по 0,4'!J61 -> 773 | K65: ='сентябрь 2014г. по 6-10'!K64+'сентябрь 2014г. по 0,4'!K61 -> 8350 | L65: 0 | M65: 0 | N65: 0 | O65: 0 | P65: 0 | Q65: 0
C66: ПС «Александровская» | D66: ='сентябрь 2014г. по 6-10'!D65+'сентябрь 2014г. по 0,4'!D62 -> 0 | E66: ='сентябрь 2014г. по 6-10'!E65+'сентябрь 2014г. по 0,4'!E62 -> 0 | F66: ='сентябрь 2014г. по 6-10'!F65+'сентябрь 2014г. по 0,4'!F62 -> 0 | G66: ='сентябрь 2014г. по 6-10'!G65+'сентябрь 2014г. по 0,4'!G62 -> 0 | H66: 0 | I66: 0 | J66: ='сентябрь 2014г. по 6-10'!J65+'сентябрь 2014г. по 0,4'!J62 -> 0 | K66: ='сентябрь 2014г. по 6-10'!K65+'сентябрь 2014г. по 0,4'!K62 -> 0 | L66: 0 | M66: 0 | N66: 0 | O66: 0 | P66: 0 | Q66: 0
C67: ПС «Котляревская» | D67: ='сентябрь 2014г. по 6-10'!D66+'сентябрь 2014г. по 0,4'!D63 -> 72 | E67: ='сентябрь 2014г. по 6-10'!E66+'сентябрь 2014г. по 0,4'!E63 -> 1361 | F67: ='сентябрь 2014г. по 6-10'!F66+'сентябрь 2014г. по 0,4'!F63 -> 71 | G67: ='сентябрь 2014г. по 6-10'!G66+'сентябрь 2014г. по 0,4'!G63 -> 860 | H67: 0 | I67: 0 | J67: ='сентябрь 2014г. по 6-10'!J66+'сентябрь 2014г. по 0,4'!J63 -> 54 | K67: ='сентябрь 2014г. по 6-10'!K66+'сентябрь 2014г. по 0,4'!K63 -> 1130 | L67: 0 | M67: 0 | N67: 0 | O67: 0 | P67: 0 | Q67: 0
C68: ПС «Ново-Ивановская» | D68: ='сентябрь 2014г. по 6-10'!D67+'сентябрь 2014г. по 0,4'!D64 -> 50 | E68: ='сентябрь 2014г. по 6-10'!E67+'сентябрь 2014г. по 0,4'!E64 -> 1760.5 | F68: ='сентябрь 2014г. по 6-10'!F67+'сентябрь 2014г. по 0,4'!F64 -> 44 | G68: ='сентябрь 2014г. по 6-10'!G67+'сентябрь 2014г. по 0,4'!G64 -> 710.5 | H68: 0 | I68: 0 | J68: ='сентябрь 2014г. по 6-10'!J67+'сентябрь 2014г. по 0,4'!J64 -> 40 | K68: ='сентябрь 2014г. по 6-10'!K67+'сентябрь 2014г. по 0,4'!K64 -> 1040 | L68: 0 | M68: 0 | N68: 0 | O68: 0 | P68: 0 | Q68: 0
C69: ПС «Красная Нива» | D69: ='сентябрь 2014г. по 6-10'!D68+'сентябрь 2014г. по 0,4'!D65 -> 8 | E69: ='сентябрь 2014г. по 6-10'!E68+'сентябрь 2014г. по 0,4'!E65 -> 619.5 | F69: ='сентябрь 2014г. по 6-10'!F68+'сентябрь 2014г. по 0,4'!F65 -> 8 | G69: ='сентябрь 2014г. по 6-10'!G68+'сентябрь 2014г. по 0,4'!G65 -> 119.5 | H69: 0 | I69: 0 | J69: ='сентябрь 2014г. по 6-10'!J68+'сентябрь 2014г. по 0,4'!J65 -> 4 | K69: ='сентябрь 2014г. по 6-10'!K68+'сентябрь 2014г. по 0,4'!K65 -> 10 | L69: 0 | M69: 0 | N69: 0 | O69: 0 | P69: 0 | Q69: 0
C70: итого: | D70: =D65+D66+D67+D68+D69 -> 647 | E70: =E65+E66+E67+E68+E69 -> 29752.4 | F70: =F65+F66+F67+F68+F69 -> 517 | G70: =G65+G66+G67+G68+G69 -> 15634.2 | H70: =H65+H66+H67+H68+H69 -> 0 | I70: =I65+I66+I67+I68+I69 -> 0 | J70: =J65+J66+J67+J68+J69 -> 871 | K70: =K65+K66+K67+K68+K69 -> 10530 | ... Q70: =Q65+Q66+Q67+Q68+Q69 -> 0
C71: Чегемская группа ПС
C72: ПС «Чегем-II» | D72: ='сентябрь 2014г. по 6-10'!D71+'сентябрь 2014г. по 0,4'!D68 -> 1 | E72: ='сентябрь 2014г. по 6-10'!E71+'сентябрь 2014г. по 0,4'!E68 -> 10 | F72: ='сентябрь 2014г. по 6-10'!F71+'сентябрь 2014г. по 0,4'!F68 -> 1 | G72: ='сентябрь 2014г. по 6-10'!G71+'сентябрь 2014г. по 0,4'!G68 -> 10 | H72: 0 | I72: 0 | J72: ='сентябрь 2014г. по 6-10'!J71+'сентябрь 2014г. по 0,4'!J68 -> 0 | K72: ='сентябрь 2014г. по 6-10'!K71+'сентябрь 2014г. по 0,4'!K68 -> 0 | L72: 0 | M72: 0 | N72: 0 | O72: 0 | P72: 0 | Q72: 0
C73: ПС «Водозабор» | D73: ='сентябрь 2014г. по 6-10'!D72+'сентябрь 2014г. по 0,4'!D69 -> 11 | E73: ='сентябрь 2014г. по 6-10'!E72+'сентябрь 2014г. по 0,4'!E69 -> 80 | F73: ='сентябрь 2014г. по 6-10'!F72+'сентябрь 2014г. по 0,4'!F69 -> 11 | G73: ='сентябрь 2014г. по 6-10'!G72+'сентябрь 2014г. по 0,4'!G69 -> 80 | H73: 0 | I73: 0 | J73: ='сентябрь 2014г. по 6-10'!J72+'сентябрь 2014г. по 0,4'!J69 -> 0 | K73: ='сентябрь 2014г. по 6-10'!K72+'сентябрь 2014г. по 0,4'!K69 -> 0 | L73: 0 | M73: 0 | N73: 0 | O73: 0 | P73: 0 | Q73: 0
C74: ПС «Чегем-1» | D74: ='сентябрь 2014г. по 6-10'!D73+'сентябрь 2014г. по 0,4'!D70 -> 1 | E74: ='сентябрь 2014г. по 6-10'!E73+'сентябрь 2014г. по 0,4'!E70 -> 15 | F74: ='сентябрь 2014г. по 6-10'!F73+'сентябрь 2014г. по 0,4'!F70 -> 1 | G74: ='сентябрь 2014г. по 6-10'!G73+'сентябрь 2014г. по 0,4'!G70 -> 15 | H74: 1 | I74: 5.6 | J74: ='сентябрь 2014г. по 6-10'!J73+'сентябрь 2014г. по 0,4'!J70 -> 0 | K74: ='сентябрь 2014г. по 6-10'!K73+'сентябрь 2014г. по 0,4'!K70 -> 0 | L74: 0 | M74: 0 | N74: 0 | O74: 0 | P74: 0 | Q74: 0
C75: ПС «Лечинкай» | D75: ='сентябрь 2014г. по 6-10'!D74+'сентябрь 2014г. по 0,4'!D71 -> 14 | E75: ='сентябрь 2014г. по 6-10'!E74+'сентябрь 2014г. по 0,4'!E71 -> 562 | F75: ='сентябрь 2014г. по 6-10'!F74+'сентябрь 2014г. по 0,4'!F71 -> 11 | G75: ='сентябрь 2014г. по 6-10'!G74+'сентябрь 2014г. по 0,4'!G71 -> 222 | H75: 1 | I75: 6 | J75: ='сентябрь 2014г. по 6-10'!J74+'сентябрь 2014г. по 0,4'!J71 -> 5 | K75: ='сентябрь 2014г. по 6-10'!K74+'сентябрь 2014г. по 0,4'!K71 -> 420 | L75: 0 | M75: 0 | N75: 0 | O75: 0 | P75: 0 | Q75: 0
C76: ПС «Н.Чегем» | D76: ='сентябрь 2014г. по 6-10'!D75+'сентябрь 2014г. по 0,4'!D72 -> 1 | E76: ='сентябрь 2014г. по 6-10'!E75+'сентябрь 2014г. по 0,4'!E72 -> 6 | F76: ='сентябрь 2014г. по 6-10'!F75+'сентябрь 2014г. по 0,4'!F72 -> 1 | G76: ='сентябрь 2014г. по 6-10'!G75+'сентябрь 2014г. по 0,4'!G72 -> 6 | H76: 0 | I76: 0 | J76: ='сентябрь 2014г. по 6-10'!J75+'сентябрь 2014г. по 0,4'!J72 -> 0 | K76: ='сентябрь 2014г. по 6-10'!K75+'сентябрь 2014г. по 0,4'!K72 -> 0 | L76: 0 | M76: 0 | N76: 0 | O76: 0 | P76: 0 | Q76: 0
C77: ПС «Кара-Су» | D77: ='сентябрь 2014г. по 6-10'!D76+'сентябрь 2014г. по 0,4'!D73 -> 0 | E77: ='сентябрь 2014г. по 6-10'!E76+'сентябрь 2014г. по 0,4'!E73 -> 0 | F77: ='сентябрь 2014г. по 6-10'!F76+'сентябрь 2014г. по 0,4'!F73 -> 0 | G77: ='сентябрь 2014г. по 6-10'!G76+'сентябрь 2014г. по 0,4'!G73 -> 0 | H77: 0 | I77: 0 | J77: ='сентябрь 2014г. по 6-10'!J76+'сентябрь 2014г. по 0,4'!J73 -> 29 | K77: ='сентябрь 2014г. по 6-10'!K76+'сентябрь 2014г. по 0,4'!K73 -> 198 | L77: 0 | M77: 0 | N77: 0 | O77: 0 | P77: 0 | Q77: 0
C78: итого: | D78: =D72+D73+D74+D75+D76+D77 -> 28 | E78: =E72+E73+E74+E75+E76+E77 -> 673 | F78: =F72+F73+F74+F75+F76+F77 -> 25 | G78: =G72+G73+G74+G75+G76+G77 -> 333 | H78: =H72+H73+H74+H75+H76+H77 -> 2 | I78: =I72+I73+I74+I75+I76+I77 -> 11.6 | J78: =J72+J73+J74+J75+J76+J77 -> 34 | K78: =K72+K73+K74+K75+K76+K77 -> 618 | ... Q78: =Q72+Q73+Q74+Q75+Q76+Q77 -> 0
C79: Баксанская группа ПС
C80: ПС «Баксан-110» | D80: ='сентябрь 2014г. по 6-10'!D79+'сентябрь 2014г. по 0,4'!D76 -> 1 | E80: ='сентябрь 2014г. по 6-10'!E79+'сентябрь 2014г. по 0,4'!E76 -> 90 | F80: ='сентябрь 2014г. по 6-10'!F79+'сентябрь 2014г. по 0,4'!F76 -> 1 | G80: ='сентябрь 2014г. по 6-10'!G79+'сентябрь 2014г. по 0,4'!G76 -> 10 | H80: 0 | I80: 0 | J80: ='сентябрь 2014г. по 6-10'!J79+'сентябрь 2014г. по 0,4'!J76 -> 0 | K80: ='сентябрь 2014г. по 6-10'!K79+'сентябрь 2014г. по 0,4'!K76 -> 0 | L80: 0 | M80: 0 | N80: 0 | O80: 0 | P80: 0 | Q80: 0
C81: ПС «Кызбурун-110» | D81: ='сентябрь 2014г. по 6-10'!D80+'сентябрь 2014г. по 0,4'!D77 -> 1 | E81: ='сентябрь 2014г. по 6-10'!E80+'сентябрь 2014г. по 0,4'!E77 -> 7 | F81: ='сентябрь 2014г. по 6-10'!F80+'сентябрь 2014г. по 0,4'!F77 -> 1 | G81: ='сентябрь 2014г. по 6-10'!G80+'сентябрь 2014г. по 0,4'!G77 -> 7 | H81: 1 | I81: 5 | J81: ='сентябрь 2014г. по 6-10'!J80+'сентябрь 2014г. по 0,4'!J77 -> 0 | K81: ='сентябрь 2014г. по 6-10'!K80+'сентябрь 2014г. по 0,4'!K77 -> 0 | L81: 0 | M81: 0 | N81: 0 | O81: 0 | P81: 0 | Q81: 0
C82: ПС «Куркужин» | D82: ='сентябрь 2014г. по 6-10'!D81+'сентябрь 2014г. по 0,4'!D78 -> 11 | E82: ='сентябрь 2014г. по 6-10'!E81+'сентябрь 2014г. по 0,4'!E78 -> 716 | F82: ='сентябрь 2014г. по 6-10'!F81+'сентябрь 2014г. по 0,4'!F78 -> 7 | G82: ='сентябрь 2014г. по 6-10'!G81+'сентябрь 2014г. по 0,4'!G78 -> 62 | H82: 0 | I82: 0 | J82: ='сентябрь 2014г. по 6-10'!J81+'сентябрь 2014г. по 0,4'!J78 -> 2 | K82: ='сентябрь 2014г. по 6-10'!K81+'сентябрь 2014г. по 0,4'!K78 -> 160 | L82: 0 | M82: 0 | N82: 0 | O82: 0 | P82: 0 | Q82: 0
C83: ПС «Баксан-35» | D83: ='сентябрь 2014г. по 6-10'!D82+'сентябрь 2014г. по 0,4'!D79 -> 2 | E83: ='сентябрь 2014г. по 6-10'!E82+'сентябрь 2014г. по 0,4'!E79 -> 30 | F83: ='сентябрь 2014г. по 6-10'!F82+'сентябрь 2014г. по 0,4'!F79 -> 2 | G83: ='сентябрь 2014г. по 6-10'!G82+'сентябрь 2014г. по 0,4'!G79 -> 10 | H83: 0 | I83: 0 | J83: ='сентябрь 2014г. по 6-10'!J82+'сентябрь 2014г. по 0,4'!J79 -> 0 | K83: ='сентябрь 2014г. по 6-10'!K82+'сентябрь 2014г. по 0,4'!K79 -> 0 | L83: 0 | M83: 0 | N83: 0 | O83: 0 | P83: 0 | Q83: 0
C84: ПС «Кр.Константин.» | D84: ='сентябрь 2014г. по 6-10'!D83+'сентябрь 2014г. по 0,4'!D80 -> 5 | E84: ='сентябрь 2014г. по 6-10'!E83+'сентябрь 2014г. по 0,4'!E80 -> 165 | F84: ='сентябрь 2014г. по 6-10'!F83+'сентябрь 2014г. по 0,4'!F80 -> 5 | G84: ='сентябрь 2014г. по 6-10'!G83+'сентябрь 2014г. по 0,4'!G80 -> 83 | H84: 0 | I84: 0 | J84: ='сентябрь 2014г. по 6-10'!J83+'сентябрь 2014г. по 0,4'!J80 -> 0 | K84: ='сентябрь 2014г. по 6-10'!K83+'сентябрь 2014г. по 0,4'!K80 -> 0 | L84: 0 | M84: 0 | N84: 0 | O84: 0 | P84: 0 | Q84: 0
C85: ПС «Гунделен-110» | D85: ='сентябрь 2014г. по 6-10'!D84+'сентябрь 2014г. по 0,4'!D81 -> 7 | E85: ='сентябрь 2014г. по 6-10'!E84+'сентябрь 2014г. по 0,4'!E81 -> 55 | F85: ='сентябрь 2014г. по 6-10'!F84+'сентябрь 2014г. по 0,4'!F81 -> 7 | G85: ='сентябрь 2014г. по 6-10'!G84+'сентябрь 2014г. по 0,4'!G81 -> 55 | H85: 0 | I85: 0 | J85: ='сентябрь 2014г. по 6-10'!J84+'сентябрь 2014г. по 0,4'!J81 -> 0 | K85: ='сентябрь 2014г. по 6-10'!K84+'сентябрь 2014г. по 0,4'!K81 -> 0 | L85: 0 | M85: 0 | N85: 0 | O85: 0 | P85: 0 | Q85: 0
C86: ПС «Плотина» | D86: ='сентябрь 2014г. по 6-10'!D85+'сентябрь 2014г. по 0,4'!D82 -> 2 | E86: ='сентябрь 2014г. по 6-10'!E85+'сентябрь 2014г. по 0,4'!E82 -> 149 | F86: ='сентябрь 2014г. по 6-10'!F85+'сентябрь 2014г. по 0,4'!F82 -> 1 | G86: ='сентябрь 2014г. по 6-10'!G85+'сентябрь 2014г. по 0,4'!G82 -> 4 | H86: 0 | I86: 0 | J86: ='сентябрь 2014г. по 6-10'!J85+'сентябрь 2014г. по 0,4'!J82 -> 1 | K86: ='сентябрь 2014г. по 6-10'!K85+'сентябрь 2014г. по 0,4'!K82 -> 4 | L86: 0 | M86: 0 | N86: 0 | O86: 0 | P86: 0 | Q86: 0
C87: ПС «Баксаненок» | D87: ='сентябрь 2014г. по 6-10'!D86+'сентябрь 2014г. по 0,4'!D83 -> 8 | E87: ='сентябрь 2014г. по 6-10'!E86+'сентябрь 2014г. по 0,4'!E83 -> 182 | F87: ='сентябрь 2014г. по 6-10'!F86+'сентябрь 2014г. по 0,4'!F83 -> 6 | G87: ='сентябрь 2014г. по 6-10'!G86+'сентябрь 2014г. по 0,4'!G83 -> 34 | H87: 0 | I87: 0 | J87: ='сентябрь 2014г. по 6-10'!J86+'сентябрь 2014г. по 0,4'!J83 -> 0 | K87: ='сентябрь 2014г. по 6-10'!K86+'сентябрь 2014г. по 0,4'!K83 -> 0 | L87: 0 | M87: 0 | N87: 0 | O87: 0 | P87: 0 | Q87: 0
C88: ПС «Баксан-330» | D88: ='сентябрь 2014г. по 6-10'!D87+'сентябрь 2014г. по 0,4'!D84 -> 4 | E88: ='сентябрь 2014г. по 6-10'!E87+'сентябрь 2014г. по 0,4'!E84 -> 345 | F88: ='сентябрь 2014г. по 6-10'!F87+'сентябрь 2014г. по 0,4'!F84 -> 1 | G88: ='сентябрь 2014г. по 6-10'!G87+'сентябрь 2014г. по 0,4'!G84 -> 5 | H88: 0 | I88: 0 | J88: ='сентябрь 2014г. по 6-10'!J87+'сентябрь 2014г. по 0,4'!J84 -> 0 | K88: ='сентябрь 2014г. по 6-10'!K87+'сентябрь 2014г. по 0,4'!K84 -> 0 | L88: 0 | M88: 0 | N88: 0 | O88: 0 | P88: 0 | Q88: 0
C89: РП Заюково | D89: ='сентябрь 2014г. по 6-10'!D88+'сентябрь 2014г. по 0,4'!D85 -> 1 | E89: ='сентябрь 2014г. по 6-10'!E88+'сентябрь 2014г. по 0,4'!E85 -> 65 | F89: ='сентябрь 2014г. по 6-10'!F88+'сентябрь 2014г. по 0,4'!F85 -> 1 | G89: ='сентябрь 2014г. по 6-10'!G88+'сентябрь 2014г. по 0,4'!G85 -> 15 | H89: 0 | I89: 0 | J89: ='сентябрь 2014г. по 6-10'!J88+'сентябрь 2014г. по 0,4'!J85 -> 0 | K89: ='сентябрь 2014г. по 6-10'!K88+'сентябрь 2014г. по 0,4'!K85 -> 0 | L89: 0 | M89: 0 | N89: 0 | O89: 0 | P89: 0 | Q89: 0
C90: РП Куба | D90: ='сентябрь 2014г. по 6-10'!D89+'сентябрь 2014г. по 0,4'!D86 -> 0 | E90: ='сентябрь 2014г. по 6-10'!E89+'сентябрь 2014г. по 0,4'!E86 -> 0 | F90: ='сентябрь 2014г. по 6-10'!F89+'сентябрь 2014г. по 0,4'!F86 -> 0 | G90: ='сентябрь 2014г. по 6-10'!G89+'сентябрь 2014г. по 0,4'!G86 -> 0 | H90: 0 | I90: 0 | J90: ='сентябрь 2014г. по 6-10'!J89+'сентябрь 2014г. по 0,4'!J86 -> 0 | K90: ='сентябрь 2014г. по 6-10'!K89+'сентябрь 2014г. по 0,4'!K86 -> 0 | L90: 0 | M90: 0 | N90: 0 | O90: 0 | P90: 0 | Q90: 0
C91: итого: | D91: =D80+D81+D82+D83+D84+D85+D86+D87+D88+D89+D90 -> 42 | E91: =E80+E81+E82+E83+E84+E85+E86+E87+E88+E89+E90 -> 1804 | F91: =F80+F81+F82+F83+F84+F85+F86+F87+F88+F89+F90 -> 32 | G91: =G80+G81+G82+G83+G84+G85+G86+G87+G88+G89+G90 -> 285 | H91: =H80+H81+H82+H83+H84+H85+H86+H87+H88+H89+H90 -> 1 | I91: =I80+I81+I82+I83+I84+I85+I86+I87+I88+I89+I90 -> 5 | J91: =J80+J81+J82+J83+J84+J85+J86+J87+J88+J89+J90 -> 3 | K91: =K80+K81+K82+K83+K84+K85+K86+K87+K88+K89+K90 -> 164 | ... Q91: =Q80+Q81+Q82+Q83+Q84+Q85+Q86+Q87+Q88+Q89+Q90 -> 0
C92: Черекская группа ПС
C93: ПС «Кашхатау» | D93: ='сентябрь 2014г. по 6-10'!D92+'сентябрь 2014г. по 0,4'!D89 -> 1 | E93: ='сентябрь 2014г. по 6-10'!E92+'сентябрь 2014г. по 0,4'!E89 -> 114 | F93: ='сентябрь 2014г. по 6-10'!F92+'сентябрь 2014г. по 0,4'!F89 -> 1 | G93: ='сентябрь 2014г. по 6-10'!G92+'сентябрь 2014г. по 0,4'!G89 -> 15 | H93: 1 | I93: 15 | J93: ='сентябрь 2014г. по 6-10'!J92+'сентябрь 2014г. по 0,4'!J89 -> 0 | K93: ='сентябрь 2014г. по 6-10'!K92+'сентябрь 2014г. по 0,4'!K89 -> 0 | L93: 0 | M93: 0 | N93: 0 | O93: 0 | P93: 0 | Q93: 0
C94: ПС «Аушигер» | D94: ='сентябрь 2014г. по 6-10'!D93+'сентябрь 2014г. по 0,4'!D90 -> 16 | E94: ='сентябрь 2014г. по 6-10'!E93+'сентябрь 2014г. по 0,4'!E90 -> 279 | F94: ='сентябрь 2014г. по 6-10'!F93+'сентябрь 2014г. по 0,4'!F90 -> 15 | G94: ='сентябрь 2014г. по 6-10'!G93+'сентябрь 2014г. по 0,4'!G90 -> 179 | H94: 0 | I94: 0 | J94: ='сентябрь 2014г. по 6-10'!J93+'сентябрь 2014г. по 0,4'!J90 -> 0 | K94: ='сентябрь 2014г. по 6-10'!K93+'сентябрь 2014г. по 0,4'!K90 -> 0 | L94: 0 | M94: 0 | N94: 0 | O94: 0 | P94: 0 | Q94: 0
C95: ПС «Советская» | D95: ='сентябрь 2014г. по 6-10'!D94+'сентябрь 2014г. по 0,4'!D91 -> 0 | E95: ='сентябрь 2014г. по 6-10'!E94+'сентябрь 2014г. по 0,4'!E91 -> 0 | F95: ='сентябрь 2014г. по 6-10'!F94+'сентябрь 2014г. по 0,4'!F91 -> 0 | G95: ='сентябрь 2014г. по 6-10'!G94+'сентябрь 2014г. по 0,4'!G91 -> 0 | H95: 0 | I95: 0 | J95: ='сентябрь 2014г. по 6-10'!J94+'сентябрь 2014г. по 0,4'!J91 -> 0 | K95: ='сентябрь 2014г. по 6-10'!K94+'сентябрь 2014г. по 0,4'!K91 -> 0 | L95: 0 | M95: 0 | N95: 0 | O95: 0 | P95: 0 | Q95: 0
C96: ПС «Кара-Су» | D96: ='сентябрь 2014г. по 6-10'!D95+'сентябрь 2014г. по 0,4'!D92 -> 0 | E96: ='сентябрь 2014г. по 6-10'!E95+'сентябрь 2014г. по 0,4'!E92 -> 0 | F96: ='сентябрь 2014г. по 6-10'!F95+'сентябрь 2014г. по 0,4'!F92 -> 0 | G96: ='сентябрь 2014г. по 6-10'!G95+'сентябрь 2014г. по 0,4'!G92 -> 0 | H96: 0 | I96: 0 | J96: ='сентябрь 2014г. по 6-10'!J95+'сентябрь 2014г. по 0,4'!J92 -> 0 | K96: ='сентябрь 2014г. по 6-10'!K95+'сентябрь 2014г. по 0,4'!K92 -> 0 | L96: 0 | M96: 0 | N96: 0 | O96: 0 | P96: 0 | Q96: 0
C97: ПС «ЦСБ» | D97: ='сентябрь 2014г. по 6-10'!D96+'сентябрь 2014г. по 0,4'!D93 -> 1 | E97: ='сентябрь 2014г. по 6-10'!E96+'сентябрь 2014г. по 0,4'!E93 -> 6 | F97: ='сентябрь 2014г. по 6-10'!F96+'сентябрь 2014г. по 0,4'!F93 -> 1 | G97: ='сентябрь 2014г. по 6-10'!G96+'сентябрь 2014г. по 0,4'!G93 -> 6 | H97: 0 | I97: 0 | J97: ='сентябрь 2014г. по 6-10'!J96+'сентябрь 2014г. по 0,4'!J93 -> 0 | K97: ='сентябрь 2014г. по 6-10'!K96+'сентябрь 2014г. по 0,4'!K93 -> 0 | L97: 0 | M97: 0 | N97: 0 | O97: 0 | P97: 0 | Q97: 0
C98: ПС «Портал-2» | D98: ='сентябрь 2014г. по 6-10'!D97+'сентябрь 2014г. по 0,4'!D94 -> 8 | E98: ='сентябрь 2014г. по 6-10'!E97+'сентябрь 2014г. по 0,4'!E94 -> 117 | F98: ='сентябрь 2014г. по 6-10'!F97+'сентябрь 2014г. по 0,4'!F94 -> 8 | G98: ='сентябрь 2014г. по 6-10'!G97+'сентябрь 2014г. по 0,4'!G94 -> 103 | H98: 0 | I98: 0 | J98: ='сентябрь 2014г. по 6-10'!J97+'сентябрь 2014г. по 0,4'!J94 -> 0 | K98: ='сентябрь 2014г. по 6-10'!K97+'сентябрь 2014г. по 0,4'!K94 -> 0 | L98: 0 | M98: 0 | N98: 0 | O98: 0 | P98: 0 | Q98: 0
C99: ПС «Портал-1» | D99: ='сентябрь 2014г. по 6-10'!D98+'сентябрь 2014г. по 0,4'!D95 -> 4 | E99: ='сентябрь 2014г. по 6-10'!E98+'сентябрь 2014г. по 0,4'!E95 -> 121 | F99: ='сентябрь 2014г. по 6-10'!F98+'сентябрь 2014г. по 0,4'!F95 -> 4 | G99: ='сентябрь 2014г. по 6-10'!G98+'сентябрь 2014г. по 0,4'!G95 -> 97 | H99: 0 | I99: 0 | J99: ='сентябрь 2014г. по 6-10'!J98+'сентябрь 2014г. по 0,4'!J95 -> 0 | K99: ='сентябрь 2014г. по 6-10'!K98+'сентябрь 2014г. по 0,4'!K95 -> 0 | L99: 0 | M99: 0 | N99: 0 | O99: 0 | P99: 0 | Q99: 0
C100: ПС «Бабугент» | D100: ='сентябрь 2014г. по 6-10'!D99+'сентябрь 2014г. по 0,4'!D96 -> 7 | E100: ='сентябрь 2014г. по 6-10'!E99+'сентябрь 2014г. по 0,4'!E96 -> 179 | F100: ='сентябрь 2014г. по 6-10'!F99+'сентябрь 2014г. по 0,4'!F96 -> 7 | G100: ='сентябрь 2014г. по 6-10'!G99+'сентябрь 2014г. по 0,4'!G96 -> 179 | H100: 0 | I100: 0 | J100: ='сентябрь 2014г. по 6-10'!J99+'сентябрь 2014г. по 0,4'!J96 -> 1 | K100: ='сентябрь 2014г. по 6-10'!K99+'сентябрь 2014г. по 0,4'!K96 -> 6 | L100: 0 | M100: 0 | N100: 0 | O100: 0 | P100: 0 | Q100: 0
C101: ПС «Мухольская ГЭС» | D101: ='сентябрь 2014г. по 6-10'!D100+'сентябрь 2014г. по 0,4'!D97 -> 1 | E101: ='сентябрь 2014г. по 6-10'!E100+'сентябрь 2014г. по 0,4'!E97 -> 7 | F101: ='сентябрь 2014г. по 6-10'!F100+'сентябрь 2014г. по 0,4'!F97 -> 1 | G101: ='сентябрь 2014г. по 6-10'!G100+'сентябрь 2014г. по 0,4'!G97 -> 7 | H101: 0 | I101: 0 | J101: ='сентябрь 2014г. по 6-10'!J100+'сентябрь 2014г. по 0,4'!J97 -> 0 | K101: ='сентябрь 2014г. по 6-10'!K100+'сентябрь 2014г. по 0,4'!K97 -> 0 | L101: 0 | M101: 0 | N101: 0 | O101: 0 | P101: 0 | Q101: 0
C102: итого: | D102: =D93+D94+D95+D96+D97+D98+D99+D100+D101 -> 38 | E102: =E93+E94+E95+E96+E97+E98+E99+E100+E101 -> 823 | F102: =F93+F94+F95+F96+F97+F98+F99+F100+F101 -> 37 | G102: =G93+G94+G95+G96+G97+G98+G99+G100+G101 -> 586 | H102: =H93+H94+H95+H96+H97+H98+H99+H100+H101 -> 1 | I102: =I93+I94+I95+I96+I97+I98+I99+I100+I101 -> 15 | J102: =J93+J94+J95+J96+J97+J98+J99+J100+J101 -> 1 | K102: =K93+K94+K95+K96+K97+K98+K99+K100+K101 -> 6 | ... Q102: =Q93+Q94+Q95+Q96+Q97+Q98+Q99+Q100+Q101 -> 0
C103: Нарткалинская группа ПС
C104: ПС «Нарткала» | D104: ='сентябрь 2014г. по 6-10'!D103+'сентябрь 2014г. по 0,4'!D100 -> 0 | E104: ='сентябрь 2014г. по 6-10'!E103+'сентябрь 2014г. по 0,4'!E100 -> 0 | F104: ='сентябрь 2014г. по 6-10'!F103+'сентябрь 2014г. по 0,4'!F100 -> 0 | G104: ='сентябрь 2014г. по 6-10'!G103+'сентябрь 2014г. по 0,4'!G100 -> 0 | H104: 1 | I104: 15 | J104: ='сентябрь 2014г. по 6-10'!J103+'сентябрь 2014г. по 0,4'!J100 -> 0 | K104: ='сентябрь 2014г. по 6-10'!K103+'сентябрь 2014г. по 0,4'!K100 -> 0 | L104: 0 | M104: 0 | N104: 0 | O104: 0 | P104: 0 | Q104: 0
C105: ПС «Псыгансу» | D105: ='сентябрь 2014г. по 6-10'!D104+'сентябрь 2014г. по 0,4'!D101 -> 70 | E105: ='сентябрь 2014г. по 6-10'!E104+'сентябрь 2014г. по 0,4'!E101 -> 3427 | F105: ='сентябрь 2014г. по 6-10'!F104+'сентябрь 2014г. по 0,4'!F101 -> 42 | G105: ='сентябрь 2014г. по 6-10'!G104+'сентябрь 2014г. по 0,4'!G101 -> 1927 | H105: 0 | I105: 0 | J105: ='сентябрь 2014г. по 6-10'!J104+'сентябрь 2014г. по 0,4'!J101 -> 28 | K105: ='сентябрь 2014г. по 6-10'!K104+'сентябрь 2014г. по 0,4'!K101 -> 796 | L105: 0 | M105: 0 | N105: 0 | O105: 0 | P105: 0 | Q105: 0
C106: ПС «Ст.Лескен» | D106: ='сентябрь 2014г. по 6-10'!D105+'сентябрь 2014г. по 0,4'!D102 -> 42 | E106: ='сентябрь 2014г. по 6-10'!E105+'сентябрь 2014г. по 0,4'!E102 -> 2163 | F106: ='сентябрь 2014г. по 6-10'!F105+'сентябрь 2014г. по 0,4'!F102 -> 18 | G106: ='сентябрь 2014г. по 6-10'!G105+'сентябрь 2014г. по 0,4'!G102 -> 235 | H106: 0 | I106: 0 | J106: ='сентябрь 2014г. по 6-10'!J105+'сентябрь 2014г. по 0,4'!J102 -> 27 | K106: ='сентябрь 2014г. по 6-10'!K105+'сентябрь 2014г. по 0,4'!K102 -> 435 | L106: 0 | M106: 0 | N106: 0 | O106: 0 | P106: 0 | Q106: 0
C107: ПС «Кахун» | D107: ='сентябрь 2014г. по 6-10'!D106+'сентябрь 2014г. по 0,4'!D103 -> 11 | E107: ='сентябрь 2014г. по 6-10'!E106+'сентябрь 2014г. по 0,4'!E103 -> 588 | F107: ='сентябрь 2014г. по 6-10'!F106+'сентябрь 2014г. по 0,4'!F103 -> 11 | G107: ='сентябрь 2014г. по 6-10'!G106+'сентябрь 2014г. по 0,4'!G103 -> 111 | H107: 0 | I107: 0 | J107: ='сентябрь 2014г. по 6-10'!J106+'сентябрь 2014г. по 0,4'!J103 -> 31 | K107: ='сентябрь 2014г. по 6-10'!K106+'сентябрь 2014г. по 0,4'!K103 -> 400 | L107: 0 | M107: 0 | N107: 0 | O107: 0 | P107: 0 | Q107: 0
C108: ПС «Заводская» | D108: ='сентябрь 2014г. по 6-10'!D107+'сентябрь 2014г. по 0,4'!D104 -> 35 | E108: ='сентябрь 2014г. по 6-10'!E107+'сентябрь 2014г. по 0,4'!E104 -> 1164 | F108: ='сентябрь 2014г. по 6-10'!F107+'сентябрь 2014г. по 0,4'!F104 -> 31 | G108: ='сентябрь 2014г. по 6-10'!G107+'сентябрь 2014г. по 0,4'!G104 -> 612 | H108: 0 | I108: 0 | J108: ='сентябрь 2014г. по 6-10'!J107+'сентябрь 2014г. по 0,4'!J104 -> 22 | K108: ='сентябрь 2014г. по 6-10'!K107+'сентябрь 2014г. по 0,4'!K104 -> 154 | L108: 0 | M108: 0 | N108: 0 | O108: 0 | P108: 0 | Q108: 0
C109: ПС «Герменчик» | D109: ='сентябрь 2014г. по 6-10'!D108+'сентябрь 2014г. по 0,4'!D105 -> 18 | E109: ='сентябрь 2014г. по 6-10'!E108+'сентябрь 2014г. по 0,4'!E105 -> 791 | F109: ='сентябрь 2014г. по 6-10'!F108+'сентябрь 2014г. по 0,4'!F105 -> 15 | G109: ='сентябрь 2014г. по 6-10'!G108+'сентябрь 2014г. по 0,4'!G105 -> 291 | H109: 0 | I109: 0 | J109: ='сентябрь 2014г. по 6-10'!J108+'сентябрь 2014г. по 0,4'!J105 -> 24 | K109: ='сентябрь 2014г. по 6-10'!K108+'сентябрь 2014г. по 0,4'!K105 -> 140 | L109: 0 | M109: 0 | N109: 0 | O109: 0 | P109: 0 | Q109: 0
C110: ПС «Ст.Урух» | D110: ='сентябрь 2014г. по 6-10'!D109+'сентябрь 2014г. по 0,4'!D106 -> 13 | E110: ='сентябрь 2014г. по 6-10'!E109+'сентябрь 2014г. по 0,4'!E106 -> 868.5 | F110: ='сентябрь 2014г. по 6-10'!F109+'сентябрь 2014г. по 0,4'!F106 -> 9 | G110: ='сентябрь 2014г. по 6-10'!G109+'сентябрь 2014г. по 0,4'!G106 -> 143.5 | H110: 0 | I110: 0 | J110: ='сентябрь 2014г. по 6-10'!J109+'сентябрь 2014г. по 0,4'!J106 -> 35 | K110: ='сентябрь 2014г. по 6-10'!K109+'сентябрь 2014г. по 0,4'!K106 -> 180 | L110: 0 | M110: 0 | N110: 0 | O110: 0 | P110: 0 | Q110: 0
C111: ПС «Аргудан» | D111: ='сентябрь 2014г. по 6-10'!D110+'сентябрь 2014г. по 0,4'!D107 -> 10 | E111: ='сентябрь 2014г. по 6-10'!E110+'сентябрь 2014г. по 0,4'!E107 -> 312 | F111: ='сентябрь 2014г. по 6-10'!F110+'сентябрь 2014г. по 0,4'!F107 -> 10 | G111: ='сентябрь 2014г. по 6-10'!G110+'сентябрь 2014г. по 0,4'!G107 -> 112 | H111: 0 | I111: 0 | J111: ='сентябрь 2014г. по 6-10'!J110+'сентябрь 2014г. по 0,4'!J107 -> 15 | K111: ='сентябрь 2014г. по 6-10'!K110+'сентябрь 2014г. по 0,4'!K107 -> 72 | L111: 0 | M111: 0 | N111: 0 | O111: 0 | P111: 0 | Q111: 0
C112: ПС «Лескен-1» | D112: ='сентябрь 2014г. по 6-10'!D111+'сентябрь 2014г. по 0,4'!D108 -> 34 | E112: ='сентябрь 2014г. по 6-10'!E111+'сентябрь 2014г. по 0,4'!E108 -> 714.5 | F112: ='сентябрь 2014г. по 6-10'!F111+'сентябрь 2014г. по 0,4'!F108 -> 30 | G112: ='сентябрь 2014г. по 6-10'!G111+'сентябрь 2014г. по 0,4'!G108 -> 314.5 | H112: 2 | I112: 45 | J112: ='сентябрь 2014г. по 6-10'!J111+'сентябрь 2014г. по 0,4'!J108 -> 3 | K112: ='сентябрь 2014г. по 6-10'!K111+'сентябрь 2014г. по 0,4'!K108 -> 55 | L112: 0 | M112: 0 | N112: 0 | O112: 0 | P112: 0 | Q112: 0
...

Sheet сентябрь 2014г
B14: Информация о технологическом присоединении энергопринимающих устройств к сетям ОАО Дагэнергосеть илиалом ОАО "МРСК Северного Кавказа" за сентябрь 2014г.
A19: Наименование организации, осуществляющей технологическое присоединение | B19: Наименование субъекта РФ | C19: Наименование центра питания (ПС 35 кВ и выше) | D19: Количество поданных заявок на технологическое присоединение, на общую мощность энергопринимающих устройств, кВт | F19: Заключено договоров на технологическое присоединение, включающие технические условия на общую мощность энергопринимающих устройств, кВт | H19: Расторгнуто договоров на технологическое присоединение, включающие технические условия на общую мощность энергопринимающих устройств, кВт | J19: Суммарная мощность энегргопринимающих устройств, присоединенных к электрическим сетям в соответствии с договором на технологическое присоединение за отчетный период, кВт | L19: Заключено договоров на технологическое присоединение, включающие технические условия на общую мощность генерирущих установок, МВт | N19: Расторгнуто договоров на технологическое присоединение, включающие технические условия на общую мощность генерирущих установок, МВт | P19: Суммарная мощность генерирущих установок, присоединенных к электрическим сетям в соответствии с договором на технологическое присоединение за отчетный период, МВт
A20: 1 | B20: 2 | C20: 3 | D20: 4 | F20: 5 | H20: 6 | J20: 7 | L20: 8 | N20: 9 | P20: 10
D21: шт | E21: кВт | F21: шт | G21: кВт | H21: шт | I21: кВт | J21: шт | K21: кВт | L21: шт | M21: МВт | N21: шт | O21: МВт | P21: шт | Q21: МВт
A22: Кабардино- Балкарсикй филиал ОАО "МРСК Северного Кавказа" | B22: Республика Дагестан | C22: ЦЕНТРАЛЬНЫЕ СЕТИ
C23: ПС ГПП | D23: ='сентябрь 2014г. по 6-10'!D23+'сентябрь 2014г. по 0,4'!D20 -> 0 | E23: ='сентябрь 2014г. по 6-10'!E23+'сентябрь 2014г. по 0,4'!E20 -> 0 | F23: ='сентябрь 2014г. по 6-10'!F23+'сентябрь 2014г. по 0,4'!F20 -> 0 | G23: ='сентябрь 2014г. по 6-10'!G23+'сентябрь 2014г. по 0,4'!G20 -> 0 | H23: ='сентябрь 2014г. по 6-10'!H23+'сентябрь 2014г. по 0,4'!H20 -> 0 | I23: ='сентябрь 2014г. по 6-10'!I23+'сентябрь 2014г. по 0,4'!I20 -> 0 | J23: ='сентябрь 2014г. по 6-10'!J23+'сентябрь 2014г. по 0,4'!J20 -> 0 | K23: ='сентябрь 2014г. по 6-10'!K23+'сентябрь 2014г. по 0,4'!K20 -> 0 | ... Q23: ='сентябрь 2014г. по 6-10'!Q23+'сентябрь 2014г. по 0,4'!Q20 -> 0
C24: ПС Новая | D24: ='сентябрь 2014г. по 6-10'!D24+'сентябрь 2014г. по 0,4'!D21 -> 1 | E24: ='сентябрь 2014г. по 6-10'!E24+'сентябрь 2014г. по 0,4'!E21 -> 100 | F24: ='сентябрь 2014г. по 6-10'!F24+'сентябрь 2014г. по 0,4'!F21 -> 1 | G24: ='сентябрь 2014г. по 6-10'!G24+'сентябрь 2014г. по 0,4'!G21 -> 100 | H24: ='сентябрь 2014г. по 6-10'!H24+'сентябрь 2014г. по 0,4'!H21 -> 0 | I24: ='сентябрь 2014г. по 6-10'!I24+'сентябрь 2014г. по 0,4'!I21 -> 0 | J24: ='сентябрь 2014г. по 6-10'!J24+'сентябрь 2014г. по 0,4'!J21 -> 31 | K24: ='сентябрь 2014г. по 6-10'!K24+'сентябрь 2014г. по 0,4'!K21 -> 260 | ... Q24: ='сентябрь 2014г. по 6-10'!Q24+'сентябрь 2014г. по 0,4'!Q21 -> 0
C25: ПС ЦПП | D25: ='сентябрь 2014г. по 6-10'!D25+'сентябрь 2014г. по 0,4'!D22 -> 1 | E25: ='сентябрь 2014г. по 6-10'!E25+'сентябрь 2014г. по 0,4'!E22 -> 250 | F25: ='сентябрь 2014г. по 6-10'!F25+'сентябрь 2014г. по 0,4'!F22 -> 0 | G25: ='сентябрь 2014г. по 6-10'!G25+'сентябрь 2014г. по 0,4'!G22 -> 0 | H25: ='сентябрь 2014г. по 6-10'!H25+'сентябрь 2014г. по 0,4'!H22 -> 0 | I25: ='сентябрь 2014г. по 6-10'!I25+'сентябрь 2014г. по 0,4'!I22 -> 0 | J25: ='сентябрь 2014г. по 6-10'!J25+'сентябрь 2014г. по 0,4'!J22 -> 0 | K25: ='сентябрь 2014г. по 6-10'!K25+'сентябрь 2014г. по 0,4'!K22 -> 0 | ... Q25: ='сентябрь 2014г. по 6-10'!Q25+'сентябрь 2014г. по 0,4'!Q22 -> 0
C26: ПС М-110 | D26: ='сентябрь 2014г. по 6-10'!D26+'сентябрь 2014г. по 0,4'!D23 -> 14 | E26: ='сентябрь 2014г. по 6-10'!E26+'сентябрь 2014г. по 0,4'!E23 -> 1700 | F26: ='сентябрь 2014г. по 6-10'!F26+'сентябрь 2014г. по 0,4'!F23 -> 6 | G26: ='сентябрь 2014г. по 6-10'!G26+'сентябрь 2014г. по 0,4'!G23 -> 830 | H26: ='сентябрь 2014г. по 6-10'!H26+'сентябрь 2014г. по 0,4'!H23 -> 0 | I26: ='сентябрь 2014г. по 6-10'!I26+'сентябрь 2014г. по 0,4'!I23 -> 0 | J26: ='сентябрь 2014г. по 6-10'!J26+'сентябрь 2014г. по 0,4'!J23 -> 3 | K26: ='сентябрь 2014г. по 6-10'!K26+'сентябрь 2014г. по 0,4'!K23 -> 210 | ... Q26: ='сентябрь 2014г. по 6-10'!Q26+'сентябрь 2014г. по 0,4'!Q23 -> 0
C27: ПС Очистные соор. | D27: ='сентябрь 2014г. по 6-10'!D27+'сентябрь 2014г. по 0,4'!D24 -> 1 | E27: ='сентябрь 2014г. по 6-10'!E27+'сентябрь 2014г. по 0,4'!E24 -> 80 | F27: ='сентябрь 2014г. по 6-10'!F27+'сентябрь 2014г. по 0,4'!F24 -> 0 | G27: ='сентябрь 2014г. по 6-10'!G27+'сентябрь 2014г. по 0,4'!G24 -> 0 | H27: ='сентябрь 2014г. по 6-10'!H27+'сентябрь 2014г. по 0,4'!H24 -> 0 | I27: ='сентябрь 2014г. по 6-10'!I27+'сентябрь 2014г. по 0,4'!I24 -> 0 | J27: ='сентябрь 2014г. по 6-10'!J27+'сентябрь 2014г. по 0,4'!J24 -> 0 | K27: ='сентябрь 2014г. по 6-10'!K27+'сентябрь 2014г. по 0,4'!K24 -> 0 | ... Q27: ='сентябрь 2014г. по 6-10'!Q27+'сентябрь 2014г. по 0,4'!Q24 -> 0
C28: ПС Ю-Восточная | D28: ='сентябрь 2014г. по 6-10'!D28+'сентябрь 2014г. по 0,4'!D25 -> 2 | E28: ='сентябрь 2014г. по 6-10'!E28+'сентябрь 2014г. по 0,4'!E25 -> 970 | F28: ='сентябрь 2014г. по 6-10'!F28+'сентябрь 2014г. по 0,4'!F25 -> 1 | G28: ='сентябрь 2014г. по 6-10'!G28+'сентябрь 2014г. по 0,4'!G25 -> 470 | H28: ='сентябрь 2014г. по 6-10'!H28+'сентябрь 2014г. по 0,4'!H25 -> 0 | I28: ='сентябрь 2014г. по 6-10'!I28+'сентябрь 2014г. по 0,4'!I25 -> 0 | J28: ='сентябрь 2014г. по 6-10'!J28+'сентябрь 2014г. по 0,4'!J25 -> 50 | K28: ='сентябрь 2014г. по 6-10'!K28+'сентябрь 2014г. по 0,4'!K25 -> 390 | ... Q28: ='сентябрь 2014г. по 6-10'!Q28+'сентябрь 2014г. по 0,4'!Q25 -> 0
C29: ПС Приморская | D29: ='сентябрь 2014г. по 6-10'!D29+'сентябрь 2014г. по 0,4'!D26 -> 1 | E29: ='сентябрь 2014г. по 6-10'!E29+'сентябрь 2014г. по 0,4'!E26 -> 30 | F29: ='сентябрь 2014г. по 6-10'!F29+'сентябрь 2014г. по 0,4'!F26 -> 1 | G29: ='сентябрь 2014г. по 6-10'!G29+'сентябрь 2014г. по 0,4'!G26 -> 30 | H29: ='сентябрь 2014г. по 6-10'!H29+'сентябрь 2014г. по 0,4'!H26 -> 0 | I29: ='сентябрь 2014г. по 6-10'!I29+'сентябрь 2014г. по 0,4'!I26 -> 0 | J29: ='сентябрь 2014г. по 6-10'!J29+'сентябрь 2014г. по 0,4'!J26 -> 0 | K29: ='сентябрь 2014г. по 6-10'!K29+'сентябрь 2014г. по 0,4'!K26 -> 0 | ... Q29: ='сентябрь 2014г. по 6-10'!Q29+'сентябрь 2014г. по 0,4'!Q26 -> 0
C30: ПС Насосная -1 | D30: ='сентябрь 2014г. по 6-10'!D30+'сентябрь 2014г. по 0,4'!D27 -> 14 | E30: ='сентябрь 2014г. по 6-10'!E30+'сентябрь 2014г. по 0,4'!E27 -> 2382 | F30: ='сентябрь 2014г. по 6-10'!F30+'сентябрь 2014г. по 0,4'!F27 -> 12 | G30: ='сентябрь 2014г. по 6-10'!G30+'сентябрь 2014г. по 0,4'!G27 -> 361.4 | H30: ='сентябрь 2014г. по 6-10'!H30+'сентябрь 2014г. по 0,4'!H27 -> 0 | I30: ='сентябрь 2014г. по 6-10'!I30+'сентябрь 2014г. по 0,4'!I27 -> 0 | J30: ='сентябрь 2014г. по 6-10'!J30+'сентябрь 2014г. по 0,4'!J27 -> 41 | K30: ='сентябрь 2014г. по 6-10'!K30+'сентябрь 2014г. по 0,4'!K27 -> 302 | ... Q30: ='сентябрь 2014г. по 6-10'!Q30+'сентябрь 2014г. по 0,4'!Q27 -> 0
C31: ПС Радиоцентр | D31: ='сентябрь 2014г. по 6-10'!D31+'сентябрь 2014г. по 0,4'!D28 -> 3 | E31: ='сентябрь 2014г. по 6-10'!E31+'сентябрь 2014г. по 0,4'!E28 -> 864 | F31: ='сентябрь 2014г. по 6-10'!F31+'сентябрь 2014г. по 0,4'!F28 -> 3 | G31: ='сентябрь 2014г. по 6-10'!G31+'сентябрь 2014г. по 0,4'!G28 -> 564 | H31: ='сентябрь 2014г. по 6-10'!H31+'сентябрь 2014г. по 0,4'!H28 -> 0 | I31: ='сентябрь 2014г. по 6-10'!I31+'сентябрь 2014г. по 0,4'!I28 -> 0 | J31: ='сентябрь 2014г. по 6-10'!J31+'сентябрь 2014г. по 0,4'!J28 -> 37 | K31: ='сентябрь 2014г. по 6-10'!K31+'сентябрь 2014г. по 0,4'!K28 -> 267 | ... Q31: ='сентябрь 2014г. по 6-10'!Q31+'сентябрь 2014г. по 0,4'!Q28 -> 0
C32: ПС Изберг- Сев. | D32: ='сентябрь 2014г. по 6-10'!D32+'сентябрь 2014г. по 0,4'!D29 -> 18 | E32: ='сентябрь 2014г. по 6-10'!E32+'сентябрь 2014г. по 0,4'!E29 -> 1406 | F32: ='сентябрь 2014г. по 6-10'!F32+'сентябрь 2014г. по 0,4'!F29 -> 16 | G32: ='сентябрь 2014г. по 6-10'!G32+'сентябрь 2014г. по 0,4'!G29 -> 1006 | H32: ='сентябрь 2014г. по 6-10'!H32+'сентябрь 2014г. по 0,4'!H29 -> 0 | I32: ='сентябрь 2014г. по 6-10'!I32+'сентябрь 2014г. по 0,4'!I29 -> 0 | J32: ='сентябрь 2014г. по 6-10'!J32+'сентябрь 2014г. по 0,4'!J29 -> 39 | K32: ='сентябрь 2014г. по 6-10'!K32+'сентябрь 2014г. по 0,4'!K29 -> 280 | ... Q32: ='сентябрь 2014г. по 6-10'!Q32+'сентябрь 2014г. по 0,4'!Q29 -> 0
C33: ПС Изберг- Южн. | D33: ='сентябрь 2014г. по 6-10'!D33+'сентябрь 2014г. по 0,4'!D30 -> 14 | E33: ='сентябрь 2014г. по 6-10'!E33+'сентябрь 2014г. по 0,4'!E30 -> 1074.1 | F33: ='сентябрь 2014г. по 6-10'!F33+'сентябрь 2014г. по 0,4'!F30 -> 14 | G33: ='сентябрь 2014г. по 6-10'!G33+'сентябрь 2014г. по 0,4'!G30 -> 1074.1 | H33: ='сентябрь 2014г. по 6-10'!H33+'сентябрь 2014г. по 0,4'!H30 -> 0 | I33: ='сентябрь 2014г. по 6-10'!I33+'сентябрь 2014г. по 0,4'!I30 -> 0 | J33: ='сентябрь 2014г. по 6-10'!J33+'сентябрь 2014г. по 0,4'!J30 -> 41 | K33: ='сентябрь 2014г. по 6-10'!K33+'сентябрь 2014г. по 0,4'!K30 -> 320 | ... Q33: ='сентябрь 2014г. по 6-10'!Q33+'сентябрь 2014г. по 0,4'!Q30 -> 0
C34: ПС Карабуд-т | D34: ='сентябрь 2014г. по 6-10'!D34+'сентябрь 2014г. по 0,4'!D31 -> 19 | E34: ='сентябрь 2014г. по 6-10'!E34+'сентябрь 2014г. по 0,4'!E31 -> 440 | F34: ='сентябрь 2014г. по 6-10'!F34+'сентябрь 2014г. по 0,4'!F31 -> 19 | G34: ='сентябрь 2014г. по 6-10'!G34+'сентябрь 2014г. по 0,4'!G31 -> 440 | H34: ='сентябрь 2014г. по 6-10'!H34+'сентябрь 2014г. по 0,4'!H31 -> 0 | I34: ='сентябрь 2014г. по 6-10'!I34+'сентябрь 2014г. по 0,4'!I31 -> 0 | J34: ='сентябрь 2014г. по 6-10'!J34+'сентябрь 2014г. по 0,4'!J31 -> 25 | K34: ='сентябрь 2014г. по 6-10'!K34+'сентябрь 2014г. по 0,4'!K31 -> 365 | ... Q34: ='сентябрь 2014г. по 6-10'!Q34+'сентябрь 2014г. по 0,4'!Q31 -> 0
... C63: ПС ЗТМ (Т, Механика) | D63: ='сентябрь 2014г. по 6-10'!D63+'сентябрь 2014г. по 0,4'!D60 -> 5 | E63: ='сентябрь 2014г. по 6-10'!E63+'сентябрь 2014г. по 0,4'!E60 -> 785 | F63: ='сентябрь 2014г. по 6-10'!F63+'сентябрь 2014г. по 0,4'!F60 -> 3 | G63: ='сентябрь 2014г. по 6-10'!G63+'сентябрь 2014г. по 0,4'!G60 -> 385 | H63: ='сентябрь 2014г. по 6-10'!H63+'сентябрь 2014г. по 0,4'!H60 -> 0 | I63: ='сентябрь 2014г. по 6-10'!I63+'сентябрь 2014г. по 0,4'!I60 -> 0 | J63: ='сентябрь 2014г. по 6-10'!J63+'сентябрь 2014г. по 0,4'!J60 -> 0 | K63: ='сентябрь 2014г. по 6-10'!K63+'сентябрь 2014г. по 0,4'!K60 -> 0 | ... Q63: ='сентябрь 2014г. по 6-10'!Q63+'сентябрь 2014г. по 0,4'!Q60 -> 0
C64: итого: | D64: =SUM(D23:D63) -> 517 | E64: =SUM(E23:E63) -> 26011.4 | F64: =SUM(F23:F63) -> 394 | G64: =SUM(G23:G63) -> 13944.2 | H64: =SUM(H23:H63) -> 0 | I64: =SUM(I23:I63) -> 0 | J64: =SUM(J23:J63) -> 773 | K64: =SUM(K23:K63) -> 8350 | ... Q64: =SUM(Q23:Q63) -> 0
C65: СЕВЕРНЫЕ СЕТИ
C66: Ярыксу | D66: ='сентябрь 2014г. по 6-10'!D66+'сентябрь 2014г. по 0,4'!D63 -> 72 | E66: ='сентябрь 2014г. по 6-10'!E66+'сентябрь 2014г. по 0,4'!E63 -> 1361 | F66: ='сентябрь 2014г. по 6-10'!F66+'сентябрь 2014г. по 0,4'!F63 -> 71 | G66: ='сентябрь 2014г. по 6-10'!G66+'сентябрь 2014г. по 0,4'!G63 -> 860 | H66: ='сентябрь 2014г. по 6-10'!H66+'сентябрь 2014г. по 0,4'!H63 -> 0 | I66: ='сентябрь 2014г. по 6-10'!I66+'сентябрь 2014г. по 0,4'!I63 -> 0 | J66: ='сентябрь 2014г. по 6-10'!J66+'сентябрь 2014г. по 0,4'!J63 -> 54 | K66: ='сентябрь 2014г. по 6-10'!K66+'сентябрь 2014г. по 0,4'!K63 -> 1130 | ... Q66: ='сентябрь 2014г. по 6-10'!Q66+'сентябрь 2014г. по 0,4'!Q63 -> 0
C67: Акташ | D67: ='сентябрь 2014г. по 6-10'!D67+'сентябрь 2014г. по 0,4'!D64 -> 50 | E67: ='сентябрь 2014г. по 6-10'!E67+'сентябрь 2014г. по 0,4'!E64 -> 1760.5 | F67: ='сентябрь 2014г. по 6-10'!F67+'сентябрь 2014г. по 0,4'!F64 -> 44 | G67: ='сентябрь 2014г. по 6-10'!G67+'сентябрь 2014г. по 0,4'!G64 -> 710.5 | H67: ='сентябрь 2014г. по 6-10'!H67+'сентябрь 2014г. по 0,4'!H64 -> 0 | I67: ='сентябрь 2014г. по 6-10'!I67+'сентябрь 2014г. по 0,4'!I64 -> 0 | J67: ='сентябрь 2014г. по 6-10'!J67+'сентябрь 2014г. по 0,4'!J64 -> 40 | K67: ='сентябрь 2014г. по 6-10'!K67+'сентябрь 2014г. по 0,4'!K64 -> 1040 | ... Q67: ='сентябрь 2014г. по 6-10'!Q67+'сентябрь 2014г. по 0,4'!Q64 -> 0
C68: Куруш | D68: ='сентябрь 2014г. по 6-10'!D68+'сентябрь 2014г. по 0,4'!D65 -> 8 | E68: ='сентябрь 2014г. по 6-10'!E68+'сентябрь 2014г. по 0,4'!E65 -> 619.5 | F68: ='сентябрь 2014г. по 6-10'!F68+'сентябрь 2014г. по 0,4'!F65 -> 8 | G68: ='сентябрь 2014г. по 6-10'!G68+'сентябрь 2014г. по 0,4'!G65 -> 119.5 | H68: ='сентябрь 2014г. по 6-10'!H68+'сентябрь 2014г. по 0,4'!H65 -> 0 | I68: ='сентябрь 2014г. по 6-10'!I68+'сентябрь 2014г. по 0,4'!I65 -> 0 | J68: ='сентябрь 2014г. по 6-10'!J68+'сентябрь 2014г. по 0,4'!J65 -> 4 | K68: ='сентябрь 2014г. по 6-10'!K68+'сентябрь 2014г. по 0,4'!K65 -> 10 | ... Q68: ='сентябрь 2014г. по 6-10'!Q68+'сентябрь 2014г. по 0,4'!Q65 -> 0
C69: Сулевкент | D69: ='сентябрь 2014г. по 6-10'!D69+'сентябрь 2014г. по 0,4'!D66 -> 2 | E69: ='сентябрь 2014г. по 6-10'!E69+'сентябрь 2014г. по 0,4'!E66 -> 125 | F69: ='сентябрь 2014г. по 6-10'!F69+'сентябрь 2014г. по 0,4'!F66 -> 2 | G69: ='сентябрь 2014г. по 6-10'!G69+'сентябрь 2014г. по 0,4'!G66 -> 25 | H69: ='сентябрь 2014г. по 6-10'!H69+'сентябрь 2014г. по 0,4'!H66 -> 0 | I69: ='сентябрь 2014г. по 6-10'!I69+'сентябрь 2014г. по 0,4'!I66 -> 0 | J69: ='сентябрь 2014г. по 6-10'!J69+'сентябрь 2014г. по 0,4'!J66 -> 0 | K69: ='сентябрь 2014г. по 6-10'!K69+'сентябрь 2014г. по 0,4'!K66 -> 0 | ... Q69: ='сентябрь 2014г. по 6-10'!Q69+'сентябрь 2014г. по 0,4'!Q66 -> 0
C70: Бабаюрт | D70: ='сентябрь 2014г. по 6-10'!D70+'сентябрь 2014г. по 0,4'!D67 -> 13 | E70: ='сентябрь 2014г. по 6-10'!E70+'сентябрь 2014г. по 0,4'!E67 -> 756 | F70: ='сентябрь 2014г. по 6-10'!F70+'сентябрь 2014г. по 0,4'!F67 -> 10 | G70: ='сентябрь 2014г. по 6-10'!G70+'сентябрь 2014г. по 0,4'!G67 -> 138 | H70: ='сентябрь 2014г. по 6-10'!H70+'сентябрь 2014г. по 0,4'!H67 -> 0 | I70: ='сентябрь 2014г. по 6-10'!I70+'сентябрь 2014г. по 0,4'!I67 -> 0 | J70: ='сентябрь 2014г. по 6-10'!J70+'сентябрь 2014г. по 0,4'!J67 -> 35 | K70: ='сентябрь 2014г. по 6-10'!K70+'сентябрь 2014г. по 0,4'!K67 -> 234 | ... Q70: ='сентябрь 2014г. по 6-10'!Q70+'сентябрь 2014г. по 0,4'!Q67 -> 0
C71: Чиркей | D71: ='сентябрь 2014г. по 6-10'!D71+'сентябрь 2014г. по 0,4'!D68 -> 1 | E71: ='сентябрь 2014г. по 6-10'!E71+'сентябрь 2014г. по 0,4'!E68 -> 10 | F71: ='сентябрь 2014г. по 6-10'!F71+'сентябрь 2014г. по 0,4'!F68 -> 1 | G71: ='сентябрь 2014г. по 6-10'!G71+'сентябрь 2014г. по 0,4'!G68 -> 10 | H71: ='сентябрь 2014г. по 6-10'!H71+'сентябрь 2014г. по 0,4'!H68 -> 0 | I71: ='сентябрь 2014г. по 6-10'!I71+'сентябрь 2014г. по 0,4'!I68 -> 0 | J71: ='сентябрь 2014г. по 6-10'!J71+'сентябрь 2014г. по 0,4'!J68 -> 0 | K71: ='сентябрь 2014г. по 6-10'!K71+'сентябрь 2014г. по 0,4'!K68 -> 0 | ... Q71: ='сентябрь 2014г. по 6-10'!Q71+'сентябрь 2014г. по 0,4'!Q68 -> 0
C72: Дылым | D72: ='сентябрь 2014г. по 6-10'!D72+'сентябрь 2014г. по 0,4'!D69 -> 11 | E72: ='сентябрь 2014г. по 6-10'!E72+'сентябрь 2014г. по 0,4'!E69 -> 80 | F72: ='сентябрь 2014г. по 6-10'!F72+'сентябрь 2014г. по 0,4'!F69 -> 11 | G72: ='сентябрь 2014г. по 6-10'!G72+'сентябрь 2014г. по 0,4'!G69 -> 80 | H72: ='сентябрь 2014г. по 6-10'!H72+'сентябрь 2014г. по 0,4'!H69 -> 0 | I72: ='сентябрь 2014г. по 6-10'!I72+'сентябрь 2014г. по 0,4'!I69 -> 0 | J72: ='сентябрь 2014г. по 6-10'!J72+'сентябрь 2014г. по 0,4'!J69 -> 0 | K72: ='сентябрь 2014г. по 6-10'!K72+'сентябрь 2014г. по 0,4'!K69 -> 0 | ... Q72: ='сентябрь 2014г. по 6-10'!Q72+'сентябрь 2014г. по 0,4'!Q69 -> 0
C73: Миатлы | D73: ='сентябрь 2014г. по 6-10'!D73+'сентябрь 2014г. по 0,4'!D70 -> 1 | E73: ='сентябрь 2014г. по 6-10'!E73+'сентябрь 2014г. по 0,4'!E70 -> 15 | F73: ='сентябрь 2014г. по 6-10'!F73+'сентябрь 2014г. по 0,4'!F70 -> 1 | G73: ='сентябрь 2014г. по 6-10'!G73+'сентябрь 2014г. по 0,4'!G70 -> 15 | H73: ='сентябрь 2014г. по 6-10'!H73+'сентябрь 2014г. по 0,4'!H70 -> 0 | I73: ='сентябрь 2014г. по 6-10'!I73+'сентябрь 2014г. по 0,4'!I70 -> 0 | J73: ='сентябрь 2014г. по 6-10'!J73+'сентябрь 2014г. по 0,4'!J70 -> 0 | K73: ='сентябрь 2014г. по 6-10'!K73+'сентябрь 2014г. по 0,4'!K70 -> 0 | ... Q73: ='сентябрь 2014г. по 6-10'!Q73+'сентябрь 2014г. по 0,4'!Q70 -> 0
C74: ГЩЗ | D74: ='сентябрь 2014г. по 6-10'!D74+'сентябрь 2014г. по 0,4'!D71 -> 14 | E74: ='сентябрь 2014г. по 6-10'!E74+'сентябрь 2014г. по 0,4'!E71 -> 562 | F74: ='сентябрь 2014г. по 6-10'!F74+'сентябрь 2014г. по 0,4'!F71 -> 11 | G74: ='сентябрь 2014г. по 6-10'!G74+'сентябрь 2014г. по 0,4'!G71 -> 222 | H74: ='сентябрь 2014г. по 6-10'!H74+'сентябрь 2014г. по 0,4'!H71 -> 0 | I74: ='сентябрь 2014г. по 6-10'!I74+'сентябрь 2014г. по 0,4'!I71 -> 0 | J74: ='сентябрь 2014г. по 6-10'!J74+'сентябрь 2014г. по 0,4'!J71 -> 5 | K74: ='сентябрь 2014г. по 6-10'!K74+'сентябрь 2014г. по 0,4'!K71 -> 420 | ... Q74: ='сентябрь 2014г. по 6-10'!Q74+'сентябрь 2014г. по 0,4'!Q71 -> 0
C75: Сулак | D75: ='сентябрь 2014г. по 6-10'!D75+'сентябрь 2014г. по 0,4'!D72 -> 1 | E75: ='сентябрь 2014г. по 6-10'!E75+'сентябрь 2014г. по 0,4'!E72 -> 6 | F75: ='сентябрь 2014г. по 6-10'!F75+'сентябрь 2014г. по 0,4'!F72 -> 1 | G75: ='сентябрь 2014г. по 6-10'!G75+'сентябрь 2014г. по 0,4'!G72 -> 6 | H75: ='сентябрь 2014г. по 6-10'!H75+'сентябрь 2014г. по 0,4'!H72 -> 0 | I75: ='сентябрь 2014г. по 6-10'!I75+'сентябрь 2014г. по 0,4'!I72 -> 0 | J75: ='сентябрь 2014г. по 6-10'!J75+'сентябрь 2014г. по 0,4'!J72 -> 0 | K75: ='сентябрь 2014г. по 6-10'!K75+'сентябрь 2014г. по 0,4'!K72 -> 0 | ... Q75: ='сентябрь 2014г. по 6-10'!Q75+'сентябрь 2014г. по 0,4'!Q72 -> 0
C76: Львовская | D76: ='сентябрь 2014г. по 6-10'!D76+'сентябрь 2014г. по 0,4'!D73 -> 0 | E76: ='сентябрь 2014г. по 6-10'!E76+'сентябрь 2014г. по 0,4'!E73 -> 0 | F76: ='сентябрь 2014г. по 6-10'!F76+'сентябрь 2014г. по 0,4'!F73 -> 0 | G76: ='сентябрь 2014г. по 6-10'!G76+'сентябрь 2014г. по 0,4'!G73 -> 0 | H76: ='сентябрь 2014г. по 6-10'!H76+'сентябрь 2014г. по 0,4'!H73 -> 0 | I76: ='сентябрь 2014г. по 6-10'!I76+'сентябрь 2014г. по 0,4'!I73 -> 0 | J76: ='сентябрь 2014г. по 6-10'!J76+'сентябрь 2014г. по 0,4'!J73 -> 29 | K76: ='сентябрь 2014г. по 6-10'!K76+'сентябрь 2014г. по 0,4'!K73 -> 198 | ... Q76: ='сентябрь 2014г. по 6-10'!Q76+'сентябрь 2014г. по 0,4'!Q73 -> 0
C77: Дагестан | D77: ='сентябрь 2014г. по 6-10'!D77+'сентябрь 2014г. по 0,4'!D74 -> 17 | E77: ='сентябрь 2014г. по 6-10'!E77+'сентябрь 2014г. по 0,4'!E74 -> 838 | F77: ='сентябрь 2014г. по 6-10'!F77+'сентябрь 2014г. по 0,4'!F74 -> 16 | G77: ='сентябрь 2014г. по 6-10'!G77+'сентябрь 2014г. по 0,4'!G74 -> 138 | H77: ='сентябрь 2014г. по 6-10'!H77+'сентябрь 2014г. по 0,4'!H74 -> 0 | I77: ='сентябрь 2014г. по 6-10'!I77+'сентябрь 2014г. по 0,4'!I74 -> 0 | J77: ='сентябрь 2014г. по 6-10'!J77+'сентябрь 2014г. по 0,4'!J74 -> 0 | K77: ='сентябрь 2014г. по 6-10'!K77+'сентябрь 2014г. по 0,4'!K74 -> 0 | ... Q77: ='сентябрь 2014г. по 6-10'!Q77+'сентябрь 2014г. по 0,4'!Q74 -> 0
... C101: Карланюрт -(Тяговая) | D101: ='сентябрь 2014г. по 6-10'!D101+'сентябрь 2014г. по 0,4'!D98 -> 5 | E101: ='сентябрь 2014г. по 6-10'!E101+'сентябрь 2014г. по 0,4'!E98 -> 455 | F101: ='сентябрь 2014г. по 6-10'!F101+'сентябрь 2014г. по 0,4'!F98 -> 5 | G101: ='сентябрь 2014г. по 6-10'!G101+'сентябрь 2014г. по 0,4'!G98 -> 455 | H101: ='сентябрь 2014г. по 6-10'!H101+'сентябрь 2014г. по 0,4'!H98 -> 0 | I101: ='сентябрь 2014г. по 6-10'!I101+'сентябрь 2014г. по 0,4'!I98 -> 0 | J101: ='сентябрь 2014г. по 6-10'!J101+'сентябрь 2014г. по 0,4'!J98 -> 0 | K101: ='сентябрь 2014г. по 6-10'!K101+'сентябрь 2014г. по 0,4'!K98 -> 0 | ... Q101: ='сентябрь 2014г. по 6-10'!Q101+'сентябрь 2014г. по 0,4'!Q98 -> 0
C102: итого: | D102: =SUM(D66:D101) -> 284 | E102: =SUM(E66:E101) -> 9943.5 | F102: =SUM(F66:F101) -> 258 | G102: =SUM(G66:G101) -> 3758.5 | H102: =SUM(H66:H101) -> 0 | I102: =SUM(I66:I101) -> 0 | J102: =SUM(J66:J101) -> 198 | K102: =SUM(K66:K101) -> 3399 | ... Q102: =SUM(Q66:Q101) -> 0
C103: ДЕРБЕНТСКИЕ СЕТИ
C104: Дербент-330 | D104: ='сентябрь 2014г. по 6-10'!D104+'сентябрь 2014г. по 0,4'!D101 -> 70 | E104: ='сентябрь 2014г. по 6-10'!E104+'сентябрь 2014г. по 0,4'!E101 -> 3427 | F104: ='сентябрь 2014г. по 6-10'!F104+'сентябрь 2014г. по 0,4'!F101 -> 42 | G104: ='сентябрь 2014г. по 6-10'!G104+'сентябрь 2014г. по 0,4'!G101 -> 1927 | H104: ='сентябрь 2014г. по 6-10'!H104+'сентябрь 2014г. по 0,4'!H101 -> 0 | I104: ='сентябрь 2014г. по 6-10'!I104+'сентябрь 2014г. по 0,4'!I101 -> 0 | J104: ='сентябрь 2014г. по 6-10'!J104+'сентябрь 2014г. по 0,4'!J101 -> 28 | K104: ='сентябрь 2014г. по 6-10'!K104+'сентябрь 2014г. по 0,4'!K101 -> 796 | ... Q104: ='сентябрь 2014г. по 6-10'!Q104+'сентябрь 2014г. по 0,4'!Q101 -> 0
C105: Дербент-С | D105: ='сентябрь 2014г. по 6-10'!D105+'сентябрь 2014г. по 0,4'!D102 -> 42 | E105: ='сентябрь 2014г. по 6-10'!E105+'сентябрь 2014г. по 0,4'!E102 -> 2163 | F105: ='сентябрь 2014г. по 6-10'!F105+'сентябрь 2014г. по 0,4'!F102 -> 18 | G105: ='сентябрь 2014г. по 6-10'!G105+'сентябрь 2014г. по 0,4'!G102 -> 235 | H105: ='сентябрь 2014г. по 6-10'!H105+'сентябрь 2014г. по 0,4'!H102 -> 0 | I105: ='сентябрь 2014г. по 6-10'!I105+'сентябрь 2014г. по 0,4'!I102 -> 0 | J105: ='сентябрь 2014г. по 6-10'!J105+'сентябрь 2014г. по 0,4'!J102 -> 27 | K105: ='сентябрь 2014г. по 6-10'!K105+'сентябрь 2014г. по 0,4'!K102 -> 435 | ... Q105: ='сентябрь 2014г. по 6-10'!Q105+'сентябрь 2014г. по 0,4'!Q102 -> 0
C106: Мамедкала | D106: ='сентябрь 2014г. по 6-10'!D106+'сентябрь 2014г. по 0,4'!D103 -> 11 | E106: ='сентябрь 2014г. по 6-10'!E106+'сентябрь 2014г. по 0,4'!E103 -> 588 | F106: ='сентябрь 2014г. по 6-10'!F106+'сентябрь 2014г. по 0,4'!F103 -> 11 | G106: ='сентябрь 2014г. по 6-10'!G106+'сентябрь 2014г. по 0,4'!G103 -> 111 | H106: ='сентябрь 2014г. по 6-10'!H106+'сентябрь 2014г. по 0,4'!H103 -> 0 | I106: ='сентябрь 2014г. по 6-10'!I106+'сентябрь 2014г. по 0,4'!I103 -> 0 | J106: ='сентябрь 2014г. по 6-10'!J106+'сентябрь 2014г. по 0,4'!J103 -> 31 | K106: ='сентябрь 2014г. по 6-10'!K106+'сентябрь 2014г. по 0,4'!K103 -> 400 | ... Q106: ='сентябрь 2014г. по 6-10'!Q106+'сентябрь 2014г. по 0,4'!Q103 -> 0
C107: Каякент | D107: ='сентябрь 2014г. по 6-10'!D107+'сентябрь 2014г. по 0,4'!D104 -> 35 | E107: ='сентябрь 2014г. по 6-10'!E107+'сентябрь 2014г. по 0,4'!E104 -> 1164 | F107: ='сентябрь 2014г. по 6-10'!F107+'сентябрь 2014г. по 0,4'!F104 -> 31 | G107: ='сентябрь 2014г. по 6-10'!G107+'сентябрь 2014г. по 0,4'!G104 -> 612 | H107: ='сентябрь 2014г. по 6-10'!H107+'сентябрь 2014г. по 0,4'!H104 -> 0 | I107: ='сентябрь 2014г. по 6-10'!I107+'сентябрь 2014г. по 0,4'!I104 -> 0 | J107: ='сентябрь 2014г. по 6-10'!J107+'сентябрь 2014г. по 0,4'!J104 -> 22 | K107: ='сентябрь 2014г. по 6-10'!K107+'сентябрь 2014г. по 0,4'!K104 -> 154 | ... Q107: ='сентябрь 2014г. по 6-10'!Q107+'сентябрь 2014г. по 0,4'!Q104 -> 0
C108: Белиджи | D108: ='сентябрь 2014г. по 6-10'!D108+'сентябрь 2014г. по 0,4'!D105 -> 18 | E108: ='сентябрь 2014г. по 6-10'!E108+'сентябрь 2014г. по 0,4'!E105 -> 791 | F108: ='сентябрь 2014г. по 6-10'!F108+'сентябрь 2014г. по 0,4'!F105 -> 15 | G108: ='сентябрь 2014г. по 6-10'!G108+'сентябрь 2014г. по 0,4'!G105 -> 291 | H108: ='сентябрь 2014г. по 6-10'!H108+'сентябрь 2014г. по 0,4'!H105 -> 0 | I108: ='сентябрь 2014г. по 6-10'!I108+'сентябрь 2014г. по 0,4'!I105 -> 0 | J108: ='сентябрь 2014г. по 6-10'!J108+'сентябрь 2014г. по 0,4'!J105 -> 24 | K108: ='сентябрь 2014г. по 6-10'!K108+'сентябрь 2014г. по 0,4'!K105 -> 140 | ... Q108: ='сентябрь 2014г. по 6-10'!Q108+'сентябрь 2014г. по 0,4'!Q105 -> 0
C109: Касумкент | D109: ='сентябрь 2014г. по 6-10'!D109+'сентябрь 2014г. по 0,4'!D106 -> 13 | E109: ='сентябрь 2014г. по 6-10'!E109+'сентябрь 2014г. по 0,4'!E106 -> 868.5 | F109: ='сентябрь 2014г. по 6-10'!F109+'сентябрь 2014г. по 0,4'!F106 -> 9 | G109: ='сентябрь 2014г. по 6-10'!G109+'сентябрь 2014г. по 0,4'!G106 -> 143.5 | H109: ='сентябрь 2014г. по 6-10'!H109+'сентябрь 2014г. по 0,4'!H106 -> 0 | I109: ='сентябрь 2014г. по 6-10'!I109+'сентябрь 2014г. по 0,4'!I106 -> 0 | J109: ='сентябрь 2014г. по 6-10'!J109+'сентябрь 2014г. по 0,4'!J106 -> 35 | K109: ='сентябрь 2014г. по 6-10'!K109+'сентябрь 2014г. по 0,4'!K106 -> 180 | ... Q109: ='сентябрь 2014г. по 6-10'!Q109+'сентябрь 2014г. по 0,4'!Q106 -> 0
C110: Советская | D110: ='сентябрь 2014г. по 6-10'!D110+'сентябрь 2014г. по 0,4'!D107 -> 10 | E110: ='сентябрь 2014г. по 6-10'!E110+'сентябрь 2014г. по 0,4'!E107 -> 312 | F110: ='сентябрь 2014г. по 6-10'!F110+'сентябрь 2014г. по 0,4'!F107 -> 10 | G110: ='сентябрь 2014г. по 6-10'!G110+'сентябрь 2014г. по 0,4'!G107 -> 112 | H110: ='сентябрь 2014г. по 6-10'!H110+'сентябрь 2014г. по 0,4'!H107 -> 0 | I110: ='сентябрь 2014г. по 6-10'!I110+'сентябрь 2014г. по 0,4'!I107 -> 0 | J110: ='сентябрь 2014г. по 6-10'!J110+'сентябрь 2014г. по 0,4'!J107 -> 15 | K110: ='сентябрь 2014г. по 6-10'!K110+'сентябрь 2014г. по 0,4'!K107 -> 72 | ... Q110: ='сентябрь 2014г. по 6-10'!Q110+'сентябрь 2014г. по 0,4'!Q107 -> 0
C111: Магарамкент | D111: ='сентябрь 2014г. по 6-10'!D111+'сентябрь 2014г. по 0,4'!D108 -> 34 | E111: ='сентябрь 2014г. по 6-10'!E111+'сентябрь 2014г. по 0,4'!E108 -> 714.5 | F111: ='сентябрь 2014г. по 6-10'!F111+'сентябрь 2014г. по 0,4'!F108 -> 30 | G111: ='сентябрь 2014г. по 6-10'!G111+'сентябрь 2014г. по 0,4'!G108 -> 314.5 | H111: ='сентябрь 2014г. по 6-10'!H111+'сентябрь 2014г. по 0,4'!H108 -> 0 | I111: ='сентябрь 2014г. по 6-10'!I111+'сентябрь 2014г. по 0,4'!I108 -> 0 | J111: ='сентябрь 2014г. по 6-10'!J111+'сентябрь 2014г. по 0,4'!J108 -> 3 | K111: ='сентябрь 2014г. по 6-10'!K111+'сентябрь 2014г. по 0,4'!K108 -> 55 | ... Q111: ='сентябрь 2014г. по 6-10'!Q111+'сентябрь 2014г. по 0,4'!Q108 -> 0
C112: Тагиркент | D112: ='сентябрь 2014г. по 6-10'!D112+'сентябрь 2014г. по 0,4'!D109 -> 14 | E112: ='сентябрь 2014г. по 6-10'!E112+'сентябрь 2014г. по 0,4'!E109 -> 88 | F112: ='сентябрь 2014г. по 6-10'!F112+'сентябрь 2014г. по 0,4'!F109 -> 14 | G112: ='сентябрь 2014г. по 6-10'!G112+'сентябрь 2014г. по 0,4'!G109 -> 88 | H112: ='сентябрь 2014г. по 6-10'!H112+'сентябрь 2014г. по 0,4'!H109 -> 0 | I112: ='сентябрь 2014г. по 6-10'!I112+'сентябрь 2014г. по 0,4'!I109 -> 0 | J112: ='сентябрь 2014г. по 6-10'!J112+'сентябрь 2014г. по 0,4'!J109 -> 1 | K112: ='сентябрь 2014г. по 6-10'!K112+'сентябрь 2014г. по 0,4'!K109 -> 6 | ... Q112: ='сентябрь 2014г. по 6-10'!Q112+'сентябрь 2014г. по 0,4'!Q109 -> 0
C113: Ахты | D113: ='сентябрь 2014г. по 6-10'!D113+'сентябрь 2014г. по 0,4'!D110 -> 8 | E113: ='сентябрь 2014г. по 6-10'!E113+'сентябрь 2014г. по 0,4'!E110 -> 44.4 | F113: ='сентябрь 2014г. по 6-10'!F113+'сентябрь 2014г. по 0,4'!F110 -> 8 | G113: ='сентябрь 2014г. по 6-10'!G113+'сентябрь 2014г. по 0,4'!G110 -> 44.4 | H113: ='сентябрь 2014г. по 6-10'!H113+'сентябрь 2014г. по 0,4'!H110 -> 0 | I113: ='сентябрь 2014г. по 6-10'!I113+'сентябрь 2014г. по 0,4'!I110 -> 0 | J113: ='сентябрь 2014г. по 6-10'!J113+'сентябрь 2014г. по 0,4'!J110 -> 0 | K113: ='сентябрь 2014г. по 6-10'!K113+'сентябрь 2014г. по 0,4'!K110 -> 0 | ... Q113: ='сентябрь 2014г. по 6-10'!Q113+'сентябрь 2014г. по 0,4'!Q110 -> 0
C114: Огни | D114: ='сентябрь 2014г. по 6-10'!D114+'сентябрь 2014г. по 0,4'!D111 -> 13 | E114: ='сентябрь 2014г. по 6-10'!E114+'сентябрь 2014г. по 0,4'!E111 -> 1005.5 | F114: ='сентябрь 2014г. по 6-10'!F114+'сентябрь 2014г. по 0,4'!F111 -> 7 | G114: ='сентябрь 2014г. по 6-10'!G114+'сентябрь 2014г. по 0,4'!G111 -> 459.5 | H114: ='сентябрь 2014г. по 6-10'!H114+'сентябрь 2014г. по 0,4'!H111 -> 0 | I114: ='сентябрь 2014г. по 6-10'!I114+'сентябрь 2014г. по 0,4'!I111 -> 0 | J114: ='сентябрь 2014г. по 6-10'!J114+'сентябрь 2014г. по 0,4'!J111 -> 9 | K114: ='сентябрь 2014г. по 6-10'!K114+'сентябрь 2014г. по 0,4'!K111 -> 87 | ... Q114: ='сентябрь 2014г. по 6-10'!Q114+'сентябрь 2014г. по 0,4'!Q111 -> 0
C115: Усухчай | D115: ='сентябрь 2014г. по 6-10'!D115+'сентябрь 2014г. по 0,4'!D112 -> 1 | E115: ='сентябрь 2014г. по 6-10'!E115+'сентябрь 2014г. по 0,4'!E112 -> 100 | F115: ='сентябрь 2014г. по 6-10'!F115+'сентябрь 2014г. по 0,4'!F112 -> 1 | G115: ='сентябрь 2014г. по 6-10'!G115+'сентябрь 2014г. по 0,4'!G112 -> 4.4 | H115: ='сентябрь 2014г. по 6-10'!H115+'сентябрь 2014г. по 0,4'!H112 -> 0 | I115: ='сентябрь 2014г. по 6-10'!I115+'сентябрь 2014г. по 0,4'!I112 -> 0 | J115: ='сентябрь 2014г. по 6-10'!J115+'сентябрь 2014г. по 0,4'!J112 -> 0 | K115: ='сентябрь 2014г. по 6-10'!K115+'сентябрь 2014г. по 0,4'!K112 -> 0 | ... Q115: ='сентябрь 2014г. по 6-10'!Q115+'сентябрь 2014г. по 0,4'!Q112 -> 0
... C152: Морская | D152: ='сентябрь 2014г. по 6-10'!D152+'сентябрь 2014г. по 0,4'!D149 -> 1 | E152: ='сентябрь 2014г. по 6-10'!E152+'сентябрь 2014г. по 0,4'!E149 -> 5 | F152: ='сентябрь 2014г. по 6-10'!F152+'сентябрь 2014г. по 0,4'!F149 -> 1 | G152: ='сентябрь 2014г. по 6-10'!G152+'сентябрь 2014г. по 0,4'!G149 -> 5 | H152: ='сентябрь 2014г. по 6-10'!H152+'сентябрь 2014г. по 0,4'!H149 -> 0 | I152: ='сентябрь 2014г. по 6-10'!I152+'сентябрь 2014г. по 0,4'!I149 -> 0 | J152: ='сентябрь 2014г. по 6-10'!J152+'сентябрь 2014г. по 0,4'!J149 -> 0 | K152: ='сентябрь 2014г. по 6-10'!K152+'сентябрь 2014г. по 0,4'!K149 -> 0 | ... Q152: ='сентябрь 2014г. по 6-10'!Q152+'сентябрь 2014г. по 0,4'!Q149 -> 0
C153: итого: | D153: =SUM(D104:D152) -> 443 | E153: =SUM(E104:E152) -> 17684.5 | F153: =SUM(F104:F152) -> 350 | G153: =SUM(G104:G152) -> 7593.3 | H153: =SUM(H104:H152) -> 0 | I153: =SUM(I104:I152) -> 0 | J153: =SUM(J104:J152) -> 346 | K153: =SUM(K104:K152) -> 4178 | ... Q153: =SUM(Q104:Q152) -> 0
C154: ЗАТЕРЕЧНЫЕ СЕТИ
C155: Кизляр-1 | D155: ='сентябрь 2014г. по 6-10'!D155+'сентябрь 2014г. по 0,4'!D152 -> 85 | E155: ='сентябрь 2014г. по 6-10'!E155+'сентябрь 2014г. по 0,4'!E152 -> 2361 | F155: ='сентябрь 2014г. по 6-10'!F155+'сентябрь 2014г. по 0,4'!F152 -> 20 | G155: ='сентябрь 2014г. по 6-10'!G155+'сентябрь 2014г. по 0,4'!G152 -> 843 | H155: ='сентябрь 2014г. по 6-10'!H155+'сентябрь 2014г. по 0,4'!H152 -> 0 | I155: ='сентябрь 2014г. по 6-10'!I155+'сентябрь 2014г. по 0,4'!I152 -> 0 | J155: ='сентябрь 2014г. по 6-10'!J155+'сентябрь 2014г. по 0,4'!J152 -> 36 | K155: ='сентябрь 2014г. по 6-10'!K155+'сентябрь 2014г. по 0,4'!K152 -> 542 | ... Q155: ='сентябрь 2014г. по 6-10'!Q155+'сентябрь 2014г. по 0,4'!Q152 -> 0
C156: Кизляр-2 | D156: ='сентябрь 2014г. по 6-10'!D156+'сентябрь 2014г. по 0,4'!D153 -> 49 | E156: ='сентябрь 2014г. по 6-10'!E156+'сентябрь 2014г. по 0,4'!E153 -> 1950 | F156: ='сентябрь 2014г. по 6-10'!F156+'сентябрь 2014г. по 0,4'!F153 -> 6 | G156: ='сентябрь 2014г. по 6-10'!G156+'сентябрь 2014г. по 0,4'!G153 -> 63 | H156: ='сентябрь 2014г. по 6-10'!H156+'сентябрь 2014г. по 0,4'!H153 -> 0 | I156: ='сентябрь 2014г. по 6-10'!I156+'сентябрь 2014г. по 0,4'!I153 -> 0 | J156: ='сентябрь 2014г. по 6-10'!J156+'сентябрь 2014г. по 0,4'!J153 -> 18 | K156: ='сентябрь 2014г. по 6-10'!K156+'сентябрь 2014г. по 0,4'!K153 -> 311 | ... Q156: ='сентябрь 2014г. по 6-10'!Q156+'сентябрь 2014г. по 0,4'!Q153 -> 0
C157: Михеевка | D157: ='сентябрь 2014г. по 6-10'!D157+'сентябрь 2014г. по 0,4'!D154 -> 0 | E157: ='сентябрь 2014г. по 6-10'!E157+'сентябрь 2014г. по 0,4'!E154 -> 0 | F157: ='сентябрь 2014г. по 6-10'!F157+'сентябрь 2014г. по 0,4'!F154 -> 0 | G157: ='сентябрь 2014г. по 6-10'!G157+'сентябрь 2014г. по 0,4'!G154 -> 0 | H157: ='сентябрь 2014г. по 6-10'!H157+'сентябрь 2014г. по 0,4'!H154 -> 0 | I157: ='сентябрь 2014г. по 6-10'!I157+'сентябрь 2014г. по 0,4'!I154 -> 0 | J157: ='сентябрь 2014г. по 6-10'!J157+'сентябрь 2014г. по 0,4'!J154 -> 0 | K157: ='сентябрь 2014г. по 6-10'!K157+'сентябрь 2014г. по 0,4'!K154 -> 0 | ... Q157: ='сентябрь 2014г. по 6-10'!Q157+'сентябрь 2014г. по 0,4'!Q154 -> 0
C158: Хуцеевка | D158: ='сентябрь 2014г. по 6-10'!D158+'сентябрь 2014г. по 0,4'!D155 -> 1 | E158: ='сентябрь 2014г. по 6-10'!E158+'сентябрь 2014г. по 0,4'!E155 -> 15 | F158: ='сентябрь 2014г. по 6-10'!F158+'сентябрь 2014г. по 0,4'!F155 -> 1 | G158: ='сентябрь 2014г. по 6-10'!G158+'сентябрь 2014г. по 0,4'!G155 -> 15 | H158: ='сентябрь 2014г. по 6-10'!H158+'сентябрь 2014г. по 0,4'!H155 -> 0 | I158: ='сентябрь 2014г. по 6-10'!I158+'сентябрь 2014г. по 0,4'!I155 -> 0 | J158: ='сентябрь 2014г. по 6-10'!J158+'сентябрь 2014г. по 0,4'!J155 -> 1 | K158: ='сентябрь 2014г. по 6-10'!K158+'сентябрь 2014г. по 0,4'!K155 -> 6 | ... Q158: ='сентябрь 2014г. по 6-10'!Q158+'сентябрь 2014г. по 0,4'!Q155 -> 0
C159: Серебряковка | D159: ='сентябрь 2014г. по 6-10'!D159+'сентябрь 2014г. по 0,4'!D156 -> 0 | E159: ='сентябрь 2014г. по 6-10'!E159+'сентябрь 2014г. по 0,4'!E156 -> 0 | F159: ='сентябрь 2014г. по 6-10'!F159+'сентябрь 2014г. по 0,4'!F156 -> 0 | G159: ='сентябрь 2014г. по 6-10'!G159+'сентябрь 2014г. по 0,4'!G156 -> 0 | H159: ='сентябрь 2014г. по 6-10'!H159+'сентябрь 2014г. по 0,4'!H156 -> 0 | I159: ='сентябрь 2014г. по 6-10'!I159+'сентябрь 2014г. по 0,4'!I156 -> 0 | J159: ='сентябрь 2014г. по 6-10'!J159+'сентябрь 2014г. по 0,4'!J156 -> 0 | K159: ='сентябрь 2014г. по 6-10'!K159+'сентябрь 2014г. по 0,4'!K156 -> 0 | ... Q159: ='сентябрь 2014г. по 6-10'!Q159+'сентябрь 2014г. по 0,4'!Q156 -> 0
C160: Октябрьская | D160: ='сентябрь 2014г. по 6-10'!D160+'сентябрь 2014г. по 0,4'!D157 -> 2 | E160: ='сентябрь 2014г. по 6-10'!E160+'сентябрь 2014г. по 0,4'!E157 -> 105 | F160: ='сентябрь 2014г. по 6-10'!F160+'сентябрь 2014г. по 0,4'!F157 -> 2 | G160: ='сентябрь 2014г. по 6-10'!G160+'сентябрь 2014г. по 0,4'!G157 -> 35 | H160: ='сентябрь 2014г. по 6-10'!H160+'сентябрь 2014г. по 0,4'!H157 -> 0 | I160: ='сентябрь 2014г. по 6-10'!I160+'сентябрь 2014г. по 0,4'!I157 -> 0 | J160: ='сентябрь 2014г. по 6-10'!J160+'сентябрь 2014г. по 0,4'!J157 -> 3 | K160: ='сентябрь 2014г. по 6-10'!K160+'сентябрь 2014г. по 0,4'!K157 -> 18 | ... Q160: ='сентябрь 2014г. по 6-10'!Q160+'сентябрь 2014г. по 0,4'!Q157 -> 0
C161: Некрасовка | D161: ='сентябрь 2014г. по 6-10'!D161+'сентябрь 2014г. по 0,4'!D158 -> 1 | E161: ='сентябрь 2014г. по 6-10'!E161+'сентябрь 2014г. по 0,4'!E158 -> 175 | F161: ='сентябрь 2014г. по 6-10'!F161+'сентябрь 2014г. по 0,4'!F158 -> 1 | G161: ='сентябрь 2014г. по 6-10'!G161+'сентябрь 2014г. по 0,4'!G158 -> 10 | H161: ='сентябрь 2014г. по 6-10'!H161+'сентябрь 2014г. по 0,4'!H158 -> 0 | I161: ='сентябрь 2014г. по 6-10'!I161+'сентябрь 2014г. по 0,4'!I158 -> 0 | J161: ='сентябрь 2014г. по 6-10'!J161+'сентябрь 2014г. по 0,4'!J158 -> 0 | K161: ='сентябрь 2014г. по 6-10'!K161+'сентябрь 2014г. по 0,4'!K158 -> 0 | ... Q161: ='сентябрь 2014г. по 6-10'!Q161+'сентябрь 2014г. по 0,4'!Q158 -> 0
C162: Б-Арешевка | D162: ='сентябрь 2014г. по 6-10'!D162+'сентябрь 2014г. по 0,4'!D159 -> 1 | E162: ='сентябрь 2014г. по 6-10'!E162+'сентябрь 2014г. по 0,4'!E159 -> 63 | F162: ='сентябрь 2014г. по 6-10'!F162+'сентябрь 2014г. по 0,4'!F159 -> 1 | G162: ='сентябрь 2014г. по 6-10'!G162+'сентябрь 2014г. по 0,4'!G159 -> 10 | H162: ='сентябрь 2014г. по 6-10'!H162+'сентябрь 2014г. по 0,4'!H159 -> 0 | I162: ='сентябрь 2014г. по 6-10'!I162+'сентябрь 2014г. по 0,4'!I159 -> 0 | J162: ='сентябрь 2014г. по 6-10'!J162+'сентябрь 2014г. по 0,4'!J159 -> 1 | K162: ='сентябрь 2014г. по 6-10'!K162+'сентябрь 2014г. по 0,4'!K159 -> 63 | ... Q162: ='сентябрь 2014г. по 6-10'!Q162+'сентябрь 2014г. по 0,4'!Q159 -> 0
C163: Александрия | D163: ='сентябрь 2014г. по 6-10'!D163+'сентябрь 2014г. по 0,4'!D160 -> 1 | E163: ='сентябрь 2014г. по 6-10'!E163+'сентябрь 2014г. по 0,4'!E160 -> 400 | F163: ='сентябрь 2014г. по 6-10'!F163+'сентябрь 2014г. по 0,4'!F160 -> 0 | G163: ='сентябрь 2014г. по 6-10'!G163+'сентябрь 2014г. по 0,4'!G160 -> 0 | H163: ='сентябрь 2014г. по 6-10'!H163+'сентябрь 2014г. по 0,4'!H160 -> 0 | I163: ='сентябрь 2014г. по 6-10'!I163+'сентябрь 2014г. по 0,4'!I160 -> 0 | J163: ='сентябрь 2014г. по 6-10'!J163+'сентябрь 2014г. по 0,4'!J160 -> 0 | K163: ='сентябрь 2014г. по 6-10'!K163+'сентябрь 2014г. по 0,4'!K160 -> 0 | ... Q163: ='сентябрь 2014г. по 6-10'!Q163+'сентябрь 2014г. по 0,4'!Q160 -> 0
C164: Крайновка | D164: ='сентябрь 2014г. по 6-10'!D164+'сентябрь 2014г. по 0,4'!D161 -> 1 | E164: ='сентябрь 2014г. по 6-10'!E164+'сентябрь 2014г. по 0,4'!E161 -> 75 | F164: ='сентябрь 2014г. по 6-10'!F164+'сентябрь 2014г. по 0,4'!F161 -> 1 | G164: ='сентябрь 2014г. по 6-10'!G164+'сентябрь 2014г. по 0,4'!G161 -> 10 | H164: ='сентябрь 2014г. по 6-10'!H164+'сентябрь 2014г. по 0,4'!H161 -> 0 | I164: ='сентябрь 2014г. по 6-10'!I164+'сентябрь 2014г. по 0,4'!I161 -> 0 | J164: ='сентябрь 2014г. по 6-10'!J164+'сентябрь 2014г. по 0,4'!J161 -> 6 | K164: ='сентябрь 2014г. по 6-10'!K164+'сентябрь 2014г. по 0,4'!K161 -> 36 | ... Q164: ='сентябрь 2014г. по 6-10'!Q164+'сентябрь 2014г. по 0,4'!Q161 -> 0
C165: Огузер | D165: ='сентябрь 2014г. по 6-10'!D165+'сентябрь 2014г. по 0,4'!D162 -> 0 | E165: ='сентябрь 2014г. по 6-10'!E165+'сентябрь 2014г. по 0,4'!E162 -> 0 | F165: ='сентябрь 2014г. по 6-10'!F165+'сентябрь 2014г. по 0,4'!F162 -> 0 | G165: ='сентябрь 2014г. по 6-10'!G165+'сентябрь 2014г. по 0,4'!G162 -> 0 | H165: ='сентябрь 2014г. по 6-10'!H165+'сентябрь 2014г. по 0,4'!H162 -> 0 | I165: ='сентябрь 2014г. по 6-10'!I165+'сентябрь 2014г. по 0,4'!I162 -> 0 | J165: ='сентябрь 2014г. по 6-10'!J165+'сентябрь 2014г. по 0,4'!J162 -> 0 | K165: ='сентябрь 2014г. по 6-10'!K165+'сентябрь 2014г. по 0,4'!K162 -> 0 | ... Q165: ='сентябрь 2014г. по 6-10'!Q165+'сентябрь 2014г. по 0,4'!Q162 -> 0
C166: Черняевка | D166: ='сентябрь 2014г. по 6-10'!D166+'сентябрь 2014г. по 0,4'!D163 -> 1 | E166: ='сентябрь 2014г. по 6-10'!E166+'сентябрь 2014г. по 0,4'!E163 -> 5 | F166: ='сентябрь 2014г. по 6-10'!F166+'сентябрь 2014г. по 0,4'!F163 -> 1 | G166: ='сентябрь 2014г. по 6-10'!G166+'сентябрь 2014г. по 0,4'!G163 -> 5 | H166: ='сентябрь 2014г. по 6-10'!H166+'сентябрь 2014г. по 0,4'!H163 -> 0 | I166: ='сентябрь 2014г. по 6-10'!I166+'сентябрь 2014г. по 0,4'!I163 -> 0 | J166: ='сентябрь 2014г. по 6-10'!J166+'сентябрь 2014г. по 0,4'!J163 -> 8 | K166: ='сентябрь 2014г. по 6-10'!K166+'сентябрь 2014г. по 0,4'!K163 -> 48 | ... Q166: ='сентябрь 2014г. по 6-10'!Q166+'сентябрь 2014г. по 0,4'!Q163 -> 0
... C184: КЭМЗ | D184: ='сентябрь 2014г. по 6-10'!D184+'сентябрь 2014г. по 0,4'!D181 -> 11 | E184: ='сентябрь 2014г. по 6-10'!E184+'сентябрь 2014г. по 0,4'!E181 -> 153 | F184: ='сентябрь 2014г. по 6-10'!F184+'сентябрь 2014г. по 0,4'!F181 -> 11 | G184: ='сентябрь 2014г. по 6-10'!G184+'сентябрь 2014г. по 0,4'!G181 -> 153 | H184: ='сентябрь 2014г. по 6-10'!H184+'сентябрь 2014г. по 0,4'!H181 -> 0 | I184: ='сентябрь 2014г. по 6-10'!I184+'сентябрь 2014г. по 0,4'!I181 -> 0 | J184: ='сентябрь 2014г. по 6-10'!J184+'сентябрь 2014г. по 0,4'!J181 -> 0 | K184: ='сентябрь 2014г. по 6-10'!K184+'сентябрь 2014г. по 0,4'!K181 -> 0 | ... Q184: ='сентябрь 2014г. по 6-10'!Q184+'сентябрь 2014г. по 0,4'!Q181 -> 0
C185: итого: | D185: =SUM(D155:D184) -> 223 | E185: =SUM(E155:E184) -> 7235 | F185: =SUM(F155:F184) -> 100 | G185: =SUM(G155:G184) -> 1755 | H185: =SUM(H155:H184) -> 0 | I185: =SUM(I155:I184) -> 0 | J185: =SUM(J155:J184) -> 130 | K185: =SUM(K155:K184) -> 1241 | ... Q185: =SUM(Q155:Q184) -> 0
C186: ЮЖНО-СУХОКУМСКИЕ СЕТИ
C187: Юж-Сухокумск | D187: ='сентябрь 2014г. по 6-10'!D187+'сентябрь 2014г. по 0,4'!D184 -> 71 | E187: ='сентябрь 2014г. по 6-10'!E187+'сентябрь 2014г. по 0,4'!E184 -> 195 | F187: ='сентябрь 2014г. по 6-10'!F187+'сентябрь 2014г. по 0,4'!F184 -> 13 | G187: ='сентябрь 2014г. по 6-10'!G187+'сентябрь 2014г. по 0,4'!G184 -> 75 | H187: ='сентябрь 2014г. по 6-10'!H187+'сентябрь 2014г. по 0,4'!H184 -> 0 | I187: ='сентябрь 2014г. по 6-10'!I187+'сентябрь 2014г. по 0,4'!I184 -> 0 | J187: ='сентябрь 2014г. по 6-10'!J187+'сентябрь 2014г. по 0,4'!J184 -> 28 | K187: ='сентябрь 2014г. по 6-10'!K187+'сентябрь 2014г. по 0,4'!K184 -> 190 | ... Q187: ='сентябрь 2014г. по 6-10'!Q187+'сентябрь 2014г. по 0,4'!Q184 -> 0
C188: Кр.партизан | D188: ='сентябрь 2014г. по 6-10'!D188+'сентябрь 2014г. по 0,4'!D185 -> 49 | E188: ='сентябрь 2014г. по 6-10'!E188+'сентябрь 2014г. по 0,4'!E185 -> 188 | F188: ='сентябрь 2014г. по 6-10'!F188+'сентябрь 2014г. по 0,4'!F185 -> 9 | G188: ='сентябрь 2014г. по 6-10'!G188+'сентябрь 2014г. по 0,4'!G185 -> 64 | H188: ='сентябрь 2014г. по 6-10'!H188+'сентябрь 2014г. по 0,4'!H185 -> 0 | I188: ='сентябрь 2014г. по 6-10'!I188+'сентябрь 2014г. по 0,4'!I185 -> 0 | J188: ='сентябрь 2014г. по 6-10'!J188+'сентябрь 2014г. по 0,4'!J185 -> 0 | K188: ='сентябрь 2014г. по 6-10'!K188+'сентябрь 2014г. по 0,4'!K185 -> 0 | ... Q188: ='сентябрь 2014г. по 6-10'!Q188+'сентябрь 2014г. по 0,4'!Q185 -> 0
C189: 3-я ферма | D189: ='сентябрь 2014г. по 6-10'!D189+'сентябрь 2014г. по 0,4'!D186 -> 6 | E189: ='сентябрь 2014г. по 6-10'!E189+'сентябрь 2014г. по 0,4'!E186 -> 90 | F189: ='сентябрь 2014г. по 6-10'!F189+'сентябрь 2014г. по 0,4'!F186 -> 6 | G189: ='сентябрь 2014г. по 6-10'!G189+'сентябрь 2014г. по 0,4'!G186 -> 63 | H189: ='сентябрь 2014г. по 6-10'!H189+'сентябрь 2014г. по 0,4'!H186 -> 0 | I189: ='сентябрь 2014г. по 6-10'!I189+'сентябрь 2014г. по 0,4'!I186 -> 0 | J189: ='сентябрь 2014г. по 6-10'!J189+'сентябрь 2014г. по 0,4'!J186 -> 0 | K189: ='сентябрь 2014г. по 6-10'!K189+'сентябрь 2014г. по 0,4'!K186 -> 0 | ... Q189: ='сентябрь 2014г. по 6-10'!Q189+'сентябрь 2014г. по 0,4'!Q186 -> 0
C190: Солончаковая | D190: ='сентябрь 2014г. по 6-10'!D190+'сентябрь 2014г. по 0,4'!D187 -> 8 | E190: ='сентябрь 2014г. по 6-10'!E190+'сентябрь 2014г. по 0,4'!E187 -> 80 | F190: ='сентябрь 2014г. по 6-10'!F190+'сентябрь 2014г. по 0,4'!F187 -> 7 | G190: ='сентябрь 2014г. по 6-10'!G190+'сентябрь 2014г. по 0,4'!G187 -> 45 | H190: ='сентябрь 2014г. по 6-10'!H190+'сентябрь 2014г. по 0,4'!H187 -> 0 | I190: ='сентябрь 2014г. по 6-10'!I190+'сентябрь 2014г. по 0,4'!I187 -> 0 | J190: ='сентябрь 2014г. по 6-10'!J190+'сентябрь 2014г. по 0,4'!J187 -> 0 | K190: ='сентябрь 2014г. по 6-10'!K190+'сентябрь 2014г. по 0,4'!K187 -> 0 | ... Q190: ='сентябрь 2014г. по 6-10'!Q190+'сентябрь 2014г. по 0,4'!Q187 -> 0
C191: Ногайская | D191: ='сентябрь 2014г. по 6-10'!D191+'сентябрь 2014г. по 0,4'!D188 -> 9 | E191: ='сентябрь 2014г. по 6-10'!E191+'сентябрь 2014г. по 0,4'!E188 -> 93 | F191: ='сентябрь 2014г. по 6-10'!F191+'сентябрь 2014г. по 0,4'!F188 -> 7 | G191: ='сентябрь 2014г. по 6-10'!G191+'сентябрь 2014г. по 0,4'!G188 -> 65 | H191: ='сентябрь 2014г. по 6-10'!H191+'сентябрь 2014г. по 0,4'!H188 -> 0 | I191: ='сентябрь 2014г. по 6-10'!I191+'сентябрь 2014г. по 0,4'!I188 -> 0 | J191: ='сентябрь 2014г. по 6-10'!J191+'сентябрь 2014г. по 0,4'!J188 -> 0 | K191: ='сентябрь 2014г. по 6-10'!K191+'сентябрь 2014г. по 0,4'!K188 -> 0 | ... Q191: ='сентябрь 2014г. по 6-10'!Q191+'сентябрь 2014г. по 0,4'!Q188 -> 0
C192: Степная | D192: ='сентябрь 2014г. по 6-10'!D192+'сентябрь 2014г. по 0,4'!D189 -> 0 | E192: ='сентябрь 2014г. по 6-10'!E192+'сентябрь 2014г. по 0,4'!E189 -> 0 | F192: ='сентябрь 2014г. по 6-10'!F192+'сентябрь 2014г. по 0,4'!F189 -> 0 | G192: ='сентябрь 2014г. по 6-10'!G192+'сентябрь 2014г. по 0,4'!G189 -> 0 | H192: ='сентябрь 2014г. по 6-10'!H192+'сентябрь 2014г. по 0,4'!H189 -> 0 | I192: ='сентябрь 2014г. по 6-10'!I192+'сентябрь 2014г. по 0,4'!I189 -> 0 | J192: ='сентябрь 2014г. по 6-10'!J192+'сентябрь 2014г. по 0,4'!J189 -> 0 | K192: ='сентябрь 2014г. по 6-10'!K192+'сентябрь 2014г. по 0,4'!K189 -> 0 | ... Q192: ='сентябрь 2014г. по 6-10'!Q192+'сентябрь 2014г. по 0,4'!Q189 -> 0
C193: Бажиган | D193: ='сентябрь 2014г. по 6-10'!D193+'сентябрь 2014г. по 0,4'!D190 -> 11 | E193: ='сентябрь 2014г. по 6-10'!E193+'сентябрь 2014г. по 0,4'!E190 -> 99.5 | F193: ='сентябрь 2014г. по 6-10'!F193+'сентябрь 2014г. по 0,4'!F190 -> 7 | G193: ='сентябрь 2014г. по 6-10'!G193+'сентябрь 2014г. по 0,4'!G190 -> 55 | H193: ='сентябрь 2014г. по 6-10'!H193+'сентябрь 2014г. по 0,4'!H190 -> 0 | I193: ='сентябрь 2014г. по 6-10'!I193+'сентябрь 2014г. по 0,4'!I190 -> 0 | J193: ='сентябрь 2014г. по 6-10'!J193+'сентябрь 2014г. по 0,4'!J190 -> 0 | K193: ='сентябрь 2014г. по 6-10'!K193+'сентябрь 2014г. по 0,4'!K190 -> 0 | ... Q193: ='сентябрь 2014г. по 6-10'!Q193+'сентябрь 2014г. по 0,4'!Q190 -> 0
C194: Грузинская | D194: ='сентябрь 2014г. по 6-10'!D194+'сентябрь 2014г. по 0,4'!D191 -> 4 | E194: ='сентябрь 2014г. по 6-10'!E194+'сентябрь 2014г. по 0,4'!E191 -> 30 | F194: ='сентябрь 2014г. по 6-10'!F194+'сентябрь 2014г. по 0,4'!F191 -> 3 | G194: ='сентябрь 2014г. по 6-10'!G194+'сентябрь 2014г. по 0,4'!G191 -> 30 | H194: ='сентябрь 2014г. по 6-10'!H194+'сентябрь 2014г. по 0,4'!H191 -> 0 | I194: ='сентябрь 2014г. по 6-10'!I194+'сентябрь 2014г. по 0,4'!I191 -> 0 | J194: ='сентябрь 2014г. по 6-10'!J194+'сентябрь 2014г. по 0,4'!J191 -> 0 | K194: ='сентябрь 2014г. по 6-10'!K194+'сентябрь 2014г. по 0,4'!K191 -> 0 | ... Q194: ='сентябрь 2014г. по 6-10'!Q194+'сентябрь 2014г. по 0,4'!Q191 -> 0
C195: итого: | D195: =SUM(D187:D194) -> 158 | E195: =SUM(E187:E194) -> 775.5 | F195: =SUM(F187:F194) -> 52 | G195: =SUM(G187:G194) -> 397 | H195: =SUM(H187:H194) -> 0 | I195: =SUM(I187:I194) -> 0 | J195: =SUM(J187:J194) -> 28 | K195: =SUM(K187:K194) -> 190 | ... Q195: =SUM(Q187:Q194) -> 0
C196: КИЗИЛЮРТОВСКИЕ СЕТИ
C197: п\с 110\35\6 "ЗФС" | D197: ='сентябрь 2014г. по 6-10'!D197+'сентябрь 2014г. по 0,4'!D194 -> 20 | E197: ='сентябрь 2014г. по 6-10'!E197+'сентябрь 2014г. по 0,4'!E194 -> 452 | F197: ='сентябрь 2014г. по 6-10'!F197+'сентябрь 2014г. по 0,4'!F194 -> 7 | G197: ='сентябрь 2014г. по 6-10'!G197+'сентябрь 2014г. по 0,4'!G194 -> 322 | H197: ='сентябрь 2014г. по 6-10'!H197+'сентябрь 2014г. по 0,4'!H194 -> 0 | I197: ='сентябрь 2014г. по 6-10'!I197+'сентябрь 2014г. по 0,4'!I194 -> 0 | J197: ='сентябрь 2014г. по 6-10'!J197+'сентябрь 2014г. по 0,4'!J194 -> 13 | K197: ='сентябрь 2014г. по 6-10'!K197+'сентябрь 2014г. по 0,4'!K194 -> 98 | ... Q197: ='сентябрь 2014г. по 6-10'!Q197+'сентябрь 2014г. по 0,4'!Q194 -> 0
C198: п\с 35\10 Нечаевка | D198: ='сентябрь 2014г. по 6-10'!D198+'сентябрь 2014г. по 0,4'!D195 -> 0 | E198: ='сентябрь 2014г. по 6-10'!E198+'сентябрь 2014г. по 0,4'!E195 -> 0 | F198: ='сентябрь 2014г. по 6-10'!F198+'сентябрь 2014г. по 0,4'!F195 -> 0 | G198: ='сентябрь 2014г. по 6-10'!G198+'сентябрь 2014г. по 0,4'!G195 -> 0 | H198: ='сентябрь 2014г. по 6-10'!H198+'сентябрь 2014г. по 0,4'!H195 -> 0 | I198: ='сентябрь 2014г. по 6-10'!I198+'сентябрь 2014г. по 0,4'!I195 -> 0 | J198: ='сентябрь 2014г. по 6-10'!J198+'сентябрь 2014г. по 0,4'!J195 -> 0 | K198: ='сентябрь 2014г. по 6-10'!K198+'сентябрь 2014г. по 0,4'!K195 -> 0 | ... Q198: ='сентябрь 2014г. по 6-10'!Q198+'сентябрь 2014г. по 0,4'!Q195 -> 0
C199: п\с Гулькутан | D199: ='сентябрь 2014г. по 6-10'!D199+'сентябрь 2014г. по 0,4'!D196 -> 2 | E199: ='сентябрь 2014г. по 6-10'!E199+'сентябрь 2014г. по 0,4'!E196 -> 430 | F199: ='сентябрь 2014г. по 6-10'!F199+'сентябрь 2014г. по 0,4'!F196 -> 1 | G199: ='сентябрь 2014г. по 6-10'!G199+'сентябрь 2014г. по 0,4'!G196 -> 30 | H199: ='сентябрь 2014г. по 6-10'!H199+'сентябрь 2014г. по 0,4'!H196 -> 0 | I199: ='сентябрь 2014г. по 6-10'!I199+'сентябрь 2014г. по 0,4'!I196 -> 0 | J199: ='сентябрь 2014г. по 6-10'!J199+'сентябрь 2014г. по 0,4'!J196 -> 0 | K199: ='сентябрь 2014г. по 6-10'!K199+'сентябрь 2014г. по 0,4'!K196 -> 0 | ... Q199: ='сентябрь 2014г. по 6-10'!Q199+'сентябрь 2014г. по 0,4'!Q196 -> 0
C200: Шамхалянгиюрт | D200: ='сентябрь 2014г. по 6-10'!D200+'сентябрь 2014г. по 0,4'!D197 -> 0 | E200: ='сентябрь 2014г. по 6-10'!E200+'сентябрь 2014г. по 0,4'!E197 -> 0 | F200: ='сентябрь 2014г. по 6-10'!F200+'сентябрь 2014г. по 0,4'!F197 -> 0 | G200: ='сентябрь 2014г. по 6-10'!G200+'сентябрь 2014г. по 0,4'!G197 -> 0 | H200: ='сентябрь 2014г. по 6-10'!H200+'сентябрь 2014г. по 0,4'!H197 -> 0 | I200: ='сентябрь 2014г. по 6-10'!I200+'сентябрь 2014г. по 0,4'!I197 -> 0 | J200: ='сентябрь 2014г. по 6-10'!J200+'сентябрь 2014г. по 0,4'!J197 -> 0 | K200: ='сентябрь 2014г. по 6-10'!K200+'сентябрь 2014г. по 0,4'!K197 -> 0 | ... Q200: ='сентябрь 2014г. по 6-10'!Q200+'сентябрь 2014г. по 0,4'!Q197 -> 0
C201: Стальск | D201: ='сентябрь 2014г. по 6-10'!D201+'сентябрь 2014г. по 0,4'!D198 -> 6 | E201: ='сентябрь 2014г. по 6-10'!E201+'сентябрь 2014г. по 0,4'!E198 -> 563 | F201: ='сентябрь 2014г. по 6-10'!F201+'сентябрь 2014г. по 0,4'!F198 -> 3 | G201: ='сентябрь 2014г. по 6-10'!G201+'сентябрь 2014г. по 0,4'!G198 -> 28 | H201: ='сентябрь 2014г. по 6-10'!H201+'сентябрь 2014г. по 0,4'!H198 -> 0 | I201: ='сентябрь 2014г. по 6-10'!I201+'сентябрь 2014г. по 0,4'!I198 -> 0 | J201: ='сентябрь 2014г. по 6-10'!J201+'сентябрь 2014г. по 0,4'!J198 -> 9 | K201: ='сентябрь 2014г. по 6-10'!K201+'сентябрь 2014г. по 0,4'!K198 -> 82 | ... Q201: ='сентябрь 2014г. по 6-10'!Q201+'сентябрь 2014г. по 0,4'!Q198 -> 0
C202: итого: | D202: =SUM(D197:D201) -> 28 | E202: =SUM(E197:E201) -> 1445 | F202: =SUM(F197:F201) -> 11 | G202: =SUM(G197:G201) -> 380 | H202: =SUM(H197:H201) -> 0 | I202: =SUM(I197:I201) -> 0 | J202: =SUM(J197:J201) -> 22 | K202: =SUM(K197:K201) -> 180 | ... Q202: =SUM(Q197:Q201) -> 0
C203: ГЕРГЕБИЛЬСКИЕ СЕТИ
C204: ПС Гергебиль-110 | D204: ='сентябрь 2014г. по 6-10'!D204+'сентябрь 2014г. по 0,4'!D201 -> 26 | E204: ='сентябрь 2014г. по 6-10'!E204+'сентябрь 2014г. по 0,4'!E201 -> 426 | F204: ='сентябрь 2014г. по 6-10'!F204+'сентябрь 2014г. по 0,4'!F201 -> 1 | G204: ='сентябрь 2014г. по 6-10'!G204+'сентябрь 2014г. по 0,4'!G201 -> 5 | H204: ='сентябрь 2014г. по 6-10'!H204+'сентябрь 2014г. по 0,4'!H201 -> 0 | I204: ='сентябрь 2014г. по 6-10'!I204+'сентябрь 2014г. по 0,4'!I201 -> 0 | J204: ='сентябрь 2014г. по 6-10'!J204+'сентябрь 2014г. по 0,4'!J201 -> 53 | K204: ='сентябрь 2014г. по 6-10'!K204+'сентябрь 2014г. по 0,4'!K201 -> 570 | ... Q204: ='сентябрь 2014г. по 6-10'!Q204+'сентябрь 2014г. по 0,4'!Q201 -> 0
C205: ГГЭС | D205: ='сентябрь 2014г. по 6-10'!D205+'сентябрь 2014г. по 0,4'!D202 -> 0 | E205: ='сентябрь 2014г. по 6-10'!E205+'сентябрь 2014г. по 0,4'!E202 -> 0 | F205: ='сентябрь 2014г. по 6-10'!F205+'сентябрь 2014г. по 0,4'!F202 -> 0 | G205: ='сентябрь 2014г. по 6-10'!G205+'сентябрь 2014г. по 0,4'!G202 -> 0 | H205: ='сентябрь 2014г. по 6-10'!H205+'сентябрь 2014г. по 0,4'!H202 -> 0 | I205: ='сентябрь 2014г. по 6-10'!I205+'сентябрь 2014г. по 0,4'!I202 -> 0 | J205: ='сентябрь 2014г. по 6-10'!J205+'сентябрь 2014г. по 0,4'!J202 -> 0 | K205: ='сентябрь 2014г. по 6-10'!K205+'сентябрь 2014г. по 0,4'!K202 -> 0 | ... Q205: ='сентябрь 2014г. по 6-10'!Q205+'сентябрь 2014г. по 0,4'!Q202 -> 0
C206: ПС Карадах-110 | D206: ='сентябрь 2014г. по 6-10'!D206+'сентябрь 2014г. по 0,4'!D203 -> 30 | E206: ='сентябрь 2014г. по 6-10'!E206+'сентябрь 2014г. по 0,4'!E203 -> 120 | F206: ='сентябрь 2014г. по 6-10'!F206+'сентябрь 2014г. по 0,4'!F203 -> 1 | G206: ='сентябрь 2014г. по 6-10'!G206+'сентябрь 2014г. по 0,4'!G203 -> 29 | H206: ='сентябрь 2014г. по 6-10'!H206+'сентябрь 2014г. по 0,4'!H203 -> 0 | I206: ='сентябрь 2014г. по 6-10'!I206+'сентябрь 2014г. по 0,4'!I203 -> 0 | J206: ='сентябрь 2014г. по 6-10'!J206+'сентябрь 2014г. по 0,4'!J203 -> 16 | K206: ='сентябрь 2014г. по 6-10'!K206+'сентябрь 2014г. по 0,4'!K203 -> 145 | ... Q206: ='сентябрь 2014г. по 6-10'!Q206+'сентябрь 2014г. по 0,4'!Q203 -> 0
C207: Тлайлух-110 | D207: ='сентябрь 2014г. по 6-10'!D207+'сентябрь 2014г. по 0,4'!D204 -> 0 | E207: ='сентябрь 2014г. по 6-10'!E207+'сентябрь 2014г. по 0,4'!E204 -> 0 | F207: ='сентябрь 2014г. по 6-10'!F207+'сентябрь 2014г. по 0,4'!F204 -> 0 | G207: ='сентябрь 2014г. по 6-10'!G207+'сентябрь 2014г. по 0,4'!G204 -> 0 | H207: ='сентябрь 2014г. по 6-10'!H207+'сентябрь 2014г. по 0,4'!H204 -> 0 | I207: ='сентябрь 2014г. по 6-10'!I207+'сентябрь 2014г. по 0,4'!I204 -> 0 | J207: ='сентябрь 2014г. по 6-10'!J207+'сентябрь 2014г. по 0,4'!J204 -> 0 | K207: ='сентябрь 2014г. по 6-10'!K207+'сентябрь 2014г. по 0,4'!K204 -> 0 | ... Q207: ='сентябрь 2014г. по 6-10'!Q207+'сентябрь 2014г. по 0,4'!Q204 -> 0
C208: ПС Леваши-110 | D208: ='сентябрь 2014г. по 6-10'!D208+'сентябрь 2014г. по 0,4'!D205 -> 49 | E208: ='сентябрь 2014г. по 6-10'!E208+'сентябрь 2014г. по 0,4'!E205 -> 4129 | F208: ='сентябрь 2014г. по 6-10'!F208+'сентябрь 2014г. по 0,4'!F205 -> 19 | G208: ='сентябрь 2014г. по 6-10'!G208+'сентябрь 2014г. по 0,4'!G205 -> 123 | H208: ='сентябрь 2014г. по 6-10'!H208+'сентябрь 2014г. по 0,4'!H205 -> 0 | I208: ='сентябрь 2014г. по 6-10'!I208+'сентябрь 2014г. по 0,4'!I205 -> 0 | J208: ='сентябрь 2014г. по 6-10'!J208+'сентябрь 2014г. по 0,4'!J205 -> 38 | K208: ='сентябрь 2014г. по 6-10'!K208+'сентябрь 2014г. по 0,4'!K205 -> 365 | ... Q208: ='сентябрь 2014г. по 6-10'!Q208+'сентябрь 2014г. по 0,4'!Q205 -> 0
C209: ПС Цудахар-110 | D209: ='сентябрь 2014г. по 6-10'!D209+'сентябрь 2014г. по 0,4'!D206 -> 8 | E209: ='сентябрь 2014г. по 6-10'!E209+'сентябрь 2014г. по 0,4'!E206 -> 55 | F209: ='сентябрь 2014г. по 6-10'!F209+'сентябрь 2014г. по 0,4'!F206 -> 8 | G209: ='сентябрь 2014г. по 6-10'!G209+'сентябрь 2014г. по 0,4'!G206 -> 55 | H209: ='сентябрь 2014г. по 6-10'!H209+'сентябрь 2014г. по 0,4'!H206 -> 0 | I209: ='сентябрь 2014г. по 6-10'!I209+'сентябрь 2014г. по 0,4'!I206 -> 0 | J209: ='сентябрь 2014г. по 6-10'!J209+'сентябрь 2014г. по 0,4'!J206 -> 0 | K209: ='сентябрь 2014г. по 6-10'!K209+'сентябрь 2014г. по 0,4'!K206 -> 0 | ... Q209: ='сентябрь 2014г. по 6-10'!Q209+'сентябрь 2014г. по 0,4'!Q206 -> 0
C210: Ташкапур-35 | D210: ='сентябрь 2014г. по 6-10'!D210+'сентябрь 2014г. по 0,4'!D207 -> 2 | E210: ='сентябрь 2014г. по 6-10'!E210+'сентябрь 2014г. по 0,4'!E207 -> 10.5 | F210: ='сентябрь 2014г. по 6-10'!F210+'сентябрь 2014г. по 0,4'!F207 -> 2 | G210: ='сентябрь 2014г. по 6-10'!G210+'сентябрь 2014г. по 0,4'!G207 -> 10.5 | H210: ='сентябрь 2014г. по 6-10'!H210+'сентябрь 2014г. по 0,4'!H207 -> 0 | I210: ='сентябрь 2014г. по 6-10'!I210+'сентябрь 2014г. по 0,4'!I207 -> 0 | J210: ='сентябрь 2014г. по 6-10'!J210+'сентябрь 2014г. по 0,4'!J207 -> 15 | K210: ='сентябрь 2014г. по 6-10'!K210+'сентябрь 2014г. по 0,4'!K207 -> 50 | ... Q210: ='сентябрь 2014г. по 6-10'!Q210+'сентябрь 2014г. по 0,4'!Q207 -> 0
C211: ПС Хунзах-110 | D211: ='сентябрь 2014г. по 6-10'!D211+'сентябрь 2014г. по 0,4'!D208 -> 5 | E211: ='сентябрь 2014г. по 6-10'!E211+'сентябрь 2014г. по 0,4'!E208 -> 55 | F211: ='сентябрь 2014г. по 6-10'!F211+'сентябрь 2014г. по 0,4'!F208 -> 5 | G211: ='сентябрь 2014г. по 6-10'!G211+'сентябрь 2014г. по 0,4'!G208 -> 55 | H211: ='сентябрь 2014г. по 6-10'!H211+'сентябрь 2014г. по 0,4'!H208 -> 0 | I211: ='сентябрь 2014г. по 6-10'!I211+'сентябрь 2014г. по 0,4'!I208 -> 0 | J211: ='сентябрь 2014г. по 6-10'!J211+'сентябрь 2014г. по 0,4'!J208 -> 15 | K211: ='сентябрь 2014г. по 6-10'!K211+'сентябрь 2014г. по 0,4'!K208 -> 65 | ... Q211: ='сентябрь 2014г. по 6-10'!Q211+'сентябрь 2014г. по 0,4'!Q208 -> 0
C212: ПС Тлох-110 | D212: ='сентябрь 2014г. по 6-10'!D212+'сентябрь 2014г. по 0,4'!D209 -> 3 | E212: ='сентябрь 2014г. по 6-10'!E212+'сентябрь 2014г. по 0,4'!E209 -> 35 | F212: ='сентябрь 2014г. по 6-10'!F212+'сентябрь 2014г. по 0,4'!F209 -> 3 | G212: ='сентябрь 2014г. по 6-10'!G212+'сентябрь 2014г. по 0,4'!G209 -> 35 | H212: ='сентябрь 2014г. по 6-10'!H212+'сентябрь 2014г. по 0,4'!H209 -> 0 | I212: ='сентябрь 2014г. по 6-10'!I212+'сентябрь 2014г. по 0,4'!I209 -> 0 | J212: ='сентябрь 2014г. по 6-10'!J212+'сентябрь 2014г. по 0,4'!J209 -> 17 | K212: ='сентябрь 2014г. по 6-10'!K212+'сентябрь 2014г. по 0,4'!K209 -> 69 | ... Q212: ='сентябрь 2014г. по 6-10'!Q212+'сентябрь 2014г. по 0,4'!Q209 -> 0
C213: Гуниб-110 | D213: ='сентябрь 2014г. по 6-10'!D213+'сентябрь 2014г. по 0,4'!D210 -> 4 | E213: ='сентябрь 2014г. по 6-10'!E213+'сентябрь 2014г. по 0,4'!E210 -> 435 | F213: ='сентябрь 2014г. по 6-10'!F213+'сентябрь 2014г. по 0,4'!F210 -> 4 | G213: ='сентябрь 2014г. по 6-10'!G213+'сентябрь 2014г. по 0,4'!G210 -> 115 | H213: ='сентябрь 2014г. по 6-10'!H213+'сентябрь 2014г. по 0,4'!H210 -> 0 | I213: ='сентябрь 2014г. по 6-10'!I213+'сентябрь 2014г. по 0,4'!I210 -> 0 | J213: ='сентябрь 2014г. по 6-10'!J213+'сентябрь 2014г. по 0,4'!J210 -> 43 | K213: ='сентябрь 2014г. по 6-10'!K213+'сентябрь 2014г. по 0,4'!K210 -> 223 | ... Q213: ='сентябрь 2014г. по 6-10'!Q213+'сентябрь 2014г. по 0,4'!Q210 -> 0
C214: Акуша | D214: ='сентябрь 2014г. по 6-10'!D214+'сентябрь 2014г. по 0,4'!D211 -> 7 | E214: ='сентябрь 2014г. по 6-10'!E214+'сентябрь 2014г. по 0,4'!E211 -> 65.8 | F214: ='сентябрь 2014г. по 6-10'!F214+'сентябрь 2014г. по 0,4'!F211 -> 3 | G214: ='сентябрь 2014г. по 6-10'!G214+'сентябрь 2014г. по 0,4'!G211 -> 37 | H214: ='сентябрь 2014г. по 6-10'!H214+'сентябрь 2014г. по 0,4'!H211 -> 0 | I214: ='сентябрь 2014г. по 6-10'!I214+'сентябрь 2014г. по 0,4'!I211 -> 0 | J214: ='сентябрь 2014г. по 6-10'!J214+'сентябрь 2014г. по 0,4'!J211 -> 14 | K214: ='сентябрь 2014г. по 6-10'!K214+'сентябрь 2014г. по 0,4'!K211 -> 138 | ... Q214: ='сентябрь 2014г. по 6-10'!Q214+'сентябрь 2014г. по 0,4'!Q211 -> 0
C215: Кумух-35 | D215: ='сентябрь 2014г. по 6-10'!D215+'сентябрь 2014г. по 0,4'!D212 -> 3 | E215: ='сентябрь 2014г. по 6-10'!E215+'сентябрь 2014г. по 0,4'!E212 -> 120 | F215: ='сентябрь 2014г. по 6-10'!F215+'сентябрь 2014г. по 0,4'!F212 -> 3 | G215: ='сентябрь 2014г. по 6-10'!G215+'сентябрь 2014г. по 0,4'!G212 -> 120 | H215: ='сентябрь 2014г. по 6-10'!H215+'сентябрь 2014г. по 0,4'!H212 -> 0 | I215: ='сентябрь 2014г. по 6-10'!I215+'сентябрь 2014г. по 0,4'!I212 -> 0 | J215: ='сентябрь 2014г. по 6-10'!J215+'сентябрь 2014г. по 0,4'!J212 -> 16 | K215: ='сентябрь 2014г. по 6-10'!K215+'сентябрь 2014г. по 0,4'!K212 -> 95.2 | ... Q215: ='сентябрь 2014г. по 6-10'!Q215+'сентябрь 2014г. по 0,4'!Q212 -> 0
... C243: Сагри | D243: ='сентябрь 2014г. по 6-10'!D243+'сентябрь 2014г. по 0,4'!D240 -> 8 | E243: ='сентябрь 2014г. по 6-10'!E243+'сентябрь 2014г. по 0,4'!E240 -> 101 | F243: ='сентябрь 2014г. по 6-10'!F243+'сентябрь 2014г. по 0,4'!F240 -> 8 | G243: ='сентябрь 2014г. по 6-10'!G243+'сентябрь 2014г. по 0,4'!G240 -> 79 | H243: ='сентябрь 2014г. по 6-10'!H243+'сентябрь 2014г. по 0,4'!H240 -> 0 | I243: ='сентябрь 2014г. по 6-10'!I243+'сентябрь 2014г. по 0,4'!I240 -> 0 | J243: ='сентябрь 2014г. по 6-10'!J243+'сентябрь 2014г. по 0,4'!J240 -> 0 | K243: ='сентябрь 2014г. по 6-10'!K243+'сентябрь 2014г. по 0,4'!K240 -> 0 | ... Q243: ='сентябрь 2014г. по 6-10'!Q243+'сентябрь 2014г. по 0,4'!Q240 -> 0
C244: итого: | D244: =SUM(D204:D243) -> 253 | E244: =SUM(E204:E243) -> 8251.5 | F244: =SUM(F204:F243) -> 130 | G244: =SUM(G204:G243) -> 1508.1 | H244: =SUM(H204:H243) -> 0 | I244: =SUM(I204:I243) -> 0 | J244: =SUM(J204:J243) -> 277 | K244: =SUM(K204:K243) -> 1989.2 | ... Q244: =SUM(Q204:Q243) -> 0
C245: ВСЕГО: | D245: =SUM(D244+D202+D195+D185+D153+D102+D64) -> 1906 | E245: =SUM(E244+E202+E195+E185+E153+E102+E64) -> 71346.4 | F245: =SUM(F244+F202+F195+F185+F153+F102+F64) -> 1295 | G245: =SUM(G244+G202+G195+G185+G153+G102+G64) -> 29336.1 | H245: =SUM(H244+H202+H195+H185+H153+H102+H64) -> 0 | I245: =SUM(I244+I202+I195+I185+I153+I102+I64) -> 0 | J245: =SUM(J244+J202+J195+J185+J153+J102+J64) -> 1774 | K245: =SUM(K244+K202+K195+K185+K153+K102+K64) -> 19527.2 | ... Q245: =SUM(Q244+Q202+Q195+Q185+Q153+Q102+Q64) -> 0
A246: ИТОГО: | B246: Филиал | D246: =SUM(D245:D245) -> 1906 | E246: =SUM(E245:E245) -> 71346.4 | F246: =SUM(F245:F245) -> 1295 | G246: =SUM(G245:G245) -> 29336.1 | H246: =SUM(H245:H245) -> 0 | I246: =SUM(I245:I245) -> 0 | J246: =SUM(J245:J245) -> 1774 | K246: =SUM(K245:K245) -> 19527.2 | ... Q246: =SUM(Q245:Q245) -> 0
C248: * в ОАО "Дагэнергосеть" аннулированных заявок 0 шт. на 0 кВт.

Sheet сентябрь 2014г. по 6-10
M1: Приложение № 28
M2: к Положению о технологическом присоединении
M3: энергетических установок к электрическим сетям
M4: ОАО «МРСК Северного Кавказа», управляемых
M5: Обществ
B14: Информация о технологическом присоединении энергопринимающих устройств к сетям ОАО Дагэнергосеть илиалом ОАО "МРСК Северного Кавказа" за сентябрь 2014г.
A19: Наименование организации, осуществляющей технологическое присоединение | B19: Наименование субъекта РФ | C19: Наименование центра питания (ПС 35 кВ и выше) | D19: Количество поданных заявок на технологическое присоединение, на общую мощность энергопринимающих устройств, кВт | F19: Заключено договоров на технологическое присоединение, включающие технические условия на общую мощность энергопринимающих устройств, кВт | H19: Расторгнуто договоров на технологическое присоединение, включающие технические условия на общую мощность энергопринимающих устройств, кВт | J19: Суммарная мощность энегргопринимающих устройств, присоединенных к электрическим сетям в соответствии с договором на технологическое присоединение за отчетный период, кВт | L19: Заключено договоров на технологическое присоединение, включающие технические условия на общую мощность генерирущих установок, МВт | N19: Расторгнуто договоров на технологическое присоединение, включающие технические условия на общую мощность генерирущих установок, МВт | P19: Суммарная мощность генерирущих установок, присоединенных к электрическим сетям в соответствии с договором на технологическое присоединение за отчетный период, МВт
A20: 1 | B20: 2 | C20: 3 | D20: 4 | F20: 5 | H20: 6 | J20: 7 | L20: 8 | N20: 9 | P20: 10
D21: шт | E21: кВт | F21: шт | G21: кВт | H21: шт | I21: кВт | J21: шт | K21: кВт | L21: шт | M21: МВт | N21: шт | O21: МВт | P21: шт | Q21: МВт
A22: Кабардино- Балкарсикй филиал ОАО "МРСК Северного Кавказа" | B22: Республика Дагестан | C22: ЦЕНТРАЛЬНЫЕ СЕТИ
C23: ПС ГПП | H23: 0
C24: ПС Новая | D24: 1 | E24: 100 | F24: 1 | G24: 100 | H24: 0
C25: ПС ЦПП | H25: 0
C26: ПС М-110 | D26: 13 | E26: =80+100+200+1100+120 -> 1600 | F26: 6 | G26: =80+750 -> 830 | H26: 0 | J26: 3 | K26: 210
C27: ПС Очистные соор. | D27: 1 | E27: 80 | H27: 0
C28: ПС Ю-Восточная | D28: 2 | E28: 970 | F28: 1 | G28: 470 | H28: 0
C29: ПС Приморская | D29: 1 | E29: 30 | F29: 1 | G29: 30 | H29: 0
C30: ПС Насосная -1 | D30: 10 | E30: 2300 | F30: 8 | G30: 279.4 | H30: 0
C31: ПС Радиоцентр | D31: 2 | E31: 860 | F31: 2 | G31: 560 | H31: 0
C32: ПС Изберг- Сев. | D32: 8 | E32: =10+100+300+80+10+300+40+480 -> 1320 | F32: 6 | G32: 920 | H32: 0
C33: ПС Изберг- Южн. | D33: 5 | E33: =60+48+150+85+640 -> 983 | F33: 5 | G33: 983 | H33: 0
C34: ПС Карабуд-т | D34: 9 | E34: =15+10+30+15+10+6+10+30+160 -> 286 | F34: 9 | G34: 286 | H34: 0 | J34: 9 | K34: 245
C35: ПС Рассвет | D35: 14 | E35: =15+100+25+20+20+25+160+45+15+90+30+120+160+10+200 -> 1035 | F35: 14 | G35: 835 | H35: 0 | J35: 2 | K35: 80
C36: ПС Шамхал | D36: 18 | E36: =50+150+18+160+90+200+75+15+150+50+86+20+6+400+15+15+40+55+300 -> 1895 | F36: 18 | G36: 1595 | H36: 0 | J36: 3 | K36: 120
C37: ПС Сергокала | D37: 3 | E37: 940 | F37: 3 | G37: 90 | H37: 0
C38: ПС Алмало | D38: 3 | E38: 550 | F38: 3 | G38: 230 | H38: 0 | J38: 3 | K38: 320
C39: ПС Буйнакск -1 | D39: 4 | E39: 621 | F39: 4 | G39: 162 | H39: 0 | J39: 13 | K39: 920
C40: ПС Буйнакск -2 | D40: 1 | E40: 360 | F40: 1 | G40: 120 | H40: 0 | J40: 8 | K40: 450
C41: ПС Казанище | D41: 7 | E41: 1760 | F41: 5 | G41: 250 | H41: 0
C42: ПС Согратль | D42: 7 | E42: =20+170+180+60+1.1+400+90 -> 921.1 | F42: 7 | G42: 921.1 | H42: 0 | J42: 1 | K42: 20
C43: ПС Дженгутай | D43: 4 | E43: =180+100+100+43 -> 423 | F43: 2 | G43: 220 | H43: 0
C44: ПС Такалай | H44: 0
C45: ПС Параул | D45: 2 | E45: 470 | F45: 2 | G45: 272 | H45: 0
C46: ПС Восточная | H46: 0
C47: ПС Приозерная | H47: 0
C48: ПС Солнце | D48: 11 | E48: 1918 | F48: 4 | G48: 630 | H48: 0
C49: ПС Компас | D49: 2 | E49: =150+50 -> 200 | F49: 2 | G49: 200 | H49: 0 | J49: 4 | K49: 135
C50: ПС Сулак | D50: 3 | E50: =162+6+15 -> 183 | F50: 3 | G50: =162+6+15 -> 183 | H50: 0
C51: ПС НИИСХА | D51: 7 | E51: =200+40+155+100+80+30+70+300 -> 975 | F51: 5 | G51: 470 | H51: 0
C52: ПС Тепл. Комбинат | H52: 0
C53: ПС Насосная - 2 | H53: 0 | J53: 3 | K53: 80
C54: ПС Ленинкент | D54: 3 | E54: =350+20+50 -> 420 | F54: 3 | G54: 420 | H54: 0
C55: ПС Дурмаз | H55: 0
C56: ПС Эрпели | D56: 3 | E56: =15+95+10 -> 120 | F56: 3 | G56: 120 | H56: 0
C57: ПС Гурбуки | D57: 2 | E57: =50+91 -> 141 | F57: 2 | G57: 141 | H57: 0
C58: ПС Халимбекаул | D58: 5 | E58: =160+80+240+15+15 -> 510 | F58: 4 | G58: 210 | H58: 0
C59: ПС Мулебки | D59: 1 | E59: 96 | H59: 0
C60: ПС Н. Чиркей | D60: 2 | E60: =15+160 -> 175 | F60: 2 | G60: 175 | H60: 0
C61: ПС КПФ | H61: 0
C62: ПС Аграханская | D62: 2 | E62: =8+7 -> 15 | F62: 2 | G62: 15 | H62: 0
C63: ПС ЗТМ (Т, Механика) | D63: 5 | E63: =325+170+100+90+100 -> 785 | F63: 3 | G63: 385 | H63: 0
C64: итого: | D64: =SUM(D23:D63) -> 161 | E64: =SUM(E23:E63) -> 23042.1 | F64: =SUM(F23:F63) -> 131 | G64: =SUM(G23:G63) -> 12102.5 | H64: =SUM(H23:H63) -> 0 | I64: =SUM(I23:I63) -> 0 | J64: =SUM(J23:J63) -> 49 | K64: =SUM(K23:K63) -> 2580 | ... Q64: =SUM(Q23:Q63) -> 0
C65: СЕВЕРНЫЕ СЕТИ | H65: 0
C66: Ярыксу | D66: 4 | E66: 671 | F66: 3 | G66: 320 | H66: 0 | J66: 19 | K66: 940
C67: Акташ | D67: 12 | E67: =41+15+15+155+50+15+60+50+250+100+300+250 -> 1301 | F67: 6 | G67: 251 | H67: 0 | J67: 13 | K67: 870
C68: Куруш | D68: 2 | E68: =65+155 -> 220 | F68: 2 | G68: 20 | H68: 0
C69: Сулевкент | D69: 2 | E69: 125 | F69: 2 | G69: 25 | H69: 0
C70: Бабаюрт | D70: 4 | E70: 645 | F70: 1 | G70: 41 | H70: 0 | J70: 1 | K70: 20
C71: Чиркей | H71: 0
C72: Дылым | D72: 1 | E72: 10 | F72: 1 | G72: 10 | H72: 0
C73: Миатлы | H73: 0
C74: ГЩЗ (Кизилюртовская | D74: 6 | E74: 480 | F74: 3 | G74: 140 | H74: 0 | J74: 5 | K74: 420
C75: Сулак | H75: 0
C76: Львовская | H76: 0
C77: Дагестан | D77: 5 | E77: 740 | F77: 4 | G77: 40 | H77: 0
C78: Аксай | D78: 3 | E78: 320 | F78: 3 | G78: 55 | H78: 0
C79: Чагаротар | D79: 1 | E79: 90 | F79: 1 | G79: 10 | H79: 0
C80: Гертма | H80: 0
C81: Татаюрт | D81: 4 | E81: 654 | H81: 0 | J81: 2 | K81: 160
C82: Тамазатюбе | D82: 1 | E82: 25 | F82: 1 | G82: 5 | H82: 0
C83: Туршунай | D83: 1 | E83: 45 | F83: 1 | G83: 3 | H83: 0
C84: Хамам-юрт | D84: 1 | E84: 10 | F84: 1 | G84: 10 | H84: 0
C85: Костек | D85: 1 | E85: 145 | H85: 0
C86: Новокули | D86: 2 | E86: 148 | H86: 0
C87: Акбула-Тюрт | D87: 3 | E87: 340 | H87: 0
C88: Янгильбай | D88: 1 | E88: 65 | F88: 1 | G88: 15 | H88: 0
C89: Шава | H89: 0
C90: Новая коса | D90: 2 | E90: 305 | F90: 1 | G90: 20 | H90: 0
C91: Караузбек | D91: 1 | E91: 85 | F91: 1 | G91: 15 | H91: 0
C92: Свердлова | D92: 1 | E92: 114 | F92: 1 | G92: 15 | H92: 0
C93: Димитрова | D93: 2 | E93: 125 | F93: 1 | G93: 25 | H93: 0
C94: Казиюрт | H94: 0
C95: Аликазган | H95: 0
C96: Д Консер.з-д | H96: 0
C97: Сивух | D97: 2 | E97: =10+45 -> 55 | F97: 2 | G97: 55 | H97: 0
C98: Андрейаул | D98: 3 | E98: =10+15+86 -> 111 | F98: 3 | G98: 87 | H98: 0
C99: Дружба | D99: 3 | E99: =15+10+131 -> 156 | F99: 3 | G99: 156 | H99: 0
C100: Дубки | H100: 0
C101: Карланюрт -(Тяговая) | D101: 5 | E101: =15+30+315+87+8 -> 455 | F101: 5 | G101: 455 | H101: 0
C102: итого: | D102: =SUM(D66:D101) -> 73 | E102: =SUM(E66:E101) -> 7440 | F102: =SUM(F66:F101) -> 47 | G102: =SUM(G66:G101) -> 1773 | H102: =SUM(H66:H101) -> 0 | I102: =SUM(I66:I101) -> 0 | J102: =SUM(J66:J101) -> 40 | K102: =SUM(K66:K101) -> 2410 | ... Q102: =SUM(Q66:Q101) -> 0
C103: ДЕРБЕНТСКИЕ СЕТИ | H103: 0
C104: Дербент-330 | D104: 25 | E104: =350+130+70+160+200+65+8+10+160+15+200+20+15+80+3+500+400+700 -> 3086 | F104: 17 | G104: 1782 | H104: 0 | J104: 13 | K104: 740
C105: Дербент-С | D105: 6 | E105: 1954 | F105: 2 | G105: 115 | H105: 0 | J105: 9 | K105: 355
C106: Мамедкала | D106: 5 | E106: 540 | F106: 5 | G106: 63 | H106: 0 | J106: 6 | K106: 240
C107: Каякент | D107: 8 | E107: =15+630+12+45+30+60+70+10 -> 872 | F107: 4 | G107: 320 | H107: 0
C108: Белиджи | D108: 9 | E108: =10+10+15+55+6+60+85+65+70+300 -> 676 | F108: 6 | G108: 176 | H108: 0
C109: Касумкент | D109: 9 | E109: =30+60+20+10+20+15+15+86+6+300+268 -> 830 | F109: 5 | G109: 105 | H109: 0
C110: Советская | D110: 3 | E110: =15+25+15+200 -> 255 | F110: 3 | G110: 55 | H110: 0
C111: Магарамкент | D111: 6 | E111: 460 | F111: 2 | G111: 60 | H111: 0 | J111: 1 | K111: 40
C112: Тагиркент | D112: 3 | E112: =10+7+10 -> 27 | F112: 3 | G112: =10+7+10 -> 27 | H112: 0
...

Sheet сентябрь 2014г. по 0,4
M1: Приложение № 28
M2: к Положению о технологическом присоединении
M3: энергетических установок к электрическим сетям
M4: ОАО «МРСК Северного Кавказа», управляемых
M5: Обществ
B14: Информация о технологическом присоединении энергопринимающих устройств к сетям ОАО Дагэнергосеть илиалом ОАО "МРСК Северного Кавказа" за сентябрь 2014г.
A16: Наименование организации, осуществляющей технологическое присоединение | B16: Наименование субъекта РФ | C16: Наименование центра питания (ПС 35 кВ и выше) | D16: Количество поданных заявок на технологическое присоединение, на общую мощность энергопринимающих устройств, кВт | F16: Заключено договоров на технологическое присоединение, включающие технические условия на общую мощность энергопринимающих устройств, кВт | H16: Расторгнуто договоров на технологическое присоединение, включающие технические условия на общую мощность энергопринимающих устройств, кВт | J16: Суммарная мощность энегргопринимающих устройств, присоединенных к электрическим сетям в соответствии с договором на технологическое присоединение за отчетный период, кВт | L16: Заключено договоров на технологическое присоединение, включающие технические условия на общую мощность генерирущих установок, МВт | N16: Расторгнуто договоров на технологическое присоединение, включающие технические условия на общую мощность генерирущих установок, МВт | P16: Суммарная мощность генерирущих установок, присоединенных к электрическим сетям в соответствии с договором на технологическое присоединение за отчетный период, МВт
A17: 1 | B17: 2 | C17: 3 | D17: 4 | F17: 5 | H17: 6 | J17: 7 | L17: 8 | N17: 9 | P17: 10
D18: шт | E18: кВт | F18: шт | G18: кВт | H18: шт | I18: кВт | J18: шт | K18: кВт | L18: шт | M18: МВт | N18: шт | O18: МВт | P18: шт | Q18: МВт
A19: Кабардино- Балкарсикй филиал ОАО "МРСК Северного Кавказа" | B19: Республика Дагестан | C19: ЦЕНТРАЛЬНЫЕ СЕТИ
C20: ПС ГПП | D20: 0 | E20: 0 | F20: 0 | G20: 0 | H20: 0
C21: ПС Новая | D21: 0 | E21: 0 | F21: 0 | G21: 0 | H21: 0 | J21: 31 | K21: 260
C22: ПС ЦПП | D22: 1 | E22: 250 | F22: 0 | G22: 0 | H22: 0
C23: ПС М-110 | D23: 1 | E23: 100 | F23: 0 | G23: 0 | H23: 0
C24: ПС Очистные соор. | D24: 0 | E24: 0 | F24: 0 | G24: 0 | H24: 0
C25: ПС Ю-Восточная | D25: 0 | E25: 0 | F25: 0 | G25: 0 | H25: 0 | J25: 50 | K25: 390
C26: ПС Приморская | D26: 0 | E26: 0 | F26: 0 | G26: 0 | H26: 0
C27: ПС Насосная -1 | D27: 4 | E27: =15+10+50+7 -> 82 | F27: 4 | G27: 82 | H27: 0 | J27: 41 | K27: 302
C28: ПС Радиоцентр | D28: 1 | E28: 4 | F28: 1 | G28: 4 | H28: 0 | J28: 37 | K28: 267
C29: ПС Изберг- Сев. | D29: 10 | E29: =10+8+8+5+8+10+5+10+7+15 -> 86 | F29: 10 | G29: 86 | H29: 0 | J29: 39 | K29: 280
C30: ПС Изберг- Южн. | D30: 9 | E30: =8+8+8+6+15+15+15+1.1+15 -> 91.1 | F30: 9 | G30: 91.1 | H30: 0 | J30: 41 | K30: 320
C31: ПС Карабуд-т | D31: 10 | E31: =12+30+10+5+15+40+7+10+10+15 -> 154 | F31: 10 | G31: 154 | H31: 0 | J31: 16 | K31: 120
C32: ПС Рассвет | D32: 5 | E32: =15+9+12+5+9 -> 50 | F32: 5 | G32: 50 | H32: 0 | J32: 18 | K32: 136
C33: ПС Шамхал | D33: 37 | E33: =5.5+15+6+4+10+10+6+6+15+10+8+5+6+5+4+12+12+5+5+5+11+14+10+8+12+10+12+13+10+20+9+10+15+6+9+15+2 -> 340.5 | F33: 37 | G33: 340.5 | H33: 0 | J33: 35 | K33: 298
C34: ПС Сергокала | D34: 7 | E34: =5+15+3+8+5+3+5 -> 44 | F34: 7 | G34: =5+15+3+8+5+3+5 -> 44 | H34: 0 | J34: 2 | K34: 14
C35: ПС Алмало | D35: 7 | E35: =6+10+15+3+7+5+5 -> 51 | F35: 7 | G35: 51 | H35: 0 | J35: 36 | K35: 320
C36: ПС Буйнакск -1 | D36: 90 | E36: =5+6+5+2+5+10+3+5+2+14+5+6+2+6+5+3+2.5+10+1+2+3+2+1.5+14+2.5+2+3+3+5+14.5+5+5+15+15+10+10+15+4+3.5+7+2+20+5+15+2+8+7+10+6+5+8+15+11.5+5+3+10+5+2+15+15+15+121.9+5+5+8+15+15+10+10+10 -> 623.9 | F36: 70 | G36: 300 | H36: 0 | J36: 54 | K36: 490
C37: ПС Буйнакск -2 | D37: 68 | E37: =10+10+15+6+2+4+3+2+2.5+3+5+10+15+15+3+15+15+15 -> 150.5 | F37: 27 | G37: 97 | H37: 0 | J37: 62 | K37: 610
C38: ПС Казанище | D38: 29 | E38: =7+12+15+13+13+12+7+5+35+15+2.2+8+10+14+5+9+15+14+15 -> 226.2 | F38: 19 | G38: 59 | H38: 0 | J38: 12 | K38: 120
C39: ПС Согратль | D39: 20 | E39: =10+10+15+8+15+10+15+8+15+7 -> 113 | F39: 10 | G39: 55 | H39: 0 | J39: 15 | K39: 141
C40: ПС Дженгутай | D40: 16 | E40: =10+10+5+11+10+120 -> 166 | F40: 6 | G40: 66 | H40: 0 | J40: 18 | K40: 100
C41: ПС Такалай | H41: 0
C42: ПС Параул | D42: 5 | E42: =12+6+12+15+12 -> 57 | F42: 5 | G42: 57 | H42: 0 | J42: 3 | K42: 12
C43: ПС Восточная | H43: 0 | J43: 19 | K43: 175
C44: ПС Приозерная | H44: 0
C45: ПС Солнце | D45: 18 | E45: =15+10+10+13+6+10+15+15+15+15+15+8+10+10+12+15+10 -> 204 | F45: 18 | G45: 160 | H45: 0 | J45: 26 | K45: 221
C46: ПС Компас | D46: 1 | E46: 1.1 | F46: 1 | G46: 1.1 | H46: 0
C47: ПС Сулак | H47: 0
C48: ПС НИИСХА | D48: 1 | E48: 5 | F48: 1 | G48: 5 | H48: 0 | J48: 42 | K48: 302
C49: ПС Тепл. Комбинат | H49: 0
C50: ПС Насосная - 2 | H50: 0
C51: ПС Ленинкент | D51: 2 | E51: =13+5 -> 18 | F51: 2 | G51: 18 | H51: 0 | J51: 46 | K51: 364
C52: ПС Дурмаз | D52: 2 | E52: =4+20 -> 24 | F52: 2 | G52: 24 | H52: 0
C53: ПС Эрпели | D53: 1 | E53: =10 -> 10 | F53: 1 | G53: 5 | H53: 0 | J53: 28 | K53: 180
C54: ПС Гурбуки | D54: 1 | E54: 14 | F54: 1 | G54: 4 | H54: 0 | J54: 16 | K54: 78
C55: ПС Халимбекаул | D55: 7 | E55: =10+10+6+14+14+10+15 -> 79 | F55: 7 | G55: 63 | H55: 0 | J55: 2 | K55: =10+10 -> 20
C56: ПС Мулебки | D56: 2 | E56: =5+5 -> 10 | F56: 2 | G56: =5+5 -> 10 | H56: 0 | J56: 1 | K56: 5
C57: ПС Н. Чиркей | D57: 1 | E57: 15 | F57: 1 | G57: 15 | H57: 0 | J57: 34 | K57: 245
C58: ПС КПФ | H58: 0
C59: ПС Аграханская | H59: 0
C60: ПС ЗТМ (Т, Механика) | H60: 0
C61: итого: | D61: =SUM(D20:D60) -> 356 | E61: =SUM(E20:E60) -> 2969.3 | F61: =SUM(F20:F60) -> 263 | G61: =SUM(G20:G60) -> 1841.7 | H61: =SUM(H20:H60) -> 0 | I61: =SUM(I20:I60) -> 0 | J61: =SUM(J20:J60) -> 724 | K61: =SUM(K20:K60) -> 5770 | ... Q61: =SUM(Q20:Q60) -> 0
C62: СЕВЕРНЫЕ СЕТИ | H62: 0
C63: Ярыксу | D63: 68 | E63: =10+7+12+8+15+15+4+12+8+8+7+12+7+15+6+6+8+7+5+15+10+3+15+10+10+5+5+15+5+20+14+15+15+10+15+10+15+3+6+6+8+6+3+10+8+15+25+6+5+15+10+25+15+15+15+25+10+10+7+10+8+10+3+7+7+10+5+3 -> 690 | F63: 68 | G63: 540 | H63: 0 | J63: 35 | K63: 190
C64: Акташ | D64: 38 | E64: =15+15+5+15+15+15+15+8+15+15+15+15+4.5+15+10+15+10+15+15+15+13+15+15+5+5+15+10+5+15+6+6+15+10+15+10+15+15+7 -> 459.5 | F64: 38 | G64: 459.5 | H64: 0 | J64: 27 | K64: 170
C65: Куруш | D65: 6 | E65: =5+350+5+30+5+4.5 -> 399.5 | F65: 6 | G65: =5+50+5+30+5+4.5 -> 99.5 | H65: 0 | J65: 4 | K65: =5+5 -> 10
C66: Сулевкент | H66: 0
C67: Бабаюрт | D67: 9 | E67: =15+5+5+15+6+15+30+10+10 -> 111 | F67: 9 | G67: 97 | H67: 0 | J67: 34 | K67: 214
C68: Чиркей | D68: 1 | E68: 10 | F68: 1 | G68: 10 | H68: 0
C69: Дылым | D69: 10 | E69: =2.5+7+13+3+5+1.5+8+12+8+10 -> 70 | F69: 10 | G69: 70 | H69: 0
C70: Миатлы | D70: 1 | E70: 15 | F70: 1 | G70: 15 | H70: 0
C71: ГЩЗ | D71: 8 | E71: =5+15+10+10+15+10+5+12 -> 82 | F71: 8 | G71: 82 | H71: 0
C72: Сулак | D72: 1 | E72: =6 -> 6 | F72: 1 | G72: =6 -> 6 | H72: 0
C73: Львовская | H73: 0 | J73: 29 | K73: 198
C74: Дагестан | D74: 12 | E74: =5+10+7+5+7+15+5+15+5+4+10+10 -> 98 | F74: 12 | G74: 98 | H74: 0
C75: Аксай | D75: 2 | E75: =3.5+5 -> 8.5 | F75: 2 | G75: =3.5+5 -> 8.5 | H75: 0 | J75: 27 | K75: 197
C76: Чагаротар | H76: 0
C77: Гертма | D77: 1 | E77: 7 | F77: 1 | G77: 7 | H77: 0
C78: Татаюрт | D78: 7 | E78: =10+15+7+6+7+5+12 -> 62 | F78: 7 | G78: 62 | H78: 0
C79: Тамазатюбе | D79: 1 | E79: 5 | F79: 1 | G79: 5 | H79: 0
C80: Туршунай | D80: 4 | E80: =100+5+5+10 -> 120 | F80: 4 | G80: 80 | H80: 0
C81: Хамам-юрт | D81: 6 | E81: =5+15+5+10+5+5 -> 45 | F81: 6 | G81: 45 | H81: 0
C82: Костек | D82: 1 | E82: =4 -> 4 | F82: 1 | G82: =4 -> 4 | H82: 0 | J82: 1 | K82: 4
C83: Новокули | D83: 6 | E83: =8+2.5+12+6+3+2.5 -> 34 | F83: 6 | G83: 34 | H83: 0
C84: Акбула-Тюрт | D84: 1 | E84: 5 | F84: 1 | G84: 5 | H84: 0
C85: Янгильбай | H85: 0
C86: Шава | H86: 0
C87: Новая коса | H87: 0
C88: Караузбек | D88: 1 | E88: 10 | F88: 1 | G88: 10 | H88: 0
C89: Свердлова | H89: 0
C90: Димитрова | D90: 14 | E90: =10+12+8+40+5+7+5+12+5+8+7+25+5+5 -> 154 | F90: 14 | G90: 154 | H90: 0
C91: Казиюрт | H91: 0
C92: Аликазган | H92: 0
C93: Д Консер.з-д | D93: 1 | E93: 6 | F93: 1 | G93: 6 | H93: 0
C94: Сивух | D94: 6 | E94: =6+15+8+10+8+15 -> 62 | F94: 6 | G94: 48 | H94: 0
C95: Андрейаул | D95: 1 | E95: 10 | F95: 1 | G95: 10 | H95: 0
C96: Дружба | D96: 4 | E96: =6+7+5+5 -> 23 | F96: 4 | G96: 23 | H96: 0 | J96: 1 | K96: 6
C97: Дубки | D97: 1 | E97: 7 | F97: 1 | G97: 7 | H97: 0
C98: Карланюрт -(Тяговая) | H98: 0
C99: итого: | D99: =SUM(D63:D98) -> 211 | E99: =SUM(E63:E98) -> 2503.5 | F99: =SUM(F63:F98) -> 211 | G99: =SUM(G63:G98) -> 1985.5 | H99: =SUM(H63:H98) -> 0 | I99: =SUM(I63:I98) -> 0 | J99: =SUM(J63:J98) -> 158 | K99: =SUM(K63:K98) -> 989 | ... Q99: =SUM(Q63:Q98) -> 0
C100: ДЕРБЕНТСКИЕ СЕТИ | H100: 0
C101: Дербент-330 | D101: 45 | E101: =4+5+13+8+160+10+5+14+10+3+5+6+8+3+10+10+12+6+6+5+3+5+10+10+10 -> 341 | F101: 25 | G101: 145 | H101: 0 | J101: 15 | K101: 56
C102: Дербент-С | D102: 36 | E102: =12+12+5+8+50+14+30+12+8+12+5+3+13+10+5+10 -> 209 | F102: 16 | G102: 120 | H102: 0 | J102: 18 | K102: 80
C103: Мамедкала | D103: 6 | E103: =5+12+5+10+10+6 -> 48 | F103: 6 | G103: 48 | H103: 0 | J103: 25 | K103: 160
C104: Каякент | D104: 27 | E104: =5+70+5+13+5+5+8+10+5+8+15+12+5+5+10+5+5+12+5+10+5+5+30+13+10+3+8 -> 292 | F104: 27 | G104: 292 | H104: 0 | J104: 22 | K104: 154
C105: Белиджи | D105: 9 | E105: =45+10+5+10+4+10+15+8+8 -> 115 | F105: 9 | G105: 115 | H105: 0 | J105: 24 | K105: 140
C106: Касумкент | D106: 4 | E106: =7+14.5+7+10 -> 38.5 | F106: 4 | G106: 38.5 | H106: 0 | J106: 35 | K106: 180
C107: Советская | D107: 7 | E107: =10+5+10+5+10+4+13 -> 57 | F107: 7 | G107: 57 | H107: 0 | J107: 15 | K107: 72
C108: Магарамкент | D108: 28 | E108: =50+10+5+5+5+10+5+10+13+5+7+10+5+5+5+5+11+5+15+5+7+7+5+14+5+5+15+5.5 -> 254.5 | F108: 28 | G108: 254.5 | H108: 0 | J108: 2 | K108: =5+10 -> 15
C109: Тагиркент | D109: 11 | E109: =6+4+5+5+3+7+7+5+7+5+7 -> 61 | F109: 11 | G109: 61 | H109: 0 | J109: 1 | K109: =6 -> 6
...

Sheet Лист2

Sheet Лист3

Sheet Лист4
