Workbook

Sheet Лист1

Sheet Ноябрь 2013г
M1: Приложение № 28
M2: к Положению о технологическом присоединении
M3: энергетических установок к электрическим сетям
M4: ОАО «МРСК Северного Кавказа», управляемых
M5: Обществ
B14: Информация о технологическом присоединении энергопринимающих устройств к сетям КБ филиалом ОАО "МРСК Северного Кавказа" за Ноябрь 2013г.
A19: Наименование организации, осуществляющей технологическое присоединение | B19: Наименование субъекта РФ | C19: Наименование центра питания (ПС 35 кВ и выше) | D19: Количество поданных заявок на технологическое присоединение, на общую мощность энергопринимающих устройств, кВт | F19: Заключено договоров на технологическое присоединение, включающие технические условия на общую мощность энергопринимающих устройств, кВт | H19: Расторгнуто договоров на технологическое присоединение, включающие технические условия на общую мощность энергопринимающих устройств, кВт | J19: Суммарная мощность энегргопринимающих устройств, присоединенных к электрическим сетям в соответствии с договором на технологическое присоединение за отчетный период, кВт | L19: Заключено договоров на технологическое присоединение, включающие технические условия на общую мощность генерирущих установок, МВт | N19: Расторгнуто договоров на технологическое присоединение, включающие технические условия на общую мощность генерирущих установок, МВт | P19: Суммарная мощность генерирущих установок, присоединенных к электрическим сетям в соответствии с договором на технологическое присоединение за отчетный период, МВт
A20: 1 | B20: 2 | C20: 3 | D20: 4 | F20: 5 | H20: 6 | J20: 7 | L20: 8 | N20: 9 | P20: 10
D21: шт | E21: кВт | F21: шт | G21: кВт | H21: шт | I21: кВт | J21: шт | K21: кВт | L21: шт | M21: МВт | N21: шт | O21: МВт | P21: шт | Q21: МВт
A22: Кабардино- Балкарсикй филиал ОАО "МРСК Северного Кавказа" | B22: Кабардино- Балкарская Республика | C22: Нальчикская группа ПС
C23: ПС «Нальчик» | D23: ='сентябрь 2014г. по 6-10'!D23+'сентябрь 2014г. по 0,4'!D20 -> 0 | E23: ='сентябрь 2014г. по 6-10'!E23+'сентябрь 2014г. по 0,4'!E20 -> 0 | F23: ='сентябрь 2014г. по 6-10'!F23+'сентябрь 2014г. по 0,4'!F20 -> 0 | G23: ='сентябрь 2014г. по 6-10'!G23+'сентябрь 2014г. по 0,4'!G20 -> 0 | H23: 2 | I23: 11.2 | J23: ='сентябрь 2014г. по 6-10'!J23+'сентябрь 2014г. по 0,4'!J20 -> 0 | K23: ='сентябрь 2014г. по 6-10'!K23+'сентябрь 2014г. по 0,4'!K20 -> 0 | L23: 0 | M23: 0 | N23: 0 | O23: 0 | P23: 0 | Q23: 0
C24: ПС «Телемеханика-1» | D24: ='сентябрь 2014г. по 6-10'!D24+'сентябрь 2014г. по 0,4'!D21 -> 1 | E24: ='сентябрь 2014г. по 6-10'!E24+'сентябрь 2014г. по 0,4'!E21 -> 100 | F24: ='сентябрь 2014г. по 6-10'!F24+'сентябрь 2014г. по 0,4'!F21 -> 1 | G24: ='сентябрь 2014г. по 6-10'!G24+'сентябрь 2014г. по 0,4'!G21 -> 100 | H24: 0 | I24: 0 | J24: ='сентябрь 2014г. по 6-10'!J24+'сентябрь 2014г. по 0,4'!J21 -> 31 | K24: ='сентябрь 2014г. по 6-10'!K24+'сентябрь 2014г. по 0,4'!K21 -> 260 | L24: 0 | M24: 0 | N24: 0 | O24: 0 | P24: 0 | Q24: 0
C25: ПС «Искож» | D25: ='сентябрь 2014г. по 6-10'!D25+'сентябрь 2014г. по 0,4'!D22 -> 1 | E25: ='сентябрь 2014г. по 6-10'!E25+'сентябрь 2014г. по 0,4'!E22 -> 250 | F25: ='сентябрь 2014г. по 6-10'!F25+'сентябрь 2014г. по 0,4'!F22 -> 0 | G25: ='сентябрь 2014г. по 6-10'!G25+'сентябрь 2014г. по 0,4'!G22 -> 0 | H25: 0 | I25: 0 | J25: ='сентябрь 2014г. по 6-10'!J25+'сентябрь 2014г. по 0,4'!J22 -> 0 | K25: ='сентябрь 2014г. по 6-10'!K25+'сентябрь 2014г. по 0,4'!K22 -> 0 | L25: 0 | M25: 0 | N25: 0 | O25: 0 | P25: 0 | Q25: 0
C26: ПС «СКЭП-Н» | D26: ='сентябрь 2014г. по 6-10'!D26+'сентябрь 2014г. по 0,4'!D23 -> 14 | E26: ='сентябрь 2014г. по 6-10'!E26+'сентябрь 2014г. по 0,4'!E23 -> 1700 | F26: ='сентябрь 2014г. по 6-10'!F26+'сентябрь 2014г. по 0,4'!F23 -> 6 | G26: ='сентябрь 2014г. по 6-10'!G26+'сентябрь 2014г. по 0,4'!G23 -> 830 | H26: 0 | I26: 0 | J26: ='сентябрь 2014г. по 6-10'!J26+'сентябрь 2014г. по 0,4'!J23 -> 3 | K26: ='сентябрь 2014г. по 6-10'!K26+'сентябрь 2014г. по 0,4'!K23 -> 210 | L26: 0 | M26: 0 | N26: 0 | O26: 0 | P26: 0 | Q26: 0
C27: ПС «Долинск» | D27: ='сентябрь 2014г. по 6-10'!D27+'сентябрь 2014г. по 0,4'!D24 -> 1 | E27: ='сентябрь 2014г. по 6-10'!E27+'сентябрь 2014г. по 0,4'!E24 -> 80 | F27: ='сентябрь 2014г. по 6-10'!F27+'сентябрь 2014г. по 0,4'!F24 -> 0 | G27: ='сентябрь 2014г. по 6-10'!G27+'сентябрь 2014г. по 0,4'!G24 -> 0 | H27: 0 | I27: 0 | J27: ='сентябрь 2014г. по 6-10'!J27+'сентябрь 2014г. по 0,4'!J24 -> 0 | K27: ='сентябрь 2014г. по 6-10'!K27+'сентябрь 2014г. по 0,4'!K24 -> 0 | L27: 0 | M27: 0 | N27: 0 | O27: 0 | P27: 0 | Q27: 0
C28: ПС «Дубки» | D28: ='сентябрь 2014г. по 6-10'!D28+'сентябрь 2014г. по 0,4'!D25 -> 2 | E28: ='сентябрь 2014г. по 6-10'!E28+'сентябрь 2014г. по 0,4'!E25 -> 970 | F28: ='сентябрь 2014г. по 6-10'!F28+'сентябрь 2014г. по 0,4'!F25 -> 1 | G28: ='сентябрь 2014г. по 6-10'!G28+'сентябрь 2014г. по 0,4'!G25 -> 470 | H28: 0 | I28: 0 | J28: ='сентябрь 2014г. по 6-10'!J28+'сентябрь 2014г. по 0,4'!J25 -> 50 | K28: ='сентябрь 2014г. по 6-10'!K28+'сентябрь 2014г. по 0,4'!K25 -> 390 | L28: 0 | M28: 0 | N28: 0 | O28: 0 | P28: 0 | Q28: 0
C29: ПС «Птицефабрика» | D29: ='сентябрь 2014г. по 6-10'!D29+'сентябрь 2014г. по 0,4'!D26 -> 1 | E29: ='сентябрь 2014г. по 6-10'!E29+'сентябрь 2014г. по 0,4'!E26 -> 30 | F29: ='сентябрь 2014г. по 6-10'!F29+'сентябрь 2014г. по 0,4'!F26 -> 1 | G29: ='сентябрь 2014г. по 6-10'!G29+'сентябрь 2014г. по 0,4'!G26 -> 30 | H29: 1 | I29: 300 | J29: ='сентябрь 2014г. по 6-10'!J29+'сентябрь 2014г. по 0,4'!J26 -> 0 | K29: ='сентябрь 2014г. по 6-10'!K29+'сентябрь 2014г. по 0,4'!K26 -> 0 | L29: 0 | M29: 0 | N29: 0 | O29: 0 | P29: 0 | Q29: 0
C30: итого: | D30: =D23+D24+D25+D26+D27+D28+D29 -> 20 | E30: =E23+E24+E25+E26+E27+E28+E29 -> 3130 | F30: =F23+F24+F25+F26+F27+F28+F29 -> 9 | G30: =G23+G24+G25+G26+G27+G28+G29 -> 1430 | H30: =H23+H24+H25+H26+H27+H28+H29 -> 3 | I30: =I23+I24+I25+I26+I27+I28+I29 -> 311.2 | J30: =J23+J24+J25+J26+J27+J28+J29 -> 84 | K30: =K23+K24+K25+K26+K27+K28+K29 -> 860 | ... Q30: =Q23+Q24+Q25+Q26+Q27+Q28+Q29 -> 0
C31: Малкинская группа ПС
C32: ПС «Малка» | D32: ='сентябрь 2014г. по 6-10'!D32+'сентябрь 2014г. по 0,4'!D29 -> 18 | E32: ='сентябрь 2014г. по 6-10'!E32+'сентябрь 2014г. по 0,4'!E29 -> 1406 | F32: ='сентябрь 2014г. по 6-10'!F32+'сентябрь 2014г. по 0,4'!F29 -> 16 | G32: ='сентябрь 2014г. по 6-10'!G32+'сентябрь 2014г. по 0,4'!G29 -> 1006 | H32: 0 | I32: 0 | J32: ='сентябрь 2014г. по 6-10'!J32+'сентябрь 2014г. по 0,4'!J29 -> 39 | K32: ='сентябрь 2014г. по 6-10'!K32+'сентябрь 2014г. по 0,4'!K29 -> 280 | L32: 0 | M32: 0 | N32: 0 | O32: 0 | P32: 0 | Q32: 0
C33: ПС «Каменномостская» | D33: ='сентябрь 2014г. по 6-10'!D33+'сентябрь 2014г. по 0,4'!D30 -> 14 | E33: ='сентябрь 2014г. по 6-10'!E33+'сентябрь 2014г. по 0,4'!E30 -> 1074.1 | F33: ='сентябрь 2014г. по 6-10'!F33+'сентябрь 2014г. по 0,4'!F30 -> 14 | G33: ='сентябрь 2014г. по 6-10'!G33+'сентябрь 2014г. по 0,4'!G30 -> 1074.1 | H33: 0 | I33: 0 | J33: ='сентябрь 2014г. по 6-10'!J33+'сентябрь 2014г. по 0,4'!J30 -> 41 | K33: ='сентябрь 2014г. по 6-10'!K33+'сентябрь 2014г. по 0,4'!K30 -> 320 | L33: 0 | M33: 0 | N33: 0 | O33: 0 | P33: 0 | Q33: 0
C34: ПС «Залукокоаже» | D34: ='сентябрь 2014г. по 6-10'!D34+'сентябрь 2014г. по 0,4'!D31 -> 19 | E34: ='сентябрь 2014г. по 6-10'!E34+'сентябрь 2014г. по 0,4'!E31 -> 440 | F34: ='сентябрь 2014г. по 6-10'!F34+'сентябрь 2014г. по 0,4'!F31 -> 19 | G34: ='сентябрь 2014г. по 6-10'!G34+'сентябрь 2014г. по 0,4'!G31 -> 440 | H34: 0 | I34: 0 | J34: ='сентябрь 2014г. по 6-10'!J34+'сентябрь 2014г. по 0,4'!J31 -> 25 | K34: ='сентябрь 2014г. по 6-10'!K34+'сентябрь 2014г. по 0,4'!K31 -> 365 | L34: 0 | M34: 0 | N34: 0 | O34: 0 | P34: 0 | Q34: 0
C35: ПС «Залукодес» | D35: ='сентябрь 2014г. по 6-10'!D35+'сентябрь 2014г. по 0,4'!D32 -> 19 | E35: ='сентябрь 2014г. по 6-10'!E35+'сентябрь 2014г. по 0,4'!E32 -> 1085 | F35: ='сентябрь 2014г. по 6-10'!F35+'сентябрь 2014г. по 0,4'!F32 -> 19 | G35: ='сентябрь 2014г. по 6-10'!G35+'сентябрь 2014г. по 0,4'!G32 -> 885 | H35: 0 | I35: 0 | J35: ='сентябрь 2014г. по 6-10'!J35+'сентябрь 2014г. по 0,4'!J32 -> 20 | K35: ='сентябрь 2014г. по 6-10'!K35+'сентябрь 2014г. по 0,4'!K32 -> 216 | L35: 0 | M35: 0 | N35: 0 | O35: 0 | P35: 0 | Q35: 0
C36: ПС «Сармаково» | D36: ='сентябрь 2014г. по 6-10'!D36+'сентябрь 2014г. по 0,4'!D33 -> 55 | E36: ='сентябрь 2014г. по 6-10'!E36+'сентябрь 2014г. по 0,4'!E33 -> 2235.5 | F36: ='сентябрь 2014г. по 6-10'!F36+'сентябрь 2014г. по 0,4'!F33 -> 55 | G36: ='сентябрь 2014г. по 6-10'!G36+'сентябрь 2014г. по 0,4'!G33 -> 1935.5 | H36: 0 | I36: 0 | J36: ='сентябрь 2014г. по 6-10'!J36+'сентябрь 2014г. по 0,4'!J33 -> 38 | K36: ='сентябрь 2014г. по 6-10'!K36+'сентябрь 2014г. по 0,4'!K33 -> 418 | L36: 0 | M36: 0 | N36: 0 | O36: 0 | P36: 0 | Q36: 0
C37: ПС «Аурсентх» | D37: ='сентябрь 2014г. по 6-10'!D37+'сентябрь 2014г. по 0,4'!D34 -> 10 | E37: ='сентябрь 2014г. по 6-10'!E37+'сентябрь 2014г. по 0,4'!E34 -> 984 | F37: ='сентябрь 2014г. по 6-10'!F37+'сентябрь 2014г. по 0,4'!F34 -> 10 | G37: ='сентябрь 2014г. по 6-10'!G37+'сентябрь 2014г. по 0,4'!G34 -> 134 | H37: 0 | I37: 0 | J37: ='сентябрь 2014г. по 6-10'!J37+'сентябрь 2014г. по 0,4'!J34 -> 2 | K37: ='сентябрь 2014г. по 6-10'!K37+'сентябрь 2014г. по 0,4'!K34 -> 14 | L37: 0 | M37: 0 | N37: 0 | O37: 0 | P37: 0 | Q37: 0
C38: итого: | D38: =D32+D33+D34+D35+D36+D37 -> 135 | E38: =E32+E33+E34+E35+E36+E37 -> 7224.6 | F38: =F32+F33+F34+F35+F36+F37 -> 133 | G38: =G32+G33+G34+G35+G36+G37 -> 5474.6 | H38: =H32+H33+H34+H35+H36+H37 -> 0 | I38: =I32+I33+I34+I35+I36+I37 -> 0 | J38: =J32+J33+J34+J35+J36+J37 -> 165 | K38: =K32+K33+K34+K35+K36+K37 -> 1613 | ... Q38: =Q32+Q33+Q34+Q35+Q36+Q37 -> 0
C39: Эльбрусская группа ПС
C40: ПС «ЦРУ» | D40: ='сентябрь 2014г. по 6-10'!D40+'сентябрь 2014г. по 0,4'!D37 -> 69 | E40: ='сентябрь 2014г. по 6-10'!E40+'сентябрь 2014г. по 0,4'!E37 -> 510.5 | F40: ='сентябрь 2014г. по 6-10'!F40+'сентябрь 2014г. по 0,4'!F37 -> 28 | G40: ='сентябрь 2014г. по 6-10'!G40+'сентябрь 2014г. по 0,4'!G37 -> 217 | H40: 0 | I40: 0 | J40: ='сентябрь 2014г. по 6-10'!J40+'сентябрь 2014г. по 0,4'!J37 -> 70 | K40: ='сентябрь 2014г. по 6-10'!K40+'сентябрь 2014г. по 0,4'!K37 -> 1060 | L40: 0 | M40: 0 | N40: 0 | O40: 0 | P40: 0 | Q40: 0
C41: ПС «Адыл-Су» | D41: ='сентябрь 2014г. по 6-10'!D41+'сентябрь 2014г. по 0,4'!D38 -> 36 | E41: ='сентябрь 2014г. по 6-10'!E41+'сентябрь 2014г. по 0,4'!E38 -> 1986.2 | F41: ='сентябрь 2014г. по 6-10'!F41+'сентябрь 2014г. по 0,4'!F38 -> 24 | G41: ='сентябрь 2014г. по 6-10'!G41+'сентябрь 2014г. по 0,4'!G38 -> 309 | H41: 0 | I41: 0 | J41: ='сентябрь 2014г. по 6-10'!J41+'сентябрь 2014г. по 0,4'!J38 -> 12 | K41: ='сентябрь 2014г. по 6-10'!K41+'сентябрь 2014г. по 0,4'!K38 -> 120 | L41: 0 | M41: 0 | N41: 0 | O41: 0 | P41: 0 | Q41: 0
C42: ПС «Нейтрино» | D42: ='сентябрь 2014г. по 6-10'!D42+'сентябрь 2014г. по 0,4'!D39 -> 27 | E42: ='сентябрь 2014г. по 6-10'!E42+'сентябрь 2014г. по 0,4'!E39 -> 1034.1 | F42: ='сентябрь 2014г. по 6-10'!F42+'сентябрь 2014г. по 0,4'!F39 -> 17 | G42: ='сентябрь 2014г. по 6-10'!G42+'сентябрь 2014г. по 0,4'!G39 -> 976.1 | H42: 0 | I42: 0 | J42: ='сентябрь 2014г. по 6-10'!J42+'сентябрь 2014г. по 0,4'!J39 -> 16 | K42: ='сентябрь 2014г. по 6-10'!K42+'сентябрь 2014г. по 0,4'!K39 -> 161 | L42: 0 | M42: 0 | N42: 0 | O42: 0 | P42: 0 | Q42: 0
C43: ПС «Чегет» | D43: ='сентябрь 2014г. по 6-10'!D43+'сентябрь 2014г. по 0,4'!D40 -> 20 | E43: ='сентябрь 2014г. по 6-10'!E43+'сентябрь 2014г. по 0,4'!E40 -> 589 | F43: ='сентябрь 2014г. по 6-10'!F43+'сентябрь 2014г. по 0,4'!F40 -> 8 | G43: ='сентябрь 2014г. по 6-10'!G43+'сентябрь 2014г. по 0,4'!G40 -> 286 | H43: 0 | I43: 0 | J43: ='сентябрь 2014г. по 6-10'!J43+'сентябрь 2014г. по 0,4'!J40 -> 18 | K43: ='сентябрь 2014г. по 6-10'!K43+'сентябрь 2014г. по 0,4'!K40 -> 100 | L43: 0 | M43: 0 | N43: 0 | O43: 0 | P43: 0 | Q43: 0
C44: ПС «Терскол» | D44: ='сентябрь 2014г. по 6-10'!D44+'сентябрь 2014г. по 0,4'!D41 -> 0 | E44: ='сентябрь 2014г. по 6-10'!E44+'сентябрь 2014г. по 0,4'!E41 -> 0 | F44: ='сентябрь 2014г. по 6-10'!F44+'сентябрь 2014г. по 0,4'!F41 -> 0 | G44: ='сентябрь 2014г. по 6-10'!G44+'сентябрь 2014г. по 0,4'!G41 -> 0 | H44: 0 | I44: 0 | J44: ='сентябрь 2014г. по 6-10'!J44+'сентябрь 2014г. по 0,4'!J41 -> 0 | K44: ='сентябрь 2014г. по 6-10'!K44+'сентябрь 2014г. по 0,4'!K41 -> 0 | L44: 0 | M44: 0 | N44: 0 | O44: 0 | P44: 0 | Q44: 0
C45: ПС «Джайлык» | D45: ='сентябрь 2014г. по 6-10'!D45+'сентябрь 2014г. по 0,4'!D42 -> 7 | E45: ='сентябрь 2014г. по 6-10'!E45+'сентябрь 2014г. по 0,4'!E42 -> 527 | F45: ='сентябрь 2014г. по 6-10'!F45+'сентябрь 2014г. по 0,4'!F42 -> 7 | G45: ='сентябрь 2014г. по 6-10'!G45+'сентябрь 2014г. по 0,4'!G42 -> 329 | H45: 0 | I45: 0 | J45: ='сентябрь 2014г. по 6-10'!J45+'сентябрь 2014г. по 0,4'!J42 -> 3 | K45: ='сентябрь 2014г. по 6-10'!K45+'сентябрь 2014г. по 0,4'!K42 -> 12 | L45: 0 | M45: 0 | N45: 0 | O45: 0 | P45: 0 | Q45: 0
C46: ПС «Соц. городок» | D46: ='сентябрь 2014г. по 6-10'!D46+'сентябрь 2014г. по 0,4'!D43 -> 0 | E46: ='сентябрь 2014г. по 6-10'!E46+'сентябрь 2014г. по 0,4'!E43 -> 0 | F46: ='сентябрь 2014г. по 6-10'!F46+'сентябрь 2014г. по 0,4'!F43 -> 0 | G46: ='сентябрь 2014г. по 6-10'!G46+'сентябрь 2014г. по 0,4'!G43 -> 0 | H46: 0 | I46: 0 | J46: ='сентябрь 2014г. по 6-10'!J46+'сентябрь 2014г. по 0,4'!J43 -> 19 | K46: ='сентябрь 2014г. по 6-10'!K46+'сентябрь 2014г. по 0,4'!K43 -> 175 | L46: 0 | M46: 0 | N46: 0 | O46: 0 | P46: 0 | Q46: 0
C47: ПС «Чалмас» | D47: ='сентябрь 2014г. по 6-10'!D47+'сентябрь 2014г. по 0,4'!D44 -> 0 | E47: ='сентябрь 2014г. по 6-10'!E47+'сентябрь 2014г. по 0,4'!E44 -> 0 | F47: ='сентябрь 2014г. по 6-10'!F47+'сентябрь 2014г. по 0,4'!F44 -> 0 | G47: ='сентябрь 2014г. по 6-10'!G47+'сентябрь 2014г. по 0,4'!G44 -> 0 | H47: 0 | I47: 0 | J47: ='сентябрь 2014г. по 6-10'!J47+'сентябрь 2014г. по 0,4'!J44 -> 0 | K47: ='сентябрь 2014г. по 6-10'!K47+'сентябрь 2014г. по 0,4'!K44 -> 0 | L47: 0 | M47: 0 | N47: 0 | O47: 0 | P47: 0 | Q47: 0
C48: ПС «РМЗ» | D48: ='сентябрь 2014г. по 6-10'!D48+'сентябрь 2014г. по 0,4'!D45 -> 29 | E48: ='сентябрь 2014г. по 6-10'!E48+'сентябрь 2014г. по 0,4'!E45 -> 2122 | F48: ='сентябрь 2014г. по 6-10'!F48+'сентябрь 2014г. по 0,4'!F45 -> 22 | G48: ='сентябрь 2014г. по 6-10'!G48+'сентябрь 2014г. по 0,4'!G45 -> 790 | H48: 0 | I48: 0 | J48: ='сентябрь 2014г. по 6-10'!J48+'сентябрь 2014г. по 0,4'!J45 -> 26 | K48: ='сентябрь 2014г. по 6-10'!K48+'сентябрь 2014г. по 0,4'!K45 -> 221 | L48: 0 | M48: 0 | N48: 0 | O48: 0 | P48: 0 | Q48: 0
C49: РП «Водогрейная» | D49: ='сентябрь 2014г. по 6-10'!D49+'сентябрь 2014г. по 0,4'!D46 -> 3 | E49: ='сентябрь 2014г. по 6-10'!E49+'сентябрь 2014г. по 0,4'!E46 -> 201.1 | F49: ='сентябрь 2014г. по 6-10'!F49+'сентябрь 2014г. по 0,4'!F46 -> 3 | G49: ='сентябрь 2014г. по 6-10'!G49+'сентябрь 2014г. по 0,4'!G46 -> 201.1 | H49: 0 | I49: 0 | J49: ='сентябрь 2014г. по 6-10'!J49+'сентябрь 2014г. по 0,4'!J46 -> 4 | K49: ='сентябрь 2014г. по 6-10'!K49+'сентябрь 2014г. по 0,4'!K46 -> 135 | L49: 0 | M49: 0 | N49: 0 | O49: 0 | P49: 0 | Q49: 0
C50: ПС «Былым» | D50: ='сентябрь 2014г. по 6-10'!D50+'сентябрь 2014г. по 0,4'!D47 -> 3 | E50: ='сентябрь 2014г. по 6-10'!E50+'сентябрь 2014г. по 0,4'!E47 -> 183 | F50: ='сентябрь 2014г. по 6-10'!F50+'сентябрь 2014г. по 0,4'!F47 -> 3 | G50: ='сентябрь 2014г. по 6-10'!G50+'сентябрь 2014г. по 0,4'!G47 -> 183 | H50: 0 | I50: 0 | J50: ='сентябрь 2014г. по 6-10'!J50+'сентябрь 2014г. по 0,4'!J47 -> 0 | K50: ='сентябрь 2014г. по 6-10'!K50+'сентябрь 2014г. по 0,4'!K47 -> 0 | L50: 0 | M50: 0 | N50: 0 | O50: 0 | P50: 0 | Q50: 0
C51: ПС "Гунделен" | D51: ='сентябрь 2014г. по 6-10'!D51+'сентябрь 2014г. по 0,4'!D48 -> 8 | E51: ='сентябрь 2014г. по 6-10'!E51+'сентябрь 2014г. по 0,4'!E48 -> 980 | F51: ='сентябрь 2014г. по 6-10'!F51+'сентябрь 2014г. по 0,4'!F48 -> 6 | G51: ='сентябрь 2014г. по 6-10'!G51+'сентябрь 2014г. по 0,4'!G48 -> 475 | H51: 0 | I51: 0 | J51: ='сентябрь 2014г. по 6-10'!J51+'сентябрь 2014г. по 0,4'!J48 -> 42 | K51: ='сентябрь 2014г. по 6-10'!K51+'сентябрь 2014г. по 0,4'!K48 -> 302 | L51: 0 | M51: 0 | N51: 0 | O51: 0 | P51: 0 | Q51: 0
C52: итого: | D52: =D40+D41+D42+D43+D44+D45+D46+D47+D48+D49+D50+D51 -> 202 | E52: =E40+E41+E42+E43+E44+E45+E46+E47+E48+E49+E50+E51 -> 8132.9 | F52: =F40+F41+F42+F43+F44+F45+F46+F47+F48+F49+F50+F51 -> 118 | G52: =G40+G41+G42+G43+G44+G45+G46+G47+G48+G49+G50+G51 -> 3766.2 | H52: =H40+H41+H42+H43+H44+H45+H46+H47+H48+H49+H50+H51 -> 0 | I52: =I40+I41+I42+I43+I44+I45+I46+I47+I48+I49+I50+I51 -> 0 | J52: =J40+J41+J42+J43+J44+J45+J46+J47+J48+J49+J50+J51 -> 210 | K52: =K40+K41+K42+K43+K44+K45+K46+K47+K48+K49+K50+K51 -> 2286 | ... Q52: =Q40+Q41+Q42+Q43+Q44+Q45+Q46+Q47+Q48+Q49+Q50+Q51 -> 0
...

Sheet сентябрь 2014г
B14: Информация о технологическом присоединении энергопринимающих устройств к сетям ОАО Дагэнергосеть илиалом ОАО "МРСК Северного Кавказа" за сентябрь 2014г.
A19: Наименование организации, осуществляющей технологическое присоединение | B19: Наименование субъекта РФ | C19: Наименование центра питания (ПС 35 кВ и выше) | D19: Количество поданных заявок на технологическое присоединение, на общую мощность энергопринимающих устройств, кВт | F19: Заключено договоров на технологическое присоединение, включающие технические условия на общую мощность энергопринимающих устройств, кВт | H19: Расторгнуто договоров на технологическое присоединение, включающие технические условия на общую мощность энергопринимающих устройств, кВт | J19: Суммарная мощность энегргопринимающих устройств, присоединенных к электрическим сетям в соответствии с договором на технологическое присоединение за отчетный период, кВт | L19: Заключено договоров на технологическое присоединение, включающие технические условия на общую мощность генерирущих установок, МВт | N19: Расторгнуто договоров на технологическое присоединение, включающие технические условия на общую мощность генерирущих установок, МВт | P19: Суммарная мощность генерирущих установок, присоединенных к электрическим сетям в соответствии с договором на технологическое присоединение за отчетный период, МВт
A20: 1 | B20: 2 | C20: 3 | D20: 4 | F20: 5 | H20: 6 | J20: 7 | L20: 8 | N20: 9 | P20: 10
D21: шт | E21: кВт | F21: шт | G21: кВт | H21: шт | I21: кВт | J21: шт | K21: кВт | L21: шт | M21: МВт | N21: шт | O21: МВт | P21: шт | Q21: МВт
A22: Кабардино- Балкарсикй филиал ОАО "МРСК Северного Кавказа" | B22: Республика Дагестан | C22: ЦЕНТРАЛЬНЫЕ СЕТИ
C23: ПС ГПП | D23: ='сентябрь 2014г. по 6-10'!D23+'сентябрь 2014г. по 0,4'!D20 -> 0 | E23: ='сентябрь 2014г. по 6-10'!E23+'сентябрь 2014г. по 0,4'!E20 -> 0 | F23: ='сентябрь 2014г. по 6-10'!F23+'сентябрь 2014г. по 0,4'!F20 -> 0 | G23: ='сентябрь 2014г. по 6-10'!G23+'сентябрь 2014г. по 0,4'!G20 -> 0 | H23: ='сентябрь 2014г. по 6-10'!H23+'сентябрь 2014г. по 0,4'!H20 -> 0 | I23: ='сентябрь 2014г. по 6-10'!I23+'сентябрь 2014г. по 0,4'!I20 -> 0 | J23: ='сентябрь 2014г. по 6-10'!J23+'сентябрь 2014г. по 0,4'!J20 -> 0 | K23: ='сентябрь 2014г. по 6-10'!K23+'сентябрь 2014г. по 0,4'!K20 -> 0 | ... Q23: ='сентябрь 2014г. по 6-10'!Q23+'сентябрь 2014г. по 0,4'!Q20 -> 0
C24: ПС Новая | D24: ='сентябрь 2014г. по 6-10'!D24+'сентябрь 2014г. по 0,4'!D21 -> 1 | E24: ='сентябрь 2014г. по 6-10'!E24+'сентябрь 2014г. по 0,4'!E21 -> 100 | F24: ='сентябрь 2014г. по 6-10'!F24+'сентябрь 2014г. по 0,4'!F21 -> 1 | G24: ='сентябрь 2014г. по 6-10'!G24+'сентябрь 2014г. по 0,4'!G21 -> 100 | H24: ='сентябрь 2014г. по 6-10'!H24+'сентябрь 2014г. по 0,4'!H21 -> 0 | I24: ='сентябрь 2014г. по 6-10'!I24+'сентябрь 2014г. по 0,4'!I21 -> 0 | J24: ='сентябрь 2014г. по 6-10'!J24+'сентябрь 2014г. по 0,4'!J21 -> 31 | K24: ='сентябрь 2014г. по 6-10'!K24+'сентябрь 2014г. по 0,4'!K21 -> 260 | ... Q24: ='сентябрь 2014г. по 6-10'!Q24+'сентябрь 2014г. по 0,4'!Q21 -> 0
C25: ПС ЦПП | D25: ='сентябрь 2014г. по 6-10'!D25+'сентябрь 2014г. по 0,4'!D22 -> 1 | E25: ='сентябрь 2014г. по 6-10'!E25+'сентябрь 2014г. по 0,4'!E22 -> 250 | F25: ='сентябрь 2014г. по 6-10'!F25+'сентябрь 2014г. по 0,4'!F22 -> 0 | G25: ='сентябрь 2014г. по 6-10'!G25+'сентябрь 2014г. по 0,4'!G22 -> 0 | H25: ='сентябрь 2014г. по 6-10'!H25+'сентябрь 2014г. по 0,4'!H22 -> 0 | I25: ='сентябрь 2014г. по 6-10'!I25+'сентябрь 2014г. по 0,4'!I22 -> 0 | J25: ='сентябрь 2014г. по 6-10'!J25+'сентябрь 2014г. по 0,4'!J22 -> 0 | K25: ='сентябрь 2014г. по 6-10'!K25+'сентябрь 2014г. по 0,4'!K22 -> 0 | ... Q25: ='сентябрь 2014г. по 6-10'!Q25+'сентябрь 2014г. по 0,4'!Q22 -> 0
C26: ПС М-110 | D26: ='сентябрь 2014г. по 6-10'!D26+'сентябрь 2014г. по 0,4'!D23 -> 14 | E26: ='сентябрь 2014г. по 6-10'!E26+'сентябрь 2014г. по 0,4'!E23 -> 1700 | F26: ='сентябрь 2014г. по 6-10'!F26+'сентябрь 2014г. по 0,4'!F23 -> 6 | G26: ='сентябрь 2014г. по 6-10'!G26+'сентябрь 2014г. по 0,4'!G23 -> 830 | H26: ='сентябрь 2014г. по 6-10'!H26+'сентябрь 2014г. по 0,4'!H23 -> 0 | I26: ='сентябрь 2014г. по 6-10'!I26+'сентябрь 2014г. по 0,4'!I23 -> 0 | J26: ='сентябрь 2014г. по 6-10'!J26+'сентябрь 2014г. по 0,4'!J23 -> 3 | K26: ='сентябрь 2014г. по 6-10'!K26+'сентябрь 2014г. по 0,4'!K23 -> 210 | ... Q26: ='сентябрь 2014г. по 6-10'!Q26+'сентябрь 2014г. по 0,4'!Q23 -> 0
C27: ПС Очистные соор. | D27: ='сентябрь 2014г. по 6-10'!D27+'сентябрь 2014г. по 0,4'!D24 -> 1 | E27: ='сентябрь 2014г. по 6-10'!E27+'сентябрь 2014г. по 0,4'!E24 -> 80 | F27: ='сентябрь 2014г. по 6-10'!F27+'сентябрь 2014г. по 0,4'!F24 -> 0 | G27: ='сентябрь 2014г. по 6-10'!G27+'сентябрь 2014г. по 0,4'!G24 -> 0 | H27: ='сентябрь 2014г. по 6-10'!H27+'сентябрь 2014г. по 0,4'!H24 -> 0 | I27: ='сентябрь 2014г. по 6-10'!I27+'сентябрь 2014г. по 0,4'!I24 -> 0 | J27: ='сентябрь 2014г. по 6-10'!J27+'сентябрь 2014г. по 0,4'!J24 -> 0 | K27: ='сентябрь 2014г. по 6-10'!K27+'сентябрь 2014г. по 0,4'!K24 -> 0 | ... Q27: ='сентябрь 2014г. по 6-10'!Q27+'сентябрь 2014г. по 0,4'!Q24 -> 0
C28: ПС Ю-Восточная | D28: ='сентябрь 2014г. по 6-10'!D28+'сентябрь 2014г. по 0,4'!D25 -> 2 | E28: ='сентябрь 2014г. по 6-10'!E28+'сентябрь 2014г. по 0,4'!E25 -> 970 | F28: ='сентябрь 2014г. по 6-10'!F28+'сентябрь 2014г. по 0,4'!F25 -> 1 | G28: ='сентябрь 2014г. по 6-10'!G28+'сентябрь 2014г. по 0,4'!G25 -> 470 | H28: ='сентябрь 2014г. по 6-10'!H28+'сентябрь 2014г. по 0,4'!H25 -> 0 | I28: ='сентябрь 2014г. по 6-10'!I28+'сентябрь 2014г. по 0,4'!I25 -> 0 | J28: ='сентябрь 2014г. по 6-10'!J28+'сентябрь 2014г. по 0,4'!J25 -> 50 | K28: ='сентябрь 2014г. по 6-10'!K28+'сентябрь 2014г. по 0,4'!K25 -> 390 | ... Q28: ='сентябрь 2014г. по 6-10'!Q28+'сентябрь 2014г. по 0,4'!Q25 -> 0
C29: ПС Приморская | D29: ='сентябрь 2014г. по 6-10'!D29+'сентябрь 2014г. по 0,4'!D26 -> 1 | E29: ='сентябрь 2014г. по 6-10'!E29+'сентябрь 2014г. по 0,4'!E26 -> 30 | F29: ='сентябрь 2014г. по 6-10'!F29+'сентябрь 2014г. по 0,4'!F26 -> 1 | G29: ='сентябрь 2014г. по 6-10'!G29+'сентябрь 2014г. по 0,4'!G26 -> 30 | H29: ='сентябрь 2014г. по 6-10'!H29+'сентябрь 2014г. по 0,4'!H26 -> 0 | I29: ='сентябрь 2014г. по 6-10'!I29+'сентябрь 2014г. по 0,4'!I26 -> 0 | J29: ='сентябрь 2014г. по 6-10'!J29+'сентябрь 2014г. по 0,4'!J26 -> 0 | K29: ='сентябрь 2014г. по 6-10'!K29+'сентябрь 2014г. по 0,4'!K26 -> 0 | ... Q29: ='сентябрь 2014г. по 6-10'!Q29+'сентябрь 2014г. по 0,4'!Q26 -> 0
C30: ПС Насосная -1 | D30: ='сентябрь 2014г. по 6-10'!D30+'сентябрь 2014г. по 0,4'!D27 -> 14 | E30: ='сентябрь 2014г. по 6-10'!E30+'сентябрь 2014г. по 0,4'!E27 -> 2382 | F30: ='сентябрь 2014г. по 6-10'!F30+'сентябрь 2014г. по 0,4'!F27 -> 12 | G30: ='сентябрь 2014г. по 6-10'!G30+'сентябрь 2014г. по 0,4'!G27 -> 361.4 | H30: ='сентябрь 2014г. по 6-10'!H30+'сентябрь 2014г. по 0,4'!H27 -> 0 | I30: ='сентябрь 2014г. по 6-10'!I30+'сентябрь 2014г. по 0,4'!I27 -> 0 | J30: ='сентябрь 2014г. по 6-10'!J30+'сентябрь 2014г. по 0,4'!J27 -> 41 | K30: ='сентябрь 2014г. по 6-10'!K30+'сентябрь 2014г. по 0,4'!K27 -> 302 | ... Q30: ='сентябрь 2014г. по 6-10'!Q30+'сентябрь 2014г. по 0,4'!Q27 -> 0
C31: ПС Радиоцентр | D31: ='сентябрь 2014г. по 6-10'!D31+'сентябрь 2014г. по 0,4'!D28 -> 3 | E31: ='сентябрь 2014г. по 6-10'!E31+'сентябрь 2014г. по 0,4'!E28 -> 864 | F31: ='сентябрь 2014г. по 6-10'!F31+'сентябрь 2014г. по 0,4'!F28 -> 3 | G31: ='сентябрь 2014г. по 6-10'!G31+'сентябрь 2014г. по 0,4'!G28 -> 564 | H31: ='сентябрь 2014г. по 6-10'!H31+'сентябрь 2014г. по 0,4'!H28 -> 0 | I31: ='сентябрь 2014г. по 6-10'!I31+'сентябрь 2014г. по 0,4'!I28 -> 0 | J31: ='сентябрь 2014г. по 6-10'!J31+'сентябрь 2014г. по 0,4'!J28 -> 37 | K31: ='сентябрь 2014г. по 6-10'!K31+'сентябрь 2014г. по 0,4'!K28 -> 267 | ... Q31: ='сентябрь 2014г. по 6-10'!Q31+'сентябрь 2014г. по 0,4'!Q28 -> 0
C32: ПС Изберг- Сев. | D32: ='сентябрь 2014г. по 6-10'!D32+'сентябрь 2014г. по 0,4'!D29 -> 18 | E32: ='сентябрь 2014г. по 6-10'!E32+'сентябрь 2014г. по 0,4'!E29 -> 1406 | F32: ='сентябрь 2014г. по 6-10'!F32+'сентябрь 2014г. по 0,4'!F29 -> 16 | G32: ='сентябрь 2014г. по 6-10'!G32+'сентябрь 2014г. по 0,4'!G29 -> 1006 | H32: ='сентябрь 2014г. по 6-10'!H32+'сентябрь 2014г. по 0,4'!H29 -> 0 | I32: ='сентябрь 2014г. по 6-10'!I32+'сентябрь 2014г. по 0,4'!I29 -> 0 | J32: ='сентябрь 2014г. по 6-10'!J32+'сентябрь 2014г. по 0,4'!J29 -> 39 | K32: ='сентябрь 2014г. по 6-10'!K32+'сентябрь 2014г. по 0,4'!K29 -> 280 | ... Q32: ='сентябрь 2014г. по 6-10'!Q32+'сентябрь 2014г. по 0,4'!Q29 -> 0
C33: ПС Изберг- Южн. | D33: ='сентябрь 2014г. по 6-10'!D33+'сентябрь 2014г. по 0,4'!D30 -> 14 | E33: ='сентябрь 2014г. по 6-10'!E33+'сентябрь 2014г. по 0,4'!E30 -> 1074.1 | F33: ='сентябрь 2014г. по 6-10'!F33+'сентябрь 2014г. по 0,4'!F30 -> 14 | G33: ='сентябрь 2014г. по 6-10'!G33+'сентябрь 2014г. по 0,4'!G30 -> 1074.1 | H33: ='сентябрь 2014г. по 6-10'!H33+'сентябрь 2014г. по 0,4'!H30 -> 0 | I33: ='сентябрь 2014г. по 6-10'!I33+'сентябрь 2014г. по 0,4'!I30 -> 0 | J33: ='сентябрь 2014г. по 6-10'!J33+'сентябрь 2014г. по 0,4'!J30 -> 41 | K33: ='сентябрь 2014г. по 6-10'!K33+'сентябрь 2014г. по 0,4'!K30 -> 320 | ... Q33: ='сентябрь 2014г. по 6-10'!Q33+'сентябрь 2014г. по 0,4'!Q30 -> 0
C34: ПС Карабуд-т | D34: ='сентябрь 2014г. по 6-10'!D34+'сентябрь 2014г. по 0,4'!D31 -> 19 | E34: ='сентябрь 2014г. по 6-10'!E34+'сентябрь 2014г. по 0,4'!E31 -> 440 | F34: ='сентябрь 2014г. по 6-10'!F34+'сентябрь 2014г. по 0,4'!F31 -> 19 | G34: ='сентябрь 2014г. по 6-10'!G34+'сентябрь 2014г. по 0,4'!G31 -> 440 | H34: ='сентябрь 2014г. по 6-10'!H34+'сентябрь 2014г. по 0,4'!H31 -> 0 | I34: ='сентябрь 2014г. по 6-10'!I34+'сентябрь 2014г. по 0,4'!I31 -> 0 | J34: ='сентябрь 2014г. по 6-10'!J34+'сентябрь 2014г. по 0,4'!J31 -> 25 | K34: ='сентябрь 2014г. по 6-10'!K34+'сентябрь 2014г. по 0,4'!K31 -> 365 | ... Q34: ='сентябрь 2014г. по 6-10'!Q34+'сентябрь 2014г. по 0,4'!Q31 -> 0
... C63: ПС ЗТМ (Т, Механика) | D63: ='сентябрь 2014г. по 6-10'!D63+'сентябрь 2014г. по 0,4'!D60 -> 5 | E63: ='сентябрь 2014г. по 6-10'!E63+'сентябрь 2014г. по 0,4'!E60 -> 785 | F63: ='сентябрь 2014г. по 6-10'!F63+'сентябрь 2014г. по 0,4'!F60 -> 3 | G63: ='сентябрь 2014г. по 6-10'!G63+'сентябрь 2014г. по 0,4'!G60 -> 385 | H63: ='сентябрь 2014г. по 6-10'!H63+'сентябрь 2014г. по 0,4'!H60 -> 0 | I63: ='сентябрь 2014г. по 6-10'!I63+'сентябрь 2014г. по 0,4'!I60 -> 0 | J63: ='сентябрь 2014г. по 6-10'!J63+'сентябрь 2014г. по 0,4'!J60 -> 0 | K63: ='сентябрь 2014г. по 6-10'!K63+'сентябрь 2014г. по 0,4'!K60 -> 0 | ... Q63: ='сентябрь 2014г. по 6-10'!Q63+'сентябрь 2014г. по 0,4'!Q60 -> 0
C64: итого: | D64: =SUM(D23:D63) -> 517 | E64: =SUM(E23:E63) -> 26011.4 | F64: =SUM(F23:F63) -> 394 | G64: =SUM(G23:G63) -> 13944.2 | H64: =SUM(H23:H63) -> 0 | I64: =SUM(I23:I63) -> 0 | J64: =SUM(J23:J63) -> 773 | K64: =SUM(K23:K63) -> 8350 | ... Q64: =SUM(Q23:Q63) -> 0
C65: СЕВЕРНЫЕ СЕТИ
C66: Ярыксу | D66: ='сентябрь 2014г. по 6-10'!D66+'сентябрь 2014г. по 0,4'!D63 -> 72 | E66: ='сентябрь 2014г. по 6-10'!E66+'сентябрь 2014г. по 0,4'!E63 -> 1361 | F66: ='сентябрь 2014г. по 6-10'!F66+'сентябрь 2014г. по 0,4'!F63 -> 71 | G66: ='сентябрь 2014г. по 6-10'!G66+'сентябрь 2014г. по 0,4'!G63 -> 860 | H66: ='сентябрь 2014г. по 6-10'!H66+'сентябрь 2014г. по 0,4'!H63 -> 0 | I66: ='сентябрь 2014г. по 6-10'!I66+'сентябрь 2014г. по 0,4'!I63 -> 0 | J66: ='сентябрь 2014г. по 6-10'!J66+'сентябрь 2014г. по 0,4'!J63 -> 54 | K66: ='сентябрь 2014г. по 6-10'!K66+'сентябрь 2014г. по 0,4'!K63 -> 1130 | ... Q66: ='сентябрь 2014г. по 6-10'!Q66+'сентябрь 2014г. по 0,4'!Q63 -> 0
C67: Акташ | D67: ='сентябрь 2014г. по 6-10'!D67+'сентябрь 2014г. по 0,4'!D64 -> 50 | E67: ='сентябрь 2014г. по 6-10'!E67+'сентябрь 2014г. по 0,4'!E64 -> 1760.5 | F67: ='сентябрь 2014г. по 6-10'!F67+'сентябрь 2014г. по 0,4'!F64 -> 44 | G67: ='сентябрь 2014г. по 6-10'!G67+'сентябрь 2014г. по 0,4'!G64 -> 710.5 | H67: ='сентябрь 2014г. по 6-10'!H67+'сентябрь 2014г. по 0,4'!H64 -> 0 | I67: ='сентябрь 2014г. по 6-10'!I67+'сентябрь 2014г. по 0,4'!I64 -> 0 | J67: ='сентябрь 2014г. по 6-10'!J67+'сентябрь 2014г. по 0,4'!J64 -> 40 | K67: ='сентябрь 2014г. по 6-10'!K67+'сентябрь 2014г. по 0,4'!K64 -> 1040 | ... Q67: ='сентябрь 2014г. по 6-10'!Q67+'сентябрь 2014г. по 0,4'!Q64 -> 0
C68: Куруш | D68: ='сентябрь 2014г. по 6-10'!D68+'сентябрь 2014г. по 0,4'!D65 -> 8 | E68: ='сентябрь 2014г. по 6-10'!E68+'сентябрь 2014г. по 0,4'!E65 -> 619.5 | F68: ='сентябрь 2014г. по 6-10'!F68+'сентябрь 2014г. по 0,4'!F65 -> 8 | G68: ='сентябрь 2014г. по 6-10'!G68+'сентябрь 2014г. по 0,4'!G65 -> 119.5 | H68: ='сентябрь 2014г. по 6-10'!H68+'сентябрь 2014г. по 0,4'!H65 -> 0 | I68: ='сентябрь 2014г. по 6-10'!I68+'сентябрь 2014г. по 0,4'!I65 -> 0 | J68: ='сентябрь 2014г. по 6-10'!J68+'сентябрь 2014г. по 0,4'!J65 -> 4 | K68: ='сентябрь 2014г. по 6-10'!K68+'сентябрь 2014г. по 0,4'!K65 -> 10 | ... Q68: ='сентябрь 2014г. по 6-10'!Q68+'сентябрь 2014г. по 0,4'!Q65 -> 0
C69: Сулевкент | D69: ='сентябрь 2014г. по 6-10'!D69+'сентябрь 2014г. по 0,4'!D66 -> 2 | E69: ='сентябрь 2014г. по 6-10'!E69+'сентябрь 2014г. по 0,4'!E66 -> 125 | F69: ='сентябрь 2014г. по 6-10'!F69+'сентябрь 2014г. по 0,4'!F66 -> 2 | G69: ='сентябрь 2014г. по 6-10'!G69+'сентябрь 2014г. по 0,4'!G66 -> 25 | H69: ='сентябрь 2014г. по 6-10'!H69+'сентябрь 2014г. по 0,4'!H66 -> 0 | I69: ='сентябрь 2014г. по 6-10'!I69+'сентябрь 2014г. по 0,4'!I66 -> 0 | J69: ='сентябрь 2014г. по 6-10'!J69+'сентябрь 2014г. по 0,4'!J66 -> 0 | K69: ='сентябрь 2014г. по 6-10'!K69+'сентябрь 2014г. по 0,4'!K66 -> 0 | ... Q69: ='сентябрь 2014г. по 6-10'!Q69+'сентябрь 2014г. по 0,4'!Q66 -> 0
C70: Бабаюрт | D70: ='сентябрь 2014г. по 6-10'!D70+'сентябрь 2014г. по 0,4'!D67 -> 13 | E70: ='сентябрь 2014г. по 6-10'!E70+'сентябрь 2014г. по 0,4'!E67 -> 756 | F70: ='сентябрь 2014г. по 6-10'!F70+'сентябрь 2014г. по 0,4'!F67 -> 10 | G70: ='сентябрь 2014г. по 6-10'!G70+'сентябрь 2014г. по 0,4'!G67 -> 138 | H70: ='сентябрь 2014г. по 6-10'!H70+'сентябрь 2014г. по 0,4'!H67 -> 0 | I70: ='сентябрь 2014г. по 6-10'!I70+'сентябрь 2014г. по 0,4'!I67 -> 0 | J70: ='сентябрь 2014г. по 6-10'!J70+'сентябрь 2014г. по 0,4'!J67 -> 35 | K70: ='сентябрь 2014г. по 6-10'!K70+'сентябрь 2014г. по 0,4'!K67 -> 234 | ... Q70: ='сентябрь 2014г. по 6-10'!Q70+'сентябрь 2014г. по 0,4'!Q67 -> 0
C71: Чиркей | D71: ='сентябрь 2014г. по 6-10'!D71+'сентябрь 2014г. по 0,4'!D68 -> 1 | E71: ='сентябрь 2014г. по 6-10'!E71+'сентябрь 2014г. по 0,4'!E68 -> 10 | F71: ='сентябрь 2014г. по 6-10'!F71+'сентябрь 2014г. по 0,4'!F68 -> 1 | G71: ='сентябрь 2014г. по 6-10'!G71+'сентябрь 2014г. по 0,4'!G68 -> 10 | H71: ='сентябрь 2014г. по 6-10'!H71+'сентябрь 2014г. по 0,4'!H68 -> 0 | I71: ='сентябрь 2014г. по 6-10'!I71+'сентябрь 2014г. по 0,4'!I68 -> 0 | J71: ='сентябрь 2014г. по 6-10'!J71+'сентябрь 2014г. по 0,4'!J68 -> 0 | K71: ='сентябрь 2014г. по 6-10'!K71+'сентябрь 2014г. по 0,4'!K68 -> 0 | ... Q71: ='сентябрь 2014г. по 6-10'!Q71+'сентябрь 2014г. по 0,4'!Q68 -> 0
C72: Дылым | D72: ='сентябрь 2014г. по 6-10'!D72+'сентябрь 2014г. по 0,4'!D69 -> 11 | E72: ='сентябрь 2014г. по 6-10'!E72+'сентябрь 2014г. по 0,4'!E69 -> 80 | F72: ='сентябрь 2014г. по 6-10'!F72+'сентябрь 2014г. по 0,4'!F69 -> 11 | G72: ='сентябрь 2014г. по 6-10'!G72+'сентябрь 2014г. по 0,4'!G69 -> 80 | H72: ='сентябрь 2014г. по 6-10'!H72+'сентябрь 2014г. по 0,4'!H69 -> 0 | I72: ='сентябрь 2014г. по 6-10'!I72+'сентябрь 2014г. по 0,4'!I69 -> 0 | J72: ='сентябрь 2014г. по 6-10'!J72+'сентябрь 2014г. по 0,4'!J69 -> 0 | K72: ='сентябрь 2014г. по 6-10'!K72+'сентябрь 2014г. по 0,4'!K69 -> 0 | ... Q72: ='сентябрь 2014г. по 6-10'!Q72+'сентябрь 2014г. по 0,4'!Q69 -> 0
C73: Миатлы | D73: ='сентябрь 2014г. по 6-10'!D73+'сентябрь 2014г. по 0,4'!D70 -> 1 | E73: ='сентябрь 2014г. по 6-10'!E73+'сентябрь 2014г. по 0,4'!E70 -> 15 | F73: ='сентябрь 2014г. по 6-10'!F73+'сентябрь 2014г. по 0,4'!F70 -> 1 | G73: ='сентябрь 2014г. по 6-10'!G73+'сентябрь 2014г. по 0,4'!G70 -> 15 | H73: ='сентябрь 2014г. по 6-10'!H73+'сентябрь 2014г. по 0,4'!H70 -> 0 | I73: ='сентябрь 2014г. по 6-10'!I73+'сентябрь 2014г. по 0,4'!I70 -> 0 | J73: ='сентябрь 2014г. по 6-10'!J73+'сентябрь 2014г. по 0,4'!J70 -> 0 | K73: ='сентябрь 2014г. по 6-10'!K73+'сентябрь 2014г. по 0,4'!K70 -> 0 | ... Q73: ='сентябрь 2014г. по 6-10'!Q73+'сентябрь 2014г. по 0,4'!Q70 -> 0
C74: ГЩЗ | D74: ='сентябрь 2014г. по 6-10'!D74+'сентябрь 2014г. по 0,4'!D71 -> 14 | E74: ='сентябрь 2014г. по 6-10'!E74+'сентябрь 2014г. по 0,4'!E71 -> 562 | F74: ='сентябрь 2014г. по 6-10'!F74+'сентябрь 2014г. по 0,4'!F71 -> 11 | G74: ='сентябрь 2014г. по 6-10'!G74+'сентябрь 2014г. по 0,4'!G71 -> 222 | H74: ='сентябрь 2014г. по 6-10'!H74+'сентябрь 2014г. по 0,4'!H71 -> 0 | I74: ='сентябрь 2014г. по 6-10'!I74+'сентябрь 2014г. по 0,4'!I71 -> 0 | J74: ='сентябрь 2014г. по 6-10'!J74+'сентябрь 2014г. по 0,4'!J71 -> 5 | K74: ='сентябрь 2014г. по 6-10'!K74+'сентябрь 2014г. по 0,4'!K71 -> 420 | ... Q74: ='сентябрь 2014г. по 6-10'!Q74+'сентябрь 2014г. по 0,4'!Q71 -> 0
C75: Сулак | D75: ='сентябрь 2014г. по 6-10'!D75+'сентябрь 2014г. по 0,4'!D72 -> 1 | E75: ='сентябрь 2014г. по 6-10'!E75+'сентябрь 2014г. по 0,4'!E72 -> 6 | F75: ='сентябрь 2014г. по 6-10'!F75+'сентябрь 2014г. по 0,4'!F72 -> 1 | G75: ='сентябрь 2014г. по 6-10'!G75+'сентябрь 2014г. по 0,4'!G72 -> 6 | H75: ='сентябрь 2014г. по 6-10'!H75+'сентябрь 2014г. по 0,4'!H72 -> 0 | I75: ='сентябрь 2014г. по 6-10'!I75+'сентябрь 2014г. по 0,4'!I72 -> 0 | J75: ='сентябрь 2014г. по 6-10'!J75+'сентябрь 2014г. по 0,4'!J72 -> 0 | K75: ='сентябрь 2014г. по 6-10'!K75+'сентябрь 2014г. по 0,4'!K72 -> 0 | ... Q75: ='сентябрь 2014г. по 6-10'!Q75+'сентябрь 2014г. по 0,4'!Q72 -> 0
C76: Львовская | D76: ='сентябрь 2014г. по 6-10'!D76+'сентябрь 2014г. по 0,4'!D73 -> 0 | E76: ='сентябрь 2014г. по 6-10'!E76+'сентябрь 2014г. по 0,4'!E73 -> 0 | F76: ='сентябрь 2014г. по 6-10'!F76+'сентябрь 2014г. по 0,4'!F73 -> 0 | G76: ='сентябрь 2014г. по 6-10'!G76+'сентябрь 2014г. по 0,4'!G73 -> 0 | H76: ='сентябрь 2014г. по 6-10'!H76+'сентябрь 2014г. по 0,4'!H73 -> 0 | I76: ='сентябрь 2014г. по 6-10'!I76+'сентябрь 2014г. по 0,4'!I73 -> 0 | J76: ='сентябрь 2014г. по 6-10'!J76+'сентябрь 2014г. по 0,4'!J73 -> 29 | K76: ='сентябрь 2014г. по 6-10'!K76+'сентябрь 2014г. по 0,4'!K73 -> 198 | ... Q76: ='сентябрь 2014г. по 6-10'!Q76+'сентябрь 2014г. по 0,4'!Q73 -> 0
C77: Дагестан | D77: ='сентябрь 2014г. по 6-10'!D77+'сентябрь 2014г. по 0,4'!D74 -> 17 | E77: ='сентябрь 2014г. по 6-10'!E77+'сентябрь 2014г. по 0,4'!E74 -> 838 | F77: ='сентябрь 2014г. по 6-10'!F77+'сентябрь 2014г. по 0,4'!F74 -> 16 | G77: ='сентябрь 2014г. по 6-10'!G77+'сентябрь 2014г. по 0,4'!G74 -> 138 | H77: ='сентябрь 2014г. по 6-10'!H77+'сентябрь 2014г. по 0,4'!H74 -> 0 | I77: ='сентябрь 2014г. по 6-10'!I77+'сентябрь 2014г. по 0,4'!I74 -> 0 | J77: ='сентябрь 2014г. по 6-10'!J77+'сентябрь 2014г. по 0,4'!J74 -> 0 | K77: ='сентябрь 2014г. по 6-10'!K77+'сентябрь 2014г. по 0,4'!K74 -> 0 | ... Q77: ='сентябрь 2014г. по 6-10'!Q77+'сентябрь 2014г. по 0,4'!Q74 -> 0
... C101: Карланюрт -(Тяговая) | D101: ='сентябрь 2014г. по 6-10'!D101+'сентябрь 2014г. по 0,4'!D98 -> 5 | E101: ='сентябрь 2014г. по 6-10'!E101+'сентябрь 2014г. по 0,4'!E98 -> 455 | F101: ='сентябрь 2014г. по 6-10'!F101+'сентябрь 2014г. по 0,4'!F98 -> 5 | G101: ='сентябрь 2014г. по 6-10'!G101+'сентябрь 2014г. по 0,4'!G98 -> 455 | H101: ='сентябрь 2014г. по 6-10'!H101+'сентябрь 2014г. по 0,4'!H98 -> 0 | I101: ='сентябрь 2014г. по 6-10'!I101+'сентябрь 2014г. по 0,4'!I98 -> 0 | J101: ='сентябрь 2014г. по 6-10'!J101+'сентябрь 2014г. по 0,4'!J98 -> 0 | K101: ='сентябрь 2014г. по 6-10'!K101+'сентябрь 2014г. по 0,4'!K98 -> 0 | ... Q101: ='сентябрь 2014г. по 6-10'!Q101+'сентябрь 2014г. по 0,4'!Q98 -> 0
C102: итого: | D102: =SUM(D66:D101) -> 284 | E102: =SUM(E66:E101) -> 9943.5 | F102: =SUM(F66:F101) -> 258 | G102: =SUM(G66:G101) -> 3758.5 | H102: =SUM(H66:H101) -> 0 | I102: =SUM(I66:I101) -> 0 | J102: =SUM(J66:J101) -> 198 | K102: =SUM(K66:K101) -> 3399 | ... Q102: =SUM(Q66:Q101) -> 0
C103: ДЕРБЕНТСКИЕ СЕТИ
C104: Дербент-330 | D104: ='сентябрь 2014г. по 6-10'!D104+'сентябрь 2014г. по 0,4'!D101 -> 70 | E104: ='сентябрь 2014г. по 6-10'!E104+'сентябрь 2014г. по 0,4'!E101 -> 3427 | F104: ='сентябрь 2014г. по 6-10'!F104+'сентябрь 2014г. по 0,4'!F101 -> 42 | G104: ='сентябрь 2014г. по 6-10'!G104+'сентябрь 2014г. по 0,4'!G101 -> 1927 | H104: ='сентябрь 2014г. по 6-10'!H104+'сентябрь 2014г. по 0,4'!H101 -> 0 | I104: ='сентябрь 2014г. по 6-10'!I104+'сентябрь 2014г. по 0,4'!I101 -> 0 | J104: ='сентябрь 2014г. по 6-10'!J104+'сентябрь 2014г. по 0,4'!J101 -> 28 | K104: ='сентябрь 2014г. по 6-10'!K104+'сентябрь 2014г. по 0,4'!K101 -> 796 | ... Q104: ='сентябрь 2014г. по 6-10'!Q104+'сентябрь 2014г. по 0,4'!Q101 -> 0
C105: Дербент-С | D105: ='сентябрь 2014г. по 6-10'!D105+'сентябрь 2014г. по 0,4'!D102 -> 42 | E105: ='сентябрь 2014г. по 6-10'!E105+'сентябрь 2014г. по 0,4'!E102 -> 2163 | F105: ='сентябрь 2014г. по 6-10'!F105+'сентябрь 2014г. по 0,4'!F102 -> 18 | G105: ='сентябрь 2014г. по 6-10'!G105+'сентябрь 2014г. по 0,4'!G102 -> 235 | H105: ='сентябрь 2014г. по 6-10'!H105+'сентябрь 2014г. по 0,4'!H102 -> 0 | I105: ='сентябрь 2014г. по 6-10'!I105+'сентябрь 2014г. по 0,4'!I102 -> 0 | J105: ='сентябрь 2014г. по 6-10'!J105+'сентябрь 2014г. по 0,4'!J102 -> 27 | K105: ='сентябрь 2014г. по 6-10'!K105+'сентябрь 2014г. по 0,4'!K102 -> 435 | ... Q105: ='сентябрь 2014г. по 6-10'!Q105+'сентябрь 2014г. по 0,4'!Q102 -> 0
C106: Мамедкала | D106: ='сентябрь 2014г. по 6-10'!D106+'сентябрь 2014г. по 0,4'!D103 -> 11 | E106: ='сентябрь 2014г. по 6-10'!E106+'сентябрь 2014г. по 0,4'!E103 -> 588 | F106: ='сентябрь 2014г. по 6-10'!F106+'сентябрь 2014г. по 0,4'!F103 -> 11 | G106: ='сентябрь 2014г. по 6-10'!G106+'сентябрь 2014г. по 0,4'!G103 -> 111 | H106: ='сентябрь 2014г. по 6-10'!H106+'сентябрь 2014г. по 0,4'!H103 -> 0 | I106: ='сентябрь 2014г. по 6-10'!I106+'сентябрь 2014г. по 0,4'!I103 -> 0 | J106: ='сентябрь 2014г. по 6-10'!J106+'сентябрь 2014г. по 0,4'!J103 -> 31 | K106: ='сентябрь 2014г. по 6-10'!K106+'сентябрь 2014г. по 0,4'!K103 -> 400 | ... Q106: ='сентябрь 2014г. по 6-10'!Q106+'сентябрь 2014г. по 0,4'!Q103 -> 0
C107: Каякент | D107: ='сентябрь 2014г. по 6-10'!D107+'сентябрь 2014г. по 0,4'!D104 -> 35 | E107: ='сентябрь 2014г. по 6-10'!E107+'сентябрь 2014г. по 0,4'!E104 -> 1164 | F107: ='сентябрь 2014г. по 6-10'!F107+'сентябрь 2014г. по 0,4'!F104 -> 31 | G107: ='сентябрь 2014г. по 6-10'!G107+'сентябрь 2014г. по 0,4'!G104 -> 612 | H107: ='сентябрь 2014г. по 6-10'!H107+'сентябрь 2014г. по 0,4'!H104 -> 0 | I107: ='сентябрь 2014г. по 6-10'!I107+'сентябрь 2014г. по 0,4'!I104 -> 0 | J107: ='сентябрь 2014г. по 6-10'!J107+'сентябрь 2014г. по 0,4'!J104 -> 22 | K107: ='сентябрь 2014г. по 6-10'!K107+'сентябрь 2014г. по 0,4'!K104 -> 154 | ... Q107: ='сентябрь 2014г. по 6-10'!Q107+'сентябрь 2014г. по 0,4'!Q104 -> 0
C108: Белиджи | D108: ='сентябрь 2014г. по 6-10'!D108+'сентябрь 2014г. по 0,4'!D105 -> 18 | E108: ='сентябрь 2014г. по 6-10'!E108+'сентябрь 2014г. по 0,4'!E105 -> 791 | F108: ='сентябрь 2014г. по 6-10'!F108+'сентябрь 2014г. по 0,4'!F105 -> 15 | G108: ='сентябрь 2014г. по 6-10'!G108+'сентябрь 2014г. по 0,4'!G105 -> 291 | H108: ='сентябрь 2014г. по 6-10'!H108+'сентябрь 2014г. по 0,4'!H105 -> 0 | I108: ='сентябрь 2014г. по 6-10'!I108+'сентябрь 2014г. по 0,4'!I105 -> 0 | J108: ='сентябрь 2014г. по 6-10'!J108+'сентябрь 2014г. по 0,4'!J105 -> 24 | K108: ='сентябрь 2014г. по 6-10'!K108+'сентябрь 2014г. по 0,4'!K105 -> 140 | ... Q108: ='сентябрь 2014г. по 6-10'!Q108+'сентябрь 2014г. по 0,4'!Q105 -> 0
...

Sheet сентябрь 2014г. по 6-10
M1: Приложение № 28
M2: к Положению о технологическом присоединении
M3: энергетических установок к электрическим сетям
M4: ОАО «МРСК Северного Кавказа», управляемых
M5: Обществ
B14: Информация о технологическом присоединении энергопринимающих устройств к сетям ОАО Дагэнергосеть илиалом ОАО "МРСК Северного Кавказа" за сентябрь 2014г.
A19: Наименование организации, осуществляющей технологическое присоединение | B19: Наименование субъекта РФ | C19: Наименование центра питания (ПС 35 кВ и выше) | D19: Количество поданных заявок на технологическое присоединение, на общую мощность энергопринимающих устройств, кВт | F19: Заключено договоров на технологическое присоединение, включающие технические условия на общую мощность энергопринимающих устройств, кВт | H19: Расторгнуто договоров на технологическое присоединение, включающие технические условия на общую мощность энергопринимающих устройств, кВт | J19: Суммарная мощность энегргопринимающих устройств, присоединенных к электрическим сетям в соответствии с договором на технологическое присоединение за отчетный период, кВт | L19: Заключено договоров на технологическое присоединение, включающие технические условия на общую мощность генерирущих установок, МВт | N19: Расторгнуто договоров на технологическое присоединение, включающие технические условия на общую мощность генерирущих установок, МВт | P19: Суммарная мощность генерирущих установок, присоединенных к электрическим сетям в соответствии с договором на технологическое присоединение за отчетный период, МВт
A20: 1 | B20: 2 | C20: 3 | D20: 4 | F20: 5 | H20: 6 | J20: 7 | L20: 8 | N20: 9 | P20: 10
D21: шт | E21: кВт | F21: шт | G21: кВт | H21: шт | I21: кВт | J21: шт | K21: кВт | L21: шт | M21: МВт | N21: шт | O21: МВт | P21: шт | Q21: МВт
A22: Кабардино- Балкарсикй филиал ОАО "МРСК Северного Кавказа" | B22: Республика Дагестан | C22: ЦЕНТРАЛЬНЫЕ СЕТИ
C23: ПС ГПП | H23: 0
C24: ПС Новая | D24: 1 | E24: 100 | F24: 1 | G24: 100 | H24: 0
C25: ПС ЦПП | H25: 0
C26: ПС М-110 | D26: 13 | E26: =80+100+200+1100+120 -> 1600 | F26: 6 | G26: =80+750 -> 830 | H26: 0 | J26: 3 | K26: 210
C27: ПС Очистные соор. | D27: 1 | E27: 80 | H27: 0
C28: ПС Ю-Восточная | D28: 2 | E28: 970 | F28: 1 | G28: 470 | H28: 0
C29: ПС Приморская | D29: 1 | E29: 30 | F29: 1 | G29: 30 | H29: 0
C30: ПС Насосная -1 | D30: 10 | E30: 2300 | F30: 8 | G30: 279.4 | H30: 0
C31: ПС Радиоцентр | D31: 2 | E31: 860 | F31: 2 | G31: 560 | H31: 0
C32: ПС Изберг- Сев. | D32: 8 | E32: =10+100+300+80+10+300+40+480 -> 1320 | F32: 6 | G32: 920 | H32: 0
C33: ПС Изберг- Южн. | D33: 5 | E33: =60+48+150+85+640 -> 983 | F33: 5 | G33: 983 | H33: 0
C34: ПС Карабуд-т | D34: 9 | E34: =15+10+30+15+10+6+10+30+160 -> 286 | F34: 9 | G34: 286 | H34: 0 | J34: 9 | K34: 245
C35: ПС Рассвет | D35: 14 | E35: =15+100+25+20+20+25+160+45+15+90+30+120+160+10+200 -> 1035 | F35: 14 | G35: 835 | H35: 0 | J35: 2 | K35: 80
C36: ПС Шамхал | D36: 18 | E36: =50+150+18+160+90+200+75+15+150+50+86+20+6+400+15+15+40+55+300 -> 1895 | F36: 18 | G36: 1595 | H36: 0 | J36: 3 | K36: 120
C37: ПС Сергокала | D37: 3 | E37: 940 | F37: 3 | G37: 90 | H37: 0
C38: ПС Алмало | D38: 3 | E38: 550 | F38: 3 | G38: 230 | H38: 0 | J38: 3 | K38: 320
C39: ПС Буйнакск -1 | D39: 4 | E39: 621 | F39: 4 | G39: 162 | H39: 0 | J39: 13 | K39: 920
C40: ПС Буйнакск -2 | D40: 1 | E40: 360 | F40: 1 | G40: 120 | H40: 0 | J40: 8 | K40: 450
C41: ПС Казанище | D41: 7 | E41: 1760 | F41: 5 | G41: 250 | H41: 0
C42: ПС Согратль | D42: 7 | E42: =20+170+180+60+1.1+400+90 -> 921.1 | F42: 7 | G42: 921.1 | H42: 0 | J42: 1 | K42: 20
C43: ПС Дженгутай | D43: 4 | E43: =180+100+100+43 -> 423 | F43: 2 | G43: 220 | H43: 0
C44: ПС Такалай | H44: 0
C45: ПС Параул | D45: 2 | E45: 470 | F45: 2 | G45: 272 | H45: 0
C46: ПС Восточная | H46: 0
C47: ПС Приозерная | H47: 0
C48: ПС Солнце | D48: 11 | E48: 1918 | F48: 4 | G48: 630 | H48: 0
C49: ПС Компас | D49: 2 | E49: =150+50 -> 200 | F49: 2 | G49: 200 | H49: 0 | J49: 4 | K49: 135
C50: ПС Сулак | D50: 3 | E50: =162+6+15 -> 183 | F50: 3 | G50: =162+6+15 -> 183 | H50: 0
C51: ПС НИИСХА | D51: 7 | E51: =200+40+155+100+80+30+70+300 -> 975 | F51: 5 | G51: 470 | H51: 0
C52: ПС Тепл. Комбинат | H52: 0
...

Sheet сентябрь 2014г. по 0,4
M1: Приложение № 28
M2: к Положению о технологическом присоединении
M3: энергетических установок к электрическим сетям
M4: ОАО «МРСК Северного Кавказа», управляемых
M5: Обществ
B14: Информация о технологическом присоединении энергопринимающих устройств к сетям ОАО Дагэнергосеть илиалом ОАО "МРСК Северного Кавказа" за сентябрь 2014г.
A16: Наименование организации, осуществляющей технологическое присоединение | B16: Наименование субъекта РФ | C16: Наименование центра питания (ПС 35 кВ и выше) | D16: Количество поданных заявок на технологическое присоединение, на общую мощность энергопринимающих устройств, кВт | F16: Заключено договоров на технологическое присоединение, включающие технические условия на общую мощность энергопринимающих устройств, кВт | H16: Расторгнуто договоров на технологическое присоединение, включающие технические условия на общую мощность энергопринимающих устройств, кВт | J16: Суммарная мощность энегргопринимающих устройств, присоединенных к электрическим сетям в соответствии с договором на технологическое присоединение за отчетный период, кВт | L16: Заключено договоров на технологическое присоединение, включающие технические условия на общую мощность генерирущих установок, МВт | N16: Расторгнуто договоров на технологическое присоединение, включающие технические условия на общую мощность генерирущих установок, МВт | P16: Суммарная мощность генерирущих установок, присоединенных к электрическим сетям в соответствии с договором на технологическое присоединение за отчетный период, МВт
A17: 1 | B17: 2 | C17: 3 | D17: 4 | F17: 5 | H17: 6 | J17: 7 | L17: 8 | N17: 9 | P17: 10
D18: шт | E18: кВт | F18: шт | G18: кВт | H18: шт | I18: кВт | J18: шт | K18: кВт | L18: шт | M18: МВт | N18: шт | O18: МВт | P18: шт | Q18: МВт
A19: Кабардино- Балкарсикй филиал ОАО "МРСК Северного Кавказа" | B19: Республика Дагестан | C19: ЦЕНТРАЛЬНЫЕ СЕТИ
C20: ПС ГПП | D20: 0 | E20: 0 | F20: 0 | G20: 0 | H20: 0
C21: ПС Новая | D21: 0 | E21: 0 | F21: 0 | G21: 0 | H21: 0 | J21: 31 | K21: 260
C22: ПС ЦПП | D22: 1 | E22: 250 | F22: 0 | G22: 0 | H22: 0
C23: ПС М-110 | D23: 1 | E23: 100 | F23: 0 | G23: 0 | H23: 0
C24: ПС Очистные соор. | D24: 0 | E24: 0 | F24: 0 | G24: 0 | H24: 0
C25: ПС Ю-Восточная | D25: 0 | E25: 0 | F25: 0 | G25: 0 | H25: 0 | J25: 50 | K25: 390
C26: ПС Приморская | D26: 0 | E26: 0 | F26: 0 | G26: 0 | H26: 0
C27: ПС Насосная -1 | D27: 4 | E27: =15+10+50+7 -> 82 | F27: 4 | G27: 82 | H27: 0 | J27: 41 | K27: 302
C28: ПС Радиоцентр | D28: 1 | E28: 4 | F28: 1 | G28: 4 | H28: 0 | J28: 37 | K28: 267
C29: ПС Изберг- Сев. | D29: 10 | E29: =10+8+8+5+8+10+5+10+7+15 -> 86 | F29: 10 | G29: 86 | H29: 0 | J29: 39 | K29: 280
C30: ПС Изберг- Южн. | D30: 9 | E30: =8+8+8+6+15+15+15+1.1+15 -> 91.1 | F30: 9 | G30: 91.1 | H30: 0 | J30: 41 | K30: 320
C31: ПС Карабуд-т | D31: 10 | E31: =12+30+10+5+15+40+7+10+10+15 -> 154 | F31: 10 | G31: 154 | H31: 0 | J31: 16 | K31: 120
C32: ПС Рассвет | D32: 5 | E32: =15+9+12+5+9 -> 50 | F32: 5 | G32: 50 | H32: 0 | J32: 18 | K32: 136
C33: ПС Шамхал | D33: 37 | E33: =5.5+15+6+4+10+10+6+6+15+10+8+5+6+5+4+12+12+5+5+5+11+14+10+8+12+10+12+13+10+20+9+10+15+6+9+15+2 -> 340.5 | F33: 37 | G33: 340.5 | H33: 0 | J33: 35 | K33: 298
C34: ПС Сергокала | D34: 7 | E34: =5+15+3+8+5+3+5 -> 44 | F34: 7 | G34: =5+15+3+8+5+3+5 -> 44 | H34: 0 | J34: 2 | K34: 14
C35: ПС Алмало | D35: 7 | E35: =6+10+15+3+7+5+5 -> 51 | F35: 7 | G35: 51 | H35: 0 | J35: 36 | K35: 320
C36: ПС Буйнакск -1 | D36: 90 | E36: =5+6+5+2+5+10+3+5+2+14+5+6+2+6+5+3+2.5+10+1+2+3+2+1.5+14+2.5+2+3+3+5+14.5+5+5+15+15+10+10+15+4+3.5+7+2+20+5+15+2+8+7+10+6+5+8+15+11.5+5+3+10+5+2+15+15+15+121.9+5+5+8+15+15+10+10+10 -> 623.9 | F36: 70 | G36: 300 | H36: 0 | J36: 54 | K36: 490
C37: ПС Буйнакск -2 | D37: 68 | E37: =10+10+15+6+2+4+3+2+2.5+3+5+10+15+15+3+15+15+15 -> 150.5 | F37: 27 | G37: 97 | H37: 0 | J37: 62 | K37: 610
C38: ПС Казанище | D38: 29 | E38: =7+12+15+13+13+12+7+5+35+15+2.2+8+10+14+5+9+15+14+15 -> 226.2 | F38: 19 | G38: 59 | H38: 0 | J38: 12 | K38: 120
C39: ПС Согратль | D39: 20 | E39: =10+10+15+8+15+10+15+8+15+7 -> 113 | F39: 10 | G39: 55 | H39: 0 | J39: 15 | K39: 141
C40: ПС Дженгутай | D40: 16 | E40: =10+10+5+11+10+120 -> 166 | F40: 6 | G40: 66 | H40: 0 | J40: 18 | K40: 100
C41: ПС Такалай | H41: 0
C42: ПС Параул | D42: 5 | E42: =12+6+12+15+12 -> 57 | F42: 5 | G42: 57 | H42: 0 | J42: 3 | K42: 12
C43: ПС Восточная | H43: 0 | J43: 19 | K43: 175
C44: ПС Приозерная | H44: 0
C45: ПС Солнце | D45: 18 | E45: =15+10+10+13+6+10+15+15+15+15+15+8+10+10+12+15+10 -> 204 | F45: 18 | G45: 160 | H45: 0 | J45: 26 | K45: 221
C46: ПС Компас | D46: 1 | E46: 1.1 | F46: 1 | G46: 1.1 | H46: 0
C47: ПС Сулак | H47: 0
C48: ПС НИИСХА | D48: 1 | E48: 5 | F48: 1 | G48: 5 | H48: 0 | J48: 42 | K48: 302
C49: ПС Тепл. Комбинат | H49: 0
...

Sheet Лист2

Sheet Лист3

Sheet Лист4
