Workbook

Sheet СВОД Август
M1: Приложение № 28
M2: к Положению о технологическом присоединении
M3: энергетических установок к электрическим сетям
M4: ОАО «МРСК Северного Кавказа», управляемых
M5: Обществ
D11: Информация о технологическом присоединении энергопринимающих устройств к сетям КБ филиалом ОАО "МРСК Северного Кавказа" по август 2014г.
A13: Наименование организации, осуществляющей технологическое присоединение | B13: Наименование субъекта РФ | C13: Наименование центра питания (ПС 35 кВ и выше) | D13: Количество поданных заявок на технологическое присоединение, на общую мощность энергопринимающих устройств, кВт | F13: Заключено договоров на технологическое присоединение, включающие технические условия на общую мощность энергопринимающих устройств, кВт | H13: Расторгнуто договоров на технологическое присоединение, включающие технические условия на общую мощность энергопринимающих устройств, кВт | J13: Суммарная мощность энегргопринимающих устройств, присоединенных к электрическим сетям в соответствии с договором на технологическое присоединение за отчетный период, кВт | L13: Заключено договоров на технологическое присоединение, включающие технические условия на общую мощность генерирущих установок, МВт | N13: Расторгнуто договоров на технологическое присоединение, включающие технические условия на общую мощность генерирущих установок, МВт | P13: Суммарная мощность генерирущих установок, присоединенных к электрическим сетям в соответствии с договором на технологическое присоединение за отчетный период, МВт
A14: 1 | B14: 2 | C14: 3 | D14: 4 | F14: 5 | H14: 6 | J14: 7 | L14: 8 | N14: 9 | P14: 10
D15: шт | E15: кВт | F15: шт | G15: кВт | H15: шт | I15: кВт | J15: шт | K15: кВт | L15: шт | M15: МВт | N15: шт | O15: МВт | P15: шт | Q15: МВт
A16: Кабардино- Балкарсикй филиал ОАО "МРСК Северного Кавказа" | B16: Кабардино- Балкарская Республика | C16: Нальчикская группа ПС
C17: ПС «Нальчик» | D17: =' по 6-10'!D17+' по 0,4'!D23 -> 43 | E17: =' по 6-10'!E17+' по 0,4'!E23 -> 1819.5 | F17: =' по 6-10'!F17+' по 0,4'!F23 -> 42 | G17: =' по 6-10'!G17+' по 0,4'!G23 -> 839.5 | H17: =' по 6-10'!H17+' по 0,4'!H23 -> 0 | I17: =' по 6-10'!I17+' по 0,4'!I23 -> 0 | J17: =' по 6-10'!J17+' по 0,4'!J23 -> 29 | K17: =' по 6-10'!K17+' по 0,4'!K23 -> 251.55 | L17: 0 | M17: 0 | N17: 0 | O17: 0 | P17: 0 | Q17: 0
C18: ПС «Телемеханика-1» | D18: =' по 6-10'!D18+' по 0,4'!D24 -> 0 | E18: =' по 6-10'!E18+' по 0,4'!E24 -> 0 | F18: =' по 6-10'!F18+' по 0,4'!F24 -> 0 | G18: =' по 6-10'!G18+' по 0,4'!G24 -> 0 | H18: =' по 6-10'!H18+' по 0,4'!H24 -> 0 | I18: =' по 6-10'!I18+' по 0,4'!I24 -> 0 | J18: =' по 6-10'!J18+' по 0,4'!J24 -> 1 | K18: =' по 6-10'!K18+' по 0,4'!K24 -> 730 | L18: 0 | M18: 0 | N18: 0 | O18: 0 | P18: 0 | Q18: 0
C19: ПС «Искож» | D19: =' по 6-10'!D19+' по 0,4'!D25 -> 0 | E19: =' по 6-10'!E19+' по 0,4'!E25 -> 0 | F19: =' по 6-10'!F19+' по 0,4'!F25 -> 0 | G19: =' по 6-10'!G19+' по 0,4'!G25 -> 0 | H19: =' по 6-10'!H19+' по 0,4'!H25 -> 0 | I19: =' по 6-10'!I19+' по 0,4'!I25 -> 0 | J19: =' по 6-10'!J19+' по 0,4'!J25 -> 1 | K19: =' по 6-10'!K19+' по 0,4'!K25 -> 450 | L19: 0 | M19: 0 | N19: 0 | O19: 0 | P19: 0 | Q19: 0
C20: ПС «СКЭП-Н» | D20: =' по 6-10'!D20+' по 0,4'!D26 -> 0 | E20: =' по 6-10'!E20+' по 0,4'!E26 -> 0 | F20: =' по 6-10'!F20+' по 0,4'!F26 -> 0 | G20: =' по 6-10'!G20+' по 0,4'!G26 -> 0 | H20: =' по 6-10'!H20+' по 0,4'!H26 -> 0 | I20: =' по 6-10'!I20+' по 0,4'!I26 -> 0 | J20: =' по 6-10'!J20+' по 0,4'!J26 -> 0 | K20: =' по 6-10'!K20+' по 0,4'!K26 -> 0 | L20: 0 | M20: 0 | N20: 0 | O20: 0 | P20: 0 | Q20: 0
C21: ПС «Долинск» | D21: =' по 6-10'!D21+' по 0,4'!D27 -> 0 | E21: =' по 6-10'!E21+' по 0,4'!E27 -> 0 | F21: =' по 6-10'!F21+' по 0,4'!F27 -> 1 | G21: =' по 6-10'!G21+' по 0,4'!G27 -> 814 | H21: =' по 6-10'!H21+' по 0,4'!H27 -> 0 | I21: =' по 6-10'!I21+' по 0,4'!I27 -> 0 | J21: =' по 6-10'!J21+' по 0,4'!J27 -> 0 | K21: =' по 6-10'!K21+' по 0,4'!K27 -> 0 | L21: 0 | M21: 0 | N21: 0 | O21: 0 | P21: 0 | Q21: 0
C22: ПС «Дубки» | D22: =' по 6-10'!D22+' по 0,4'!D28 -> 3 | E22: =' по 6-10'!E22+' по 0,4'!E28 -> 10 | F22: =' по 6-10'!F22+' по 0,4'!F28 -> 3 | G22: =' по 6-10'!G22+' по 0,4'!G28 -> 10 | H22: =' по 6-10'!H22+' по 0,4'!H28 -> 0 | I22: =' по 6-10'!I22+' по 0,4'!I28 -> 0 | J22: =' по 6-10'!J22+' по 0,4'!J28 -> 5 | K22: =' по 6-10'!K22+' по 0,4'!K28 -> 42.5 | L22: 0 | M22: 0 | N22: 0 | O22: 0 | P22: 0 | Q22: 0
C23: ПС «Птицефабрика» | D23: =' по 6-10'!D23+' по 0,4'!D29 -> 55 | E23: =' по 6-10'!E23+' по 0,4'!E29 -> 398.225 | F23: =' по 6-10'!F23+' по 0,4'!F29 -> 55 | G23: =' по 6-10'!G23+' по 0,4'!G29 -> 398.225 | H23: =' по 6-10'!H23+' по 0,4'!H29 -> 0 | I23: =' по 6-10'!I23+' по 0,4'!I29 -> 0 | J23: =' по 6-10'!J23+' по 0,4'!J29 -> 77 | K23: =' по 6-10'!K23+' по 0,4'!K29 -> 648.6 | L23: 0 | M23: 0 | N23: 0 | O23: 0 | P23: 0 | Q23: 0
C24: итого: | D24: =D17+D18+D19+D20+D21+D22+D23 -> 101 | E24: =E17+E18+E19+E20+E21+E22+E23 -> 2227.725 | F24: =F17+F18+F19+F20+F21+F22+F23 -> 101 | G24: =G17+G18+G19+G20+G21+G22+G23 -> 2061.725 | H24: =H17+H18+H19+H20+H21+H22+H23 -> 0 | I24: =I17+I18+I19+I20+I21+I22+I23 -> 0 | J24: =J17+J18+J19+J20+J21+J22+J23 -> 113 | K24: =K17+K18+K19+K20+K21+K22+K23 -> 2122.65 | ... Q24: =Q17+Q18+Q19+Q20+Q21+Q22+Q23 -> 0
C25: Малкинская группа ПС
C26: ПС «Малка» | D26: =' по 6-10'!D26+' по 0,4'!D32 -> 12 | E26: =' по 6-10'!E26+' по 0,4'!E32 -> 763.8 | F26: =' по 6-10'!F26+' по 0,4'!F32 -> 12 | G26: =' по 6-10'!G26+' по 0,4'!G32 -> 764.3 | H26: =' по 6-10'!H26+' по 0,4'!H32 -> 0 | I26: =' по 6-10'!I26+' по 0,4'!I32 -> 0 | J26: =' по 6-10'!J26+' по 0,4'!J32 -> 14 | K26: =' по 6-10'!K26+' по 0,4'!K32 -> 1246.2 | L26: 0 | M26: 0 | N26: 0 | O26: 0 | P26: 0 | Q26: 0
C27: ПС «Каменномостская» | D27: =' по 6-10'!D27+' по 0,4'!D33 -> 0 | E27: =' по 6-10'!E27+' по 0,4'!E33 -> 0 | F27: =' по 6-10'!F27+' по 0,4'!F33 -> 0 | G27: =' по 6-10'!G27+' по 0,4'!G33 -> 0 | H27: =' по 6-10'!H27+' по 0,4'!H33 -> 0 | I27: =' по 6-10'!I27+' по 0,4'!I33 -> 0 | J27: =' по 6-10'!J27+' по 0,4'!J33 -> 3 | K27: =' по 6-10'!K27+' по 0,4'!K33 -> 434.5 | L27: 0 | M27: 0 | N27: 0 | O27: 0 | P27: 0 | Q27: 0
C28: ПС «Залукокоаже» | D28: =' по 6-10'!D28+' по 0,4'!D34 -> 7 | E28: =' по 6-10'!E28+' по 0,4'!E34 -> 473.6 | F28: =' по 6-10'!F28+' по 0,4'!F34 -> 5 | G28: =' по 6-10'!G28+' по 0,4'!G34 -> 478.8 | H28: =' по 6-10'!H28+' по 0,4'!H34 -> 0 | I28: =' по 6-10'!I28+' по 0,4'!I34 -> 0 | J28: =' по 6-10'!J28+' по 0,4'!J34 -> 18 | K28: =' по 6-10'!K28+' по 0,4'!K34 -> 809.78 | L28: 0 | M28: 0 | N28: 0 | O28: 0 | P28: 0 | Q28: 0
C29: ПС «Залукодес» | D29: =' по 6-10'!D29+' по 0,4'!D35 -> 4 | E29: =' по 6-10'!E29+' по 0,4'!E35 -> 43 | F29: =' по 6-10'!F29+' по 0,4'!F35 -> 4 | G29: =' по 6-10'!G29+' по 0,4'!G35 -> 43 | H29: =' по 6-10'!H29+' по 0,4'!H35 -> 0 | I29: =' по 6-10'!I29+' по 0,4'!I35 -> 0 | J29: =' по 6-10'!J29+' по 0,4'!J35 -> 3 | K29: =' по 6-10'!K29+' по 0,4'!K35 -> 20.9 | L29: 0 | M29: 0 | N29: 0 | O29: 0 | P29: 0 | Q29: 0
C30: ПС «Сармаково» | D30: =' по 6-10'!D30+' по 0,4'!D36 -> 2 | E30: =' по 6-10'!E30+' по 0,4'!E36 -> 69 | F30: =' по 6-10'!F30+' по 0,4'!F36 -> 1 | G30: =' по 6-10'!G30+' по 0,4'!G36 -> 65 | H30: =' по 6-10'!H30+' по 0,4'!H36 -> 0 | I30: =' по 6-10'!I30+' по 0,4'!I36 -> 0 | J30: =' по 6-10'!J30+' по 0,4'!J36 -> 5 | K30: =' по 6-10'!K30+' по 0,4'!K36 -> 91 | L30: 0 | M30: 0 | N30: 0 | O30: 0 | P30: 0 | Q30: 0
C31: ПС «Аурсентх» | D31: =' по 6-10'!D31+' по 0,4'!D37 -> 0 | E31: =' по 6-10'!E31+' по 0,4'!E37 -> 0 | F31: =' по 6-10'!F31+' по 0,4'!F37 -> 0 | G31: =' по 6-10'!G31+' по 0,4'!G37 -> 0 | H31: =' по 6-10'!H31+' по 0,4'!H37 -> 0 | I31: =' по 6-10'!I31+' по 0,4'!I37 -> 0 | J31: =' по 6-10'!J31+' по 0,4'!J37 -> 0 | K31: =' по 6-10'!K31+' по 0,4'!K37 -> 0 | L31: 0 | M31: 0 | N31: 0 | O31: 0 | P31: 0 | Q31: 0
C32: итого: | D32: =D26+D27+D28+D29+D30+D31 -> 25 | E32: =E26+E27+E28+E29+E30+E31 -> 1349.4 | F32: =F26+F27+F28+F29+F30+F31 -> 22 | G32: =G26+G27+G28+G29+G30+G31 -> 1351.1 | H32: =H26+H27+H28+H29+H30+H31 -> 0 | I32: =I26+I27+I28+I29+I30+I31 -> 0 | J32: =J26+J27+J28+J29+J30+J31 -> 43 | K32: =K26+K27+K28+K29+K30+K31 -> 2602.38 | ... Q32: =Q26+Q27+Q28+Q29+Q30+Q31 -> 0
C33: Эльбрусская группа ПС
C34: ПС «ЦРУ» | D34: =' по 6-10'!D34+' по 0,4'!D40 -> 5 | E34: =' по 6-10'!E34+' по 0,4'!E40 -> 14.8 | F34: =' по 6-10'!F34+' по 0,4'!F40 -> 4 | G34: =' по 6-10'!G34+' по 0,4'!G40 -> 9.3 | H34: =' по 6-10'!H34+' по 0,4'!H40 -> 0 | I34: =' по 6-10'!I34+' по 0,4'!I40 -> 0 | J34: =' по 6-10'!J34+' по 0,4'!J40 -> 8 | K34: =' по 6-10'!K34+' по 0,4'!K40 -> 1553.5 | L34: 0 | M34: 0 | N34: 0 | O34: 0 | P34: 0 | Q34: 0
C35: ПС «Адыл-Су» | D35: =' по 6-10'!D35+' по 0,4'!D41 -> 4 | E35: =' по 6-10'!E35+' по 0,4'!E41 -> 14 | F35: =' по 6-10'!F35+' по 0,4'!F41 -> 4 | G35: =' по 6-10'!G35+' по 0,4'!G41 -> 14 | H35: =' по 6-10'!H35+' по 0,4'!H41 -> 0 | I35: =' по 6-10'!I35+' по 0,4'!I41 -> 0 | J35: =' по 6-10'!J35+' по 0,4'!J41 -> 7 | K35: =' по 6-10'!K35+' по 0,4'!K41 -> 42 | L35: 0 | M35: 0 | N35: 0 | O35: 0 | P35: 0 | Q35: 0
C36: ПС «Нейтрино» | D36: =' по 6-10'!D36+' по 0,4'!D42 -> 2 | E36: =' по 6-10'!E36+' по 0,4'!E42 -> 75.52 | F36: =' по 6-10'!F36+' по 0,4'!F42 -> 3 | G36: =' по 6-10'!G36+' по 0,4'!G42 -> 80.52 | H36: =' по 6-10'!H36+' по 0,4'!H42 -> 0 | I36: =' по 6-10'!I36+' по 0,4'!I42 -> 0 | J36: =' по 6-10'!J36+' по 0,4'!J42 -> 0 | K36: =' по 6-10'!K36+' по 0,4'!K42 -> 0 | L36: 0 | M36: 0 | N36: 0 | O36: 0 | P36: 0 | Q36: 0
C37: ПС «Чегет» | D37: =' по 6-10'!D37+' по 0,4'!D43 -> 1 | E37: =' по 6-10'!E37+' по 0,4'!E43 -> 15 | F37: =' по 6-10'!F37+' по 0,4'!F43 -> 0 | G37: =' по 6-10'!G37+' по 0,4'!G43 -> 0 | H37: =' по 6-10'!H37+' по 0,4'!H43 -> 0 | I37: =' по 6-10'!I37+' по 0,4'!I43 -> 0 | J37: =' по 6-10'!J37+' по 0,4'!J43 -> 2 | K37: =' по 6-10'!K37+' по 0,4'!K43 -> 85 | L37: 0 | M37: 0 | N37: 0 | O37: 0 | P37: 0 | Q37: 0
C38: ПС «Терскол» | D38: =' по 6-10'!D38+' по 0,4'!D44 -> 4 | E38: =' по 6-10'!E38+' по 0,4'!E44 -> 108.81 | F38: =' по 6-10'!F38+' по 0,4'!F44 -> 3 | G38: =' по 6-10'!G38+' по 0,4'!G44 -> 78.81 | H38: =' по 6-10'!H38+' по 0,4'!H44 -> 0 | I38: =' по 6-10'!I38+' по 0,4'!I44 -> 0 | J38: =' по 6-10'!J38+' по 0,4'!J44 -> 5 | K38: =' по 6-10'!K38+' по 0,4'!K44 -> 47 | L38: 0 | M38: 0 | N38: 0 | O38: 0 | P38: 0 | Q38: 0
C39: ПС «Джайлык» | D39: =' по 6-10'!D39+' по 0,4'!D45 -> 1 | E39: =' по 6-10'!E39+' по 0,4'!E45 -> 63.12 | F39: =' по 6-10'!F39+' по 0,4'!F45 -> 1 | G39: =' по 6-10'!G39+' по 0,4'!G45 -> 63.12 | H39: =' по 6-10'!H39+' по 0,4'!H45 -> 0 | I39: =' по 6-10'!I39+' по 0,4'!I45 -> 0 | J39: =' по 6-10'!J39+' по 0,4'!J45 -> 0 | K39: =' по 6-10'!K39+' по 0,4'!K45 -> 0 | L39: 0 | M39: 0 | N39: 0 | O39: 0 | P39: 0 | Q39: 0
C40: ПС «Соц. городок» | D40: =' по 6-10'!D40+' по 0,4'!D46 -> 8 | E40: =' по 6-10'!E40+' по 0,4'!E46 -> 42.63 | F40: =' по 6-10'!F40+' по 0,4'!F46 -> 8 | G40: =' по 6-10'!G40+' по 0,4'!G46 -> 42 | H40: =' по 6-10'!H40+' по 0,4'!H46 -> 0 | I40: =' по 6-10'!I40+' по 0,4'!I46 -> 0 | J40: =' по 6-10'!J40+' по 0,4'!J46 -> 5 | K40: =' по 6-10'!K40+' по 0,4'!K46 -> 26.6 | L40: 0 | M40: 0 | N40: 0 | O40: 0 | P40: 0 | Q40: 0
C41: ПС «Чалмас» | D41: =' по 6-10'!D41+' по 0,4'!D47 -> 0 | E41: =' по 6-10'!E41+' по 0,4'!E47 -> 0 | F41: =' по 6-10'!F41+' по 0,4'!F47 -> 0 | G41: =' по 6-10'!G41+' по 0,4'!G47 -> 0 | H41: =' по 6-10'!H41+' по 0,4'!H47 -> 0 | I41: =' по 6-10'!I41+' по 0,4'!I47 -> 0 | J41: =' по 6-10'!J41+' по 0,4'!J47 -> 0 | K41: =' по 6-10'!K41+' по 0,4'!K47 -> 0 | L41: 0 | M41: 0 | N41: 0 | O41: 0 | P41: 0 | Q41: 0
C42: ПС «РМЗ» | D42: =' по 6-10'!D42+' по 0,4'!D48 -> 0 | E42: =' по 6-10'!E42+' по 0,4'!E48 -> 0 | F42: =' по 6-10'!F42+' по 0,4'!F48 -> 0 | G42: =' по 6-10'!G42+' по 0,4'!G48 -> 0 | H42: =' по 6-10'!H42+' по 0,4'!H48 -> 0 | I42: =' по 6-10'!I42+' по 0,4'!I48 -> 0 | J42: =' по 6-10'!J42+' по 0,4'!J48 -> 0 | K42: =' по 6-10'!K42+' по 0,4'!K48 -> 0 | L42: 0 | M42: 0 | N42: 0 | O42: 0 | P42: 0 | Q42: 0
C43: РП «Водогрейная» | D43: =' по 6-10'!D43+' по 0,4'!D49 -> 9 | E43: =' по 6-10'!E43+' по 0,4'!E49 -> 43.6 | F43: =' по 6-10'!F43+' по 0,4'!F49 -> 7 | G43: =' по 6-10'!G43+' по 0,4'!G49 -> 32.1 | H43: =' по 6-10'!H43+' по 0,4'!H49 -> 0 | I43: =' по 6-10'!I43+' по 0,4'!I49 -> 0 | J43: =' по 6-10'!J43+' по 0,4'!J49 -> 9 | K43: =' по 6-10'!K43+' по 0,4'!K49 -> 47.5 | L43: 0 | M43: 0 | N43: 0 | O43: 0 | P43: 0 | Q43: 0
C44: ПС «Былым» | D44: =' по 6-10'!D44+' по 0,4'!D50 -> 2 | E44: =' по 6-10'!E44+' по 0,4'!E50 -> 9.5 | F44: =' по 6-10'!F44+' по 0,4'!F50 -> 2 | G44: =' по 6-10'!G44+' по 0,4'!G50 -> 8.5 | H44: =' по 6-10'!H44+' по 0,4'!H50 -> 0 | I44: =' по 6-10'!I44+' по 0,4'!I50 -> 0 | J44: =' по 6-10'!J44+' по 0,4'!J50 -> 2 | K44: =' по 6-10'!K44+' по 0,4'!K50 -> 14 | L44: 0 | M44: 0 | N44: 0 | O44: 0 | P44: 0 | Q44: 0
C45: ПС "Гунделен" | D45: =' по 6-10'!D45+' по 0,4'!D51 -> 7 | E45: =' по 6-10'!E45+' по 0,4'!E51 -> 34.5 | F45: =' по 6-10'!F45+' по 0,4'!F51 -> 7 | G45: =' по 6-10'!G45+' по 0,4'!G51 -> 34.5 | H45: =' по 6-10'!H45+' по 0,4'!H51 -> 0 | I45: =' по 6-10'!I45+' по 0,4'!I51 -> 0 | J45: =' по 6-10'!J45+' по 0,4'!J51 -> 11 | K45: =' по 6-10'!K45+' по 0,4'!K51 -> 445.5 | L45: 0 | M45: 0 | N45: 0 | O45: 0 | P45: 0 | Q45: 0
C46: итого: | D46: =D34+D35+D36+D37+D38+D39+D40+D41+D42+D43+D44+D45 -> 43 | E46: =E34+E35+E36+E37+E38+E39+E40+E41+E42+E43+E44+E45 -> 421.48 | F46: =F34+F35+F36+F37+F38+F39+F40+F41+F42+F43+F44+F45 -> 39 | G46: =G34+G35+G36+G37+G38+G39+G40+G41+G42+G43+G44+G45 -> 362.85 | H46: =H34+H35+H36+H37+H38+H39+H40+H41+H42+H43+H44+H45 -> 0 | I46: =I34+I35+I36+I37+I38+I39+I40+I41+I42+I43+I44+I45 -> 0 | J46: =J34+J35+J36+J37+J38+J39+J40+J41+J42+J43+J44+J45 -> 49 | K46: =K34+K35+K36+K37+K38+K39+K40+K41+K42+K43+K44+K45 -> 2261.1 | ... Q46: =Q34+Q35+Q36+Q37+Q38+Q39+Q40+Q41+Q42+Q43+Q44+Q45 -> 0
...

Sheet  по 6-10
M1: Приложение № 28
M2: к Положению о технологическом присоединении
M3: энергетических установок к электрическим сетям
M4: ОАО «МРСК Северного Кавказа», управляемых
M5: Обществ
B8: Информация о технологическом присоединении энергопринимающих устройств
A13: Наименование организации, осуществляющей технологическое присоединение | B13: Наименование субъекта РФ | C13: Наименование центра питания (ПС 35 кВ и выше) | D13: Количество поданных заявок на технологическое присоединение, на общую мощность энергопринимающих устройств, кВт | F13: Заключено договоров на технологическое присоединение, включающие технические условия на общую мощность энергопринимающих устройств, кВт | H13: Расторгнуто договоров на технологическое присоединение, включающие технические условия на общую мощность энергопринимающих устройств, кВт | J13: Суммарная мощность энегргопринимающих устройств, присоединенных к электрическим сетям в соответствии с договором на технологическое присоединение за отчетный период, кВт | L13: Заключено договоров на технологическое присоединение, включающие технические условия на общую мощность генерирущих установок, МВт | N13: Расторгнуто договоров на технологическое присоединение, включающие технические условия на общую мощность генерирущих установок, МВт | P13: Суммарная мощность генерирущих установок, присоединенных к электрическим сетям в соответствии с договором на технологическое присоединение за отчетный период, МВт
A14: 1 | B14: 2 | C14: 3 | D14: 4 | F14: 5 | H14: 6 | J14: 7 | L14: 8 | N14: 9 | P14: 10
D15: шт | E15: кВт | F15: шт | G15: кВт | H15: шт | I15: кВт | J15: шт | K15: кВт | L15: шт | M15: МВт | N15: шт | O15: МВт | P15: шт | Q15: МВт
A16: Кабардино- Балкарсикй филиал ОАО "МРСК Северного Кавказа" | B16: Кабардино- Балкарская Республика | C16: Нальчикская группа ПС
C17: ПС «Нальчик» | D17: 5 | E17: 1630 | F17: 4 | G17: 650 | J17: 1 | K17: 100
C18: ПС «Телемеханика-1» | J18: 1 | K18: 730
C19: ПС «Искож» | J19: 1 | K19: 450
C20: ПС «СКЭП-Н»
C21: ПС «Долинск» | F21: 1 | G21: 814
C22: ПС «Дубки»
C23: ПС «Птицефабрика» | D23: 2 | E23: 145 | F23: 2 | G23: 145 | J23: 3 | K23: 305
C24: итого: | D24: =D17+D18+D19+D20+D21+D22+D23 -> 7 | E24: =E17+E18+E19+E20+E21+E22+E23 -> 1775 | F24: =F17+F18+F19+F20+F21+F22+F23 -> 7 | G24: =G17+G18+G19+G20+G21+G22+G23 -> 1609 | H24: =H17+H18+H19+H20+H21+H22+H23 -> 0 | I24: =I17+I18+I19+I20+I21+I22+I23 -> 0 | J24: =J17+J18+J19+J20+J21+J22+J23 -> 6 | K24: =K17+K18+K19+K20+K21+K22+K23 -> 1585 | ... Q24: =Q17+Q18+Q19+Q20+Q21+Q22+Q23 -> 0
C25: Малкинская группа ПС
C26: ПС «Малка» | D26: 3 | E26: 699.8 | F26: 3 | G26: 699.8 | J26: 5 | K26: 1184.6
C27: ПС «Каменномостская» | D27: 0 | E27: 0 | F27: 0 | G27: 0 | J27: 3 | K27: 434.5
C28: ПС «Залукокоаже» | D28: 3 | E28: 459 | F28: 3 | G28: 459 | J28: 6 | K28: 758
C29: ПС «Залукодес» | D29: 1 | E29: 7 | F29: 1 | G29: 7
C30: ПС «Сармаково» | D30: 1 | E30: 65 | F30: 1 | G30: 65 | J30: 2 | K30: 71
C31: ПС «Аурсентх» | D31: 0 | E31: 0 | F31: 0 | G31: 0
C32: итого: | D32: =D26+D27+D28+D29+D30+D31 -> 8 | E32: =E26+E27+E28+E29+E30+E31 -> 1230.8 | F32: =F26+F27+F28+F29+F30+F31 -> 8 | G32: =G26+G27+G28+G29+G30+G31 -> 1230.8 | H32: =H26+H27+H28+H29+H30+H31 -> 0 | I32: =I26+I27+I28+I29+I30+I31 -> 0 | J32: =J26+J27+J28+J29+J30+J31 -> 16 | K32: =K26+K27+K28+K29+K30+K31 -> 2448.1 | ... Q32: =Q26+Q27+Q28+Q29+Q30+Q31 -> 0
C33: Эльбрусская группа ПС
C34: ПС «ЦРУ» | J34: 2 | K34: 1536
C35: ПС «Адыл-Су»
C36: ПС «Нейтрино» | D36: 1 | E36: 63.52 | F36: 1 | G36: 63.52
C37: ПС «Чегет» | J37: 1 | K37: 75
C38: ПС «Терскол» | D38: 1 | E38: 59.31 | F38: 1 | G38: 59.31
C39: ПС «Джайлык» | D39: 1 | E39: 63.12 | F39: 1 | G39: 63.12
C40: ПС «Соц. городок» | D40: 1 | E40: 7 | F40: 1 | G40: 7
C41: ПС «Чалмас»
C42: ПС «РМЗ»
C43: РП «Водогрейная»
C44: ПС «Былым»
C45: ПС "Гунделен" | J45: 3 | K45: 410
C46: итого: | D46: =D34+D35+D36+D37+D38+D39+D40+D41+D42+D43+D44+D45 -> 4 | E46: =E34+E35+E36+E37+E38+E39+E40+E41+E42+E43+E44+E45 -> 192.95 | F46: =F34+F35+F36+F37+F38+F39+F40+F41+F42+F43+F44+F45 -> 4 | G46: =G34+G35+G36+G37+G38+G39+G40+G41+G42+G43+G44+G45 -> 192.95 | H46: =H34+H35+H36+H37+H38+H39+H40+H41+H42+H43+H44+H45 -> 0 | I46: =I34+I35+I36+I37+I38+I39+I40+I41+I42+I43+I44+I45 -> 0 | J46: =J34+J35+J36+J37+J38+J39+J40+J41+J42+J43+J44+J45 -> 6 | K46: =K34+K35+K36+K37+K38+K39+K40+K41+K42+K43+K44+K45 -> 2021 | ... Q46: =Q34+Q35+Q36+Q37+Q38+Q39+Q40+Q41+Q42+Q43+Q44+Q45 -> 0
...

Sheet  по 0,4
M1: Приложение № 28
M2: к Положению о технологическом присоединении
M3: энергетических установок к электрическим сетям
M4: ОАО «МРСК Северного Кавказа», управляемых
M5: Обществ
B14: Информация о технологическом присоединении энергопринимающих устройств
A19: Наименование организации, осуществляющей технологическое присоединение | B19: Наименование субъекта РФ | C19: Наименование центра питания (ПС 35 кВ и выше) | D19: Количество поданных заявок на технологическое присоединение, на общую мощность энергопринимающих устройств, кВт | F19: Заключено договоров на технологическое присоединение, включающие технические условия на общую мощность энергопринимающих устройств, кВт | H19: Расторгнуто договоров на технологическое присоединение, включающие технические условия на общую мощность энергопринимающих устройств, кВт | J19: Суммарная мощность энегргопринимающих устройств, присоединенных к электрическим сетям в соответствии с договором на технологическое присоединение за отчетный период, кВт | L19: Заключено договоров на технологическое присоединение, включающие технические условия на общую мощность генерирущих установок, МВт | N19: Расторгнуто договоров на технологическое присоединение, включающие технические условия на общую мощность генерирущих установок, МВт | P19: Суммарная мощность генерирущих установок, присоединенных к электрическим сетям в соответствии с договором на технологическое присоединение за отчетный период, МВт
A20: 1 | B20: 2 | C20: 3 | D20: 4 | F20: 5 | H20: 6 | J20: 7 | L20: 8 | N20: 9 | P20: 10
D21: шт | E21: кВт | F21: шт | G21: кВт | H21: шт | I21: кВт | J21: шт | K21: кВт | L21: шт | M21: МВт | N21: шт | O21: МВт | P21: шт | Q21: МВт
A22: Кабардино- Балкарсикй филиал ОАО "МРСК Северного Кавказа" | B22: Кабардино- Балкарская Республика | C22: Нальчикская группа ПС
C23: ПС «Нальчик» | D23: 38 | E23: 189.5 | F23: 38 | G23: 189.5 | J23: 28 | K23: 151.55
C24: ПС «Телемеханика-1»
C25: ПС «Искож»
C26: ПС «СКЭП-Н»
C27: ПС «Долинск»
C28: ПС «Дубки» | D28: 3 | E28: 10 | F28: 3 | G28: 10 | J28: 5 | K28: 42.5
C29: ПС «Птицефабрика» | D29: 53 | E29: 253.225 | F29: 53 | G29: 253.225 | J29: 74 | K29: 343.6
C30: итого: | D30: =D23+D24+D25+D26+D27+D28+D29 -> 94 | E30: =E23+E24+E25+E26+E27+E28+E29 -> 452.725 | F30: =F23+F24+F25+F26+F27+F28+F29 -> 94 | G30: =G23+G24+G25+G26+G27+G28+G29 -> 452.725 | H30: =H23+H24+H25+H26+H27+H28+H29 -> 0 | I30: =I23+I24+I25+I26+I27+I28+I29 -> 0 | J30: =J23+J24+J25+J26+J27+J28+J29 -> 107 | K30: =K23+K24+K25+K26+K27+K28+K29 -> 537.65 | ... Q30: =Q23+Q24+Q25+Q26+Q27+Q28+Q29 -> 0
C31: Малкинская группа ПС
C32: ПС «Малка» | D32: 9 | E32: 64 | F32: 9 | G32: 64.5 | J32: 9 | K32: 61.6
C33: ПС «Каменномостская»
C34: ПС «Залукокоаже» | D34: 4 | E34: 14.6 | F34: 2 | G34: 19.8 | J34: 12 | K34: 51.78
C35: ПС «Залукодес» | D35: 3 | E35: 36 | F35: 3 | G35: 36 | J35: 3 | K35: 20.9
C36: ПС «Сармаково» | D36: 1 | E36: 4 | J36: 3 | K36: 20
C37: ПС «Аурсентх»
C38: итого: | D38: =SUM(D32:D37) -> 17 | E38: =SUM(E32:E37) -> 118.6 | F38: =SUM(F32:F37) -> 14 | G38: =SUM(G32:G37) -> 120.3 | H38: =H32+H33+H34+H35+H36+H37 -> 0 | I38: =I32+I33+I34+I35+I36+I37 -> 0 | J38: =J32+J33+J34+J35+J36+J37 -> 27 | K38: =K32+K33+K34+K35+K36+K37 -> 154.28 | L38: =L32+L33+L34+L35+L36+L37 -> 0 | M38: =M32+M33+M34+M35+M36+M37 -> 0 | N38: =N32+N33+N34+N35+N36+N37 -> 0 | O38: =O32+O33+O34+O35+O36+O37 -> 0 | ... Q38: =Q32+Q33+Q34+Q35+Q36+Q37 -> 0
C39: Эльбрусская группа ПС
C40: ПС «ЦРУ» | D40: 5 | E40: 14.8 | F40: 4 | G40: 9.3 | J40: 6 | K40: 17.5
C41: ПС «Адыл-Су» | D41: 4 | E41: 14 | F41: 4 | G41: 14 | J41: 7 | K41: 42
C42: ПС «Нейтрино» | D42: 1 | E42: 12 | F42: 2 | G42: 17 | J42: 0 | K42: 0
C43: ПС «Чегет» | D43: 1 | E43: 15 | F43: 0 | G43: 0 | J43: 1 | K43: 10
C44: ПС «Терскол» | D44: 3 | E44: 49.5 | F44: 2 | G44: 19.5 | J44: 5 | K44: 47
C45: ПС «Джайлык» | D45: 0 | E45: 0 | F45: 0 | G45: 0 | J45: 0 | K45: 0
C46: ПС «Соц. городок» | D46: 7 | E46: 35.63 | F46: 7 | G46: 35 | J46: 5 | K46: 26.6
C47: ПС «Чалмас» | D47: 0 | E47: 0 | F47: 0 | G47: 0 | J47: 0 | K47: 0
C48: ПС «РМЗ» | D48: 0 | E48: 0 | F48: 0 | G48: 0 | J48: 0 | K48: 0
C49: РП «Водогрейная» | D49: 9 | E49: 43.6 | F49: 7 | G49: 32.1 | J49: 9 | K49: 47.5
C50: ПС «Былым» | D50: 2 | E50: 9.5 | F50: 2 | G50: 8.5 | J50: 2 | K50: 14
C51: ПС "Гунделен" | D51: 7 | E51: 34.5 | F51: 7 | G51: 34.5 | J51: 8 | K51: 35.5
C52: итого: | D52: =D40+D41+D42+D43+D44+D45+D46+D47+D48+D49+D50+D51 -> 39 | E52: =E40+E41+E42+E43+E44+E45+E46+E47+E48+E49+E50+E51 -> 228.53 | F52: =F40+F41+F42+F43+F44+F45+F46+F47+F48+F49+F50+F51 -> 35 | G52: =G40+G41+G42+G43+G44+G45+G46+G47+G48+G49+G50+G51 -> 169.9 | H52: =H40+H41+H42+H43+H44+H45+H46+H47+H48+H49+H50+H51 -> 0 | I52: =I40+I41+I42+I43+I44+I45+I46+I47+I48+I49+I50+I51 -> 0 | J52: =J40+J41+J42+J43+J44+J45+J46+J47+J48+J49+J50+J51 -> 43 | K52: =K40+K41+K42+K43+K44+K45+K46+K47+K48+K49+K50+K51 -> 240.1 | ... Q52: =Q40+Q41+Q42+Q43+Q44+Q45+Q46+Q47+Q48+Q49+Q50+Q51 -> 0
...
