Workbook

Sheet СВОД Август
M1: Приложение № 28
M2: к Положению о технологическом присоединении
M3: энергетических установок к электрическим сетям
M4: ОАО «МРСК Северного Кавказа», управляемых
M5: Обществ
D11: Информация о технологическом присоединении энергопринимающих устройств к сетям КБ филиалом ОАО "МРСК Северного Кавказа" по август 2014г.
A13: Наименование организации, осуществляющей технологическое присоединение | B13: Наименование субъекта РФ | C13: Наименование центра питания (ПС 35 кВ и выше) | D13: Количество поданных заявок на технологическое присоединение, на общую мощность энергопринимающих устройств, кВт | F13: Заключено договоров на технологическое присоединение, включающие технические условия на общую мощность энергопринимающих устройств, кВт | H13: Расторгнуто договоров на технологическое присоединение, включающие технические условия на общую мощность энергопринимающих устройств, кВт | J13: Суммарная мощность энегргопринимающих устройств, присоединенных к электрическим сетям в соответствии с договором на технологическое присоединение за отчетный период, кВт | L13: Заключено договоров на технологическое присоединение, включающие технические условия на общую мощность генерирущих установок, МВт | N13: Расторгнуто договоров на технологическое присоединение, включающие технические условия на общую мощность генерирущих установок, МВт | P13: Суммарная мощность генерирущих установок, присоединенных к электрическим сетям в соответствии с договором на технологическое присоединение за отчетный период, МВт
A14: 1 | B14: 2 | C14: 3 | D14: 4 | F14: 5 | H14: 6 | J14: 7 | L14: 8 | N14: 9 | P14: 10
D15: шт | E15: кВт | F15: шт | G15: кВт | H15: шт | I15: кВт | J15: шт | K15: кВт | L15: шт | M15: МВт | N15: шт | O15: МВт | P15: шт | Q15: МВт
A16: Кабардино- Балкарсикй филиал ОАО "МРСК Северного Кавказа" | B16: Кабардино- Балкарская Республика | C16: Нальчикская группа ПС
C17: ПС «Нальчик» | D17: =' по 6-10'!D17+' по 0,4'!D23 -> 43 | E17: =' по 6-10'!E17+' по 0,4'!E23 -> 1819.5 | F17: =' по 6-10'!F17+' по 0,4'!F23 -> 42 | G17: =' по 6-10'!G17+' по 0,4'!G23 -> 839.5 | H17: =' по 6-10'!H17+' по 0,4'!H23 -> 0 | I17: =' по 6-10'!I17+' по 0,4'!I23 -> 0 | J17: =' по 6-10'!J17+' по 0,4'!J23 -> 29 | K17: =' по 6-10'!K17+' по 0,4'!K23 -> 251.55 | L17: 0 | M17: 0 | N17: 0 | O17: 0 | P17: 0 | Q17: 0
C18: ПС «Телемеханика-1» | D18: =' по 6-10'!D18+' по 0,4'!D24 -> 0 | E18: =' по 6-10'!E18+' по 0,4'!E24 -> 0 | F18: =' по 6-10'!F18+' по 0,4'!F24 -> 0 | G18: =' по 6-10'!G18+' по 0,4'!G24 -> 0 | H18: =' по 6-10'!H18+' по 0,4'!H24 -> 0 | I18: =' по 6-10'!I18+' по 0,4'!I24 -> 0 | J18: =' по 6-10'!J18+' по 0,4'!J24 -> 1 | K18: =' по 6-10'!K18+' по 0,4'!K24 -> 730 | L18: 0 | M18: 0 | N18: 0 | O18: 0 | P18: 0 | Q18: 0
C19: ПС «Искож» | D19: =' по 6-10'!D19+' по 0,4'!D25 -> 0 | E19: =' по 6-10'!E19+' по 0,4'!E25 -> 0 | F19: =' по 6-10'!F19+' по 0,4'!F25 -> 0 | G19: =' по 6-10'!G19+' по 0,4'!G25 -> 0 | H19: =' по 6-10'!H19+' по 0,4'!H25 -> 0 | I19: =' по 6-10'!I19+' по 0,4'!I25 -> 0 | J19: =' по 6-10'!J19+' по 0,4'!J25 -> 1 | K19: =' по 6-10'!K19+' по 0,4'!K25 -> 450 | L19: 0 | M19: 0 | N19: 0 | O19: 0 | P19: 0 | Q19: 0
C20: ПС «СКЭП-Н» | D20: =' по 6-10'!D20+' по 0,4'!D26 -> 0 | E20: =' по 6-10'!E20+' по 0,4'!E26 -> 0 | F20: =' по 6-10'!F20+' по 0,4'!F26 -> 0 | G20: =' по 6-10'!G20+' по 0,4'!G26 -> 0 | H20: =' по 6-10'!H20+' по 0,4'!H26 -> 0 | I20: =' по 6-10'!I20+' по 0,4'!I26 -> 0 | J20: =' по 6-10'!J20+' по 0,4'!J26 -> 0 | K20: =' по 6-10'!K20+' по 0,4'!K26 -> 0 | L20: 0 | M20: 0 | N20: 0 | O20: 0 | P20: 0 | Q20: 0
C21: ПС «Долинск» | D21: =' по 6-10'!D21+' по 0,4'!D27 -> 0 | E21: =' по 6-10'!E21+' по 0,4'!E27 -> 0 | F21: =' по 6-10'!F21+' по 0,4'!F27 -> 1 | G21: =' по 6-10'!G21+' по 0,4'!G27 -> 814 | H21: =' по 6-10'!H21+' по 0,4'!H27 -> 0 | I21: =' по 6-10'!I21+' по 0,4'!I27 -> 0 | J21: =' по 6-10'!J21+' по 0,4'!J27 -> 0 | K21: =' по 6-10'!K21+' по 0,4'!K27 -> 0 | L21: 0 | M21: 0 | N21: 0 | O21: 0 | P21: 0 | Q21: 0
C22: ПС «Дубки» | D22: =' по 6-10'!D22+' по 0,4'!D28 -> 3 | E22: =' по 6-10'!E22+' по 0,4'!E28 -> 10 | F22: =' по 6-10'!F22+' по 0,4'!F28 -> 3 | G22: =' по 6-10'!G22+' по 0,4'!G28 -> 10 | H22: =' по 6-10'!H22+' по 0,4'!H28 -> 0 | I22: =' по 6-10'!I22+' по 0,4'!I28 -> 0 | J22: =' по 6-10'!J22+' по 0,4'!J28 -> 5 | K22: =' по 6-10'!K22+' по 0,4'!K28 -> 42.5 | L22: 0 | M22: 0 | N22: 0 | O22: 0 | P22: 0 | Q22: 0
C23: ПС «Птицефабрика» | D23: =' по 6-10'!D23+' по 0,4'!D29 -> 55 | E23: =' по 6-10'!E23+' по 0,4'!E29 -> 398.225 | F23: =' по 6-10'!F23+' по 0,4'!F29 -> 55 | G23: =' по 6-10'!G23+' по 0,4'!G29 -> 398.225 | H23: =' по 6-10'!H23+' по 0,4'!H29 -> 0 | I23: =' по 6-10'!I23+' по 0,4'!I29 -> 0 | J23: =' по 6-10'!J23+' по 0,4'!J29 -> 77 | K23: =' по 6-10'!K23+' по 0,4'!K29 -> 648.6 | L23: 0 | M23: 0 | N23: 0 | O23: 0 | P23: 0 | Q23: 0
C24: итого: | D24: =D17+D18+D19+D20+D21+D22+D23 -> 101 | E24: =E17+E18+E19+E20+E21+E22+E23 -> 2227.725 | F24: =F17+F18+F19+F20+F21+F22+F23 -> 101 | G24: =G17+G18+G19+G20+G21+G22+G23 -> 2061.725 | H24: =H17+H18+H19+H20+H21+H22+H23 -> 0 | I24: =I17+I18+I19+I20+I21+I22+I23 -> 0 | J24: =J17+J18+J19+J20+J21+J22+J23 -> 113 | K24: =K17+K18+K19+K20+K21+K22+K23 -> 2122.65 | ... Q24: =Q17+Q18+Q19+Q20+Q21+Q22+Q23 -> 0
C25: Малкинская группа ПС
C26: ПС «Малка» | D26: =' по 6-10'!D26+' по 0,4'!D32 -> 12 | E26: =' по 6-10'!E26+' по 0,4'!E32 -> 763.8 | F26: =' по 6-10'!F26+' по 0,4'!F32 -> 12 | G26: =' по 6-10'!G26+' по 0,4'!G32 -> 764.3 | H26: =' по 6-10'!H26+' по 0,4'!H32 -> 0 | I26: =' по 6-10'!I26+' по 0,4'!I32 -> 0 | J26: =' по 6-10'!J26+' по 0,4'!J32 -> 14 | K26: =' по 6-10'!K26+' по 0,4'!K32 -> 1246.2 | L26: 0 | M26: 0 | N26: 0 | O26: 0 | P26: 0 | Q26: 0
C27: ПС «Каменномостская» | D27: =' по 6-10'!D27+' по 0,4'!D33 -> 0 | E27: =' по 6-10'!E27+' по 0,4'!E33 -> 0 | F27: =' по 6-10'!F27+' по 0,4'!F33 -> 0 | G27: =' по 6-10'!G27+' по 0,4'!G33 -> 0 | H27: =' по 6-10'!H27+' по 0,4'!H33 -> 0 | I27: =' по 6-10'!I27+' по 0,4'!I33 -> 0 | J27: =' по 6-10'!J27+' по 0,4'!J33 -> 3 | K27: =' по 6-10'!K27+' по 0,4'!K33 -> 434.5 | L27: 0 | M27: 0 | N27: 0 | O27: 0 | P27: 0 | Q27: 0
C28: ПС «Залукокоаже» | D28: =' по 6-10'!D28+' по 0,4'!D34 -> 7 | E28: =' по 6-10'!E28+' по 0,4'!E34 -> 473.6 | F28: =' по 6-10'!F28+' по 0,4'!F34 -> 5 | G28: =' по 6-10'!G28+' по 0,4'!G34 -> 478.8 | H28: =' по 6-10'!H28+' по 0,4'!H34 -> 0 | I28: =' по 6-10'!I28+' по 0,4'!I34 -> 0 | J28: =' по 6-10'!J28+' по 0,4'!J34 -> 18 | K28: =' по 6-10'!K28+' по 0,4'!K34 -> 809.78 | L28: 0 | M28: 0 | N28: 0 | O28: 0 | P28: 0 | Q28: 0
C29: ПС «Залукодес» | D29: =' по 6-10'!D29+' по 0,4'!D35 -> 4 | E29: =' по 6-10'!E29+' по 0,4'!E35 -> 43 | F29: =' по 6-10'!F29+' по 0,4'!F35 -> 4 | G29: =' по 6-10'!G29+' по 0,4'!G35 -> 43 | H29: =' по 6-10'!H29+' по 0,4'!H35 -> 0 | I29: =' по 6-10'!I29+' по 0,4'!I35 -> 0 | J29: =' по 6-10'!J29+' по 0,4'!J35 -> 3 | K29: =' по 6-10'!K29+' по 0,4'!K35 -> 20.9 | L29: 0 | M29: 0 | N29: 0 | O29: 0 | P29: 0 | Q29: 0
C30: ПС «Сармаково» | D30: =' по 6-10'!D30+' по 0,4'!D36 -> 2 | E30: =' по 6-10'!E30+' по 0,4'!E36 -> 69 | F30: =' по 6-10'!F30+' по 0,4'!F36 -> 1 | G30: =' по 6-10'!G30+' по 0,4'!G36 -> 65 | H30: =' по 6-10'!H30+' по 0,4'!H36 -> 0 | I30: =' по 6-10'!I30+' по 0,4'!I36 -> 0 | J30: =' по 6-10'!J30+' по 0,4'!J36 -> 5 | K30: =' по 6-10'!K30+' по 0,4'!K36 -> 91 | L30: 0 | M30: 0 | N30: 0 | O30: 0 | P30: 0 | Q30: 0
C31: ПС «Аурсентх» | D31: =' по 6-10'!D31+' по 0,4'!D37 -> 0 | E31: =' по 6-10'!E31+' по 0,4'!E37 -> 0 | F31: =' по 6-10'!F31+' по 0,4'!F37 -> 0 | G31: =' по 6-10'!G31+' по 0,4'!G37 -> 0 | H31: =' по 6-10'!H31+' по 0,4'!H37 -> 0 | I31: =' по 6-10'!I31+' по 0,4'!I37 -> 0 | J31: =' по 6-10'!J31+' по 0,4'!J37 -> 0 | K31: =' по 6-10'!K31+' по 0,4'!K37 -> 0 | L31: 0 | M31: 0 | N31: 0 | O31: 0 | P31: 0 | Q31: 0
C32: итого: | D32: =D26+D27+D28+D29+D30+D31 -> 25 | E32: =E26+E27+E28+E29+E30+E31 -> 1349.4 | F32: =F26+F27+F28+F29+F30+F31 -> 22 | G32: =G26+G27+G28+G29+G30+G31 -> 1351.1 | H32: =H26+H27+H28+H29+H30+H31 -> 0 | I32: =I26+I27+I28+I29+I30+I31 -> 0 | J32: =J26+J27+J28+J29+J30+J31 -> 43 | K32: =K26+K27+K28+K29+K30+K31 -> 2602.38 | ... Q32: =Q26+Q27+Q28+Q29+Q30+Q31 -> 0
C33: Эльбрусская группа ПС
C34: ПС «ЦРУ» | D34: =' по 6-10'!D34+' по 0,4'!D40 -> 5 | E34: =' по 6-10'!E34+' по 0,4'!E40 -> 14.8 | F34: =' по 6-10'!F34+' по 0,4'!F40 -> 4 | G34: =' по 6-10'!G34+' по 0,4'!G40 -> 9.3 | H34: =' по 6-10'!H34+' по 0,4'!H40 -> 0 | I34: =' по 6-10'!I34+' по 0,4'!I40 -> 0 | J34: =' по 6-10'!J34+' по 0,4'!J40 -> 8 | K34: =' по 6-10'!K34+' по 0,4'!K40 -> 1553.5 | L34: 0 | M34: 0 | N34: 0 | O34: 0 | P34: 0 | Q34: 0
C35: ПС «Адыл-Су» | D35: =' по 6-10'!D35+' по 0,4'!D41 -> 4 | E35: =' по 6-10'!E35+' по 0,4'!E41 -> 14 | F35: =' по 6-10'!F35+' по 0,4'!F41 -> 4 | G35: =' по 6-10'!G35+' по 0,4'!G41 -> 14 | H35: =' по 6-10'!H35+' по 0,4'!H41 -> 0 | I35: =' по 6-10'!I35+' по 0,4'!I41 -> 0 | J35: =' по 6-10'!J35+' по 0,4'!J41 -> 7 | K35: =' по 6-10'!K35+' по 0,4'!K41 -> 42 | L35: 0 | M35: 0 | N35: 0 | O35: 0 | P35: 0 | Q35: 0
C36: ПС «Нейтрино» | D36: =' по 6-10'!D36+' по 0,4'!D42 -> 2 | E36: =' по 6-10'!E36+' по 0,4'!E42 -> 75.52 | F36: =' по 6-10'!F36+' по 0,4'!F42 -> 3 | G36: =' по 6-10'!G36+' по 0,4'!G42 -> 80.52 | H36: =' по 6-10'!H36+' по 0,4'!H42 -> 0 | I36: =' по 6-10'!I36+' по 0,4'!I42 -> 0 | J36: =' по 6-10'!J36+' по 0,4'!J42 -> 0 | K36: =' по 6-10'!K36+' по 0,4'!K42 -> 0 | L36: 0 | M36: 0 | N36: 0 | O36: 0 | P36: 0 | Q36: 0
C37: ПС «Чегет» | D37: =' по 6-10'!D37+' по 0,4'!D43 -> 1 | E37: =' по 6-10'!E37+' по 0,4'!E43 -> 15 | F37: =' по 6-10'!F37+' по 0,4'!F43 -> 0 | G37: =' по 6-10'!G37+' по 0,4'!G43 -> 0 | H37: =' по 6-10'!H37+' по 0,4'!H43 -> 0 | I37: =' по 6-10'!I37+' по 0,4'!I43 -> 0 | J37: =' по 6-10'!J37+' по 0,4'!J43 -> 2 | K37: =' по 6-10'!K37+' по 0,4'!K43 -> 85 | L37: 0 | M37: 0 | N37: 0 | O37: 0 | P37: 0 | Q37: 0
C38: ПС «Терскол» | D38: =' по 6-10'!D38+' по 0,4'!D44 -> 4 | E38: =' по 6-10'!E38+' по 0,4'!E44 -> 108.81 | F38: =' по 6-10'!F38+' по 0,4'!F44 -> 3 | G38: =' по 6-10'!G38+' по 0,4'!G44 -> 78.81 | H38: =' по 6-10'!H38+' по 0,4'!H44 -> 0 | I38: =' по 6-10'!I38+' по 0,4'!I44 -> 0 | J38: =' по 6-10'!J38+' по 0,4'!J44 -> 5 | K38: =' по 6-10'!K38+' по 0,4'!K44 -> 47 | L38: 0 | M38: 0 | N38: 0 | O38: 0 | P38: 0 | Q38: 0
C39: ПС «Джайлык» | D39: =' по 6-10'!D39+' по 0,4'!D45 -> 1 | E39: =' по 6-10'!E39+' по 0,4'!E45 -> 63.12 | F39: =' по 6-10'!F39+' по 0,4'!F45 -> 1 | G39: =' по 6-10'!G39+' по 0,4'!G45 -> 63.12 | H39: =' по 6-10'!H39+' по 0,4'!H45 -> 0 | I39: =' по 6-10'!I39+' по 0,4'!I45 -> 0 | J39: =' по 6-10'!J39+' по 0,4'!J45 -> 0 | K39: =' по 6-10'!K39+' по 0,4'!K45 -> 0 | L39: 0 | M39: 0 | N39: 0 | O39: 0 | P39: 0 | Q39: 0
C40: ПС «Соц. городок» | D40: =' по 6-10'!D40+' по 0,4'!D46 -> 8 | E40: =' по 6-10'!E40+' по 0,4'!E46 -> 42.63 | F40: =' по 6-10'!F40+' по 0,4'!F46 -> 8 | G40: =' по 6-10'!G40+' по 0,4'!G46 -> 42 | H40: =' по 6-10'!H40+' по 0,4'!H46 -> 0 | I40: =' по 6-10'!I40+' по 0,4'!I46 -> 0 | J40: =' по 6-10'!J40+' по 0,4'!J46 -> 5 | K40: =' по 6-10'!K40+' по 0,4'!K46 -> 26.6 | L40: 0 | M40: 0 | N40: 0 | O40: 0 | P40: 0 | Q40: 0
C41: ПС «Чалмас» | D41: =' по 6-10'!D41+' по 0,4'!D47 -> 0 | E41: =' по 6-10'!E41+' по 0,4'!E47 -> 0 | F41: =' по 6-10'!F41+' по 0,4'!F47 -> 0 | G41: =' по 6-10'!G41+' по 0,4'!G47 -> 0 | H41: =' по 6-10'!H41+' по 0,4'!H47 -> 0 | I41: =' по 6-10'!I41+' по 0,4'!I47 -> 0 | J41: =' по 6-10'!J41+' по 0,4'!J47 -> 0 | K41: =' по 6-10'!K41+' по 0,4'!K47 -> 0 | L41: 0 | M41: 0 | N41: 0 | O41: 0 | P41: 0 | Q41: 0
C42: ПС «РМЗ» | D42: =' по 6-10'!D42+' по 0,4'!D48 -> 0 | E42: =' по 6-10'!E42+' по 0,4'!E48 -> 0 | F42: =' по 6-10'!F42+' по 0,4'!F48 -> 0 | G42: =' по 6-10'!G42+' по 0,4'!G48 -> 0 | H42: =' по 6-10'!H42+' по 0,4'!H48 -> 0 | I42: =' по 6-10'!I42+' по 0,4'!I48 -> 0 | J42: =' по 6-10'!J42+' по 0,4'!J48 -> 0 | K42: =' по 6-10'!K42+' по 0,4'!K48 -> 0 | L42: 0 | M42: 0 | N42: 0 | O42: 0 | P42: 0 | Q42: 0
C43: РП «Водогрейная» | D43: =' по 6-10'!D43+' по 0,4'!D49 -> 9 | E43: =' по 6-10'!E43+' по 0,4'!E49 -> 43.6 | F43: =' по 6-10'!F43+' по 0,4'!F49 -> 7 | G43: =' по 6-10'!G43+' по 0,4'!G49 -> 32.1 | H43: =' по 6-10'!H43+' по 0,4'!H49 -> 0 | I43: =' по 6-10'!I43+' по 0,4'!I49 -> 0 | J43: =' по 6-10'!J43+' по 0,4'!J49 -> 9 | K43: =' по 6-10'!K43+' по 0,4'!K49 -> 47.5 | L43: 0 | M43: 0 | N43: 0 | O43: 0 | P43: 0 | Q43: 0
C44: ПС «Былым» | D44: =' по 6-10'!D44+' по 0,4'!D50 -> 2 | E44: =' по 6-10'!E44+' по 0,4'!E50 -> 9.5 | F44: =' по 6-10'!F44+' по 0,4'!F50 -> 2 | G44: =' по 6-10'!G44+' по 0,4'!G50 -> 8.5 | H44: =' по 6-10'!H44+' по 0,4'!H50 -> 0 | I44: =' по 6-10'!I44+' по 0,4'!I50 -> 0 | J44: =' по 6-10'!J44+' по 0,4'!J50 -> 2 | K44: =' по 6-10'!K44+' по 0,4'!K50 -> 14 | L44: 0 | M44: 0 | N44: 0 | O44: 0 | P44: 0 | Q44: 0
C45: ПС "Гунделен" | D45: =' по 6-10'!D45+' по 0,4'!D51 -> 7 | E45: =' по 6-10'!E45+' по 0,4'!E51 -> 34.5 | F45: =' по 6-10'!F45+' по 0,4'!F51 -> 7 | G45: =' по 6-10'!G45+' по 0,4'!G51 -> 34.5 | H45: =' по 6-10'!H45+' по 0,4'!H51 -> 0 | I45: =' по 6-10'!I45+' по 0,4'!I51 -> 0 | J45: =' по 6-10'!J45+' по 0,4'!J51 -> 11 | K45: =' по 6-10'!K45+' по 0,4'!K51 -> 445.5 | L45: 0 | M45: 0 | N45: 0 | O45: 0 | P45: 0 | Q45: 0
C46: итого: | D46: =D34+D35+D36+D37+D38+D39+D40+D41+D42+D43+D44+D45 -> 43 | E46: =E34+E35+E36+E37+E38+E39+E40+E41+E42+E43+E44+E45 -> 421.48 | F46: =F34+F35+F36+F37+F38+F39+F40+F41+F42+F43+F44+F45 -> 39 | G46: =G34+G35+G36+G37+G38+G39+G40+G41+G42+G43+G44+G45 -> 362.85 | H46: =H34+H35+H36+H37+H38+H39+H40+H41+H42+H43+H44+H45 -> 0 | I46: =I34+I35+I36+I37+I38+I39+I40+I41+I42+I43+I44+I45 -> 0 | J46: =J34+J35+J36+J37+J38+J39+J40+J41+J42+J43+J44+J45 -> 49 | K46: =K34+K35+K36+K37+K38+K39+K40+K41+K42+K43+K44+K45 -> 2261.1 | ... Q46: =Q34+Q35+Q36+Q37+Q38+Q39+Q40+Q41+Q42+Q43+Q44+Q45 -> 0
C47: Терская группа ПС
C48: ПС «Терек-II» | D48: =' по 6-10'!D48+' по 0,4'!D54 -> 18 | E48: =' по 6-10'!E48+' по 0,4'!E54 -> 420.5 | F48: =' по 6-10'!F48+' по 0,4'!F54 -> 18 | G48: =' по 6-10'!G48+' по 0,4'!G54 -> 396.4 | H48: =' по 6-10'!H48+' по 0,4'!H54 -> 1 | I48: =' по 6-10'!I48+' по 0,4'!I54 -> 300 | J48: =' по 6-10'!J48+' по 0,4'!J54 -> 30 | K48: =' по 6-10'!K48+' по 0,4'!K54 -> 270.5 | L48: 0 | M48: 0 | N48: 0 | O48: 0 | P48: 0 | Q48: 0
C49: ПС «В.Акбаш» | D49: =' по 6-10'!D49+' по 0,4'!D55 -> 1 | E49: =' по 6-10'!E49+' по 0,4'!E55 -> 4 | F49: =' по 6-10'!F49+' по 0,4'!F55 -> 1 | G49: =' по 6-10'!G49+' по 0,4'!G55 -> 4 | H49: =' по 6-10'!H49+' по 0,4'!H55 -> 0 | I49: =' по 6-10'!I49+' по 0,4'!I55 -> 0 | J49: =' по 6-10'!J49+' по 0,4'!J55 -> 1 | K49: =' по 6-10'!K49+' по 0,4'!K55 -> 4 | L49: 0 | M49: 0 | N49: 0 | O49: 0 | P49: 0 | Q49: 0
C50: ПС «ЗАИ» | D50: =' по 6-10'!D50+' по 0,4'!D56 -> 0 | E50: =' по 6-10'!E50+' по 0,4'!E56 -> 0 | F50: =' по 6-10'!F50+' по 0,4'!F56 -> 1 | G50: =' по 6-10'!G50+' по 0,4'!G56 -> 4 | H50: =' по 6-10'!H50+' по 0,4'!H56 -> 0 | I50: =' по 6-10'!I50+' по 0,4'!I56 -> 0 | J50: =' по 6-10'!J50+' по 0,4'!J56 -> 1 | K50: =' по 6-10'!K50+' по 0,4'!K56 -> 4 | L50: 0 | M50: 0 | N50: 0 | O50: 0 | P50: 0 | Q50: 0
C51: ПС «Пенькозавод» | D51: =' по 6-10'!D51+' по 0,4'!D57 -> 1 | E51: =' по 6-10'!E51+' по 0,4'!E57 -> 4 | F51: =' по 6-10'!F51+' по 0,4'!F57 -> 1 | G51: =' по 6-10'!G51+' по 0,4'!G57 -> 4 | H51: =' по 6-10'!H51+' по 0,4'!H57 -> 0 | I51: =' по 6-10'!I51+' по 0,4'!I57 -> 0 | J51: =' по 6-10'!J51+' по 0,4'!J57 -> 2 | K51: =' по 6-10'!K51+' по 0,4'!K57 -> 8 | L51: 0 | M51: 0 | N51: 0 | O51: 0 | P51: 0 | Q51: 0
C52: ПС «Терекская» | D52: =' по 6-10'!D52+' по 0,4'!D58 -> 5 | E52: =' по 6-10'!E52+' по 0,4'!E58 -> 25 | F52: =' по 6-10'!F52+' по 0,4'!F58 -> 3 | G52: =' по 6-10'!G52+' по 0,4'!G58 -> 17 | H52: =' по 6-10'!H52+' по 0,4'!H58 -> 0 | I52: =' по 6-10'!I52+' по 0,4'!I58 -> 0 | J52: =' по 6-10'!J52+' по 0,4'!J58 -> 7 | K52: =' по 6-10'!K52+' по 0,4'!K58 -> 39 | L52: 0 | M52: 0 | N52: 0 | O52: 0 | P52: 0 | Q52: 0
C53: ПС «Терек-1» | D53: =' по 6-10'!D53+' по 0,4'!D59 -> 8 | E53: =' по 6-10'!E53+' по 0,4'!E59 -> 114 | F53: =' по 6-10'!F53+' по 0,4'!F59 -> 6 | G53: =' по 6-10'!G53+' по 0,4'!G59 -> 103 | H53: =' по 6-10'!H53+' по 0,4'!H59 -> 0 | I53: =' по 6-10'!I53+' по 0,4'!I59 -> 0 | J53: =' по 6-10'!J53+' по 0,4'!J59 -> 19 | K53: =' по 6-10'!K53+' по 0,4'!K59 -> 273 | L53: 0 | M53: 0 | N53: 0 | O53: 0 | P53: 0 | Q53: 0
C54: ПС «В.Курп» | D54: =' по 6-10'!D54+' по 0,4'!D60 -> 2 | E54: =' по 6-10'!E54+' по 0,4'!E60 -> 8 | F54: =' по 6-10'!F54+' по 0,4'!F60 -> 2 | G54: =' по 6-10'!G54+' по 0,4'!G60 -> 8 | H54: =' по 6-10'!H54+' по 0,4'!H60 -> 1 | I54: =' по 6-10'!I54+' по 0,4'!I60 -> 6 | J54: =' по 6-10'!J54+' по 0,4'!J60 -> 5 | K54: =' по 6-10'!K54+' по 0,4'!K60 -> 24 | L54: 0 | M54: 0 | N54: 0 | O54: 0 | P54: 0 | Q54: 0
C55: ПС «Н.Курп» | D55: =' по 6-10'!D55+' по 0,4'!D61 -> 0 | E55: =' по 6-10'!E55+' по 0,4'!E61 -> 0 | F55: =' по 6-10'!F55+' по 0,4'!F61 -> 0 | G55: =' по 6-10'!G55+' по 0,4'!G61 -> 0 | H55: =' по 6-10'!H55+' по 0,4'!H61 -> 0 | I55: =' по 6-10'!I55+' по 0,4'!I61 -> 0 | J55: =' по 6-10'!J55+' по 0,4'!J61 -> 1 | K55: =' по 6-10'!K55+' по 0,4'!K61 -> 14 | L55: 0 | M55: 0 | N55: 0 | O55: 0 | P55: 0 | Q55: 0
C56: ПС «Акбаш-35» | D56: =' по 6-10'!D56+' по 0,4'!D62 -> 0 | E56: =' по 6-10'!E56+' по 0,4'!E62 -> 0 | F56: =' по 6-10'!F56+' по 0,4'!F62 -> 0 | G56: =' по 6-10'!G56+' по 0,4'!G62 -> 0 | H56: =' по 6-10'!H56+' по 0,4'!H62 -> 0 | I56: =' по 6-10'!I56+' по 0,4'!I62 -> 0 | J56: =' по 6-10'!J56+' по 0,4'!J62 -> 3 | K56: =' по 6-10'!K56+' по 0,4'!K62 -> 170.8 | L56: 0 | M56: 0 | N56: 0 | O56: 0 | P56: 0 | Q56: 0
C57: итого: | D57: =D48+D49+D50+D51+D52+D53+D54+D55+D56 -> 35 | E57: =E48+E49+E50+E51+E52+E53+E54+E55+E56 -> 575.5 | F57: =F48+F49+F50+F51+F52+F53+F54+F55+F56 -> 32 | G57: =G48+G49+G50+G51+G52+G53+G54+G55+G56 -> 536.4 | H57: =H48+H49+H50+H51+H52+H53+H54+H55+H56 -> 2 | I57: =I48+I49+I50+I51+I52+I53+I54+I55+I56 -> 306 | J57: =J48+J49+J50+J51+J52+J53+J54+J55+J56 -> 69 | K57: =K48+K49+K50+K51+K52+K53+K54+K55+K56 -> 807.3 | ... Q57: =Q48+Q49+Q50+Q51+Q52+Q53+Q54+Q55+Q56 -> 0
C58: Майская группа ПС
C59: ПС «Майская» | D59: =' по 6-10'!D59+' по 0,4'!D65 -> 36 | E59: =' по 6-10'!E59+' по 0,4'!E65 -> 12047.1 | F59: =' по 6-10'!F59+' по 0,4'!F65 -> 35 | G59: =' по 6-10'!G59+' по 0,4'!G65 -> 327.1 | H59: =' по 6-10'!H59+' по 0,4'!H65 -> 1 | I59: =' по 6-10'!I59+' по 0,4'!I65 -> 100 | J59: =' по 6-10'!J59+' по 0,4'!J65 -> 27 | K59: =' по 6-10'!K59+' по 0,4'!K65 -> 332.6 | L59: 0 | M59: 0 | N59: 0 | O59: 0 | P59: 0 | Q59: 0
C60: ПС «Александровская» | D60: =' по 6-10'!D60+' по 0,4'!D66 -> 1 | E60: =' по 6-10'!E60+' по 0,4'!E66 -> 1 | F60: =' по 6-10'!F60+' по 0,4'!F66 -> 1 | G60: =' по 6-10'!G60+' по 0,4'!G66 -> 1 | H60: =' по 6-10'!H60+' по 0,4'!H66 -> 0 | I60: =' по 6-10'!I60+' по 0,4'!I66 -> 0 | J60: =' по 6-10'!J60+' по 0,4'!J66 -> 1 | K60: =' по 6-10'!K60+' по 0,4'!K66 -> 5 | L60: 0 | M60: 0 | N60: 0 | O60: 0 | P60: 0 | Q60: 0
C61: ПС «Котляревская» | D61: =' по 6-10'!D61+' по 0,4'!D67 -> 3 | E61: =' по 6-10'!E61+' по 0,4'!E67 -> 34.5 | F61: =' по 6-10'!F61+' по 0,4'!F67 -> 3 | G61: =' по 6-10'!G61+' по 0,4'!G67 -> 34.5 | H61: =' по 6-10'!H61+' по 0,4'!H67 -> 0 | I61: =' по 6-10'!I61+' по 0,4'!I67 -> 0 | J61: =' по 6-10'!J61+' по 0,4'!J67 -> 2 | K61: =' по 6-10'!K61+' по 0,4'!K67 -> 515 | L61: 0 | M61: 0 | N61: 0 | O61: 0 | P61: 0 | Q61: 0
C62: ПС «Ново-Ивановская» | D62: =' по 6-10'!D62+' по 0,4'!D68 -> 3 | E62: =' по 6-10'!E62+' по 0,4'!E68 -> 19 | F62: =' по 6-10'!F62+' по 0,4'!F68 -> 3 | G62: =' по 6-10'!G62+' по 0,4'!G68 -> 19 | H62: =' по 6-10'!H62+' по 0,4'!H68 -> 0 | I62: =' по 6-10'!I62+' по 0,4'!I68 -> 0 | J62: =' по 6-10'!J62+' по 0,4'!J68 -> 1 | K62: =' по 6-10'!K62+' по 0,4'!K68 -> 10 | L62: 0 | M62: 0 | N62: 0 | O62: 0 | P62: 0 | Q62: 0
C63: ПС «Красная Нива» | D63: =' по 6-10'!D63+' по 0,4'!D69 -> 2 | E63: =' по 6-10'!E63+' по 0,4'!E69 -> 19.5 | F63: =' по 6-10'!F63+' по 0,4'!F69 -> 2 | G63: =' по 6-10'!G63+' по 0,4'!G69 -> 19.5 | H63: =' по 6-10'!H63+' по 0,4'!H69 -> 0 | I63: =' по 6-10'!I63+' по 0,4'!I69 -> 0 | J63: =' по 6-10'!J63+' по 0,4'!J69 -> 1 | K63: =' по 6-10'!K63+' по 0,4'!K69 -> 4.5 | L63: 0 | M63: 0 | N63: 0 | O63: 0 | P63: 0 | Q63: 0
C64: итого: | D64: =D59+D60+D61+D62+D63 -> 45 | E64: =E59+E60+E61+E62+E63 -> 12121.1 | F64: =F59+F60+F61+F62+F63 -> 44 | G64: =G59+G60+G61+G62+G63 -> 401.1 | H64: =H59+H60+H61+H62+H63 -> 1 | I64: =I59+I60+I61+I62+I63 -> 100 | J64: =J59+J60+J61+J62+J63 -> 32 | K64: =K59+K60+K61+K62+K63 -> 867.1 | ... Q64: =Q59+Q60+Q61+Q62+Q63 -> 0
C65: Чегемская группа ПС
C66: ПС «Чегем-II» | D66: =' по 6-10'!D66+' по 0,4'!D72 -> 42 | E66: =' по 6-10'!E66+' по 0,4'!E72 -> 641.1 | F66: =' по 6-10'!F66+' по 0,4'!F72 -> 42 | G66: =' по 6-10'!G66+' по 0,4'!G72 -> 641.1 | H66: =' по 6-10'!H66+' по 0,4'!H72 -> 0 | I66: =' по 6-10'!I66+' по 0,4'!I72 -> 0 | J66: =' по 6-10'!J66+' по 0,4'!J72 -> 50 | K66: =' по 6-10'!K66+' по 0,4'!K72 -> 986.21 | L66: 0 | M66: 0 | N66: 0 | O66: 0 | P66: 0 | Q66: 0
C67: ПС «Водозабор» | D67: =' по 6-10'!D67+' по 0,4'!D73 -> 1 | E67: =' по 6-10'!E67+' по 0,4'!E73 -> 15 | F67: =' по 6-10'!F67+' по 0,4'!F73 -> 1 | G67: =' по 6-10'!G67+' по 0,4'!G73 -> 15 | H67: =' по 6-10'!H67+' по 0,4'!H73 -> 0 | I67: =' по 6-10'!I67+' по 0,4'!I73 -> 0 | J67: =' по 6-10'!J67+' по 0,4'!J73 -> 2 | K67: =' по 6-10'!K67+' по 0,4'!K73 -> 25 | L67: 0 | M67: 0 | N67: 0 | O67: 0 | P67: 0 | Q67: 0
C68: ПС «Чегем-1» | D68: =' по 6-10'!D68+' по 0,4'!D74 -> 11 | E68: =' по 6-10'!E68+' по 0,4'!E74 -> 637.5 | F68: =' по 6-10'!F68+' по 0,4'!F74 -> 11 | G68: =' по 6-10'!G68+' по 0,4'!G74 -> 637.5 | H68: =' по 6-10'!H68+' по 0,4'!H74 -> 0 | I68: =' по 6-10'!I68+' по 0,4'!I74 -> 0 | J68: =' по 6-10'!J68+' по 0,4'!J74 -> 5 | K68: =' по 6-10'!K68+' по 0,4'!K74 -> 32 | L68: 0 | M68: 0 | N68: 0 | O68: 0 | P68: 0 | Q68: 0
C69: ПС «Лечинкай» | D69: =' по 6-10'!D69+' по 0,4'!D75 -> 21 | E69: =' по 6-10'!E69+' по 0,4'!E75 -> 88.3 | F69: =' по 6-10'!F69+' по 0,4'!F75 -> 21 | G69: =' по 6-10'!G69+' по 0,4'!G75 -> 88.3 | H69: =' по 6-10'!H69+' по 0,4'!H75 -> 0 | I69: =' по 6-10'!I69+' по 0,4'!I75 -> 0 | J69: =' по 6-10'!J69+' по 0,4'!J75 -> 21 | K69: =' по 6-10'!K69+' по 0,4'!K75 -> 121.46 | L69: 0 | M69: 0 | N69: 0 | O69: 0 | P69: 0 | Q69: 0
C70: ПС «Н.Чегем» | D70: =' по 6-10'!D70+' по 0,4'!D76 -> 6 | E70: =' по 6-10'!E70+' по 0,4'!E76 -> 32 | F70: =' по 6-10'!F70+' по 0,4'!F76 -> 6 | G70: =' по 6-10'!G70+' по 0,4'!G76 -> 32 | H70: =' по 6-10'!H70+' по 0,4'!H76 -> 0 | I70: =' по 6-10'!I70+' по 0,4'!I76 -> 0 | J70: =' по 6-10'!J70+' по 0,4'!J76 -> 4 | K70: =' по 6-10'!K70+' по 0,4'!K76 -> 13 | L70: 0 | M70: 0 | N70: 0 | O70: 0 | P70: 0 | Q70: 0
C71: ПС «Кара-Су» | D71: =' по 6-10'!D71+' по 0,4'!D77 -> 1 | E71: =' по 6-10'!E71+' по 0,4'!E77 -> 4 | F71: =' по 6-10'!F71+' по 0,4'!F77 -> 1 | G71: =' по 6-10'!G71+' по 0,4'!G77 -> 4 | H71: =' по 6-10'!H71+' по 0,4'!H77 -> 0 | I71: =' по 6-10'!I71+' по 0,4'!I77 -> 0 | J71: =' по 6-10'!J71+' по 0,4'!J77 -> 1 | K71: =' по 6-10'!K71+' по 0,4'!K77 -> 4 | L71: 0 | M71: 0 | N71: 0 | O71: 0 | P71: 0 | Q71: 0
C72: итого: | D72: =D66+D67+D68+D69+D70+D71 -> 82 | E72: =E66+E67+E68+E69+E70+E71 -> 1417.9 | F72: =F66+F67+F68+F69+F70+F71 -> 82 | G72: =G66+G67+G68+G69+G70+G71 -> 1417.9 | H72: =H66+H67+H68+H69+H70+H71 -> 0 | I72: =I66+I67+I68+I69+I70+I71 -> 0 | J72: =J66+J67+J68+J69+J70+J71 -> 83 | K72: =K66+K67+K68+K69+K70+K71 -> 1181.67 | ... Q72: =Q66+Q67+Q68+Q69+Q70+Q71 -> 0
C73: Баксанская группа ПС
C74: ПС «Баксан-110» | D74: =' по 6-10'!D74+' по 0,4'!D80 -> 34 | E74: =' по 6-10'!E74+' по 0,4'!E80 -> 694.75 | F74: =' по 6-10'!F74+' по 0,4'!F80 -> 35 | G74: =' по 6-10'!G74+' по 0,4'!G80 -> 1684.75 | H74: =' по 6-10'!H74+' по 0,4'!H80 -> 0 | I74: =' по 6-10'!I74+' по 0,4'!I80 -> 0 | J74: =' по 6-10'!J74+' по 0,4'!J80 -> 27 | K74: =' по 6-10'!K74+' по 0,4'!K80 -> 357 | L74: 0 | M74: 0 | N74: 0 | O74: 0 | P74: 0 | Q74: 0
C75: ПС «Кызбурун-110» | D75: =' по 6-10'!D75+' по 0,4'!D81 -> 35 | E75: =' по 6-10'!E75+' по 0,4'!E81 -> 3875.7 | F75: =' по 6-10'!F75+' по 0,4'!F81 -> 12 | G75: =' по 6-10'!G75+' по 0,4'!G81 -> 3871.7 | H75: =' по 6-10'!H75+' по 0,4'!H81 -> 0 | I75: =' по 6-10'!I75+' по 0,4'!I81 -> 0 | J75: =' по 6-10'!J75+' по 0,4'!J81 -> 19 | K75: =' по 6-10'!K75+' по 0,4'!K81 -> 793 | L75: 0 | M75: 0 | N75: 0 | O75: 0 | P75: 0 | Q75: 0
C76: ПС «Куркужин» | D76: =' по 6-10'!D76+' по 0,4'!D82 -> 7 | E76: =' по 6-10'!E76+' по 0,4'!E82 -> 241.5 | F76: =' по 6-10'!F76+' по 0,4'!F82 -> 7 | G76: =' по 6-10'!G76+' по 0,4'!G82 -> 241.5 | H76: =' по 6-10'!H76+' по 0,4'!H82 -> 0 | I76: =' по 6-10'!I76+' по 0,4'!I82 -> 0 | J76: =' по 6-10'!J76+' по 0,4'!J82 -> 25 | K76: =' по 6-10'!K76+' по 0,4'!K82 -> 27 | L76: 0 | M76: 0 | N76: 0 | O76: 0 | P76: 0 | Q76: 0
C77: ПС «Баксан-35» | D77: =' по 6-10'!D77+' по 0,4'!D83 -> 31 | E77: =' по 6-10'!E77+' по 0,4'!E83 -> 256.6 | F77: =' по 6-10'!F77+' по 0,4'!F83 -> 31 | G77: =' по 6-10'!G77+' по 0,4'!G83 -> 256.6 | H77: =' по 6-10'!H77+' по 0,4'!H83 -> 0 | I77: =' по 6-10'!I77+' по 0,4'!I83 -> 0 | J77: =' по 6-10'!J77+' по 0,4'!J83 -> 21 | K77: =' по 6-10'!K77+' по 0,4'!K83 -> 211.86 | L77: 0 | M77: 0 | N77: 0 | O77: 0 | P77: 0 | Q77: 0
C78: ПС «Кр.Константин.» | D78: =' по 6-10'!D78+' по 0,4'!D84 -> 6 | E78: =' по 6-10'!E78+' по 0,4'!E84 -> 822 | F78: =' по 6-10'!F78+' по 0,4'!F84 -> 6 | G78: =' по 6-10'!G78+' по 0,4'!G84 -> 822 | H78: =' по 6-10'!H78+' по 0,4'!H84 -> 0 | I78: =' по 6-10'!I78+' по 0,4'!I84 -> 0 | J78: =' по 6-10'!J78+' по 0,4'!J84 -> 6 | K78: =' по 6-10'!K78+' по 0,4'!K84 -> 822 | L78: 0 | M78: 0 | N78: 0 | O78: 0 | P78: 0 | Q78: 0
C79: ПС «Гунделен-110» | D79: =' по 6-10'!D79+' по 0,4'!D85 -> 6 | E79: =' по 6-10'!E79+' по 0,4'!E85 -> 64.8 | F79: =' по 6-10'!F79+' по 0,4'!F85 -> 6 | G79: =' по 6-10'!G79+' по 0,4'!G85 -> 64.8 | H79: =' по 6-10'!H79+' по 0,4'!H85 -> 0 | I79: =' по 6-10'!I79+' по 0,4'!I85 -> 0 | J79: =' по 6-10'!J79+' по 0,4'!J85 -> 2 | K79: =' по 6-10'!K79+' по 0,4'!K85 -> 48.8 | L79: 0 | M79: 0 | N79: 0 | O79: 0 | P79: 0 | Q79: 0
C80: ПС «Плотина» | D80: =' по 6-10'!D80+' по 0,4'!D86 -> 3 | E80: =' по 6-10'!E80+' по 0,4'!E86 -> 12 | F80: =' по 6-10'!F80+' по 0,4'!F86 -> 3 | G80: =' по 6-10'!G80+' по 0,4'!G86 -> 12 | H80: =' по 6-10'!H80+' по 0,4'!H86 -> 0 | I80: =' по 6-10'!I80+' по 0,4'!I86 -> 0 | J80: =' по 6-10'!J80+' по 0,4'!J86 -> 3 | K80: =' по 6-10'!K80+' по 0,4'!K86 -> 12 | L80: 0 | M80: 0 | N80: 0 | O80: 0 | P80: 0 | Q80: 0
C81: ПС «Баксаненок» | D81: =' по 6-10'!D81+' по 0,4'!D87 -> 13 | E81: =' по 6-10'!E81+' по 0,4'!E87 -> 63.5 | F81: =' по 6-10'!F81+' по 0,4'!F87 -> 13 | G81: =' по 6-10'!G81+' по 0,4'!G87 -> 63.5 | H81: =' по 6-10'!H81+' по 0,4'!H87 -> 0 | I81: =' по 6-10'!I81+' по 0,4'!I87 -> 0 | J81: =' по 6-10'!J81+' по 0,4'!J87 -> 12 | K81: =' по 6-10'!K81+' по 0,4'!K87 -> 59.5 | L81: 0 | M81: 0 | N81: 0 | O81: 0 | P81: 0 | Q81: 0
C82: ПС «Баксан-330» | D82: =' по 6-10'!D82+' по 0,4'!D88 -> 7 | E82: =' по 6-10'!E82+' по 0,4'!E88 -> 39.1 | F82: =' по 6-10'!F82+' по 0,4'!F88 -> 7 | G82: =' по 6-10'!G82+' по 0,4'!G88 -> 39.1 | H82: =' по 6-10'!H82+' по 0,4'!H88 -> 0 | I82: =' по 6-10'!I82+' по 0,4'!I88 -> 0 | J82: =' по 6-10'!J82+' по 0,4'!J88 -> 6 | K82: =' по 6-10'!K82+' по 0,4'!K88 -> 50.5 | L82: 0 | M82: 0 | N82: 0 | O82: 0 | P82: 0 | Q82: 0
C83: РП Заюково | D83: =' по 6-10'!D83+' по 0,4'!D89 -> 0 | E83: =' по 6-10'!E83+' по 0,4'!E89 -> 0 | F83: =' по 6-10'!F83+' по 0,4'!F89 -> 0 | G83: =' по 6-10'!G83+' по 0,4'!G89 -> 0 | H83: =' по 6-10'!H83+' по 0,4'!H89 -> 0 | I83: =' по 6-10'!I83+' по 0,4'!I89 -> 0 | J83: =' по 6-10'!J83+' по 0,4'!J89 -> 1 | K83: =' по 6-10'!K83+' по 0,4'!K89 -> 10 | L83: 0 | M83: 0 | N83: 0 | O83: 0 | P83: 0 | Q83: 0
C84: РП Куба | D84: =' по 6-10'!D84+' по 0,4'!D90 -> 10 | E84: =' по 6-10'!E84+' по 0,4'!E90 -> 142 | F84: =' по 6-10'!F84+' по 0,4'!F90 -> 10 | G84: =' по 6-10'!G84+' по 0,4'!G90 -> 142 | H84: =' по 6-10'!H84+' по 0,4'!H90 -> 0 | I84: =' по 6-10'!I84+' по 0,4'!I90 -> 0 | J84: =' по 6-10'!J84+' по 0,4'!J90 -> 9 | K84: =' по 6-10'!K84+' по 0,4'!K90 -> 134 | L84: 0 | M84: 0 | N84: 0 | O84: 0 | P84: 0 | Q84: 0
C85: итого: | D85: =D74+D75+D76+D77+D78+D79+D80+D81+D82+D83+D84 -> 152 | E85: =E74+E75+E76+E77+E78+E79+E80+E81+E82+E83+E84 -> 6211.95 | F85: =F74+F75+F76+F77+F78+F79+F80+F81+F82+F83+F84 -> 130 | G85: =G74+G75+G76+G77+G78+G79+G80+G81+G82+G83+G84 -> 7197.95 | H85: =H74+H75+H76+H77+H78+H79+H80+H81+H82+H83+H84 -> 0 | I85: =I74+I75+I76+I77+I78+I79+I80+I81+I82+I83+I84 -> 0 | J85: =J74+J75+J76+J77+J78+J79+J80+J81+J82+J83+J84 -> 131 | K85: =K74+K75+K76+K77+K78+K79+K80+K81+K82+K83+K84 -> 2525.66 | ... Q85: =Q74+Q75+Q76+Q77+Q78+Q79+Q80+Q81+Q82+Q83+Q84 -> 0
C86: Черекская группа ПС
C87: ПС «Кашхатау» | D87: =' по 6-10'!D87+' по 0,4'!D93 -> 11 | E87: =' по 6-10'!E87+' по 0,4'!E93 -> 484 | F87: =' по 6-10'!F87+' по 0,4'!F93 -> 11 | G87: =' по 6-10'!G87+' по 0,4'!G93 -> 484 | H87: =' по 6-10'!H87+' по 0,4'!H93 -> 0 | I87: =' по 6-10'!I87+' по 0,4'!I93 -> 0 | J87: =' по 6-10'!J87+' по 0,4'!J93 -> 11 | K87: =' по 6-10'!K87+' по 0,4'!K93 -> 952.2 | L87: 0 | M87: 0 | N87: 0 | O87: 0 | P87: 0 | Q87: 0
C88: ПС «Аушигер» | D88: =' по 6-10'!D88+' по 0,4'!D94 -> 13 | E88: =' по 6-10'!E88+' по 0,4'!E94 -> 213 | F88: =' по 6-10'!F88+' по 0,4'!F94 -> 13 | G88: =' по 6-10'!G88+' по 0,4'!G94 -> 213 | H88: =' по 6-10'!H88+' по 0,4'!H94 -> 0 | I88: =' по 6-10'!I88+' по 0,4'!I94 -> 0 | J88: =' по 6-10'!J88+' по 0,4'!J94 -> 12 | K88: =' по 6-10'!K88+' по 0,4'!K94 -> 81 | L88: 0 | M88: 0 | N88: 0 | O88: 0 | P88: 0 | Q88: 0
C89: ПС «Советская» | D89: =' по 6-10'!D89+' по 0,4'!D95 -> 9 | E89: =' по 6-10'!E89+' по 0,4'!E95 -> 34.33 | F89: =' по 6-10'!F89+' по 0,4'!F95 -> 9 | G89: =' по 6-10'!G89+' по 0,4'!G95 -> 34.33 | H89: =' по 6-10'!H89+' по 0,4'!H95 -> 0 | I89: =' по 6-10'!I89+' по 0,4'!I95 -> 0 | J89: =' по 6-10'!J89+' по 0,4'!J95 -> 6 | K89: =' по 6-10'!K89+' по 0,4'!K95 -> 22 | L89: 0 | M89: 0 | N89: 0 | O89: 0 | P89: 0 | Q89: 0
C90: ПС «Кара-Су» | D90: =' по 6-10'!D90+' по 0,4'!D96 -> 1 | E90: =' по 6-10'!E90+' по 0,4'!E96 -> 74.6 | F90: =' по 6-10'!F90+' по 0,4'!F96 -> 1 | G90: =' по 6-10'!G90+' по 0,4'!G96 -> 74.6 | H90: =' по 6-10'!H90+' по 0,4'!H96 -> 0 | I90: =' по 6-10'!I90+' по 0,4'!I96 -> 0 | J90: =' по 6-10'!J90+' по 0,4'!J96 -> 3 | K90: =' по 6-10'!K90+' по 0,4'!K96 -> 8.25 | L90: 0 | M90: 0 | N90: 0 | O90: 0 | P90: 0 | Q90: 0
C91: ПС «ЦСБ» | D91: =' по 6-10'!D91+' по 0,4'!D97 -> 0 | E91: =' по 6-10'!E91+' по 0,4'!E97 -> 0 | F91: =' по 6-10'!F91+' по 0,4'!F97 -> 0 | G91: =' по 6-10'!G91+' по 0,4'!G97 -> 0 | H91: =' по 6-10'!H91+' по 0,4'!H97 -> 0 | I91: =' по 6-10'!I91+' по 0,4'!I97 -> 0 | J91: =' по 6-10'!J91+' по 0,4'!J97 -> 0 | K91: =' по 6-10'!K91+' по 0,4'!K97 -> 0 | L91: 0 | M91: 0 | N91: 0 | O91: 0 | P91: 0 | Q91: 0
C92: ПС «Портал-2» | D92: =' по 6-10'!D92+' по 0,4'!D98 -> 0 | E92: =' по 6-10'!E92+' по 0,4'!E98 -> 0 | F92: =' по 6-10'!F92+' по 0,4'!F98 -> 0 | G92: =' по 6-10'!G92+' по 0,4'!G98 -> 0 | H92: =' по 6-10'!H92+' по 0,4'!H98 -> 0 | I92: =' по 6-10'!I92+' по 0,4'!I98 -> 0 | J92: =' по 6-10'!J92+' по 0,4'!J98 -> 0 | K92: =' по 6-10'!K92+' по 0,4'!K98 -> 0 | L92: 0 | M92: 0 | N92: 0 | O92: 0 | P92: 0 | Q92: 0
C93: ПС «Портал-1» | D93: =' по 6-10'!D93+' по 0,4'!D99 -> 0 | E93: =' по 6-10'!E93+' по 0,4'!E99 -> 0 | F93: =' по 6-10'!F93+' по 0,4'!F99 -> 0 | G93: =' по 6-10'!G93+' по 0,4'!G99 -> 0 | H93: =' по 6-10'!H93+' по 0,4'!H99 -> 0 | I93: =' по 6-10'!I93+' по 0,4'!I99 -> 0 | J93: =' по 6-10'!J93+' по 0,4'!J99 -> 0 | K93: =' по 6-10'!K93+' по 0,4'!K99 -> 0 | L93: 0 | M93: 0 | N93: 0 | O93: 0 | P93: 0 | Q93: 0
C94: ПС «Бабугент» | D94: =' по 6-10'!D94+' по 0,4'!D100 -> 17 | E94: =' по 6-10'!E94+' по 0,4'!E100 -> 89 | F94: =' по 6-10'!F94+' по 0,4'!F100 -> 17 | G94: =' по 6-10'!G94+' по 0,4'!G100 -> 89 | H94: =' по 6-10'!H94+' по 0,4'!H100 -> 0 | I94: =' по 6-10'!I94+' по 0,4'!I100 -> 0 | J94: =' по 6-10'!J94+' по 0,4'!J100 -> 15 | K94: =' по 6-10'!K94+' по 0,4'!K100 -> 74 | L94: 0 | M94: 0 | N94: 0 | O94: 0 | P94: 0 | Q94: 0
C95: ПС «Мухольская ГЭС» | D95: =' по 6-10'!D95+' по 0,4'!D101 -> 0 | E95: =' по 6-10'!E95+' по 0,4'!E101 -> 0 | F95: =' по 6-10'!F95+' по 0,4'!F101 -> 0 | G95: =' по 6-10'!G95+' по 0,4'!G101 -> 0 | H95: =' по 6-10'!H95+' по 0,4'!H101 -> 0 | I95: =' по 6-10'!I95+' по 0,4'!I101 -> 0 | J95: =' по 6-10'!J95+' по 0,4'!J101 -> 3 | K95: =' по 6-10'!K95+' по 0,4'!K101 -> 24 | L95: 0 | M95: 0 | N95: 0 | O95: 0 | P95: 0 | Q95: 0
C96: итого: | D96: =D87+D88+D89+D90+D91+D92+D93+D94+D95 -> 51 | E96: =E87+E88+E89+E90+E91+E92+E93+E94+E95 -> 894.93 | F96: =F87+F88+F89+F90+F91+F92+F93+F94+F95 -> 51 | G96: =G87+G88+G89+G90+G91+G92+G93+G94+G95 -> 894.93 | H96: =H87+H88+H89+H90+H91+H92+H93+H94+H95 -> 0 | I96: =I87+I88+I89+I90+I91+I92+I93+I94+I95 -> 0 | J96: =J87+J88+J89+J90+J91+J92+J93+J94+J95 -> 50 | K96: =K87+K88+K89+K90+K91+K92+K93+K94+K95 -> 1161.45 | ... Q96: =Q87+Q88+Q89+Q90+Q91+Q92+Q93+Q94+Q95 -> 0
C97: Нарткалинская группа ПС
C98: ПС «Нарткала» | D98: =' по 6-10'!D98+' по 0,4'!D104 -> 67 | E98: =' по 6-10'!E98+' по 0,4'!E104 -> 883.5 | F98: =' по 6-10'!F98+' по 0,4'!F104 -> 67 | G98: =' по 6-10'!G98+' по 0,4'!G104 -> 883 | H98: =' по 6-10'!H98+' по 0,4'!H104 -> 0 | I98: =' по 6-10'!I98+' по 0,4'!I104 -> 0 | J98: =' по 6-10'!J98+' по 0,4'!J104 -> 76 | K98: =' по 6-10'!K98+' по 0,4'!K104 -> 712.5 | L98: 0 | M98: 0 | N98: 0 | O98: 0 | P98: 0 | Q98: 0
C99: ПС «Псыгансу» | D99: =' по 6-10'!D99+' по 0,4'!D105 -> 11 | E99: =' по 6-10'!E99+' по 0,4'!E105 -> 48.5 | F99: =' по 6-10'!F99+' по 0,4'!F105 -> 10 | G99: =' по 6-10'!G99+' по 0,4'!G105 -> 45.5 | H99: =' по 6-10'!H99+' по 0,4'!H105 -> 0 | I99: =' по 6-10'!I99+' по 0,4'!I105 -> 0 | J99: =' по 6-10'!J99+' по 0,4'!J105 -> 10 | K99: =' по 6-10'!K99+' по 0,4'!K105 -> 36.5 | L99: 0 | M99: 0 | N99: 0 | O99: 0 | P99: 0 | Q99: 0
C100: ПС «Ст.Лескен» | D100: =' по 6-10'!D100+' по 0,4'!D106 -> 26 | E100: =' по 6-10'!E100+' по 0,4'!E106 -> 142 | F100: =' по 6-10'!F100+' по 0,4'!F106 -> 26 | G100: =' по 6-10'!G100+' по 0,4'!G106 -> 142 | H100: =' по 6-10'!H100+' по 0,4'!H106 -> 0 | I100: =' по 6-10'!I100+' по 0,4'!I106 -> 0 | J100: =' по 6-10'!J100+' по 0,4'!J106 -> 19 | K100: =' по 6-10'!K100+' по 0,4'!K106 -> 108 | L100: 0 | M100: 0 | N100: 0 | O100: 0 | P100: 0 | Q100: 0
C101: ПС «Кахун» | D101: =' по 6-10'!D101+' по 0,4'!D107 -> 52 | E101: =' по 6-10'!E101+' по 0,4'!E107 -> 652.7 | F101: =' по 6-10'!F101+' по 0,4'!F107 -> 52 | G101: =' по 6-10'!G101+' по 0,4'!G107 -> 652.7 | H101: =' по 6-10'!H101+' по 0,4'!H107 -> 0 | I101: =' по 6-10'!I101+' по 0,4'!I107 -> 0 | J101: =' по 6-10'!J101+' по 0,4'!J107 -> 63 | K101: =' по 6-10'!K101+' по 0,4'!K107 -> 526.5 | L101: 0 | M101: 0 | N101: 0 | O101: 0 | P101: 0 | Q101: 0
C102: ПС «Заводская» | D102: =' по 6-10'!D102+' по 0,4'!D108 -> 36 | E102: =' по 6-10'!E102+' по 0,4'!E108 -> 255.5 | F102: =' по 6-10'!F102+' по 0,4'!F108 -> 36 | G102: =' по 6-10'!G102+' по 0,4'!G108 -> 255.5 | H102: =' по 6-10'!H102+' по 0,4'!H108 -> 1 | I102: =' по 6-10'!I102+' по 0,4'!I108 -> 7 | J102: =' по 6-10'!J102+' по 0,4'!J108 -> 36 | K102: =' по 6-10'!K102+' по 0,4'!K108 -> 220.5 | L102: 0 | M102: 0 | N102: 0 | O102: 0 | P102: 0 | Q102: 0
C103: ПС «Герменчик» | D103: =' по 6-10'!D103+' по 0,4'!D109 -> 23 | E103: =' по 6-10'!E103+' по 0,4'!E109 -> 267.5 | F103: =' по 6-10'!F103+' по 0,4'!F109 -> 23 | G103: =' по 6-10'!G103+' по 0,4'!G109 -> 267.5 | H103: =' по 6-10'!H103+' по 0,4'!H109 -> 0 | I103: =' по 6-10'!I103+' по 0,4'!I109 -> 0 | J103: =' по 6-10'!J103+' по 0,4'!J109 -> 27 | K103: =' по 6-10'!K103+' по 0,4'!K109 -> 1126.5 | L103: 0 | M103: 0 | N103: 0 | O103: 0 | P103: 0 | Q103: 0
C104: ПС «Ст.Урух» | D104: =' по 6-10'!D104+' по 0,4'!D110 -> 10 | E104: =' по 6-10'!E104+' по 0,4'!E110 -> 69 | F104: =' по 6-10'!F104+' по 0,4'!F110 -> 10 | G104: =' по 6-10'!G104+' по 0,4'!G110 -> 69 | H104: =' по 6-10'!H104+' по 0,4'!H110 -> 0 | I104: =' по 6-10'!I104+' по 0,4'!I110 -> 0 | J104: =' по 6-10'!J104+' по 0,4'!J110 -> 8 | K104: =' по 6-10'!K104+' по 0,4'!K110 -> 210 | L104: 0 | M104: 0 | N104: 0 | O104: 0 | P104: 0 | Q104: 0
C105: ПС «Аргудан» | D105: =' по 6-10'!D105+' по 0,4'!D111 -> 14 | E105: =' по 6-10'!E105+' по 0,4'!E111 -> 102.5 | F105: =' по 6-10'!F105+' по 0,4'!F111 -> 12 | G105: =' по 6-10'!G105+' по 0,4'!G111 -> 82.5 | H105: =' по 6-10'!H105+' по 0,4'!H111 -> 0 | I105: =' по 6-10'!I105+' по 0,4'!I111 -> 0 | J105: =' по 6-10'!J105+' по 0,4'!J111 -> 9 | K105: =' по 6-10'!K105+' по 0,4'!K111 -> 40.4 | L105: 0 | M105: 0 | N105: 0 | O105: 0 | P105: 0 | Q105: 0
C106: ПС «Лескен-1» | D106: =' по 6-10'!D106+' по 0,4'!D112 -> 0 | E106: =' по 6-10'!E106+' по 0,4'!E112 -> 0 | F106: =' по 6-10'!F106+' по 0,4'!F112 -> 0 | G106: =' по 6-10'!G106+' по 0,4'!G112 -> 0 | H106: =' по 6-10'!H106+' по 0,4'!H112 -> 0 | I106: =' по 6-10'!I106+' по 0,4'!I112 -> 0 | J106: =' по 6-10'!J106+' по 0,4'!J112 -> 1 | K106: =' по 6-10'!K106+' по 0,4'!K112 -> 8.6 | L106: 0 | M106: 0 | N106: 0 | O106: 0 | P106: 0 | Q106: 0
...

Sheet  по 6-10
M1: Приложение № 28
M2: к Положению о технологическом присоединении
M3: энергетических установок к электрическим сетям
M4: ОАО «МРСК Северного Кавказа», управляемых
M5: Обществ
B8: Информация о технологическом присоединении энергопринимающих устройств
A13: Наименование организации, осуществляющей технологическое присоединение | B13: Наименование субъекта РФ | C13: Наименование центра питания (ПС 35 кВ и выше) | D13: Количество поданных заявок на технологическое присоединение, на общую мощность энергопринимающих устройств, кВт | F13: Заключено договоров на технологическое присоединение, включающие технические условия на общую мощность энергопринимающих устройств, кВт | H13: Расторгнуто договоров на технологическое присоединение, включающие технические условия на общую мощность энергопринимающих устройств, кВт | J13: Суммарная мощность энегргопринимающих устройств, присоединенных к электрическим сетям в соответствии с договором на технологическое присоединение за отчетный период, кВт | L13: Заключено договоров на технологическое присоединение, включающие технические условия на общую мощность генерирущих установок, МВт | N13: Расторгнуто договоров на технологическое присоединение, включающие технические условия на общую мощность генерирущих установок, МВт | P13: Суммарная мощность генерирущих установок, присоединенных к электрическим сетям в соответствии с договором на технологическое присоединение за отчетный период, МВт
A14: 1 | B14: 2 | C14: 3 | D14: 4 | F14: 5 | H14: 6 | J14: 7 | L14: 8 | N14: 9 | P14: 10
D15: шт | E15: кВт | F15: шт | G15: кВт | H15: шт | I15: кВт | J15: шт | K15: кВт | L15: шт | M15: МВт | N15: шт | O15: МВт | P15: шт | Q15: МВт
A16: Кабардино- Балкарсикй филиал ОАО "МРСК Северного Кавказа" | B16: Кабардино- Балкарская Республика | C16: Нальчикская группа ПС
C17: ПС «Нальчик» | D17: 5 | E17: 1630 | F17: 4 | G17: 650 | J17: 1 | K17: 100
C18: ПС «Телемеханика-1» | J18: 1 | K18: 730
C19: ПС «Искож» | J19: 1 | K19: 450
C20: ПС «СКЭП-Н»
C21: ПС «Долинск» | F21: 1 | G21: 814
C22: ПС «Дубки»
C23: ПС «Птицефабрика» | D23: 2 | E23: 145 | F23: 2 | G23: 145 | J23: 3 | K23: 305
C24: итого: | D24: =D17+D18+D19+D20+D21+D22+D23 -> 7 | E24: =E17+E18+E19+E20+E21+E22+E23 -> 1775 | F24: =F17+F18+F19+F20+F21+F22+F23 -> 7 | G24: =G17+G18+G19+G20+G21+G22+G23 -> 1609 | H24: =H17+H18+H19+H20+H21+H22+H23 -> 0 | I24: =I17+I18+I19+I20+I21+I22+I23 -> 0 | J24: =J17+J18+J19+J20+J21+J22+J23 -> 6 | K24: =K17+K18+K19+K20+K21+K22+K23 -> 1585 | ... Q24: =Q17+Q18+Q19+Q20+Q21+Q22+Q23 -> 0
C25: Малкинская группа ПС
C26: ПС «Малка» | D26: 3 | E26: 699.8 | F26: 3 | G26: 699.8 | J26: 5 | K26: 1184.6
C27: ПС «Каменномостская» | D27: 0 | E27: 0 | F27: 0 | G27: 0 | J27: 3 | K27: 434.5
C28: ПС «Залукокоаже» | D28: 3 | E28: 459 | F28: 3 | G28: 459 | J28: 6 | K28: 758
C29: ПС «Залукодес» | D29: 1 | E29: 7 | F29: 1 | G29: 7
C30: ПС «Сармаково» | D30: 1 | E30: 65 | F30: 1 | G30: 65 | J30: 2 | K30: 71
C31: ПС «Аурсентх» | D31: 0 | E31: 0 | F31: 0 | G31: 0
C32: итого: | D32: =D26+D27+D28+D29+D30+D31 -> 8 | E32: =E26+E27+E28+E29+E30+E31 -> 1230.8 | F32: =F26+F27+F28+F29+F30+F31 -> 8 | G32: =G26+G27+G28+G29+G30+G31 -> 1230.8 | H32: =H26+H27+H28+H29+H30+H31 -> 0 | I32: =I26+I27+I28+I29+I30+I31 -> 0 | J32: =J26+J27+J28+J29+J30+J31 -> 16 | K32: =K26+K27+K28+K29+K30+K31 -> 2448.1 | ... Q32: =Q26+Q27+Q28+Q29+Q30+Q31 -> 0
C33: Эльбрусская группа ПС
C34: ПС «ЦРУ» | J34: 2 | K34: 1536
C35: ПС «Адыл-Су»
C36: ПС «Нейтрино» | D36: 1 | E36: 63.52 | F36: 1 | G36: 63.52
C37: ПС «Чегет» | J37: 1 | K37: 75
C38: ПС «Терскол» | D38: 1 | E38: 59.31 | F38: 1 | G38: 59.31
C39: ПС «Джайлык» | D39: 1 | E39: 63.12 | F39: 1 | G39: 63.12
C40: ПС «Соц. городок» | D40: 1 | E40: 7 | F40: 1 | G40: 7
C41: ПС «Чалмас»
C42: ПС «РМЗ»
C43: РП «Водогрейная»
C44: ПС «Былым»
C45: ПС "Гунделен" | J45: 3 | K45: 410
C46: итого: | D46: =D34+D35+D36+D37+D38+D39+D40+D41+D42+D43+D44+D45 -> 4 | E46: =E34+E35+E36+E37+E38+E39+E40+E41+E42+E43+E44+E45 -> 192.95 | F46: =F34+F35+F36+F37+F38+F39+F40+F41+F42+F43+F44+F45 -> 4 | G46: =G34+G35+G36+G37+G38+G39+G40+G41+G42+G43+G44+G45 -> 192.95 | H46: =H34+H35+H36+H37+H38+H39+H40+H41+H42+H43+H44+H45 -> 0 | I46: =I34+I35+I36+I37+I38+I39+I40+I41+I42+I43+I44+I45 -> 0 | J46: =J34+J35+J36+J37+J38+J39+J40+J41+J42+J43+J44+J45 -> 6 | K46: =K34+K35+K36+K37+K38+K39+K40+K41+K42+K43+K44+K45 -> 2021 | ... Q46: =Q34+Q35+Q36+Q37+Q38+Q39+Q40+Q41+Q42+Q43+Q44+Q45 -> 0
C47: Терская группа ПС
C48: ПС «Терек-II» | D48: 2 | E48: 325 | F48: 2 | G48: 315 | H48: 1 | I48: 300 | J48: 5 | K48: 135
C49: ПС «В.Акбаш» | D49: 0 | E49: 0 | F49: 0 | G49: 0
C50: ПС «ЗАИ» | D50: 0 | E50: 0 | F50: 0 | G50: 0
C51: ПС «Пенькозавод» | D51: 0 | E51: 0 | F51: 0 | G51: 0
C52: ПС «Терекская» | D52: 1 | E52: 6 | F52: 1 | G52: 6
C53: ПС «Терек-1» | D53: 0 | E53: 0 | F53: 0 | G53: 0 | J53: 2 | K53: 173
C54: ПС «В.Курп» | D54: 0 | E54: 0 | F54: 0 | G54: 0 | H54: 1 | I54: 6 | J54: 1 | K54: 7
C55: ПС «Н.Курп» | D55: 0 | E55: 0 | F55: 0 | G55: 0
C56: ПС «Акбаш-35» | D56: 0 | E56: 0 | F56: 0 | G56: 0 | J56: 1 | K56: 162.8
C57: итого: | D57: =D48+D49+D50+D51+D52+D53+D54+D55+D56 -> 3 | E57: =E48+E49+E50+E51+E52+E53+E54+E55+E56 -> 331 | F57: =F48+F49+F50+F51+F52+F53+F54+F55+F56 -> 3 | G57: =G48+G49+G50+G51+G52+G53+G54+G55+G56 -> 321 | H57: =H48+H49+H50+H51+H52+H53+H54+H55+H56 -> 2 | I57: =I48+I49+I50+I51+I52+I53+I54+I55+I56 -> 306 | J57: =J48+J49+J50+J51+J52+J53+J54+J55+J56 -> 9 | K57: =K48+K49+K50+K51+K52+K53+K54+K55+K56 -> 477.8 | ... Q57: =Q48+Q49+Q50+Q51+Q52+Q53+Q54+Q55+Q56 -> 0
C58: Майская группа ПС
C59: ПС «Майская» | D59: 4 | E59: 11752 | F59: 3 | G59: 32 | H59: 1 | I59: 100 | J59: 2 | K59: 105
C60: ПС «Александровская» | D60: 0 | E60: 0 | F60: 0 | G60: 0
C61: ПС «Котляревская» | D61: 1 | E61: 15 | F61: 1 | G61: 15 | J61: 1 | K61: 500
C62: ПС «Ново-Ивановская» | D62: 0 | E62: 0 | F62: 0 | G62: 0
C63: ПС «Красная Нива» | D63: 0 | E63: 0 | F63: 0 | G63: 0
C64: итого: | D64: =D59+D60+D61+D62+D63 -> 5 | E64: =E59+E60+E61+E62+E63 -> 11767 | F64: =F59+F60+F61+F62+F63 -> 4 | G64: =G59+G60+G61+G62+G63 -> 47 | H64: =H59+H60+H61+H62+H63 -> 1 | I64: =I59+I60+I61+I62+I63 -> 100 | J64: =J59+J60+J61+J62+J63 -> 3 | K64: =K59+K60+K61+K62+K63 -> 605 | ... Q64: =Q59+Q60+Q61+Q62+Q63 -> 0
C65: Чегемская группа ПС
C66: ПС «Чегем-II» | D66: 2 | E66: 450 | F66: 2 | G66: 450 | J66: 4 | K66: 750
C67: ПС «Водозабор» | D67: 0 | E67: 0 | F67: 0 | G67: 0
C68: ПС «Чегем-1» | D68: 2 | E68: 599 | F68: 2 | G68: 599
C69: ПС «Лечинкай» | D69: 0 | E69: 0 | F69: 0 | G69: 0 | J69: 1 | K69: 7
C70: ПС «Н.Чегем» | D70: 0 | E70: 0 | F70: 0 | G70: 0
C71: ПС «Кара-Су» | D71: 0 | E71: 0 | F71: 0 | G71: 0
C72: итого: | D72: =D66+D67+D68+D69+D70+D71 -> 4 | E72: =E66+E67+E68+E69+E70+E71 -> 1049 | F72: =F66+F67+F68+F69+F70+F71 -> 4 | G72: =G66+G67+G68+G69+G70+G71 -> 1049 | H72: =H66+H67+H68+H69+H70+H71 -> 0 | I72: =I66+I67+I68+I69+I70+I71 -> 0 | J72: =J66+J67+J68+J69+J70+J71 -> 5 | K72: =K66+K67+K68+K69+K70+K71 -> 757 | ... Q72: =Q66+Q67+Q68+Q69+Q70+Q71 -> 0
C73: Баксанская группа ПС
C74: ПС «Баксан-110» | D74: 7 | E74: 572.95 | F74: 8 | G74: 1562.95 | J74: 3 | K74: 237.7
C75: ПС «Кызбурун-110» | D75: 3 | E75: 3660 | F75: 3 | G75: 3660 | J75: 3 | K75: 657
C76: ПС «Куркужин» | D76: 1 | E76: 220 | F76: 1 | G76: 220 | J76: 1 | K76: 15
C77: ПС «Баксан-35» | D77: 1 | E77: 80 | F77: 1 | G77: 80 | J77: 1 | K77: 2.2
C78: ПС «Кр.Константин.» | D78: 3 | E78: 810 | F78: 3 | G78: 810 | J78: 3 | K78: 810
C79: ПС «Гунделен-110» | D79: 2 | E79: 51.8 | F79: 2 | G79: 51.8 | J79: 1 | K79: 44.8
C80: ПС «Плотина» | D80: 0 | E80: 0 | F80: 0 | G80: 0
C81: ПС «Баксаненок» | D81: 0 | E81: 0 | F81: 0 | G81: 0
C82: ПС «Баксан-330» | D82: 0 | E82: 0 | F82: 0 | G82: 0 | J82: 1 | K82: 30
C83: РП Заюково | D83: 0 | E83: 0 | F83: 0 | G83: 0 | J83: 1 | K83: 10
C84: РП Куба | D84: 3 | E84: 110 | F84: 3 | G84: 110 | J84: 3 | K84: 110
C85: итого: | D85: =D74+D75+D76+D77+D78+D79+D80+D81+D82+D83+D84 -> 20 | E85: =E74+E75+E76+E77+E78+E79+E80+E81+E82+E83+E84 -> 5504.75 | F85: =F74+F75+F76+F77+F78+F79+F80+F81+F82+F83+F84 -> 21 | G85: =G74+G75+G76+G77+G78+G79+G80+G81+G82+G83+G84 -> 6494.75 | H85: =H74+H75+H76+H77+H78+H79+H80+H81+H82+H83+H84 -> 0 | I85: =I74+I75+I76+I77+I78+I79+I80+I81+I82+I83+I84 -> 0 | J85: =J74+J75+J76+J77+J78+J79+J80+J81+J82+J83+J84 -> 17 | K85: =K74+K75+K76+K77+K78+K79+K80+K81+K82+K83+K84 -> 1916.7 | ... Q85: =Q74+Q75+Q76+Q77+Q78+Q79+Q80+Q81+Q82+Q83+Q84 -> 0
C86: Черекская группа ПС
C87: ПС «Кашхатау» | D87: 1 | E87: 420 | F87: 1 | G87: 420 | J87: 3 | K87: 904.2
C88: ПС «Аушигер» | D88: 1 | E88: 153 | F88: 1 | G88: 153 | J88: 2 | K88: 29
C89: ПС «Советская» | D89: 0 | E89: 0 | F89: 0 | G89: 0
C90: ПС «Кара-Су» | D90: 1 | E90: 74.6 | F90: 1 | G90: 74.6 | J90: 1 | K90: 4
C91: ПС «ЦСБ» | D91: 0 | E91: 0 | F91: 0 | G91: 0
C92: ПС «Портал-2» | D92: 0 | E92: 0 | F92: 0 | G92: 0
C93: ПС «Портал-1» | D93: 0 | E93: 0 | F93: 0 | G93: 0
C94: ПС «Бабугент» | D94: 1 | E94: 10 | F94: 1 | G94: 10 | J94: 1 | K94: 10
C95: ПС «Мухольская ГЭС» | D95: 0 | E95: 0 | F95: 0 | G95: 0 | J95: 2 | K95: 20
C96: итого: | D96: =D87+D88+D89+D90+D91+D92+D93+D94+D95 -> 4 | E96: =E87+E88+E89+E90+E91+E92+E93+E94+E95 -> 657.6 | F96: =F87+F88+F89+F90+F91+F92+F93+F94+F95 -> 4 | G96: =G87+G88+G89+G90+G91+G92+G93+G94+G95 -> 657.6 | H96: =H87+H88+H89+H90+H91+H92+H93+H94+H95 -> 0 | I96: =I87+I88+I89+I90+I91+I92+I93+I94+I95 -> 0 | J96: =J87+J88+J89+J90+J91+J92+J93+J94+J95 -> 9 | K96: =K87+K88+K89+K90+K91+K92+K93+K94+K95 -> 967.2 | ... Q96: =Q87+Q88+Q89+Q90+Q91+Q92+Q93+Q94+Q95 -> 0
C97: Нарткалинская группа ПС
C98: ПС «Нарткала» | D98: 4 | E98: 521 | F98: 4 | G98: 521 | J98: 3 | K98: 299
C99: ПС «Псыгансу» | D99: 0 | E99: 0 | F99: 0 | G99: 0
C100: ПС «Ст.Лескен» | D100: 0 | E100: 0 | F100: 0 | G100: 0
C101: ПС «Кахун» | D101: 4 | E101: 403.2 | F101: 4 | G101: 403.2 | J101: 2 | K101: 110
C102: ПС «Заводская» | D102: 2 | E102: 39 | F102: 2 | G102: 39 | H102: 1 | I102: 7
C103: ПС «Герменчик» | D103: 1 | E103: 160 | F103: 1 | G103: 160 | J103: 3 | K103: 1018
C104: ПС «Ст.Урух» | D104: 0 | E104: 0 | F104: 0 | G104: 0 | J104: 2 | K104: 175
C105: ПС «Аргудан» | D105: 0 | E105: 0 | F105: 0 | G105: 0
C106: ПС «Лескен-1» | D106: 0 | E106: 0 | F106: 0 | G106: 0
...

Sheet  по 0,4
M1: Приложение № 28
M2: к Положению о технологическом присоединении
M3: энергетических установок к электрическим сетям
M4: ОАО «МРСК Северного Кавказа», управляемых
M5: Обществ
B14: Информация о технологическом присоединении энергопринимающих устройств
A19: Наименование организации, осуществляющей технологическое присоединение | B19: Наименование субъекта РФ | C19: Наименование центра питания (ПС 35 кВ и выше) | D19: Количество поданных заявок на технологическое присоединение, на общую мощность энергопринимающих устройств, кВт | F19: Заключено договоров на технологическое присоединение, включающие технические условия на общую мощность энергопринимающих устройств, кВт | H19: Расторгнуто договоров на технологическое присоединение, включающие технические условия на общую мощность энергопринимающих устройств, кВт | J19: Суммарная мощность энегргопринимающих устройств, присоединенных к электрическим сетям в соответствии с договором на технологическое присоединение за отчетный период, кВт | L19: Заключено договоров на технологическое присоединение, включающие технические условия на общую мощность генерирущих установок, МВт | N19: Расторгнуто договоров на технологическое присоединение, включающие технические условия на общую мощность генерирущих установок, МВт | P19: Суммарная мощность генерирущих установок, присоединенных к электрическим сетям в соответствии с договором на технологическое присоединение за отчетный период, МВт
A20: 1 | B20: 2 | C20: 3 | D20: 4 | F20: 5 | H20: 6 | J20: 7 | L20: 8 | N20: 9 | P20: 10
D21: шт | E21: кВт | F21: шт | G21: кВт | H21: шт | I21: кВт | J21: шт | K21: кВт | L21: шт | M21: МВт | N21: шт | O21: МВт | P21: шт | Q21: МВт
A22: Кабардино- Балкарсикй филиал ОАО "МРСК Северного Кавказа" | B22: Кабардино- Балкарская Республика | C22: Нальчикская группа ПС
C23: ПС «Нальчик» | D23: 38 | E23: 189.5 | F23: 38 | G23: 189.5 | J23: 28 | K23: 151.55
C24: ПС «Телемеханика-1»
C25: ПС «Искож»
C26: ПС «СКЭП-Н»
C27: ПС «Долинск»
C28: ПС «Дубки» | D28: 3 | E28: 10 | F28: 3 | G28: 10 | J28: 5 | K28: 42.5
C29: ПС «Птицефабрика» | D29: 53 | E29: 253.225 | F29: 53 | G29: 253.225 | J29: 74 | K29: 343.6
C30: итого: | D30: =D23+D24+D25+D26+D27+D28+D29 -> 94 | E30: =E23+E24+E25+E26+E27+E28+E29 -> 452.725 | F30: =F23+F24+F25+F26+F27+F28+F29 -> 94 | G30: =G23+G24+G25+G26+G27+G28+G29 -> 452.725 | H30: =H23+H24+H25+H26+H27+H28+H29 -> 0 | I30: =I23+I24+I25+I26+I27+I28+I29 -> 0 | J30: =J23+J24+J25+J26+J27+J28+J29 -> 107 | K30: =K23+K24+K25+K26+K27+K28+K29 -> 537.65 | ... Q30: =Q23+Q24+Q25+Q26+Q27+Q28+Q29 -> 0
C31: Малкинская группа ПС
C32: ПС «Малка» | D32: 9 | E32: 64 | F32: 9 | G32: 64.5 | J32: 9 | K32: 61.6
C33: ПС «Каменномостская»
C34: ПС «Залукокоаже» | D34: 4 | E34: 14.6 | F34: 2 | G34: 19.8 | J34: 12 | K34: 51.78
C35: ПС «Залукодес» | D35: 3 | E35: 36 | F35: 3 | G35: 36 | J35: 3 | K35: 20.9
C36: ПС «Сармаково» | D36: 1 | E36: 4 | J36: 3 | K36: 20
C37: ПС «Аурсентх»
C38: итого: | D38: =SUM(D32:D37) -> 17 | E38: =SUM(E32:E37) -> 118.6 | F38: =SUM(F32:F37) -> 14 | G38: =SUM(G32:G37) -> 120.3 | H38: =H32+H33+H34+H35+H36+H37 -> 0 | I38: =I32+I33+I34+I35+I36+I37 -> 0 | J38: =J32+J33+J34+J35+J36+J37 -> 27 | K38: =K32+K33+K34+K35+K36+K37 -> 154.28 | L38: =L32+L33+L34+L35+L36+L37 -> 0 | M38: =M32+M33+M34+M35+M36+M37 -> 0 | N38: =N32+N33+N34+N35+N36+N37 -> 0 | O38: =O32+O33+O34+O35+O36+O37 -> 0 | ... Q38: =Q32+Q33+Q34+Q35+Q36+Q37 -> 0
C39: Эльбрусская группа ПС
C40: ПС «ЦРУ» | D40: 5 | E40: 14.8 | F40: 4 | G40: 9.3 | J40: 6 | K40: 17.5
C41: ПС «Адыл-Су» | D41: 4 | E41: 14 | F41: 4 | G41: 14 | J41: 7 | K41: 42
C42: ПС «Нейтрино» | D42: 1 | E42: 12 | F42: 2 | G42: 17 | J42: 0 | K42: 0
C43: ПС «Чегет» | D43: 1 | E43: 15 | F43: 0 | G43: 0 | J43: 1 | K43: 10
C44: ПС «Терскол» | D44: 3 | E44: 49.5 | F44: 2 | G44: 19.5 | J44: 5 | K44: 47
C45: ПС «Джайлык» | D45: 0 | E45: 0 | F45: 0 | G45: 0 | J45: 0 | K45: 0
C46: ПС «Соц. городок» | D46: 7 | E46: 35.63 | F46: 7 | G46: 35 | J46: 5 | K46: 26.6
C47: ПС «Чалмас» | D47: 0 | E47: 0 | F47: 0 | G47: 0 | J47: 0 | K47: 0
C48: ПС «РМЗ» | D48: 0 | E48: 0 | F48: 0 | G48: 0 | J48: 0 | K48: 0
C49: РП «Водогрейная» | D49: 9 | E49: 43.6 | F49: 7 | G49: 32.1 | J49: 9 | K49: 47.5
C50: ПС «Былым» | D50: 2 | E50: 9.5 | F50: 2 | G50: 8.5 | J50: 2 | K50: 14
C51: ПС "Гунделен" | D51: 7 | E51: 34.5 | F51: 7 | G51: 34.5 | J51: 8 | K51: 35.5
C52: итого: | D52: =D40+D41+D42+D43+D44+D45+D46+D47+D48+D49+D50+D51 -> 39 | E52: =E40+E41+E42+E43+E44+E45+E46+E47+E48+E49+E50+E51 -> 228.53 | F52: =F40+F41+F42+F43+F44+F45+F46+F47+F48+F49+F50+F51 -> 35 | G52: =G40+G41+G42+G43+G44+G45+G46+G47+G48+G49+G50+G51 -> 169.9 | H52: =H40+H41+H42+H43+H44+H45+H46+H47+H48+H49+H50+H51 -> 0 | I52: =I40+I41+I42+I43+I44+I45+I46+I47+I48+I49+I50+I51 -> 0 | J52: =J40+J41+J42+J43+J44+J45+J46+J47+J48+J49+J50+J51 -> 43 | K52: =K40+K41+K42+K43+K44+K45+K46+K47+K48+K49+K50+K51 -> 240.1 | ... Q52: =Q40+Q41+Q42+Q43+Q44+Q45+Q46+Q47+Q48+Q49+Q50+Q51 -> 0
C53: Терская группа ПС
C54: ПС «Терек-II» | D54: 16 | E54: 95.5 | F54: 16 | G54: 81.4 | J54: 25 | K54: 135.5
C55: ПС «В.Акбаш» | D55: 1 | E55: 4 | F55: 1 | G55: 4 | J55: 1 | K55: 4
C56: ПС «ЗАИ» | F56: 1 | G56: 4 | J56: 1 | K56: 4
C57: ПС «Пенькозавод» | D57: 1 | E57: 4 | F57: 1 | G57: 4 | J57: 2 | K57: 8
C58: ПС «Терекская» | D58: 4 | E58: 19 | F58: 2 | G58: 11 | J58: 7 | K58: 39
C59: ПС «Терек-1» | D59: 8 | E59: 114 | F59: 6 | G59: 103 | J59: 17 | K59: 100
C60: ПС «В.Курп» | D60: 2 | E60: 8 | F60: 2 | G60: 8 | J60: 4 | K60: 17
C61: ПС «Н.Курп» | J61: 1 | K61: 14
C62: ПС «Акбаш-35» | J62: 2 | K62: 8
C63: итого: | D63: =D54+D55+D56+D57+D58+D59+D60+D61+D62 -> 32 | E63: =E54+E55+E56+E57+E58+E59+E60+E61+E62 -> 244.5 | F63: =F54+F55+F56+F57+F58+F59+F60+F61+F62 -> 29 | G63: =G54+G55+G56+G57+G58+G59+G60+G61+G62 -> 215.4 | H63: =H54+H55+H56+H57+H58+H59+H60+H61+H62 -> 0 | I63: =I54+I55+I56+I57+I58+I59+I60+I61+I62 -> 0 | J63: =J54+J55+J56+J57+J58+J59+J60+J61+J62 -> 60 | K63: =K54+K55+K56+K57+K58+K59+K60+K61+K62 -> 329.5 | ... Q63: =Q54+Q55+Q56+Q57+Q58+Q59+Q60+Q61+Q62 -> 0
C64: Майская группа ПС
C65: ПС «Майская» | D65: 32 | E65: 295.1 | F65: 32 | G65: 295.1 | J65: 25 | K65: 227.6
C66: ПС «Александровская» | D66: 1 | E66: 1 | F66: 1 | G66: 1 | J66: 1 | K66: 5
C67: ПС «Котляревская» | D67: 2 | E67: 19.5 | F67: 2 | G67: 19.5 | J67: 1 | K67: 15
C68: ПС «Ново-Ивановская» | D68: 3 | E68: 19 | F68: 3 | G68: 19 | J68: 1 | K68: 10
C69: ПС «Красная Нива» | D69: 2 | E69: 19.5 | F69: 2 | G69: 19.5 | J69: 1 | K69: 4.5
C70: итого: | D70: =SUM(D65:D69) -> 40 | E70: =SUM(E65:E69) -> 354.1 | F70: =SUM(F65:F69) -> 40 | G70: =SUM(G65:G69) -> 354.1 | H70: =SUM(H65:H69) -> 0 | I70: =SUM(I65:I69) -> 0 | J70: =SUM(J65:J69) -> 29 | K70: =SUM(K65:K69) -> 262.1 | L70: =L65+L66+L67+L68+L69 -> 0 | M70: =M65+M66+M67+M68+M69 -> 0 | N70: =N65+N66+N67+N68+N69 -> 0 | O70: =O65+O66+O67+O68+O69 -> 0 | P70: =P65+P66+P67+P68+P69 -> 0 | Q70: =Q65+Q66+Q67+Q68+Q69 -> 0
C71: Чегемская группа ПС
C72: ПС «Чегем-II» | D72: 40 | E72: 191.1 | F72: 40 | G72: 191.1 | J72: 46 | K72: 236.21
C73: ПС «Водозабор» | D73: 1 | E73: 15 | F73: 1 | G73: 15 | J73: 2 | K73: 25
C74: ПС «Чегем-1» | D74: 9 | E74: 38.5 | F74: 9 | G74: 38.5 | J74: 5 | K74: 32
C75: ПС «Лечинкай» | D75: 21 | E75: 88.3 | F75: 21 | G75: 88.3 | J75: 20 | K75: 114.46
C76: ПС «Н.Чегем» | D76: 6 | E76: 32 | F76: 6 | G76: 32 | J76: 4 | K76: 13
C77: ПС «Кара-Су» | D77: 1 | E77: 4 | F77: 1 | G77: 4 | J77: 1 | K77: 4
C78: итого: | D78: =D72+D73+D74+D75+D76+D77 -> 78 | E78: =E72+E73+E74+E75+E76+E77 -> 368.9 | F78: =F72+F73+F74+F75+F76+F77 -> 78 | G78: =G72+G73+G74+G75+G76+G77 -> 368.9 | H78: =H72+H73+H74+H75+H76+H77 -> 0 | I78: =I72+I73+I74+I75+I76+I77 -> 0 | J78: =J72+J73+J74+J75+J76+J77 -> 78 | K78: =K72+K73+K74+K75+K76+K77 -> 424.67 | ... Q78: =Q72+Q73+Q74+Q75+Q76+Q77 -> 0
C79: Баксанская группа ПС
C80: ПС «Баксан-110» | D80: 27 | E80: 121.8 | F80: 27 | G80: 121.8 | H80: 0 | I80: 0 | J80: 24 | K80: 119.3
C81: ПС «Кызбурун-110» | D81: 32 | E81: 215.7 | F81: 9 | G81: 211.7 | H81: 0 | I81: 0 | J81: 16 | K81: 136
C82: ПС «Куркужин» | D82: 6 | E82: 21.5 | F82: 6 | G82: 21.5 | H82: 0 | I82: 0 | J82: 24 | K82: 12
C83: ПС «Баксан-35» | D83: 30 | E83: 176.6 | F83: 30 | G83: 176.6 | H83: 0 | I83: 0 | J83: 20 | K83: 209.66
C84: ПС «Кр.Константин.» | D84: 3 | E84: 12 | F84: 3 | G84: 12 | H84: 0 | I84: 0 | J84: 3 | K84: 12
C85: ПС «Гунделен-110» | D85: 4 | E85: 13 | F85: 4 | G85: 13 | H85: 0 | I85: 0 | J85: 1 | K85: 4
C86: ПС «Плотина» | D86: 3 | E86: 12 | F86: 3 | G86: 12 | H86: 0 | I86: 0 | J86: 3 | K86: 12
C87: ПС «Баксаненок» | D87: 13 | E87: 63.5 | F87: 13 | G87: 63.5 | H87: 0 | I87: 0 | J87: 12 | K87: 59.5
C88: ПС «Баксан-330» | D88: 7 | E88: 39.1 | F88: 7 | G88: 39.1 | H88: 0 | I88: 0 | J88: 5 | K88: 20.5
C89: РП Заюково | D89: 0 | E89: 0 | F89: 0 | G89: 0 | H89: 0 | I89: 0 | J89: 0 | K89: 0
C90: РП Куба | D90: 7 | E90: 32 | F90: 7 | G90: 32 | H90: 0 | I90: 0 | J90: 6 | K90: 24
C91: итого: | D91: =SUM(D80:D90) -> 132 | E91: =SUM(E80:E90) -> 707.2 | F91: =SUM(F80:F90) -> 109 | G91: =SUM(G80:G90) -> 703.2 | H91: =SUM(H80:H90) -> 0 | I91: =SUM(I80:I90) -> 0 | J91: =SUM(J80:J90) -> 114 | K91: =SUM(K80:K90) -> 608.96 | ... Q91: =SUM(Q80:Q90) -> 0
C92: Черекская группа ПС
C93: ПС «Кашхатау» | D93: 10 | E93: 64 | F93: 10 | G93: 64 | J93: 8 | K93: 48
C94: ПС «Аушигер» | D94: 12 | E94: 60 | F94: 12 | G94: 60 | J94: 10 | K94: 52
C95: ПС «Советская» | D95: 9 | E95: 34.33 | F95: 9 | G95: 34.33 | J95: 6 | K95: 22
C96: ПС «Кара-Су» | J96: 2 | K96: 4.25
C97: ПС «ЦСБ»
C98: ПС «Портал-2»
C99: ПС «Портал-1»
C100: ПС «Бабугент» | D100: 16 | E100: 79 | F100: 16 | G100: 79 | J100: 14 | K100: 64
C101: ПС «Мухольская ГЭС» | J101: 1 | K101: 4
C102: итого: | D102: =D93+D94+D95+D96+D97+D98+D99+D100+D101 -> 47 | E102: =E93+E94+E95+E96+E97+E98+E99+E100+E101 -> 237.33 | F102: =F93+F94+F95+F96+F97+F98+F99+F100+F101 -> 47 | G102: =G93+G94+G95+G96+G97+G98+G99+G100+G101 -> 237.33 | H102: =H93+H94+H95+H96+H97+H98+H99+H100+H101 -> 0 | I102: =I93+I94+I95+I96+I97+I98+I99+I100+I101 -> 0 | J102: =J93+J94+J95+J96+J97+J98+J99+J100+J101 -> 41 | K102: =K93+K94+K95+K96+K97+K98+K99+K100+K101 -> 194.25 | ... Q102: =Q93+Q94+Q95+Q96+Q97+Q98+Q99+Q100+Q101 -> 0
C103: Нарткалинская группа ПС
C104: ПС «Нарткала» | D104: 63 | E104: 362.5 | F104: 63 | G104: 362 | J104: 73 | K104: 413.5
C105: ПС «Псыгансу» | D105: 11 | E105: 48.5 | F105: 10 | G105: 45.5 | J105: 10 | K105: 36.5
C106: ПС «Ст.Лескен» | D106: 26 | E106: 142 | F106: 26 | G106: 142 | J106: 19 | K106: 108
C107: ПС «Кахун» | D107: 48 | E107: 249.5 | F107: 48 | G107: 249.5 | J107: 61 | K107: 416.5
C108: ПС «Заводская» | D108: 34 | E108: 216.5 | F108: 34 | G108: 216.5 | J108: 36 | K108: 220.5
C109: ПС «Герменчик» | D109: 22 | E109: 107.5 | F109: 22 | G109: 107.5 | J109: 24 | K109: 108.5
C110: ПС «Ст.Урух» | D110: 10 | E110: 69 | F110: 10 | G110: 69 | J110: 6 | K110: 35
C111: ПС «Аргудан» | D111: 14 | E111: 102.5 | F111: 12 | G111: 82.5 | J111: 9 | K111: 40.4
C112: ПС «Лескен-1» | J112: 1 | K112: 8.6
...
