Workbook

Sheet Лист1

Sheet Ноябрь 2013г
M1: Приложение № 28
M2: к Положению о технологическом присоединении
M3: энергетических установок к электрическим сетям
M4: ОАО «МРСК Северного Кавказа», управляемых
M5: Обществ
B14: Информация о технологическом присоединении энергопринимающих устройств к сетям КБ филиалом ОАО "МРСК Северного Кавказа" за Ноябрь 2013г.
A19: Наименование организации, осуществляющей технологическое присоединение | B19: Наименование субъекта РФ | C19: Наименование центра питания (ПС 35 кВ и выше) | D19: Количество поданных заявок на технологическое присоединение, на общую мощность энергопринимающих устройств, кВт | F19: Заключено договоров на технологическое присоединение, включающие технические условия на общую мощность энергопринимающих устройств, кВт | H19: Расторгнуто договоров на технологическое присоединение, включающие технические условия на общую мощность энергопринимающих устройств, кВт | J19: Суммарная мощность энегргопринимающих устройств, присоединенных к электрическим сетям в соответствии с договором на технологическое присоединение за отчетный период, кВт | L19: Заключено договоров на технологическое присоединение, включающие технические условия на общую мощность генерирущих установок, МВт | N19: Расторгнуто договоров на технологическое присоединение, включающие технические условия на общую мощность генерирущих установок, МВт | P19: Суммарная мощность генерирущих установок, присоединенных к электрическим сетям в соответствии с договором на технологическое присоединение за отчетный период, МВт
A20: 1 | B20: 2 | C20: 3 | D20: 4 | F20: 5 | H20: 6 | J20: 7 | L20: 8 | N20: 9 | P20: 10
D21: шт | E21: кВт | F21: шт | G21: кВт | H21: шт | I21: кВт | J21: шт | K21: кВт | L21: шт | M21: МВт | N21: шт | O21: МВт | P21: шт | Q21: МВт
A22: Кабардино- Балкарсикй филиал ОАО "МРСК Северного Кавказа" | B22: Кабардино- Балкарская Республика | C22: Нальчикская группа ПС
C23: ПС «Нальчик» | D23: ='июнь 2014г. по 6-10'!D23+'июнь 2014г. по 0,4'!D20 -> 0 | E23: ='июнь 2014г. по 6-10'!E23+'июнь 2014г. по 0,4'!E20 -> 0 | F23: ='июнь 2014г. по 6-10'!F23+'июнь 2014г. по 0,4'!F20 -> 0 | G23: ='июнь 2014г. по 6-10'!G23+'июнь 2014г. по 0,4'!G20 -> 0 | H23: 2 | I23: 11.2 | J23: ='июнь 2014г. по 6-10'!J23+'июнь 2014г. по 0,4'!J20 -> 0 | K23: ='июнь 2014г. по 6-10'!K23+'июнь 2014г. по 0,4'!K20 -> 0 | L23: 0 | M23: 0 | N23: 0 | O23: 0 | P23: 0 | Q23: 0
C24: ПС «Телемеханика-1» | D24: ='июнь 2014г. по 6-10'!D24+'июнь 2014г. по 0,4'!D21 -> 1 | E24: ='июнь 2014г. по 6-10'!E24+'июнь 2014г. по 0,4'!E21 -> 10 | F24: ='июнь 2014г. по 6-10'!F24+'июнь 2014г. по 0,4'!F21 -> 1 | G24: ='июнь 2014г. по 6-10'!G24+'июнь 2014г. по 0,4'!G21 -> 10 | H24: 0 | I24: 0 | J24: ='июнь 2014г. по 6-10'!J24+'июнь 2014г. по 0,4'!J21 -> 0 | K24: ='июнь 2014г. по 6-10'!K24+'июнь 2014г. по 0,4'!K21 -> 0 | L24: 0 | M24: 0 | N24: 0 | O24: 0 | P24: 0 | Q24: 0
C25: ПС «Искож» | D25: ='июнь 2014г. по 6-10'!D25+'июнь 2014г. по 0,4'!D22 -> 0 | E25: ='июнь 2014г. по 6-10'!E25+'июнь 2014г. по 0,4'!E22 -> 0 | F25: ='июнь 2014г. по 6-10'!F25+'июнь 2014г. по 0,4'!F22 -> 0 | G25: ='июнь 2014г. по 6-10'!G25+'июнь 2014г. по 0,4'!G22 -> 0 | H25: 0 | I25: 0 | J25: ='июнь 2014г. по 6-10'!J25+'июнь 2014г. по 0,4'!J22 -> 0 | K25: ='июнь 2014г. по 6-10'!K25+'июнь 2014г. по 0,4'!K22 -> 0 | L25: 0 | M25: 0 | N25: 0 | O25: 0 | P25: 0 | Q25: 0
C26: ПС «СКЭП-Н» | D26: ='июнь 2014г. по 6-10'!D26+'июнь 2014г. по 0,4'!D23 -> 3 | E26: ='июнь 2014г. по 6-10'!E26+'июнь 2014г. по 0,4'!E23 -> 380 | F26: ='июнь 2014г. по 6-10'!F26+'июнь 2014г. по 0,4'!F23 -> 3 | G26: ='июнь 2014г. по 6-10'!G26+'июнь 2014г. по 0,4'!G23 -> 380 | H26: 0 | I26: 0 | J26: ='июнь 2014г. по 6-10'!J26+'июнь 2014г. по 0,4'!J23 -> 0 | K26: ='июнь 2014г. по 6-10'!K26+'июнь 2014г. по 0,4'!K23 -> 0 | L26: 0 | M26: 0 | N26: 0 | O26: 0 | P26: 0 | Q26: 0
C27: ПС «Долинск» | D27: ='июнь 2014г. по 6-10'!D27+'июнь 2014г. по 0,4'!D24 -> 0 | E27: ='июнь 2014г. по 6-10'!E27+'июнь 2014г. по 0,4'!E24 -> 0 | F27: ='июнь 2014г. по 6-10'!F27+'июнь 2014г. по 0,4'!F24 -> 0 | G27: ='июнь 2014г. по 6-10'!G27+'июнь 2014г. по 0,4'!G24 -> 0 | H27: 0 | I27: 0 | J27: ='июнь 2014г. по 6-10'!J27+'июнь 2014г. по 0,4'!J24 -> 0 | K27: ='июнь 2014г. по 6-10'!K27+'июнь 2014г. по 0,4'!K24 -> 0 | L27: 0 | M27: 0 | N27: 0 | O27: 0 | P27: 0 | Q27: 0
C28: ПС «Дубки» | D28: ='июнь 2014г. по 6-10'!D28+'июнь 2014г. по 0,4'!D25 -> 0 | E28: ='июнь 2014г. по 6-10'!E28+'июнь 2014г. по 0,4'!E25 -> 0 | F28: ='июнь 2014г. по 6-10'!F28+'июнь 2014г. по 0,4'!F25 -> 0 | G28: ='июнь 2014г. по 6-10'!G28+'июнь 2014г. по 0,4'!G25 -> 0 | H28: 0 | I28: 0 | J28: ='июнь 2014г. по 6-10'!J28+'июнь 2014г. по 0,4'!J25 -> 0 | K28: ='июнь 2014г. по 6-10'!K28+'июнь 2014г. по 0,4'!K25 -> 0 | L28: 0 | M28: 0 | N28: 0 | O28: 0 | P28: 0 | Q28: 0
C29: ПС «Птицефабрика» | D29: ='июнь 2014г. по 6-10'!D29+'июнь 2014г. по 0,4'!D26 -> 0 | E29: ='июнь 2014г. по 6-10'!E29+'июнь 2014г. по 0,4'!E26 -> 0 | F29: ='июнь 2014г. по 6-10'!F29+'июнь 2014г. по 0,4'!F26 -> 0 | G29: ='июнь 2014г. по 6-10'!G29+'июнь 2014г. по 0,4'!G26 -> 0 | H29: 1 | I29: 300 | J29: ='июнь 2014г. по 6-10'!J29+'июнь 2014г. по 0,4'!J26 -> 0 | K29: ='июнь 2014г. по 6-10'!K29+'июнь 2014г. по 0,4'!K26 -> 0 | L29: 0 | M29: 0 | N29: 0 | O29: 0 | P29: 0 | Q29: 0
C30: итого: | D30: =D23+D24+D25+D26+D27+D28+D29 -> 4 | E30: =E23+E24+E25+E26+E27+E28+E29 -> 390 | F30: =F23+F24+F25+F26+F27+F28+F29 -> 4 | G30: =G23+G24+G25+G26+G27+G28+G29 -> 390 | H30: =H23+H24+H25+H26+H27+H28+H29 -> 3 | I30: =I23+I24+I25+I26+I27+I28+I29 -> 311.2 | J30: =J23+J24+J25+J26+J27+J28+J29 -> 0 | K30: =K23+K24+K25+K26+K27+K28+K29 -> 0 | ... Q30: =Q23+Q24+Q25+Q26+Q27+Q28+Q29 -> 0
C31: Малкинская группа ПС
C32: ПС «Малка» | D32: ='июнь 2014г. по 6-10'!D32+'июнь 2014г. по 0,4'!D29 -> 15 | E32: ='июнь 2014г. по 6-10'!E32+'июнь 2014г. по 0,4'!E29 -> 586 | F32: ='июнь 2014г. по 6-10'!F32+'июнь 2014г. по 0,4'!F29 -> 15 | G32: ='июнь 2014г. по 6-10'!G32+'июнь 2014г. по 0,4'!G29 -> 586 | H32: 0 | I32: 0 | J32: ='июнь 2014г. по 6-10'!J32+'июнь 2014г. по 0,4'!J29 -> 0 | K32: ='июнь 2014г. по 6-10'!K32+'июнь 2014г. по 0,4'!K29 -> 0 | L32: 0 | M32: 0 | N32: 0 | O32: 0 | P32: 0 | Q32: 0
C33: ПС «Каменномостская» | D33: ='июнь 2014г. по 6-10'!D33+'июнь 2014г. по 0,4'!D30 -> 7 | E33: ='июнь 2014г. по 6-10'!E33+'июнь 2014г. по 0,4'!E30 -> 153 | F33: ='июнь 2014г. по 6-10'!F33+'июнь 2014г. по 0,4'!F30 -> 7 | G33: ='июнь 2014г. по 6-10'!G33+'июнь 2014г. по 0,4'!G30 -> 153 | H33: 0 | I33: 0 | J33: ='июнь 2014г. по 6-10'!J33+'июнь 2014г. по 0,4'!J30 -> 0 | K33: ='июнь 2014г. по 6-10'!K33+'июнь 2014г. по 0,4'!K30 -> 0 | L33: 0 | M33: 0 | N33: 0 | O33: 0 | P33: 0 | Q33: 0
C34: ПС «Залукокоаже» | D34: ='июнь 2014г. по 6-10'!D34+'июнь 2014г. по 0,4'!D31 -> 9 | E34: ='июнь 2014г. по 6-10'!E34+'июнь 2014г. по 0,4'!E31 -> 167 | F34: ='июнь 2014г. по 6-10'!F34+'июнь 2014г. по 0,4'!F31 -> 9 | G34: ='июнь 2014г. по 6-10'!G34+'июнь 2014г. по 0,4'!G31 -> 167 | H34: 0 | I34: 0 | J34: ='июнь 2014г. по 6-10'!J34+'июнь 2014г. по 0,4'!J31 -> 2 | K34: ='июнь 2014г. по 6-10'!K34+'июнь 2014г. по 0,4'!K31 -> 27 | L34: 0 | M34: 0 | N34: 0 | O34: 0 | P34: 0 | Q34: 0
C35: ПС «Залукодес» | D35: ='июнь 2014г. по 6-10'!D35+'июнь 2014г. по 0,4'!D32 -> 10 | E35: ='июнь 2014г. по 6-10'!E35+'июнь 2014г. по 0,4'!E32 -> 440 | F35: ='июнь 2014г. по 6-10'!F35+'июнь 2014г. по 0,4'!F32 -> 10 | G35: ='июнь 2014г. по 6-10'!G35+'июнь 2014г. по 0,4'!G32 -> 440 | H35: 0 | I35: 0 | J35: ='июнь 2014г. по 6-10'!J35+'июнь 2014г. по 0,4'!J32 -> 0 | K35: ='июнь 2014г. по 6-10'!K35+'июнь 2014г. по 0,4'!K32 -> 0 | L35: 0 | M35: 0 | N35: 0 | O35: 0 | P35: 0 | Q35: 0
C36: ПС «Сармаково» | D36: ='июнь 2014г. по 6-10'!D36+'июнь 2014г. по 0,4'!D33 -> 37 | E36: ='июнь 2014г. по 6-10'!E36+'июнь 2014г. по 0,4'!E33 -> 1189.5 | F36: ='июнь 2014г. по 6-10'!F36+'июнь 2014г. по 0,4'!F33 -> 37 | G36: ='июнь 2014г. по 6-10'!G36+'июнь 2014г. по 0,4'!G33 -> 1189.5 | H36: 0 | I36: 0 | J36: ='июнь 2014г. по 6-10'!J36+'июнь 2014г. по 0,4'!J33 -> 6 | K36: ='июнь 2014г. по 6-10'!K36+'июнь 2014г. по 0,4'!K33 -> 47.5 | L36: 0 | M36: 0 | N36: 0 | O36: 0 | P36: 0 | Q36: 0
C37: ПС «Аурсентх» | D37: ='июнь 2014г. по 6-10'!D37+'июнь 2014г. по 0,4'!D34 -> 9 | E37: ='июнь 2014г. по 6-10'!E37+'июнь 2014г. по 0,4'!E34 -> 119 | F37: ='июнь 2014г. по 6-10'!F37+'июнь 2014г. по 0,4'!F34 -> 9 | G37: ='июнь 2014г. по 6-10'!G37+'июнь 2014г. по 0,4'!G34 -> 119 | H37: 0 | I37: 0 | J37: ='июнь 2014г. по 6-10'!J37+'июнь 2014г. по 0,4'!J34 -> 0 | K37: ='июнь 2014г. по 6-10'!K37+'июнь 2014г. по 0,4'!K34 -> 0 | L37: 0 | M37: 0 | N37: 0 | O37: 0 | P37: 0 | Q37: 0
C38: итого: | D38: =D32+D33+D34+D35+D36+D37 -> 87 | E38: =E32+E33+E34+E35+E36+E37 -> 2654.5 | F38: =F32+F33+F34+F35+F36+F37 -> 87 | G38: =G32+G33+G34+G35+G36+G37 -> 2654.5 | H38: =H32+H33+H34+H35+H36+H37 -> 0 | I38: =I32+I33+I34+I35+I36+I37 -> 0 | J38: =J32+J33+J34+J35+J36+J37 -> 8 | K38: =K32+K33+K34+K35+K36+K37 -> 74.5 | ... Q38: =Q32+Q33+Q34+Q35+Q36+Q37 -> 0
C39: Эльбрусская группа ПС
C40: ПС «ЦРУ» | D40: ='июнь 2014г. по 6-10'!D40+'июнь 2014г. по 0,4'!D37 -> 14 | E40: ='июнь 2014г. по 6-10'!E40+'июнь 2014г. по 0,4'!E37 -> 147.5 | F40: ='июнь 2014г. по 6-10'!F40+'июнь 2014г. по 0,4'!F37 -> 14 | G40: ='июнь 2014г. по 6-10'!G40+'июнь 2014г. по 0,4'!G37 -> 147.5 | H40: 0 | I40: 0 | J40: ='июнь 2014г. по 6-10'!J40+'июнь 2014г. по 0,4'!J37 -> 1 | K40: ='июнь 2014г. по 6-10'!K40+'июнь 2014г. по 0,4'!K37 -> 10 | L40: 0 | M40: 0 | N40: 0 | O40: 0 | P40: 0 | Q40: 0
C41: ПС «Адыл-Су» | D41: ='июнь 2014г. по 6-10'!D41+'июнь 2014г. по 0,4'!D38 -> 17 | E41: ='июнь 2014г. по 6-10'!E41+'июнь 2014г. по 0,4'!E38 -> 274.2 | F41: ='июнь 2014г. по 6-10'!F41+'июнь 2014г. по 0,4'!F38 -> 17 | G41: ='июнь 2014г. по 6-10'!G41+'июнь 2014г. по 0,4'!G38 -> 274.2 | H41: 0 | I41: 0 | J41: ='июнь 2014г. по 6-10'!J41+'июнь 2014г. по 0,4'!J38 -> 2 | K41: ='июнь 2014г. по 6-10'!K41+'июнь 2014г. по 0,4'!K38 -> 13 | L41: 0 | M41: 0 | N41: 0 | O41: 0 | P41: 0 | Q41: 0
C42: ПС «Нейтрино» | D42: ='июнь 2014г. по 6-10'!D42+'июнь 2014г. по 0,4'!D39 -> 13 | E42: ='июнь 2014г. по 6-10'!E42+'июнь 2014г. по 0,4'!E39 -> 536 | F42: ='июнь 2014г. по 6-10'!F42+'июнь 2014г. по 0,4'!F39 -> 13 | G42: ='июнь 2014г. по 6-10'!G42+'июнь 2014г. по 0,4'!G39 -> 536 | H42: 0 | I42: 0 | J42: ='июнь 2014г. по 6-10'!J42+'июнь 2014г. по 0,4'!J39 -> 2 | K42: ='июнь 2014г. по 6-10'!K42+'июнь 2014г. по 0,4'!K39 -> 20 | L42: 0 | M42: 0 | N42: 0 | O42: 0 | P42: 0 | Q42: 0
C43: ПС «Чегет» | D43: ='июнь 2014г. по 6-10'!D43+'июнь 2014г. по 0,4'!D40 -> 7 | E43: ='июнь 2014г. по 6-10'!E43+'июнь 2014г. по 0,4'!E40 -> 416 | F43: ='июнь 2014г. по 6-10'!F43+'июнь 2014г. по 0,4'!F40 -> 7 | G43: ='июнь 2014г. по 6-10'!G43+'июнь 2014г. по 0,4'!G40 -> 416 | H43: 0 | I43: 0 | J43: ='июнь 2014г. по 6-10'!J43+'июнь 2014г. по 0,4'!J40 -> 1 | K43: ='июнь 2014г. по 6-10'!K43+'июнь 2014г. по 0,4'!K40 -> 10 | L43: 0 | M43: 0 | N43: 0 | O43: 0 | P43: 0 | Q43: 0
C44: ПС «Терскол» | D44: ='июнь 2014г. по 6-10'!D44+'июнь 2014г. по 0,4'!D41 -> 0 | E44: ='июнь 2014г. по 6-10'!E44+'июнь 2014г. по 0,4'!E41 -> 0 | F44: ='июнь 2014г. по 6-10'!F44+'июнь 2014г. по 0,4'!F41 -> 0 | G44: ='июнь 2014г. по 6-10'!G44+'июнь 2014г. по 0,4'!G41 -> 0 | H44: 0 | I44: 0 | J44: ='июнь 2014г. по 6-10'!J44+'июнь 2014г. по 0,4'!J41 -> 0 | K44: ='июнь 2014г. по 6-10'!K44+'июнь 2014г. по 0,4'!K41 -> 0 | L44: 0 | M44: 0 | N44: 0 | O44: 0 | P44: 0 | Q44: 0
C45: ПС «Джайлык» | D45: ='июнь 2014г. по 6-10'!D45+'июнь 2014г. по 0,4'!D42 -> 2 | E45: ='июнь 2014г. по 6-10'!E45+'июнь 2014г. по 0,4'!E42 -> 62 | F45: ='июнь 2014г. по 6-10'!F45+'июнь 2014г. по 0,4'!F42 -> 2 | G45: ='июнь 2014г. по 6-10'!G45+'июнь 2014г. по 0,4'!G42 -> 62 | H45: 0 | I45: 0 | J45: ='июнь 2014г. по 6-10'!J45+'июнь 2014г. по 0,4'!J42 -> 1 | K45: ='июнь 2014г. по 6-10'!K45+'июнь 2014г. по 0,4'!K42 -> 12 | L45: 0 | M45: 0 | N45: 0 | O45: 0 | P45: 0 | Q45: 0
C46: ПС «Соц. городок» | D46: ='июнь 2014г. по 6-10'!D46+'июнь 2014г. по 0,4'!D43 -> 0 | E46: ='июнь 2014г. по 6-10'!E46+'июнь 2014г. по 0,4'!E43 -> 0 | F46: ='июнь 2014г. по 6-10'!F46+'июнь 2014г. по 0,4'!F43 -> 0 | G46: ='июнь 2014г. по 6-10'!G46+'июнь 2014г. по 0,4'!G43 -> 0 | H46: 0 | I46: 0 | J46: ='июнь 2014г. по 6-10'!J46+'июнь 2014г. по 0,4'!J43 -> 0 | K46: ='июнь 2014г. по 6-10'!K46+'июнь 2014г. по 0,4'!K43 -> 0 | L46: 0 | M46: 0 | N46: 0 | O46: 0 | P46: 0 | Q46: 0
C47: ПС «Чалмас» | D47: ='июнь 2014г. по 6-10'!D47+'июнь 2014г. по 0,4'!D44 -> 0 | E47: ='июнь 2014г. по 6-10'!E47+'июнь 2014г. по 0,4'!E44 -> 0 | F47: ='июнь 2014г. по 6-10'!F47+'июнь 2014г. по 0,4'!F44 -> 0 | G47: ='июнь 2014г. по 6-10'!G47+'июнь 2014г. по 0,4'!G44 -> 0 | H47: 0 | I47: 0 | J47: ='июнь 2014г. по 6-10'!J47+'июнь 2014г. по 0,4'!J44 -> 0 | K47: ='июнь 2014г. по 6-10'!K47+'июнь 2014г. по 0,4'!K44 -> 0 | L47: 0 | M47: 0 | N47: 0 | O47: 0 | P47: 0 | Q47: 0
C48: ПС «РМЗ» | D48: ='июнь 2014г. по 6-10'!D48+'июнь 2014г. по 0,4'!D45 -> 21 | E48: ='июнь 2014г. по 6-10'!E48+'июнь 2014г. по 0,4'!E45 -> 945 | F48: ='июнь 2014г. по 6-10'!F48+'июнь 2014г. по 0,4'!F45 -> 21 | G48: ='июнь 2014г. по 6-10'!G48+'июнь 2014г. по 0,4'!G45 -> 945 | H48: 0 | I48: 0 | J48: ='июнь 2014г. по 6-10'!J48+'июнь 2014г. по 0,4'!J45 -> 0 | K48: ='июнь 2014г. по 6-10'!K48+'июнь 2014г. по 0,4'!K45 -> 0 | L48: 0 | M48: 0 | N48: 0 | O48: 0 | P48: 0 | Q48: 0
C49: РП «Водогрейная» | D49: ='июнь 2014г. по 6-10'!D49+'июнь 2014г. по 0,4'!D46 -> 0 | E49: ='июнь 2014г. по 6-10'!E49+'июнь 2014г. по 0,4'!E46 -> 0 | F49: ='июнь 2014г. по 6-10'!F49+'июнь 2014г. по 0,4'!F46 -> 0 | G49: ='июнь 2014г. по 6-10'!G49+'июнь 2014г. по 0,4'!G46 -> 0 | H49: 0 | I49: 0 | J49: ='июнь 2014г. по 6-10'!J49+'июнь 2014г. по 0,4'!J46 -> 0 | K49: ='июнь 2014г. по 6-10'!K49+'июнь 2014г. по 0,4'!K46 -> 0 | L49: 0 | M49: 0 | N49: 0 | O49: 0 | P49: 0 | Q49: 0
C50: ПС «Былым» | D50: ='июнь 2014г. по 6-10'!D50+'июнь 2014г. по 0,4'!D47 -> 3 | E50: ='июнь 2014г. по 6-10'!E50+'июнь 2014г. по 0,4'!E47 -> 183 | F50: ='июнь 2014г. по 6-10'!F50+'июнь 2014г. по 0,4'!F47 -> 3 | G50: ='июнь 2014г. по 6-10'!G50+'июнь 2014г. по 0,4'!G47 -> 183 | H50: 0 | I50: 0 | J50: ='июнь 2014г. по 6-10'!J50+'июнь 2014г. по 0,4'!J47 -> 0 | K50: ='июнь 2014г. по 6-10'!K50+'июнь 2014г. по 0,4'!K47 -> 0 | L50: 0 | M50: 0 | N50: 0 | O50: 0 | P50: 0 | Q50: 0
C51: ПС "Гунделен" | D51: ='июнь 2014г. по 6-10'!D51+'июнь 2014г. по 0,4'!D48 -> 6 | E51: ='июнь 2014г. по 6-10'!E51+'июнь 2014г. по 0,4'!E48 -> 575 | F51: ='июнь 2014г. по 6-10'!F51+'июнь 2014г. по 0,4'!F48 -> 6 | G51: ='июнь 2014г. по 6-10'!G51+'июнь 2014г. по 0,4'!G48 -> 575 | H51: 0 | I51: 0 | J51: ='июнь 2014г. по 6-10'!J51+'июнь 2014г. по 0,4'!J48 -> 0 | K51: ='июнь 2014г. по 6-10'!K51+'июнь 2014г. по 0,4'!K48 -> 0 | L51: 0 | M51: 0 | N51: 0 | O51: 0 | P51: 0 | Q51: 0
C52: итого: | D52: =D40+D41+D42+D43+D44+D45+D46+D47+D48+D49+D50+D51 -> 83 | E52: =E40+E41+E42+E43+E44+E45+E46+E47+E48+E49+E50+E51 -> 3138.7 | F52: =F40+F41+F42+F43+F44+F45+F46+F47+F48+F49+F50+F51 -> 83 | G52: =G40+G41+G42+G43+G44+G45+G46+G47+G48+G49+G50+G51 -> 3138.7 | H52: =H40+H41+H42+H43+H44+H45+H46+H47+H48+H49+H50+H51 -> 0 | I52: =I40+I41+I42+I43+I44+I45+I46+I47+I48+I49+I50+I51 -> 0 | J52: =J40+J41+J42+J43+J44+J45+J46+J47+J48+J49+J50+J51 -> 7 | K52: =K40+K41+K42+K43+K44+K45+K46+K47+K48+K49+K50+K51 -> 65 | ... Q52: =Q40+Q41+Q42+Q43+Q44+Q45+Q46+Q47+Q48+Q49+Q50+Q51 -> 0
...

Sheet июнь 2014г
B14: Информация о технологическом присоединении энергопринимающих устройств к сетям ОАО Дагэнергосеть филиалом ОАО "МРСК Северного Кавказа" за июнь 2014г.
A19: Наименование организации, осуществляющей технологическое присоединение | B19: Наименование субъекта РФ | C19: Наименование центра питания (ПС 35 кВ и выше) | D19: Количество поданных заявок на технологическое присоединение, на общую мощность энергопринимающих устройств, кВт | F19: Заключено договоров на технологическое присоединение, включающие технические условия на общую мощность энергопринимающих устройств, кВт | H19: Расторгнуто договоров на технологическое присоединение, включающие технические условия на общую мощность энергопринимающих устройств, кВт | J19: Суммарная мощность энегргопринимающих устройств, присоединенных к электрическим сетям в соответствии с договором на технологическое присоединение за отчетный период, кВт | L19: Заключено договоров на технологическое присоединение, включающие технические условия на общую мощность генерирущих установок, МВт | N19: Расторгнуто договоров на технологическое присоединение, включающие технические условия на общую мощность генерирущих установок, МВт | P19: Суммарная мощность генерирущих установок, присоединенных к электрическим сетям в соответствии с договором на технологическое присоединение за отчетный период, МВт
A20: 1 | B20: 2 | C20: 3 | D20: 4 | F20: 5 | H20: 6 | J20: 7 | L20: 8 | N20: 9 | P20: 10
D21: шт | E21: кВт | F21: шт | G21: кВт | H21: шт | I21: кВт | J21: шт | K21: кВт | L21: шт | M21: МВт | N21: шт | O21: МВт | P21: шт | Q21: МВт
A22: Кабардино- Балкарсикй филиал ОАО "МРСК Северного Кавказа" | B22: Республика Дагестан | C22: ЦЕНТРАЛЬНЫЕ СЕТИ
C23: ПС ГПП | D23: ='июнь 2014г. по 6-10'!D23+'июнь 2014г. по 0,4'!D20 -> 0 | E23: ='июнь 2014г. по 6-10'!E23+'июнь 2014г. по 0,4'!E20 -> 0 | F23: ='июнь 2014г. по 6-10'!F23+'июнь 2014г. по 0,4'!F20 -> 0 | G23: ='июнь 2014г. по 6-10'!G23+'июнь 2014г. по 0,4'!G20 -> 0 | H23: ='июнь 2014г. по 6-10'!H23+'июнь 2014г. по 0,4'!H20 -> 0 | I23: ='июнь 2014г. по 6-10'!I23+'июнь 2014г. по 0,4'!I20 -> 0 | J23: ='июнь 2014г. по 6-10'!J23+'июнь 2014г. по 0,4'!J20 -> 0 | K23: ='июнь 2014г. по 6-10'!K23+'июнь 2014г. по 0,4'!K20 -> 0 | ... Q23: ='июнь 2014г. по 6-10'!Q23+'июнь 2014г. по 0,4'!Q20 -> 0
C24: ПС Новая | D24: ='июнь 2014г. по 6-10'!D24+'июнь 2014г. по 0,4'!D21 -> 1 | E24: ='июнь 2014г. по 6-10'!E24+'июнь 2014г. по 0,4'!E21 -> 10 | F24: ='июнь 2014г. по 6-10'!F24+'июнь 2014г. по 0,4'!F21 -> 1 | G24: ='июнь 2014г. по 6-10'!G24+'июнь 2014г. по 0,4'!G21 -> 10 | H24: ='июнь 2014г. по 6-10'!H24+'июнь 2014г. по 0,4'!H21 -> 0 | I24: ='июнь 2014г. по 6-10'!I24+'июнь 2014г. по 0,4'!I21 -> 0 | J24: ='июнь 2014г. по 6-10'!J24+'июнь 2014г. по 0,4'!J21 -> 0 | K24: ='июнь 2014г. по 6-10'!K24+'июнь 2014г. по 0,4'!K21 -> 0 | ... Q24: ='июнь 2014г. по 6-10'!Q24+'июнь 2014г. по 0,4'!Q21 -> 0
C25: ПС ЦПП | D25: ='июнь 2014г. по 6-10'!D25+'июнь 2014г. по 0,4'!D22 -> 0 | E25: ='июнь 2014г. по 6-10'!E25+'июнь 2014г. по 0,4'!E22 -> 0 | F25: ='июнь 2014г. по 6-10'!F25+'июнь 2014г. по 0,4'!F22 -> 0 | G25: ='июнь 2014г. по 6-10'!G25+'июнь 2014г. по 0,4'!G22 -> 0 | H25: ='июнь 2014г. по 6-10'!H25+'июнь 2014г. по 0,4'!H22 -> 0 | I25: ='июнь 2014г. по 6-10'!I25+'июнь 2014г. по 0,4'!I22 -> 0 | J25: ='июнь 2014г. по 6-10'!J25+'июнь 2014г. по 0,4'!J22 -> 0 | K25: ='июнь 2014г. по 6-10'!K25+'июнь 2014г. по 0,4'!K22 -> 0 | ... Q25: ='июнь 2014г. по 6-10'!Q25+'июнь 2014г. по 0,4'!Q22 -> 0
C26: ПС М-110 | D26: ='июнь 2014г. по 6-10'!D26+'июнь 2014г. по 0,4'!D23 -> 3 | E26: ='июнь 2014г. по 6-10'!E26+'июнь 2014г. по 0,4'!E23 -> 380 | F26: ='июнь 2014г. по 6-10'!F26+'июнь 2014г. по 0,4'!F23 -> 3 | G26: ='июнь 2014г. по 6-10'!G26+'июнь 2014г. по 0,4'!G23 -> 380 | H26: ='июнь 2014г. по 6-10'!H26+'июнь 2014г. по 0,4'!H23 -> 0 | I26: ='июнь 2014г. по 6-10'!I26+'июнь 2014г. по 0,4'!I23 -> 0 | J26: ='июнь 2014г. по 6-10'!J26+'июнь 2014г. по 0,4'!J23 -> 0 | K26: ='июнь 2014г. по 6-10'!K26+'июнь 2014г. по 0,4'!K23 -> 0 | ... Q26: ='июнь 2014г. по 6-10'!Q26+'июнь 2014г. по 0,4'!Q23 -> 0
C27: ПС Очистные соор. | D27: ='июнь 2014г. по 6-10'!D27+'июнь 2014г. по 0,4'!D24 -> 0 | E27: ='июнь 2014г. по 6-10'!E27+'июнь 2014г. по 0,4'!E24 -> 0 | F27: ='июнь 2014г. по 6-10'!F27+'июнь 2014г. по 0,4'!F24 -> 0 | G27: ='июнь 2014г. по 6-10'!G27+'июнь 2014г. по 0,4'!G24 -> 0 | H27: ='июнь 2014г. по 6-10'!H27+'июнь 2014г. по 0,4'!H24 -> 0 | I27: ='июнь 2014г. по 6-10'!I27+'июнь 2014г. по 0,4'!I24 -> 0 | J27: ='июнь 2014г. по 6-10'!J27+'июнь 2014г. по 0,4'!J24 -> 0 | K27: ='июнь 2014г. по 6-10'!K27+'июнь 2014г. по 0,4'!K24 -> 0 | ... Q27: ='июнь 2014г. по 6-10'!Q27+'июнь 2014г. по 0,4'!Q24 -> 0
C28: ПС Ю-Восточная | D28: ='июнь 2014г. по 6-10'!D28+'июнь 2014г. по 0,4'!D25 -> 0 | E28: ='июнь 2014г. по 6-10'!E28+'июнь 2014г. по 0,4'!E25 -> 0 | F28: ='июнь 2014г. по 6-10'!F28+'июнь 2014г. по 0,4'!F25 -> 0 | G28: ='июнь 2014г. по 6-10'!G28+'июнь 2014г. по 0,4'!G25 -> 0 | H28: ='июнь 2014г. по 6-10'!H28+'июнь 2014г. по 0,4'!H25 -> 0 | I28: ='июнь 2014г. по 6-10'!I28+'июнь 2014г. по 0,4'!I25 -> 0 | J28: ='июнь 2014г. по 6-10'!J28+'июнь 2014г. по 0,4'!J25 -> 0 | K28: ='июнь 2014г. по 6-10'!K28+'июнь 2014г. по 0,4'!K25 -> 0 | ... Q28: ='июнь 2014г. по 6-10'!Q28+'июнь 2014г. по 0,4'!Q25 -> 0
C29: ПС Приморская | D29: ='июнь 2014г. по 6-10'!D29+'июнь 2014г. по 0,4'!D26 -> 0 | E29: ='июнь 2014г. по 6-10'!E29+'июнь 2014г. по 0,4'!E26 -> 0 | F29: ='июнь 2014г. по 6-10'!F29+'июнь 2014г. по 0,4'!F26 -> 0 | G29: ='июнь 2014г. по 6-10'!G29+'июнь 2014г. по 0,4'!G26 -> 0 | H29: ='июнь 2014г. по 6-10'!H29+'июнь 2014г. по 0,4'!H26 -> 0 | I29: ='июнь 2014г. по 6-10'!I29+'июнь 2014г. по 0,4'!I26 -> 0 | J29: ='июнь 2014г. по 6-10'!J29+'июнь 2014г. по 0,4'!J26 -> 0 | K29: ='июнь 2014г. по 6-10'!K29+'июнь 2014г. по 0,4'!K26 -> 0 | ... Q29: ='июнь 2014г. по 6-10'!Q29+'июнь 2014г. по 0,4'!Q26 -> 0
C30: ПС Насосная -1 | D30: ='июнь 2014г. по 6-10'!D30+'июнь 2014г. по 0,4'!D27 -> 13 | E30: ='июнь 2014г. по 6-10'!E30+'июнь 2014г. по 0,4'!E27 -> 351.4 | F30: ='июнь 2014г. по 6-10'!F30+'июнь 2014г. по 0,4'!F27 -> 13 | G30: ='июнь 2014г. по 6-10'!G30+'июнь 2014г. по 0,4'!G27 -> 351.4 | H30: ='июнь 2014г. по 6-10'!H30+'июнь 2014г. по 0,4'!H27 -> 0 | I30: ='июнь 2014г. по 6-10'!I30+'июнь 2014г. по 0,4'!I27 -> 0 | J30: ='июнь 2014г. по 6-10'!J30+'июнь 2014г. по 0,4'!J27 -> 1 | K30: ='июнь 2014г. по 6-10'!K30+'июнь 2014г. по 0,4'!K27 -> 10 | ... Q30: ='июнь 2014г. по 6-10'!Q30+'июнь 2014г. по 0,4'!Q27 -> 0
C31: ПС Радиоцентр | D31: ='июнь 2014г. по 6-10'!D31+'июнь 2014г. по 0,4'!D28 -> 3 | E31: ='июнь 2014г. по 6-10'!E31+'июнь 2014г. по 0,4'!E28 -> 564 | F31: ='июнь 2014г. по 6-10'!F31+'июнь 2014г. по 0,4'!F28 -> 3 | G31: ='июнь 2014г. по 6-10'!G31+'июнь 2014г. по 0,4'!G28 -> 564 | H31: ='июнь 2014г. по 6-10'!H31+'июнь 2014г. по 0,4'!H28 -> 0 | I31: ='июнь 2014г. по 6-10'!I31+'июнь 2014г. по 0,4'!I28 -> 0 | J31: ='июнь 2014г. по 6-10'!J31+'июнь 2014г. по 0,4'!J28 -> 0 | K31: ='июнь 2014г. по 6-10'!K31+'июнь 2014г. по 0,4'!K28 -> 0 | ... Q31: ='июнь 2014г. по 6-10'!Q31+'июнь 2014г. по 0,4'!Q28 -> 0
C32: ПС Изберг- Сев. | D32: ='июнь 2014г. по 6-10'!D32+'июнь 2014г. по 0,4'!D29 -> 15 | E32: ='июнь 2014г. по 6-10'!E32+'июнь 2014г. по 0,4'!E29 -> 586 | F32: ='июнь 2014г. по 6-10'!F32+'июнь 2014г. по 0,4'!F29 -> 15 | G32: ='июнь 2014г. по 6-10'!G32+'июнь 2014г. по 0,4'!G29 -> 586 | H32: ='июнь 2014г. по 6-10'!H32+'июнь 2014г. по 0,4'!H29 -> 0 | I32: ='июнь 2014г. по 6-10'!I32+'июнь 2014г. по 0,4'!I29 -> 0 | J32: ='июнь 2014г. по 6-10'!J32+'июнь 2014г. по 0,4'!J29 -> 0 | K32: ='июнь 2014г. по 6-10'!K32+'июнь 2014г. по 0,4'!K29 -> 0 | ... Q32: ='июнь 2014г. по 6-10'!Q32+'июнь 2014г. по 0,4'!Q29 -> 0
C33: ПС Изберг- Южн. | D33: ='июнь 2014г. по 6-10'!D33+'июнь 2014г. по 0,4'!D30 -> 7 | E33: ='июнь 2014г. по 6-10'!E33+'июнь 2014г. по 0,4'!E30 -> 153 | F33: ='июнь 2014г. по 6-10'!F33+'июнь 2014г. по 0,4'!F30 -> 7 | G33: ='июнь 2014г. по 6-10'!G33+'июнь 2014г. по 0,4'!G30 -> 153 | H33: ='июнь 2014г. по 6-10'!H33+'июнь 2014г. по 0,4'!H30 -> 0 | I33: ='июнь 2014г. по 6-10'!I33+'июнь 2014г. по 0,4'!I30 -> 0 | J33: ='июнь 2014г. по 6-10'!J33+'июнь 2014г. по 0,4'!J30 -> 0 | K33: ='июнь 2014г. по 6-10'!K33+'июнь 2014г. по 0,4'!K30 -> 0 | ... Q33: ='июнь 2014г. по 6-10'!Q33+'июнь 2014г. по 0,4'!Q30 -> 0
C34: ПС Карабуд-т | D34: ='июнь 2014г. по 6-10'!D34+'июнь 2014г. по 0,4'!D31 -> 9 | E34: ='июнь 2014г. по 6-10'!E34+'июнь 2014г. по 0,4'!E31 -> 167 | F34: ='июнь 2014г. по 6-10'!F34+'июнь 2014г. по 0,4'!F31 -> 9 | G34: ='июнь 2014г. по 6-10'!G34+'июнь 2014г. по 0,4'!G31 -> 167 | H34: ='июнь 2014г. по 6-10'!H34+'июнь 2014г. по 0,4'!H31 -> 0 | I34: ='июнь 2014г. по 6-10'!I34+'июнь 2014г. по 0,4'!I31 -> 0 | J34: ='июнь 2014г. по 6-10'!J34+'июнь 2014г. по 0,4'!J31 -> 2 | K34: ='июнь 2014г. по 6-10'!K34+'июнь 2014г. по 0,4'!K31 -> 27 | ... Q34: ='июнь 2014г. по 6-10'!Q34+'июнь 2014г. по 0,4'!Q31 -> 0
... C63: ПС ЗТМ | D63: ='июнь 2014г. по 6-10'!D63+'июнь 2014г. по 0,4'!D60 -> 2 | E63: ='июнь 2014г. по 6-10'!E63+'июнь 2014г. по 0,4'!E60 -> 495 | F63: ='июнь 2014г. по 6-10'!F63+'июнь 2014г. по 0,4'!F60 -> 2 | G63: ='июнь 2014г. по 6-10'!G63+'июнь 2014г. по 0,4'!G60 -> 495 | H63: ='июнь 2014г. по 6-10'!H63+'июнь 2014г. по 0,4'!H60 -> 0 | I63: ='июнь 2014г. по 6-10'!I63+'июнь 2014г. по 0,4'!I60 -> 0 | J63: ='июнь 2014г. по 6-10'!J63+'июнь 2014г. по 0,4'!J60 -> 0 | K63: ='июнь 2014г. по 6-10'!K63+'июнь 2014г. по 0,4'!K60 -> 0 | ... Q63: ='июнь 2014г. по 6-10'!Q63+'июнь 2014г. по 0,4'!Q60 -> 0
C64: итого: | D64: =SUM(D23:D63) -> 265 | E64: =SUM(E23:E63) -> 9256.1 | F64: =SUM(F23:F63) -> 265 | G64: =SUM(G23:G63) -> 9256.1 | H64: =SUM(H23:H63) -> 0 | I64: =SUM(I23:I63) -> 0 | J64: =SUM(J23:J63) -> 20 | K64: =SUM(K23:K63) -> 184.5 | ... Q64: =SUM(Q23:Q63) -> 0
C65: СЕВЕРНЫЕ СЕТИ
C66: Ярыксу | D66: ='июнь 2014г. по 6-10'!D66+'июнь 2014г. по 0,4'!D63 -> 36 | E66: ='июнь 2014г. по 6-10'!E66+'июнь 2014г. по 0,4'!E63 -> 773 | F66: ='июнь 2014г. по 6-10'!F66+'июнь 2014г. по 0,4'!F63 -> 36 | G66: ='июнь 2014г. по 6-10'!G66+'июнь 2014г. по 0,4'!G63 -> 773 | H66: ='июнь 2014г. по 6-10'!H66+'июнь 2014г. по 0,4'!H63 -> 0 | I66: ='июнь 2014г. по 6-10'!I66+'июнь 2014г. по 0,4'!I63 -> 0 | J66: ='июнь 2014г. по 6-10'!J66+'июнь 2014г. по 0,4'!J63 -> 5 | K66: ='июнь 2014г. по 6-10'!K66+'июнь 2014г. по 0,4'!K63 -> 52 | ... Q66: ='июнь 2014г. по 6-10'!Q66+'июнь 2014г. по 0,4'!Q63 -> 0
C67: Акташ | D67: ='июнь 2014г. по 6-10'!D67+'июнь 2014г. по 0,4'!D64 -> 34 | E67: ='июнь 2014г. по 6-10'!E67+'июнь 2014г. по 0,4'!E64 -> 636.5 | F67: ='июнь 2014г. по 6-10'!F67+'июнь 2014г. по 0,4'!F64 -> 34 | G67: ='июнь 2014г. по 6-10'!G67+'июнь 2014г. по 0,4'!G64 -> 636.5 | H67: ='июнь 2014г. по 6-10'!H67+'июнь 2014г. по 0,4'!H64 -> 0 | I67: ='июнь 2014г. по 6-10'!I67+'июнь 2014г. по 0,4'!I64 -> 0 | J67: ='июнь 2014г. по 6-10'!J67+'июнь 2014г. по 0,4'!J64 -> 4 | K67: ='июнь 2014г. по 6-10'!K67+'июнь 2014г. по 0,4'!K64 -> 50 | ... Q67: ='июнь 2014г. по 6-10'!Q67+'июнь 2014г. по 0,4'!Q64 -> 0
C68: Куруш | D68: ='июнь 2014г. по 6-10'!D68+'июнь 2014г. по 0,4'!D65 -> 8 | E68: ='июнь 2014г. по 6-10'!E68+'июнь 2014г. по 0,4'!E65 -> 619.5 | F68: ='июнь 2014г. по 6-10'!F68+'июнь 2014г. по 0,4'!F65 -> 8 | G68: ='июнь 2014г. по 6-10'!G68+'июнь 2014г. по 0,4'!G65 -> 619.5 | H68: ='июнь 2014г. по 6-10'!H68+'июнь 2014г. по 0,4'!H65 -> 0 | I68: ='июнь 2014г. по 6-10'!I68+'июнь 2014г. по 0,4'!I65 -> 0 | J68: ='июнь 2014г. по 6-10'!J68+'июнь 2014г. по 0,4'!J65 -> 2 | K68: ='июнь 2014г. по 6-10'!K68+'июнь 2014г. по 0,4'!K65 -> 10 | ... Q68: ='июнь 2014г. по 6-10'!Q68+'июнь 2014г. по 0,4'!Q65 -> 0
C69: Сулевкент | D69: ='июнь 2014г. по 6-10'!D69+'июнь 2014г. по 0,4'!D66 -> 1 | E69: ='июнь 2014г. по 6-10'!E69+'июнь 2014г. по 0,4'!E66 -> 15 | F69: ='июнь 2014г. по 6-10'!F69+'июнь 2014г. по 0,4'!F66 -> 1 | G69: ='июнь 2014г. по 6-10'!G69+'июнь 2014г. по 0,4'!G66 -> 15 | H69: ='июнь 2014г. по 6-10'!H69+'июнь 2014г. по 0,4'!H66 -> 0 | I69: ='июнь 2014г. по 6-10'!I69+'июнь 2014г. по 0,4'!I66 -> 0 | J69: ='июнь 2014г. по 6-10'!J69+'июнь 2014г. по 0,4'!J66 -> 0 | K69: ='июнь 2014г. по 6-10'!K69+'июнь 2014г. по 0,4'!K66 -> 0 | ... Q69: ='июнь 2014г. по 6-10'!Q69+'июнь 2014г. по 0,4'!Q66 -> 0
C70: Бабаюрт | D70: ='июнь 2014г. по 6-10'!D70+'июнь 2014г. по 0,4'!D67 -> 8 | E70: ='июнь 2014г. по 6-10'!E70+'июнь 2014г. по 0,4'!E67 -> 106 | F70: ='июнь 2014г. по 6-10'!F70+'июнь 2014г. по 0,4'!F67 -> 8 | G70: ='июнь 2014г. по 6-10'!G70+'июнь 2014г. по 0,4'!G67 -> 106 | H70: ='июнь 2014г. по 6-10'!H70+'июнь 2014г. по 0,4'!H67 -> 0 | I70: ='июнь 2014г. по 6-10'!I70+'июнь 2014г. по 0,4'!I67 -> 0 | J70: ='июнь 2014г. по 6-10'!J70+'июнь 2014г. по 0,4'!J67 -> 0 | K70: ='июнь 2014г. по 6-10'!K70+'июнь 2014г. по 0,4'!K67 -> 0 | ... Q70: ='июнь 2014г. по 6-10'!Q70+'июнь 2014г. по 0,4'!Q67 -> 0
C71: Чиркей | D71: ='июнь 2014г. по 6-10'!D71+'июнь 2014г. по 0,4'!D68 -> 1 | E71: ='июнь 2014г. по 6-10'!E71+'июнь 2014г. по 0,4'!E68 -> 10 | F71: ='июнь 2014г. по 6-10'!F71+'июнь 2014г. по 0,4'!F68 -> 1 | G71: ='июнь 2014г. по 6-10'!G71+'июнь 2014г. по 0,4'!G68 -> 10 | H71: ='июнь 2014г. по 6-10'!H71+'июнь 2014г. по 0,4'!H68 -> 0 | I71: ='июнь 2014г. по 6-10'!I71+'июнь 2014г. по 0,4'!I68 -> 0 | J71: ='июнь 2014г. по 6-10'!J71+'июнь 2014г. по 0,4'!J68 -> 0 | K71: ='июнь 2014г. по 6-10'!K71+'июнь 2014г. по 0,4'!K68 -> 0 | ... Q71: ='июнь 2014г. по 6-10'!Q71+'июнь 2014г. по 0,4'!Q68 -> 0
C72: Дылым | D72: ='июнь 2014г. по 6-10'!D72+'июнь 2014г. по 0,4'!D69 -> 4 | E72: ='июнь 2014г. по 6-10'!E72+'июнь 2014г. по 0,4'!E69 -> 32.5 | F72: ='июнь 2014г. по 6-10'!F72+'июнь 2014г. по 0,4'!F69 -> 4 | G72: ='июнь 2014г. по 6-10'!G72+'июнь 2014г. по 0,4'!G69 -> 32.5 | H72: ='июнь 2014г. по 6-10'!H72+'июнь 2014г. по 0,4'!H69 -> 0 | I72: ='июнь 2014г. по 6-10'!I72+'июнь 2014г. по 0,4'!I69 -> 0 | J72: ='июнь 2014г. по 6-10'!J72+'июнь 2014г. по 0,4'!J69 -> 0 | K72: ='июнь 2014г. по 6-10'!K72+'июнь 2014г. по 0,4'!K69 -> 0 | ... Q72: ='июнь 2014г. по 6-10'!Q72+'июнь 2014г. по 0,4'!Q69 -> 0
C73: Миатлы | D73: ='июнь 2014г. по 6-10'!D73+'июнь 2014г. по 0,4'!D70 -> 0 | E73: ='июнь 2014г. по 6-10'!E73+'июнь 2014г. по 0,4'!E70 -> 0 | F73: ='июнь 2014г. по 6-10'!F73+'июнь 2014г. по 0,4'!F70 -> 0 | G73: ='июнь 2014г. по 6-10'!G73+'июнь 2014г. по 0,4'!G70 -> 0 | H73: ='июнь 2014г. по 6-10'!H73+'июнь 2014г. по 0,4'!H70 -> 0 | I73: ='июнь 2014г. по 6-10'!I73+'июнь 2014г. по 0,4'!I70 -> 0 | J73: ='июнь 2014г. по 6-10'!J73+'июнь 2014г. по 0,4'!J70 -> 0 | K73: ='июнь 2014г. по 6-10'!K73+'июнь 2014г. по 0,4'!K70 -> 0 | ... Q73: ='июнь 2014г. по 6-10'!Q73+'июнь 2014г. по 0,4'!Q70 -> 0
C74: ГЩЗ | D74: ='июнь 2014г. по 6-10'!D74+'июнь 2014г. по 0,4'!D71 -> 4 | E74: ='июнь 2014г. по 6-10'!E74+'июнь 2014г. по 0,4'!E71 -> 40 | F74: ='июнь 2014г. по 6-10'!F74+'июнь 2014г. по 0,4'!F71 -> 4 | G74: ='июнь 2014г. по 6-10'!G74+'июнь 2014г. по 0,4'!G71 -> 40 | H74: ='июнь 2014г. по 6-10'!H74+'июнь 2014г. по 0,4'!H71 -> 0 | I74: ='июнь 2014г. по 6-10'!I74+'июнь 2014г. по 0,4'!I71 -> 0 | J74: ='июнь 2014г. по 6-10'!J74+'июнь 2014г. по 0,4'!J71 -> 0 | K74: ='июнь 2014г. по 6-10'!K74+'июнь 2014г. по 0,4'!K71 -> 0 | ... Q74: ='июнь 2014г. по 6-10'!Q74+'июнь 2014г. по 0,4'!Q71 -> 0
C75: Сулак | D75: ='июнь 2014г. по 6-10'!D75+'июнь 2014г. по 0,4'!D72 -> 1 | E75: ='июнь 2014г. по 6-10'!E75+'июнь 2014г. по 0,4'!E72 -> 6 | F75: ='июнь 2014г. по 6-10'!F75+'июнь 2014г. по 0,4'!F72 -> 1 | G75: ='июнь 2014г. по 6-10'!G75+'июнь 2014г. по 0,4'!G72 -> 6 | H75: ='июнь 2014г. по 6-10'!H75+'июнь 2014г. по 0,4'!H72 -> 0 | I75: ='июнь 2014г. по 6-10'!I75+'июнь 2014г. по 0,4'!I72 -> 0 | J75: ='июнь 2014г. по 6-10'!J75+'июнь 2014г. по 0,4'!J72 -> 0 | K75: ='июнь 2014г. по 6-10'!K75+'июнь 2014г. по 0,4'!K72 -> 0 | ... Q75: ='июнь 2014г. по 6-10'!Q75+'июнь 2014г. по 0,4'!Q72 -> 0
C76: Львовская | D76: ='июнь 2014г. по 6-10'!D76+'июнь 2014г. по 0,4'!D73 -> 0 | E76: ='июнь 2014г. по 6-10'!E76+'июнь 2014г. по 0,4'!E73 -> 0 | F76: ='июнь 2014г. по 6-10'!F76+'июнь 2014г. по 0,4'!F73 -> 0 | G76: ='июнь 2014г. по 6-10'!G76+'июнь 2014г. по 0,4'!G73 -> 0 | H76: ='июнь 2014г. по 6-10'!H76+'июнь 2014г. по 0,4'!H73 -> 0 | I76: ='июнь 2014г. по 6-10'!I76+'июнь 2014г. по 0,4'!I73 -> 0 | J76: ='июнь 2014г. по 6-10'!J76+'июнь 2014г. по 0,4'!J73 -> 0 | K76: ='июнь 2014г. по 6-10'!K76+'июнь 2014г. по 0,4'!K73 -> 0 | ... Q76: ='июнь 2014г. по 6-10'!Q76+'июнь 2014г. по 0,4'!Q73 -> 0
C77: Дагестан | D77: ='июнь 2014г. по 6-10'!D77+'июнь 2014г. по 0,4'!D74 -> 11 | E77: ='июнь 2014г. по 6-10'!E77+'июнь 2014г. по 0,4'!E74 -> 94 | F77: ='июнь 2014г. по 6-10'!F77+'июнь 2014г. по 0,4'!F74 -> 11 | G77: ='июнь 2014г. по 6-10'!G77+'июнь 2014г. по 0,4'!G74 -> 94 | H77: ='июнь 2014г. по 6-10'!H77+'июнь 2014г. по 0,4'!H74 -> 0 | I77: ='июнь 2014г. по 6-10'!I77+'июнь 2014г. по 0,4'!I74 -> 0 | J77: ='июнь 2014г. по 6-10'!J77+'июнь 2014г. по 0,4'!J74 -> 0 | K77: ='июнь 2014г. по 6-10'!K77+'июнь 2014г. по 0,4'!K74 -> 0 | ... Q77: ='июнь 2014г. по 6-10'!Q77+'июнь 2014г. по 0,4'!Q74 -> 0
... C101: Карланюрт -(Тяговая) | D101: ='июнь 2014г. по 6-10'!D101+'июнь 2014г. по 0,4'!D98 -> 3 | E101: ='июнь 2014г. по 6-10'!E101+'июнь 2014г. по 0,4'!E98 -> 360 | F101: ='июнь 2014г. по 6-10'!F101+'июнь 2014г. по 0,4'!F98 -> 3 | G101: ='июнь 2014г. по 6-10'!G101+'июнь 2014г. по 0,4'!G98 -> 360 | H101: ='июнь 2014г. по 6-10'!H101+'июнь 2014г. по 0,4'!H98 -> 0 | I101: ='июнь 2014г. по 6-10'!I101+'июнь 2014г. по 0,4'!I98 -> 0 | J101: ='июнь 2014г. по 6-10'!J101+'июнь 2014г. по 0,4'!J98 -> 0 | K101: ='июнь 2014г. по 6-10'!K101+'июнь 2014г. по 0,4'!K98 -> 0 | ... Q101: ='июнь 2014г. по 6-10'!Q101+'июнь 2014г. по 0,4'!Q98 -> 0
C102: итого: | D102: =SUM(D66:D101) -> 169 | E102: =SUM(E66:E101) -> 3397.5 | F102: =SUM(F66:F101) -> 169 | G102: =SUM(G66:G101) -> 3397.5 | H102: =SUM(H66:H101) -> 0 | I102: =SUM(I66:I101) -> 0 | J102: =SUM(J66:J101) -> 14 | K102: =SUM(K66:K101) -> 130 | ... Q102: =SUM(Q66:Q101) -> 0
C103: ДЕРБЕНТСКИЕ СЕТИ
C104: Дербент-330 | D104: ='июнь 2014г. по 6-10'!D104+'июнь 2014г. по 0,4'!D101 -> 26 | E104: ='июнь 2014г. по 6-10'!E104+'июнь 2014г. по 0,4'!E101 -> 1642 | F104: ='июнь 2014г. по 6-10'!F104+'июнь 2014г. по 0,4'!F101 -> 26 | G104: ='июнь 2014г. по 6-10'!G104+'июнь 2014г. по 0,4'!G101 -> 1642 | H104: ='июнь 2014г. по 6-10'!H104+'июнь 2014г. по 0,4'!H101 -> 0 | I104: ='июнь 2014г. по 6-10'!I104+'июнь 2014г. по 0,4'!I101 -> 0 | J104: ='июнь 2014г. по 6-10'!J104+'июнь 2014г. по 0,4'!J101 -> 0 | K104: ='июнь 2014г. по 6-10'!K104+'июнь 2014г. по 0,4'!K101 -> 0 | ... Q104: ='июнь 2014г. по 6-10'!Q104+'июнь 2014г. по 0,4'!Q101 -> 0
C105: Дербент-С | D105: ='июнь 2014г. по 6-10'!D105+'июнь 2014г. по 0,4'!D102 -> 18 | E105: ='июнь 2014г. по 6-10'!E105+'июнь 2014г. по 0,4'!E102 -> 419 | F105: ='июнь 2014г. по 6-10'!F105+'июнь 2014г. по 0,4'!F102 -> 18 | G105: ='июнь 2014г. по 6-10'!G105+'июнь 2014г. по 0,4'!G102 -> 419 | H105: ='июнь 2014г. по 6-10'!H105+'июнь 2014г. по 0,4'!H102 -> 0 | I105: ='июнь 2014г. по 6-10'!I105+'июнь 2014г. по 0,4'!I102 -> 0 | J105: ='июнь 2014г. по 6-10'!J105+'июнь 2014г. по 0,4'!J102 -> 0 | K105: ='июнь 2014г. по 6-10'!K105+'июнь 2014г. по 0,4'!K102 -> 0 | ... Q105: ='июнь 2014г. по 6-10'!Q105+'июнь 2014г. по 0,4'!Q102 -> 0
C106: Мамедкала | D106: ='июнь 2014г. по 6-10'!D106+'июнь 2014г. по 0,4'!D103 -> 4 | E106: ='июнь 2014г. по 6-10'!E106+'июнь 2014г. по 0,4'!E103 -> 37 | F106: ='июнь 2014г. по 6-10'!F106+'июнь 2014г. по 0,4'!F103 -> 4 | G106: ='июнь 2014г. по 6-10'!G106+'июнь 2014г. по 0,4'!G103 -> 37 | H106: ='июнь 2014г. по 6-10'!H106+'июнь 2014г. по 0,4'!H103 -> 0 | I106: ='июнь 2014г. по 6-10'!I106+'июнь 2014г. по 0,4'!I103 -> 0 | J106: ='июнь 2014г. по 6-10'!J106+'июнь 2014г. по 0,4'!J103 -> 0 | K106: ='июнь 2014г. по 6-10'!K106+'июнь 2014г. по 0,4'!K103 -> 0 | ... Q106: ='июнь 2014г. по 6-10'!Q106+'июнь 2014г. по 0,4'!Q103 -> 0
C107: Каякент | D107: ='июнь 2014г. по 6-10'!D107+'июнь 2014г. по 0,4'!D104 -> 22 | E107: ='июнь 2014г. по 6-10'!E107+'июнь 2014г. по 0,4'!E104 -> 1043 | F107: ='июнь 2014г. по 6-10'!F107+'июнь 2014г. по 0,4'!F104 -> 22 | G107: ='июнь 2014г. по 6-10'!G107+'июнь 2014г. по 0,4'!G104 -> 1043 | H107: ='июнь 2014г. по 6-10'!H107+'июнь 2014г. по 0,4'!H104 -> 0 | I107: ='июнь 2014г. по 6-10'!I107+'июнь 2014г. по 0,4'!I104 -> 0 | J107: ='июнь 2014г. по 6-10'!J107+'июнь 2014г. по 0,4'!J104 -> 2 | K107: ='июнь 2014г. по 6-10'!K107+'июнь 2014г. по 0,4'!K104 -> 10 | ... Q107: ='июнь 2014г. по 6-10'!Q107+'июнь 2014г. по 0,4'!Q104 -> 0
C108: Белиджи | D108: ='июнь 2014г. по 6-10'!D108+'июнь 2014г. по 0,4'!D105 -> 9 | E108: ='июнь 2014г. по 6-10'!E108+'июнь 2014г. по 0,4'!E105 -> 164 | F108: ='июнь 2014г. по 6-10'!F108+'июнь 2014г. по 0,4'!F105 -> 9 | G108: ='июнь 2014г. по 6-10'!G108+'июнь 2014г. по 0,4'!G105 -> 164 | H108: ='июнь 2014г. по 6-10'!H108+'июнь 2014г. по 0,4'!H105 -> 0 | I108: ='июнь 2014г. по 6-10'!I108+'июнь 2014г. по 0,4'!I105 -> 0 | J108: ='июнь 2014г. по 6-10'!J108+'июнь 2014г. по 0,4'!J105 -> 1 | K108: ='июнь 2014г. по 6-10'!K108+'июнь 2014г. по 0,4'!K105 -> 10 | ... Q108: ='июнь 2014г. по 6-10'!Q108+'июнь 2014г. по 0,4'!Q105 -> 0
...

Sheet июнь 2014г. по 6-10
M1: Приложение № 28
M2: к Положению о технологическом присоединении
M3: энергетических установок к электрическим сетям
M4: ОАО «МРСК Северного Кавказа», управляемых
M5: Обществ
B14: Информация о технологическом присоединении энергопринимающих устройств к сетям ОАО Дагэнергосеть филиалом ОАО "МРСК Северного Кавказа" за июнь 2014г.
A19: Наименование организации, осуществляющей технологическое присоединение | B19: Наименование субъекта РФ | C19: Наименование центра питания (ПС 35 кВ и выше) | D19: Количество поданных заявок на технологическое присоединение, на общую мощность энергопринимающих устройств, кВт | F19: Заключено договоров на технологическое присоединение, включающие технические условия на общую мощность энергопринимающих устройств, кВт | H19: Расторгнуто договоров на технологическое присоединение, включающие технические условия на общую мощность энергопринимающих устройств, кВт | J19: Суммарная мощность энегргопринимающих устройств, присоединенных к электрическим сетям в соответствии с договором на технологическое присоединение за отчетный период, кВт | L19: Заключено договоров на технологическое присоединение, включающие технические условия на общую мощность генерирущих установок, МВт | N19: Расторгнуто договоров на технологическое присоединение, включающие технические условия на общую мощность генерирущих установок, МВт | P19: Суммарная мощность генерирущих установок, присоединенных к электрическим сетям в соответствии с договором на технологическое присоединение за отчетный период, МВт
A20: 1 | B20: 2 | C20: 3 | D20: 4 | F20: 5 | H20: 6 | J20: 7 | L20: 8 | N20: 9 | P20: 10
D21: шт | E21: кВт | F21: шт | G21: кВт | H21: шт | I21: кВт | J21: шт | K21: кВт | L21: шт | M21: МВт | N21: шт | O21: МВт | P21: шт | Q21: МВт
A22: Кабардино- Балкарсикй филиал ОАО "МРСК Северного Кавказа" | B22: Республика Дагестан | C22: ЦЕНТРАЛЬНЫЕ СЕТИ
C23: ПС ГПП | H23: 0
C24: ПС Новая | D24: 1 | E24: 10 | F24: 1 | G24: 10 | H24: 0
C25: ПС ЦПП | H25: 0
C26: ПС М-110 | D26: 3 | E26: =80+100+200 -> 380 | F26: 3 | G26: =80+100+200 -> 380 | H26: 0
C27: ПС Очистные соор. | H27: 0
C28: ПС Ю-Восточная | H28: 0
C29: ПС Приморская | H29: 0
C30: ПС Насосная -1 | D30: 9 | E30: =30+4.4+15+10+30+15+10+5+150 -> 269.4 | F30: 9 | G30: 269.4 | H30: 0
C31: ПС Радиоцентр | D31: 2 | E31: =60+500 -> 560 | F31: 2 | G31: 560 | H31: 0
C32: ПС Изберг- Сев. | D32: 5 | E32: =10+100+300+80+10 -> 500 | F32: 5 | G32: 500 | H32: 0
C33: ПС Изберг- Южн. | D33: 2 | E33: =60+48 -> 108 | F33: 2 | G33: 108 | H33: 0
C34: ПС Карабуд-т | D34: 3 | E34: =15+10+30 -> 55 | F34: 3 | G34: 55 | H34: 0 | J34: 1 | K34: =15 -> 15
C35: ПС Рассвет | D35: 9 | E35: =15+100+25+20+20+25+160+45+15 -> 425 | F35: 9 | G35: 425 | H35: 0
C36: ПС Шамхал | D36: 10 | E36: =50+150+18+160+90+200+75+15+150+50 -> 958 | F36: 10 | G36: 958 | H36: 0
C37: ПС Сергокала | D37: 2 | E37: =60+15 -> 75 | F37: 2 | G37: 75 | H37: 0
C38: ПС Алмало | D38: 2 | E38: =155+15 -> 170 | F38: 2 | G38: =155+15 -> 170 | H38: 0
C39: ПС Буйнакск -1 | D39: 1 | E39: 14 | F39: 1 | G39: 14 | H39: 0
C40: ПС Буйнакск -2 | D40: 1 | E40: 60 | F40: 1 | G40: 60 | H40: 0
C41: ПС Казанище | D41: 5 | E41: =10+15+15+20+70 -> 130 | F41: 5 | G41: 130 | H41: 0
C42: ПС Согратль | D42: 4 | E42: =20+170+180+60 -> 430 | F42: 4 | G42: 430 | H42: 0
C43: ПС Дженгутай | D43: 3 | E43: =180+100+100 -> 380 | F43: 3 | G43: 380 | H43: 0
C44: ПС Такалай | H44: 0
C45: ПС Параул | D45: 1 | E45: 50 | F45: 1 | G45: 50 | H45: 0
C46: ПС Восточная | H46: 0
C47: ПС Приозерная | H47: 0
C48: ПС Солнце | D48: 9 | E48: =100+170+100+60+160+63+80+30+50 -> 813 | F48: 9 | G48: 813 | H48: 0
C49: ПС Компас | H49: 0
C50: ПС Сулак | D50: 3 | E50: =162+6+15 -> 183 | F50: 3 | G50: =162+6+15 -> 183 | H50: 0
C51: ПС НИИСХА | D51: 5 | E51: =200+40+155+100+80 -> 575 | F51: 5 | G51: 575 | H51: 0
C52: ПС Тепл. Комбинат | H52: 0
...

Sheet июнь 2014г. по 0,4
M1: Приложение № 28
M2: к Положению о технологическом присоединении
M3: энергетических установок к электрическим сетям
M4: ОАО «МРСК Северного Кавказа», управляемых
M5: Обществ
B14: Информация о технологическом присоединении энергопринимающих устройств к сетям ОАО Дагэнергосеть филиалом ОАО "МРСК Северного Кавказа" за июнь 2014г.
A16: Наименование организации, осуществляющей технологическое присоединение | B16: Наименование субъекта РФ | C16: Наименование центра питания (ПС 35 кВ и выше) | D16: Количество поданных заявок на технологическое присоединение, на общую мощность энергопринимающих устройств, кВт | F16: Заключено договоров на технологическое присоединение, включающие технические условия на общую мощность энергопринимающих устройств, кВт | H16: Расторгнуто договоров на технологическое присоединение, включающие технические условия на общую мощность энергопринимающих устройств, кВт | J16: Суммарная мощность энегргопринимающих устройств, присоединенных к электрическим сетям в соответствии с договором на технологическое присоединение за отчетный период, кВт | L16: Заключено договоров на технологическое присоединение, включающие технические условия на общую мощность генерирущих установок, МВт | N16: Расторгнуто договоров на технологическое присоединение, включающие технические условия на общую мощность генерирущих установок, МВт | P16: Суммарная мощность генерирущих установок, присоединенных к электрическим сетям в соответствии с договором на технологическое присоединение за отчетный период, МВт
A17: 1 | B17: 2 | C17: 3 | D17: 4 | F17: 5 | H17: 6 | J17: 7 | L17: 8 | N17: 9 | P17: 10
D18: шт | E18: кВт | F18: шт | G18: кВт | H18: шт | I18: кВт | J18: шт | K18: кВт | L18: шт | M18: МВт | N18: шт | O18: МВт | P18: шт | Q18: МВт
A19: Кабардино- Балкарсикй филиал ОАО "МРСК Северного Кавказа" | B19: Республика Дагестан | C19: ЦЕНТРАЛЬНЫЕ СЕТИ
C20: ПС ГПП | D20: 0 | E20: 0 | F20: 0 | G20: 0 | H20: 0
C21: ПС Новая | D21: 0 | E21: 0 | F21: 0 | G21: 0 | H21: 0
C22: ПС ЦПП | D22: 0 | E22: 0 | F22: 0 | G22: 0 | H22: 0
C23: ПС М-110 | D23: 0 | E23: 0 | F23: 0 | G23: 0 | H23: 0
C24: ПС Очистные соор. | D24: 0 | E24: 0 | F24: 0 | G24: 0 | H24: 0
C25: ПС Ю-Восточная | D25: 0 | E25: 0 | F25: 0 | G25: 0 | H25: 0
C26: ПС Приморская | D26: 0 | E26: 0 | F26: 0 | G26: 0 | H26: 0
C27: ПС Насосная -1 | D27: 4 | E27: =15+10+50+7 -> 82 | F27: 4 | G27: 82 | H27: 0 | J27: 1 | K27: =10 -> 10
C28: ПС Радиоцентр | D28: 1 | E28: 4 | F28: 1 | G28: 4 | H28: 0
C29: ПС Изберг- Сев. | D29: 10 | E29: =10+8+8+5+8+10+5+10+7+15 -> 86 | F29: 10 | G29: 86 | H29: 0
C30: ПС Изберг- Южн. | D30: 5 | E30: =8+8+8+6+15 -> 45 | F30: 5 | G30: 45 | H30: 0
C31: ПС Карабуд-т | D31: 6 | E31: =12+30+10+5+15+40 -> 112 | F31: 6 | G31: 112 | H31: 0 | J31: 1 | K31: 12
C32: ПС Рассвет | D32: 1 | E32: 15 | F32: 1 | G32: 15 | H32: 0
C33: ПС Шамхал | D33: 27 | E33: =5.5+15+6+4+10+10+6+6+15+10+8+5+6+5+4+12+12+5+5+5+11+14+10+8+12+10+12 -> 231.5 | F33: 27 | G33: 231.5 | H33: 0 | J33: 6 | K33: =6+6+10+10+4+6+5.5 -> 47.5
C34: ПС Сергокала | D34: 7 | E34: =5+15+3+8+5+3+5 -> 44 | F34: 7 | G34: =5+15+3+8+5+3+5 -> 44 | H34: 0
C35: ПС Алмало | D35: 6 | E35: =6+10+15+3+7+5 -> 46 | F35: 6 | G35: 46 | H35: 0
C36: ПС Буйнакск -1 | D36: 41 | E36: =5+6+5+2+5+10+3+5+2+14+5+6+2+6+5+3+2.5+10+1+2+3+2+1.5+14+2.5+2+3+3+5+14.5+5+5+15+15+10+10+15+4+3.5+7+2 -> 241.5 | F36: 41 | G36: =5+6+5+2+5+10+3+5+2+14+5+6+2+6+5+3+2.5+10+1+2+3+2+1.5+14+2.5+2+3+3+5+14.5+5+5+15+15+10+10+15+4+3.5+7+2 -> 241.5 | H36: 0
C37: ПС Буйнакск -2 | D37: 13 | E37: =10+10+15+6+2+4+3+2+2.5+3+5+10+15 -> 87.5 | F37: 13 | G37: 87.5 | H37: 0 | J37: 1 | K37: =10 -> 10
C38: ПС Казанище | D38: 12 | E38: =7+12+15+13+13+12+7+5+35+15+2.2+8 -> 144.2 | F38: 12 | G38: 144.2 | H38: 0 | J38: 2 | K38: =7+6 -> 13
C39: ПС Согратль | D39: 9 | E39: =10+10+15+8+15+10+15+8+15 -> 106 | F39: 9 | G39: 106 | H39: 0 | J39: 2 | K39: =10+10 -> 20
C40: ПС Дженгутай | D40: 4 | E40: =10+10+5+11 -> 36 | F40: 4 | G40: =10+10+5+11 -> 36 | H40: 0 | J40: 1 | K40: =10 -> 10
C41: ПС Такалай | H41: 0
C42: ПС Параул | D42: 1 | E42: =12 -> 12 | F42: 1 | G42: =12 -> 12 | H42: 0 | J42: 1 | K42: 12
C43: ПС Восточная | H43: 0
C44: ПС Приозерная | H44: 0
C45: ПС Солнце | D45: 12 | E45: =15+10+10+13+6+10+15+15+15+15+8 -> 132 | F45: 12 | G45: 132 | H45: 0
C46: ПС Компас | H46: 0
C47: ПС Сулак | H47: 0
C48: ПС НИИСХА | D48: 1 | F48: 1 | H48: 0
C49: ПС Тепл. Комбинат | H49: 0
...

Sheet Лист2

Sheet Лист3

Sheet Лист4
