Workbook

Sheet Лист1

Sheet Ноябрь 2013г
M1: Приложение № 28
M2: к Положению о технологическом присоединении
M3: энергетических установок к электрическим сетям
M4: ОАО «МРСК Северного Кавказа», управляемых
M5: Обществ
B14: Информация о технологическом присоединении энергопринимающих устройств к сетям КБ филиалом ОАО "МРСК Северного Кавказа" за Ноябрь 2013г.
A19: Наименование организации, осуществляющей технологическое присоединение | B19: Наименование субъекта РФ | C19: Наименование центра питания (ПС 35 кВ и выше) | D19: Количество поданных заявок на технологическое присоединение, на общую мощность энергопринимающих устройств, кВт | F19: Заключено договоров на технологическое присоединение, включающие технические условия на общую мощность энергопринимающих устройств, кВт | H19: Расторгнуто договоров на технологическое присоединение, включающие технические условия на общую мощность энергопринимающих устройств, кВт | J19: Суммарная мощность энегргопринимающих устройств, присоединенных к электрическим сетям в соответствии с договором на технологическое присоединение за отчетный период, кВт | L19: Заключено договоров на технологическое присоединение, включающие технические условия на общую мощность генерирущих установок, МВт | N19: Расторгнуто договоров на технологическое присоединение, включающие технические условия на общую мощность генерирущих установок, МВт | P19: Суммарная мощность генерирущих установок, присоединенных к электрическим сетям в соответствии с договором на технологическое присоединение за отчетный период, МВт
A20: 1 | B20: 2 | C20: 3 | D20: 4 | F20: 5 | H20: 6 | J20: 7 | L20: 8 | N20: 9 | P20: 10
D21: шт | E21: кВт | F21: шт | G21: кВт | H21: шт | I21: кВт | J21: шт | K21: кВт | L21: шт | M21: МВт | N21: шт | O21: МВт | P21: шт | Q21: МВт
A22: Кабардино- Балкарсикй филиал ОАО "МРСК Северного Кавказа" | B22: Кабардино- Балкарская Республика | C22: Нальчикская группа ПС
C23: ПС «Нальчик» | D23: ='июнь 2014г. по 6-10'!D23+'июнь 2014г. по 0,4'!D20 -> 0 | E23: ='июнь 2014г. по 6-10'!E23+'июнь 2014г. по 0,4'!E20 -> 0 | F23: ='июнь 2014г. по 6-10'!F23+'июнь 2014г. по 0,4'!F20 -> 0 | G23: ='июнь 2014г. по 6-10'!G23+'июнь 2014г. по 0,4'!G20 -> 0 | H23: 2 | I23: 11.2 | J23: ='июнь 2014г. по 6-10'!J23+'июнь 2014г. по 0,4'!J20 -> 0 | K23: ='июнь 2014г. по 6-10'!K23+'июнь 2014г. по 0,4'!K20 -> 0 | L23: 0 | M23: 0 | N23: 0 | O23: 0 | P23: 0 | Q23: 0
C24: ПС «Телемеханика-1» | D24: ='июнь 2014г. по 6-10'!D24+'июнь 2014г. по 0,4'!D21 -> 1 | E24: ='июнь 2014г. по 6-10'!E24+'июнь 2014г. по 0,4'!E21 -> 10 | F24: ='июнь 2014г. по 6-10'!F24+'июнь 2014г. по 0,4'!F21 -> 1 | G24: ='июнь 2014г. по 6-10'!G24+'июнь 2014г. по 0,4'!G21 -> 10 | H24: 0 | I24: 0 | J24: ='июнь 2014г. по 6-10'!J24+'июнь 2014г. по 0,4'!J21 -> 0 | K24: ='июнь 2014г. по 6-10'!K24+'июнь 2014г. по 0,4'!K21 -> 0 | L24: 0 | M24: 0 | N24: 0 | O24: 0 | P24: 0 | Q24: 0
C25: ПС «Искож» | D25: ='июнь 2014г. по 6-10'!D25+'июнь 2014г. по 0,4'!D22 -> 0 | E25: ='июнь 2014г. по 6-10'!E25+'июнь 2014г. по 0,4'!E22 -> 0 | F25: ='июнь 2014г. по 6-10'!F25+'июнь 2014г. по 0,4'!F22 -> 0 | G25: ='июнь 2014г. по 6-10'!G25+'июнь 2014г. по 0,4'!G22 -> 0 | H25: 0 | I25: 0 | J25: ='июнь 2014г. по 6-10'!J25+'июнь 2014г. по 0,4'!J22 -> 0 | K25: ='июнь 2014г. по 6-10'!K25+'июнь 2014г. по 0,4'!K22 -> 0 | L25: 0 | M25: 0 | N25: 0 | O25: 0 | P25: 0 | Q25: 0
C26: ПС «СКЭП-Н» | D26: ='июнь 2014г. по 6-10'!D26+'июнь 2014г. по 0,4'!D23 -> 3 | E26: ='июнь 2014г. по 6-10'!E26+'июнь 2014г. по 0,4'!E23 -> 380 | F26: ='июнь 2014г. по 6-10'!F26+'июнь 2014г. по 0,4'!F23 -> 3 | G26: ='июнь 2014г. по 6-10'!G26+'июнь 2014г. по 0,4'!G23 -> 380 | H26: 0 | I26: 0 | J26: ='июнь 2014г. по 6-10'!J26+'июнь 2014г. по 0,4'!J23 -> 0 | K26: ='июнь 2014г. по 6-10'!K26+'июнь 2014г. по 0,4'!K23 -> 0 | L26: 0 | M26: 0 | N26: 0 | O26: 0 | P26: 0 | Q26: 0
C27: ПС «Долинск» | D27: ='июнь 2014г. по 6-10'!D27+'июнь 2014г. по 0,4'!D24 -> 0 | E27: ='июнь 2014г. по 6-10'!E27+'июнь 2014г. по 0,4'!E24 -> 0 | F27: ='июнь 2014г. по 6-10'!F27+'июнь 2014г. по 0,4'!F24 -> 0 | G27: ='июнь 2014г. по 6-10'!G27+'июнь 2014г. по 0,4'!G24 -> 0 | H27: 0 | I27: 0 | J27: ='июнь 2014г. по 6-10'!J27+'июнь 2014г. по 0,4'!J24 -> 0 | K27: ='июнь 2014г. по 6-10'!K27+'июнь 2014г. по 0,4'!K24 -> 0 | L27: 0 | M27: 0 | N27: 0 | O27: 0 | P27: 0 | Q27: 0
C28: ПС «Дубки» | D28: ='июнь 2014г. по 6-10'!D28+'июнь 2014г. по 0,4'!D25 -> 0 | E28: ='июнь 2014г. по 6-10'!E28+'июнь 2014г. по 0,4'!E25 -> 0 | F28: ='июнь 2014г. по 6-10'!F28+'июнь 2014г. по 0,4'!F25 -> 0 | G28: ='июнь 2014г. по 6-10'!G28+'июнь 2014г. по 0,4'!G25 -> 0 | H28: 0 | I28: 0 | J28: ='июнь 2014г. по 6-10'!J28+'июнь 2014г. по 0,4'!J25 -> 0 | K28: ='июнь 2014г. по 6-10'!K28+'июнь 2014г. по 0,4'!K25 -> 0 | L28: 0 | M28: 0 | N28: 0 | O28: 0 | P28: 0 | Q28: 0
C29: ПС «Птицефабрика» | D29: ='июнь 2014г. по 6-10'!D29+'июнь 2014г. по 0,4'!D26 -> 0 | E29: ='июнь 2014г. по 6-10'!E29+'июнь 2014г. по 0,4'!E26 -> 0 | F29: ='июнь 2014г. по 6-10'!F29+'июнь 2014г. по 0,4'!F26 -> 0 | G29: ='июнь 2014г. по 6-10'!G29+'июнь 2014г. по 0,4'!G26 -> 0 | H29: 1 | I29: 300 | J29: ='июнь 2014г. по 6-10'!J29+'июнь 2014г. по 0,4'!J26 -> 0 | K29: ='июнь 2014г. по 6-10'!K29+'июнь 2014г. по 0,4'!K26 -> 0 | L29: 0 | M29: 0 | N29: 0 | O29: 0 | P29: 0 | Q29: 0
C30: итого: | D30: =D23+D24+D25+D26+D27+D28+D29 -> 4 | E30: =E23+E24+E25+E26+E27+E28+E29 -> 390 | F30: =F23+F24+F25+F26+F27+F28+F29 -> 4 | G30: =G23+G24+G25+G26+G27+G28+G29 -> 390 | H30: =H23+H24+H25+H26+H27+H28+H29 -> 3 | I30: =I23+I24+I25+I26+I27+I28+I29 -> 311.2 | J30: =J23+J24+J25+J26+J27+J28+J29 -> 0 | K30: =K23+K24+K25+K26+K27+K28+K29 -> 0 | ... Q30: =Q23+Q24+Q25+Q26+Q27+Q28+Q29 -> 0
C31: Малкинская группа ПС
C32: ПС «Малка» | D32: ='июнь 2014г. по 6-10'!D32+'июнь 2014г. по 0,4'!D29 -> 15 | E32: ='июнь 2014г. по 6-10'!E32+'июнь 2014г. по 0,4'!E29 -> 586 | F32: ='июнь 2014г. по 6-10'!F32+'июнь 2014г. по 0,4'!F29 -> 15 | G32: ='июнь 2014г. по 6-10'!G32+'июнь 2014г. по 0,4'!G29 -> 586 | H32: 0 | I32: 0 | J32: ='июнь 2014г. по 6-10'!J32+'июнь 2014г. по 0,4'!J29 -> 0 | K32: ='июнь 2014г. по 6-10'!K32+'июнь 2014г. по 0,4'!K29 -> 0 | L32: 0 | M32: 0 | N32: 0 | O32: 0 | P32: 0 | Q32: 0
C33: ПС «Каменномостская» | D33: ='июнь 2014г. по 6-10'!D33+'июнь 2014г. по 0,4'!D30 -> 7 | E33: ='июнь 2014г. по 6-10'!E33+'июнь 2014г. по 0,4'!E30 -> 153 | F33: ='июнь 2014г. по 6-10'!F33+'июнь 2014г. по 0,4'!F30 -> 7 | G33: ='июнь 2014г. по 6-10'!G33+'июнь 2014г. по 0,4'!G30 -> 153 | H33: 0 | I33: 0 | J33: ='июнь 2014г. по 6-10'!J33+'июнь 2014г. по 0,4'!J30 -> 0 | K33: ='июнь 2014г. по 6-10'!K33+'июнь 2014г. по 0,4'!K30 -> 0 | L33: 0 | M33: 0 | N33: 0 | O33: 0 | P33: 0 | Q33: 0
C34: ПС «Залукокоаже» | D34: ='июнь 2014г. по 6-10'!D34+'июнь 2014г. по 0,4'!D31 -> 9 | E34: ='июнь 2014г. по 6-10'!E34+'июнь 2014г. по 0,4'!E31 -> 167 | F34: ='июнь 2014г. по 6-10'!F34+'июнь 2014г. по 0,4'!F31 -> 9 | G34: ='июнь 2014г. по 6-10'!G34+'июнь 2014г. по 0,4'!G31 -> 167 | H34: 0 | I34: 0 | J34: ='июнь 2014г. по 6-10'!J34+'июнь 2014г. по 0,4'!J31 -> 2 | K34: ='июнь 2014г. по 6-10'!K34+'июнь 2014г. по 0,4'!K31 -> 27 | L34: 0 | M34: 0 | N34: 0 | O34: 0 | P34: 0 | Q34: 0
C35: ПС «Залукодес» | D35: ='июнь 2014г. по 6-10'!D35+'июнь 2014г. по 0,4'!D32 -> 10 | E35: ='июнь 2014г. по 6-10'!E35+'июнь 2014г. по 0,4'!E32 -> 440 | F35: ='июнь 2014г. по 6-10'!F35+'июнь 2014г. по 0,4'!F32 -> 10 | G35: ='июнь 2014г. по 6-10'!G35+'июнь 2014г. по 0,4'!G32 -> 440 | H35: 0 | I35: 0 | J35: ='июнь 2014г. по 6-10'!J35+'июнь 2014г. по 0,4'!J32 -> 0 | K35: ='июнь 2014г. по 6-10'!K35+'июнь 2014г. по 0,4'!K32 -> 0 | L35: 0 | M35: 0 | N35: 0 | O35: 0 | P35: 0 | Q35: 0
C36: ПС «Сармаково» | D36: ='июнь 2014г. по 6-10'!D36+'июнь 2014г. по 0,4'!D33 -> 37 | E36: ='июнь 2014г. по 6-10'!E36+'июнь 2014г. по 0,4'!E33 -> 1189.5 | F36: ='июнь 2014г. по 6-10'!F36+'июнь 2014г. по 0,4'!F33 -> 37 | G36: ='июнь 2014г. по 6-10'!G36+'июнь 2014г. по 0,4'!G33 -> 1189.5 | H36: 0 | I36: 0 | J36: ='июнь 2014г. по 6-10'!J36+'июнь 2014г. по 0,4'!J33 -> 6 | K36: ='июнь 2014г. по 6-10'!K36+'июнь 2014г. по 0,4'!K33 -> 47.5 | L36: 0 | M36: 0 | N36: 0 | O36: 0 | P36: 0 | Q36: 0
C37: ПС «Аурсентх» | D37: ='июнь 2014г. по 6-10'!D37+'июнь 2014г. по 0,4'!D34 -> 9 | E37: ='июнь 2014г. по 6-10'!E37+'июнь 2014г. по 0,4'!E34 -> 119 | F37: ='июнь 2014г. по 6-10'!F37+'июнь 2014г. по 0,4'!F34 -> 9 | G37: ='июнь 2014г. по 6-10'!G37+'июнь 2014г. по 0,4'!G34 -> 119 | H37: 0 | I37: 0 | J37: ='июнь 2014г. по 6-10'!J37+'июнь 2014г. по 0,4'!J34 -> 0 | K37: ='июнь 2014г. по 6-10'!K37+'июнь 2014г. по 0,4'!K34 -> 0 | L37: 0 | M37: 0 | N37: 0 | O37: 0 | P37: 0 | Q37: 0
C38: итого: | D38: =D32+D33+D34+D35+D36+D37 -> 87 | E38: =E32+E33+E34+E35+E36+E37 -> 2654.5 | F38: =F32+F33+F34+F35+F36+F37 -> 87 | G38: =G32+G33+G34+G35+G36+G37 -> 2654.5 | H38: =H32+H33+H34+H35+H36+H37 -> 0 | I38: =I32+I33+I34+I35+I36+I37 -> 0 | J38: =J32+J33+J34+J35+J36+J37 -> 8 | K38: =K32+K33+K34+K35+K36+K37 -> 74.5 | ... Q38: =Q32+Q33+Q34+Q35+Q36+Q37 -> 0
C39: Эльбрусская группа ПС
C40: ПС «ЦРУ» | D40: ='июнь 2014г. по 6-10'!D40+'июнь 2014г. по 0,4'!D37 -> 14 | E40: ='июнь 2014г. по 6-10'!E40+'июнь 2014г. по 0,4'!E37 -> 147.5 | F40: ='июнь 2014г. по 6-10'!F40+'июнь 2014г. по 0,4'!F37 -> 14 | G40: ='июнь 2014г. по 6-10'!G40+'июнь 2014г. по 0,4'!G37 -> 147.5 | H40: 0 | I40: 0 | J40: ='июнь 2014г. по 6-10'!J40+'июнь 2014г. по 0,4'!J37 -> 1 | K40: ='июнь 2014г. по 6-10'!K40+'июнь 2014г. по 0,4'!K37 -> 10 | L40: 0 | M40: 0 | N40: 0 | O40: 0 | P40: 0 | Q40: 0
C41: ПС «Адыл-Су» | D41: ='июнь 2014г. по 6-10'!D41+'июнь 2014г. по 0,4'!D38 -> 17 | E41: ='июнь 2014г. по 6-10'!E41+'июнь 2014г. по 0,4'!E38 -> 274.2 | F41: ='июнь 2014г. по 6-10'!F41+'июнь 2014г. по 0,4'!F38 -> 17 | G41: ='июнь 2014г. по 6-10'!G41+'июнь 2014г. по 0,4'!G38 -> 274.2 | H41: 0 | I41: 0 | J41: ='июнь 2014г. по 6-10'!J41+'июнь 2014г. по 0,4'!J38 -> 2 | K41: ='июнь 2014г. по 6-10'!K41+'июнь 2014г. по 0,4'!K38 -> 13 | L41: 0 | M41: 0 | N41: 0 | O41: 0 | P41: 0 | Q41: 0
C42: ПС «Нейтрино» | D42: ='июнь 2014г. по 6-10'!D42+'июнь 2014г. по 0,4'!D39 -> 13 | E42: ='июнь 2014г. по 6-10'!E42+'июнь 2014г. по 0,4'!E39 -> 536 | F42: ='июнь 2014г. по 6-10'!F42+'июнь 2014г. по 0,4'!F39 -> 13 | G42: ='июнь 2014г. по 6-10'!G42+'июнь 2014г. по 0,4'!G39 -> 536 | H42: 0 | I42: 0 | J42: ='июнь 2014г. по 6-10'!J42+'июнь 2014г. по 0,4'!J39 -> 2 | K42: ='июнь 2014г. по 6-10'!K42+'июнь 2014г. по 0,4'!K39 -> 20 | L42: 0 | M42: 0 | N42: 0 | O42: 0 | P42: 0 | Q42: 0
C43: ПС «Чегет» | D43: ='июнь 2014г. по 6-10'!D43+'июнь 2014г. по 0,4'!D40 -> 7 | E43: ='июнь 2014г. по 6-10'!E43+'июнь 2014г. по 0,4'!E40 -> 416 | F43: ='июнь 2014г. по 6-10'!F43+'июнь 2014г. по 0,4'!F40 -> 7 | G43: ='июнь 2014г. по 6-10'!G43+'июнь 2014г. по 0,4'!G40 -> 416 | H43: 0 | I43: 0 | J43: ='июнь 2014г. по 6-10'!J43+'июнь 2014г. по 0,4'!J40 -> 1 | K43: ='июнь 2014г. по 6-10'!K43+'июнь 2014г. по 0,4'!K40 -> 10 | L43: 0 | M43: 0 | N43: 0 | O43: 0 | P43: 0 | Q43: 0
C44: ПС «Терскол» | D44: ='июнь 2014г. по 6-10'!D44+'июнь 2014г. по 0,4'!D41 -> 0 | E44: ='июнь 2014г. по 6-10'!E44+'июнь 2014г. по 0,4'!E41 -> 0 | F44: ='июнь 2014г. по 6-10'!F44+'июнь 2014г. по 0,4'!F41 -> 0 | G44: ='июнь 2014г. по 6-10'!G44+'июнь 2014г. по 0,4'!G41 -> 0 | H44: 0 | I44: 0 | J44: ='июнь 2014г. по 6-10'!J44+'июнь 2014г. по 0,4'!J41 -> 0 | K44: ='июнь 2014г. по 6-10'!K44+'июнь 2014г. по 0,4'!K41 -> 0 | L44: 0 | M44: 0 | N44: 0 | O44: 0 | P44: 0 | Q44: 0
C45: ПС «Джайлык» | D45: ='июнь 2014г. по 6-10'!D45+'июнь 2014г. по 0,4'!D42 -> 2 | E45: ='июнь 2014г. по 6-10'!E45+'июнь 2014г. по 0,4'!E42 -> 62 | F45: ='июнь 2014г. по 6-10'!F45+'июнь 2014г. по 0,4'!F42 -> 2 | G45: ='июнь 2014г. по 6-10'!G45+'июнь 2014г. по 0,4'!G42 -> 62 | H45: 0 | I45: 0 | J45: ='июнь 2014г. по 6-10'!J45+'июнь 2014г. по 0,4'!J42 -> 1 | K45: ='июнь 2014г. по 6-10'!K45+'июнь 2014г. по 0,4'!K42 -> 12 | L45: 0 | M45: 0 | N45: 0 | O45: 0 | P45: 0 | Q45: 0
C46: ПС «Соц. городок» | D46: ='июнь 2014г. по 6-10'!D46+'июнь 2014г. по 0,4'!D43 -> 0 | E46: ='июнь 2014г. по 6-10'!E46+'июнь 2014г. по 0,4'!E43 -> 0 | F46: ='июнь 2014г. по 6-10'!F46+'июнь 2014г. по 0,4'!F43 -> 0 | G46: ='июнь 2014г. по 6-10'!G46+'июнь 2014г. по 0,4'!G43 -> 0 | H46: 0 | I46: 0 | J46: ='июнь 2014г. по 6-10'!J46+'июнь 2014г. по 0,4'!J43 -> 0 | K46: ='июнь 2014г. по 6-10'!K46+'июнь 2014г. по 0,4'!K43 -> 0 | L46: 0 | M46: 0 | N46: 0 | O46: 0 | P46: 0 | Q46: 0
C47: ПС «Чалмас» | D47: ='июнь 2014г. по 6-10'!D47+'июнь 2014г. по 0,4'!D44 -> 0 | E47: ='июнь 2014г. по 6-10'!E47+'июнь 2014г. по 0,4'!E44 -> 0 | F47: ='июнь 2014г. по 6-10'!F47+'июнь 2014г. по 0,4'!F44 -> 0 | G47: ='июнь 2014г. по 6-10'!G47+'июнь 2014г. по 0,4'!G44 -> 0 | H47: 0 | I47: 0 | J47: ='июнь 2014г. по 6-10'!J47+'июнь 2014г. по 0,4'!J44 -> 0 | K47: ='июнь 2014г. по 6-10'!K47+'июнь 2014г. по 0,4'!K44 -> 0 | L47: 0 | M47: 0 | N47: 0 | O47: 0 | P47: 0 | Q47: 0
C48: ПС «РМЗ» | D48: ='июнь 2014г. по 6-10'!D48+'июнь 2014г. по 0,4'!D45 -> 21 | E48: ='июнь 2014г. по 6-10'!E48+'июнь 2014г. по 0,4'!E45 -> 945 | F48: ='июнь 2014г. по 6-10'!F48+'июнь 2014г. по 0,4'!F45 -> 21 | G48: ='июнь 2014г. по 6-10'!G48+'июнь 2014г. по 0,4'!G45 -> 945 | H48: 0 | I48: 0 | J48: ='июнь 2014г. по 6-10'!J48+'июнь 2014г. по 0,4'!J45 -> 0 | K48: ='июнь 2014г. по 6-10'!K48+'июнь 2014г. по 0,4'!K45 -> 0 | L48: 0 | M48: 0 | N48: 0 | O48: 0 | P48: 0 | Q48: 0
C49: РП «Водогрейная» | D49: ='июнь 2014г. по 6-10'!D49+'июнь 2014г. по 0,4'!D46 -> 0 | E49: ='июнь 2014г. по 6-10'!E49+'июнь 2014г. по 0,4'!E46 -> 0 | F49: ='июнь 2014г. по 6-10'!F49+'июнь 2014г. по 0,4'!F46 -> 0 | G49: ='июнь 2014г. по 6-10'!G49+'июнь 2014г. по 0,4'!G46 -> 0 | H49: 0 | I49: 0 | J49: ='июнь 2014г. по 6-10'!J49+'июнь 2014г. по 0,4'!J46 -> 0 | K49: ='июнь 2014г. по 6-10'!K49+'июнь 2014г. по 0,4'!K46 -> 0 | L49: 0 | M49: 0 | N49: 0 | O49: 0 | P49: 0 | Q49: 0
C50: ПС «Былым» | D50: ='июнь 2014г. по 6-10'!D50+'июнь 2014г. по 0,4'!D47 -> 3 | E50: ='июнь 2014г. по 6-10'!E50+'июнь 2014г. по 0,4'!E47 -> 183 | F50: ='июнь 2014г. по 6-10'!F50+'июнь 2014г. по 0,4'!F47 -> 3 | G50: ='июнь 2014г. по 6-10'!G50+'июнь 2014г. по 0,4'!G47 -> 183 | H50: 0 | I50: 0 | J50: ='июнь 2014г. по 6-10'!J50+'июнь 2014г. по 0,4'!J47 -> 0 | K50: ='июнь 2014г. по 6-10'!K50+'июнь 2014г. по 0,4'!K47 -> 0 | L50: 0 | M50: 0 | N50: 0 | O50: 0 | P50: 0 | Q50: 0
C51: ПС "Гунделен" | D51: ='июнь 2014г. по 6-10'!D51+'июнь 2014г. по 0,4'!D48 -> 6 | E51: ='июнь 2014г. по 6-10'!E51+'июнь 2014г. по 0,4'!E48 -> 575 | F51: ='июнь 2014г. по 6-10'!F51+'июнь 2014г. по 0,4'!F48 -> 6 | G51: ='июнь 2014г. по 6-10'!G51+'июнь 2014г. по 0,4'!G48 -> 575 | H51: 0 | I51: 0 | J51: ='июнь 2014г. по 6-10'!J51+'июнь 2014г. по 0,4'!J48 -> 0 | K51: ='июнь 2014г. по 6-10'!K51+'июнь 2014г. по 0,4'!K48 -> 0 | L51: 0 | M51: 0 | N51: 0 | O51: 0 | P51: 0 | Q51: 0
C52: итого: | D52: =D40+D41+D42+D43+D44+D45+D46+D47+D48+D49+D50+D51 -> 83 | E52: =E40+E41+E42+E43+E44+E45+E46+E47+E48+E49+E50+E51 -> 3138.7 | F52: =F40+F41+F42+F43+F44+F45+F46+F47+F48+F49+F50+F51 -> 83 | G52: =G40+G41+G42+G43+G44+G45+G46+G47+G48+G49+G50+G51 -> 3138.7 | H52: =H40+H41+H42+H43+H44+H45+H46+H47+H48+H49+H50+H51 -> 0 | I52: =I40+I41+I42+I43+I44+I45+I46+I47+I48+I49+I50+I51 -> 0 | J52: =J40+J41+J42+J43+J44+J45+J46+J47+J48+J49+J50+J51 -> 7 | K52: =K40+K41+K42+K43+K44+K45+K46+K47+K48+K49+K50+K51 -> 65 | ... Q52: =Q40+Q41+Q42+Q43+Q44+Q45+Q46+Q47+Q48+Q49+Q50+Q51 -> 0
C53: Терская группа ПС
C54: ПС «Терек-II» | D54: ='июнь 2014г. по 6-10'!D54+'июнь 2014г. по 0,4'!D51 -> 3 | E54: ='июнь 2014г. по 6-10'!E54+'июнь 2014г. по 0,4'!E51 -> 368 | F54: ='июнь 2014г. по 6-10'!F54+'июнь 2014г. по 0,4'!F51 -> 3 | G54: ='июнь 2014г. по 6-10'!G54+'июнь 2014г. по 0,4'!G51 -> 368 | H54: 2 | I54: 350 | J54: ='июнь 2014г. по 6-10'!J54+'июнь 2014г. по 0,4'!J51 -> 0 | K54: ='июнь 2014г. по 6-10'!K54+'июнь 2014г. по 0,4'!K51 -> 0 | L54: 0 | M54: 0 | N54: 0 | O54: 0 | P54: 0 | Q54: 0
C55: ПС «В.Акбаш» | D55: ='июнь 2014г. по 6-10'!D55+'июнь 2014г. по 0,4'!D52 -> 2 | E55: ='июнь 2014г. по 6-10'!E55+'июнь 2014г. по 0,4'!E52 -> 24 | F55: ='июнь 2014г. по 6-10'!F55+'июнь 2014г. по 0,4'!F52 -> 2 | G55: ='июнь 2014г. по 6-10'!G55+'июнь 2014г. по 0,4'!G52 -> 24 | H55: 0 | I55: 0 | J55: ='июнь 2014г. по 6-10'!J55+'июнь 2014г. по 0,4'!J52 -> 0 | K55: ='июнь 2014г. по 6-10'!K55+'июнь 2014г. по 0,4'!K52 -> 0 | L55: 0 | M55: 0 | N55: 0 | O55: 0 | P55: 0 | Q55: 0
C56: ПС «ЗАИ» | D56: ='июнь 2014г. по 6-10'!D56+'июнь 2014г. по 0,4'!D53 -> 2 | E56: ='июнь 2014г. по 6-10'!E56+'июнь 2014г. по 0,4'!E53 -> 25 | F56: ='июнь 2014г. по 6-10'!F56+'июнь 2014г. по 0,4'!F53 -> 2 | G56: ='июнь 2014г. по 6-10'!G56+'июнь 2014г. по 0,4'!G53 -> 25 | H56: 0 | I56: 0 | J56: ='июнь 2014г. по 6-10'!J56+'июнь 2014г. по 0,4'!J53 -> 1 | K56: ='июнь 2014г. по 6-10'!K56+'июнь 2014г. по 0,4'!K53 -> 10 | L56: 0 | M56: 0 | N56: 0 | O56: 0 | P56: 0 | Q56: 0
C57: ПС «Пенькозавод» | D57: ='июнь 2014г. по 6-10'!D57+'июнь 2014г. по 0,4'!D54 -> 0 | E57: ='июнь 2014г. по 6-10'!E57+'июнь 2014г. по 0,4'!E54 -> 0 | F57: ='июнь 2014г. по 6-10'!F57+'июнь 2014г. по 0,4'!F54 -> 0 | G57: ='июнь 2014г. по 6-10'!G57+'июнь 2014г. по 0,4'!G54 -> 0 | H57: 0 | I57: 0 | J57: ='июнь 2014г. по 6-10'!J57+'июнь 2014г. по 0,4'!J54 -> 0 | K57: ='июнь 2014г. по 6-10'!K57+'июнь 2014г. по 0,4'!K54 -> 0 | L57: 0 | M57: 0 | N57: 0 | O57: 0 | P57: 0 | Q57: 0
C58: ПС «Терекская» | D58: ='июнь 2014г. по 6-10'!D58+'июнь 2014г. по 0,4'!D55 -> 12 | E58: ='июнь 2014г. по 6-10'!E58+'июнь 2014г. по 0,4'!E55 -> 589 | F58: ='июнь 2014г. по 6-10'!F58+'июнь 2014г. по 0,4'!F55 -> 12 | G58: ='июнь 2014г. по 6-10'!G58+'июнь 2014г. по 0,4'!G55 -> 589 | H58: 0 | I58: 0 | J58: ='июнь 2014г. по 6-10'!J58+'июнь 2014г. по 0,4'!J55 -> 2 | K58: ='июнь 2014г. по 6-10'!K58+'июнь 2014г. по 0,4'!K55 -> 20 | L58: 0 | M58: 0 | N58: 0 | O58: 0 | P58: 0 | Q58: 0
C59: ПС «Терек-1» | D59: ='июнь 2014г. по 6-10'!D59+'июнь 2014г. по 0,4'!D56 -> 2 | E59: ='июнь 2014г. по 6-10'!E59+'июнь 2014г. по 0,4'!E56 -> 10 | F59: ='июнь 2014г. по 6-10'!F59+'июнь 2014г. по 0,4'!F56 -> 2 | G59: ='июнь 2014г. по 6-10'!G59+'июнь 2014г. по 0,4'!G56 -> 10 | H59: 2 | I59: 395 | J59: ='июнь 2014г. по 6-10'!J59+'июнь 2014г. по 0,4'!J56 -> 1 | K59: ='июнь 2014г. по 6-10'!K59+'июнь 2014г. по 0,4'!K56 -> 5 | L59: 0 | M59: 0 | N59: 0 | O59: 0 | P59: 0 | Q59: 0
C60: ПС «В.Курп» | D60: ='июнь 2014г. по 6-10'!D60+'июнь 2014г. по 0,4'!D57 -> 2 | E60: ='июнь 2014г. по 6-10'!E60+'июнь 2014г. по 0,4'!E57 -> 175 | F60: ='июнь 2014г. по 6-10'!F60+'июнь 2014г. по 0,4'!F57 -> 2 | G60: ='июнь 2014г. по 6-10'!G60+'июнь 2014г. по 0,4'!G57 -> 175 | H60: 0 | I60: 0 | J60: ='июнь 2014г. по 6-10'!J60+'июнь 2014г. по 0,4'!J57 -> 0 | K60: ='июнь 2014г. по 6-10'!K60+'июнь 2014г. по 0,4'!K57 -> 0 | L60: 0 | M60: 0 | N60: 0 | O60: 0 | P60: 0 | Q60: 0
C61: ПС «Н.Курп» | D61: ='июнь 2014г. по 6-10'!D61+'июнь 2014г. по 0,4'!D58 -> 0 | E61: ='июнь 2014г. по 6-10'!E61+'июнь 2014г. по 0,4'!E58 -> 0 | F61: ='июнь 2014г. по 6-10'!F61+'июнь 2014г. по 0,4'!F58 -> 0 | G61: ='июнь 2014г. по 6-10'!G61+'июнь 2014г. по 0,4'!G58 -> 0 | H61: 0 | I61: 0 | J61: ='июнь 2014г. по 6-10'!J61+'июнь 2014г. по 0,4'!J58 -> 0 | K61: ='июнь 2014г. по 6-10'!K61+'июнь 2014г. по 0,4'!K58 -> 0 | L61: 0 | M61: 0 | N61: 0 | O61: 0 | P61: 0 | Q61: 0
C62: ПС «Акбаш-35» | D62: ='июнь 2014г. по 6-10'!D62+'июнь 2014г. по 0,4'!D59 -> 0 | E62: ='июнь 2014г. по 6-10'!E62+'июнь 2014г. по 0,4'!E59 -> 0 | F62: ='июнь 2014г. по 6-10'!F62+'июнь 2014г. по 0,4'!F59 -> 0 | G62: ='июнь 2014г. по 6-10'!G62+'июнь 2014г. по 0,4'!G59 -> 0 | H62: 0 | I62: 0 | J62: ='июнь 2014г. по 6-10'!J62+'июнь 2014г. по 0,4'!J59 -> 0 | K62: ='июнь 2014г. по 6-10'!K62+'июнь 2014г. по 0,4'!K59 -> 0 | L62: 0 | M62: 0 | N62: 0 | O62: 0 | P62: 0 | Q62: 0
C63: итого: | D63: =D54+D55+D56+D57+D58+D59+D60+D61+D62 -> 23 | E63: =E54+E55+E56+E57+E58+E59+E60+E61+E62 -> 1191 | F63: =F54+F55+F56+F57+F58+F59+F60+F61+F62 -> 23 | G63: =G54+G55+G56+G57+G58+G59+G60+G61+G62 -> 1191 | H63: =H54+H55+H56+H57+H58+H59+H60+H61+H62 -> 4 | I63: =I54+I55+I56+I57+I58+I59+I60+I61+I62 -> 745 | J63: =J54+J55+J56+J57+J58+J59+J60+J61+J62 -> 4 | K63: =K54+K55+K56+K57+K58+K59+K60+K61+K62 -> 35 | ... Q63: =Q54+Q55+Q56+Q57+Q58+Q59+Q60+Q61+Q62 -> 0
C64: Майская группа ПС
C65: ПС «Майская» | D65: ='июнь 2014г. по 6-10'!D64+'июнь 2014г. по 0,4'!D61 -> 265 | E65: ='июнь 2014г. по 6-10'!E64+'июнь 2014г. по 0,4'!E61 -> 9256.1 | F65: ='июнь 2014г. по 6-10'!F64+'июнь 2014г. по 0,4'!F61 -> 265 | G65: ='июнь 2014г. по 6-10'!G64+'июнь 2014г. по 0,4'!G61 -> 9256.1 | H65: 0 | I65: 0 | J65: ='июнь 2014г. по 6-10'!J64+'июнь 2014г. по 0,4'!J61 -> 20 | K65: ='июнь 2014г. по 6-10'!K64+'июнь 2014г. по 0,4'!K61 -> 184.5 | L65: 0 | M65: 0 | N65: 0 | O65: 0 | P65: 0 | Q65: 0
C66: ПС «Александровская» | D66: ='июнь 2014г. по 6-10'!D65+'июнь 2014г. по 0,4'!D62 -> 0 | E66: ='июнь 2014г. по 6-10'!E65+'июнь 2014г. по 0,4'!E62 -> 0 | F66: ='июнь 2014г. по 6-10'!F65+'июнь 2014г. по 0,4'!F62 -> 0 | G66: ='июнь 2014г. по 6-10'!G65+'июнь 2014г. по 0,4'!G62 -> 0 | H66: 0 | I66: 0 | J66: ='июнь 2014г. по 6-10'!J65+'июнь 2014г. по 0,4'!J62 -> 0 | K66: ='июнь 2014г. по 6-10'!K65+'июнь 2014г. по 0,4'!K62 -> 0 | L66: 0 | M66: 0 | N66: 0 | O66: 0 | P66: 0 | Q66: 0
C67: ПС «Котляревская» | D67: ='июнь 2014г. по 6-10'!D66+'июнь 2014г. по 0,4'!D63 -> 36 | E67: ='июнь 2014г. по 6-10'!E66+'июнь 2014г. по 0,4'!E63 -> 773 | F67: ='июнь 2014г. по 6-10'!F66+'июнь 2014г. по 0,4'!F63 -> 36 | G67: ='июнь 2014г. по 6-10'!G66+'июнь 2014г. по 0,4'!G63 -> 773 | H67: 0 | I67: 0 | J67: ='июнь 2014г. по 6-10'!J66+'июнь 2014г. по 0,4'!J63 -> 5 | K67: ='июнь 2014г. по 6-10'!K66+'июнь 2014г. по 0,4'!K63 -> 52 | L67: 0 | M67: 0 | N67: 0 | O67: 0 | P67: 0 | Q67: 0
C68: ПС «Ново-Ивановская» | D68: ='июнь 2014г. по 6-10'!D67+'июнь 2014г. по 0,4'!D64 -> 34 | E68: ='июнь 2014г. по 6-10'!E67+'июнь 2014г. по 0,4'!E64 -> 636.5 | F68: ='июнь 2014г. по 6-10'!F67+'июнь 2014г. по 0,4'!F64 -> 34 | G68: ='июнь 2014г. по 6-10'!G67+'июнь 2014г. по 0,4'!G64 -> 636.5 | H68: 0 | I68: 0 | J68: ='июнь 2014г. по 6-10'!J67+'июнь 2014г. по 0,4'!J64 -> 4 | K68: ='июнь 2014г. по 6-10'!K67+'июнь 2014г. по 0,4'!K64 -> 50 | L68: 0 | M68: 0 | N68: 0 | O68: 0 | P68: 0 | Q68: 0
C69: ПС «Красная Нива» | D69: ='июнь 2014г. по 6-10'!D68+'июнь 2014г. по 0,4'!D65 -> 8 | E69: ='июнь 2014г. по 6-10'!E68+'июнь 2014г. по 0,4'!E65 -> 619.5 | F69: ='июнь 2014г. по 6-10'!F68+'июнь 2014г. по 0,4'!F65 -> 8 | G69: ='июнь 2014г. по 6-10'!G68+'июнь 2014г. по 0,4'!G65 -> 619.5 | H69: 0 | I69: 0 | J69: ='июнь 2014г. по 6-10'!J68+'июнь 2014г. по 0,4'!J65 -> 2 | K69: ='июнь 2014г. по 6-10'!K68+'июнь 2014г. по 0,4'!K65 -> 10 | L69: 0 | M69: 0 | N69: 0 | O69: 0 | P69: 0 | Q69: 0
C70: итого: | D70: =D65+D66+D67+D68+D69 -> 343 | E70: =E65+E66+E67+E68+E69 -> 11285.1 | F70: =F65+F66+F67+F68+F69 -> 343 | G70: =G65+G66+G67+G68+G69 -> 11285.1 | H70: =H65+H66+H67+H68+H69 -> 0 | I70: =I65+I66+I67+I68+I69 -> 0 | J70: =J65+J66+J67+J68+J69 -> 31 | K70: =K65+K66+K67+K68+K69 -> 296.5 | ... Q70: =Q65+Q66+Q67+Q68+Q69 -> 0
C71: Чегемская группа ПС
C72: ПС «Чегем-II» | D72: ='июнь 2014г. по 6-10'!D71+'июнь 2014г. по 0,4'!D68 -> 1 | E72: ='июнь 2014г. по 6-10'!E71+'июнь 2014г. по 0,4'!E68 -> 10 | F72: ='июнь 2014г. по 6-10'!F71+'июнь 2014г. по 0,4'!F68 -> 1 | G72: ='июнь 2014г. по 6-10'!G71+'июнь 2014г. по 0,4'!G68 -> 10 | H72: 0 | I72: 0 | J72: ='июнь 2014г. по 6-10'!J71+'июнь 2014г. по 0,4'!J68 -> 0 | K72: ='июнь 2014г. по 6-10'!K71+'июнь 2014г. по 0,4'!K68 -> 0 | L72: 0 | M72: 0 | N72: 0 | O72: 0 | P72: 0 | Q72: 0
C73: ПС «Водозабор» | D73: ='июнь 2014г. по 6-10'!D72+'июнь 2014г. по 0,4'!D69 -> 4 | E73: ='июнь 2014г. по 6-10'!E72+'июнь 2014г. по 0,4'!E69 -> 32.5 | F73: ='июнь 2014г. по 6-10'!F72+'июнь 2014г. по 0,4'!F69 -> 4 | G73: ='июнь 2014г. по 6-10'!G72+'июнь 2014г. по 0,4'!G69 -> 32.5 | H73: 0 | I73: 0 | J73: ='июнь 2014г. по 6-10'!J72+'июнь 2014г. по 0,4'!J69 -> 0 | K73: ='июнь 2014г. по 6-10'!K72+'июнь 2014г. по 0,4'!K69 -> 0 | L73: 0 | M73: 0 | N73: 0 | O73: 0 | P73: 0 | Q73: 0
C74: ПС «Чегем-1» | D74: ='июнь 2014г. по 6-10'!D73+'июнь 2014г. по 0,4'!D70 -> 0 | E74: ='июнь 2014г. по 6-10'!E73+'июнь 2014г. по 0,4'!E70 -> 0 | F74: ='июнь 2014г. по 6-10'!F73+'июнь 2014г. по 0,4'!F70 -> 0 | G74: ='июнь 2014г. по 6-10'!G73+'июнь 2014г. по 0,4'!G70 -> 0 | H74: 1 | I74: 5.6 | J74: ='июнь 2014г. по 6-10'!J73+'июнь 2014г. по 0,4'!J70 -> 0 | K74: ='июнь 2014г. по 6-10'!K73+'июнь 2014г. по 0,4'!K70 -> 0 | L74: 0 | M74: 0 | N74: 0 | O74: 0 | P74: 0 | Q74: 0
C75: ПС «Лечинкай» | D75: ='июнь 2014г. по 6-10'!D74+'июнь 2014г. по 0,4'!D71 -> 4 | E75: ='июнь 2014г. по 6-10'!E74+'июнь 2014г. по 0,4'!E71 -> 40 | F75: ='июнь 2014г. по 6-10'!F74+'июнь 2014г. по 0,4'!F71 -> 4 | G75: ='июнь 2014г. по 6-10'!G74+'июнь 2014г. по 0,4'!G71 -> 40 | H75: 1 | I75: 6 | J75: ='июнь 2014г. по 6-10'!J74+'июнь 2014г. по 0,4'!J71 -> 0 | K75: ='июнь 2014г. по 6-10'!K74+'июнь 2014г. по 0,4'!K71 -> 0 | L75: 0 | M75: 0 | N75: 0 | O75: 0 | P75: 0 | Q75: 0
C76: ПС «Н.Чегем» | D76: ='июнь 2014г. по 6-10'!D75+'июнь 2014г. по 0,4'!D72 -> 1 | E76: ='июнь 2014г. по 6-10'!E75+'июнь 2014г. по 0,4'!E72 -> 6 | F76: ='июнь 2014г. по 6-10'!F75+'июнь 2014г. по 0,4'!F72 -> 1 | G76: ='июнь 2014г. по 6-10'!G75+'июнь 2014г. по 0,4'!G72 -> 6 | H76: 0 | I76: 0 | J76: ='июнь 2014г. по 6-10'!J75+'июнь 2014г. по 0,4'!J72 -> 0 | K76: ='июнь 2014г. по 6-10'!K75+'июнь 2014г. по 0,4'!K72 -> 0 | L76: 0 | M76: 0 | N76: 0 | O76: 0 | P76: 0 | Q76: 0
C77: ПС «Кара-Су» | D77: ='июнь 2014г. по 6-10'!D76+'июнь 2014г. по 0,4'!D73 -> 0 | E77: ='июнь 2014г. по 6-10'!E76+'июнь 2014г. по 0,4'!E73 -> 0 | F77: ='июнь 2014г. по 6-10'!F76+'июнь 2014г. по 0,4'!F73 -> 0 | G77: ='июнь 2014г. по 6-10'!G76+'июнь 2014г. по 0,4'!G73 -> 0 | H77: 0 | I77: 0 | J77: ='июнь 2014г. по 6-10'!J76+'июнь 2014г. по 0,4'!J73 -> 0 | K77: ='июнь 2014г. по 6-10'!K76+'июнь 2014г. по 0,4'!K73 -> 0 | L77: 0 | M77: 0 | N77: 0 | O77: 0 | P77: 0 | Q77: 0
C78: итого: | D78: =D72+D73+D74+D75+D76+D77 -> 10 | E78: =E72+E73+E74+E75+E76+E77 -> 88.5 | F78: =F72+F73+F74+F75+F76+F77 -> 10 | G78: =G72+G73+G74+G75+G76+G77 -> 88.5 | H78: =H72+H73+H74+H75+H76+H77 -> 2 | I78: =I72+I73+I74+I75+I76+I77 -> 11.6 | J78: =J72+J73+J74+J75+J76+J77 -> 0 | K78: =K72+K73+K74+K75+K76+K77 -> 0 | ... Q78: =Q72+Q73+Q74+Q75+Q76+Q77 -> 0
C79: Баксанская группа ПС
C80: ПС «Баксан-110» | D80: ='июнь 2014г. по 6-10'!D79+'июнь 2014г. по 0,4'!D76 -> 0 | E80: ='июнь 2014г. по 6-10'!E79+'июнь 2014г. по 0,4'!E76 -> 0 | F80: ='июнь 2014г. по 6-10'!F79+'июнь 2014г. по 0,4'!F76 -> 0 | G80: ='июнь 2014г. по 6-10'!G79+'июнь 2014г. по 0,4'!G76 -> 0 | H80: 0 | I80: 0 | J80: ='июнь 2014г. по 6-10'!J79+'июнь 2014г. по 0,4'!J76 -> 0 | K80: ='июнь 2014г. по 6-10'!K79+'июнь 2014г. по 0,4'!K76 -> 0 | L80: 0 | M80: 0 | N80: 0 | O80: 0 | P80: 0 | Q80: 0
C81: ПС «Кызбурун-110» | D81: ='июнь 2014г. по 6-10'!D80+'июнь 2014г. по 0,4'!D77 -> 1 | E81: ='июнь 2014г. по 6-10'!E80+'июнь 2014г. по 0,4'!E77 -> 7 | F81: ='июнь 2014г. по 6-10'!F80+'июнь 2014г. по 0,4'!F77 -> 1 | G81: ='июнь 2014г. по 6-10'!G80+'июнь 2014г. по 0,4'!G77 -> 7 | H81: 1 | I81: 5 | J81: ='июнь 2014г. по 6-10'!J80+'июнь 2014г. по 0,4'!J77 -> 0 | K81: ='июнь 2014г. по 6-10'!K80+'июнь 2014г. по 0,4'!K77 -> 0 | L81: 0 | M81: 0 | N81: 0 | O81: 0 | P81: 0 | Q81: 0
C82: ПС «Куркужин» | D82: ='июнь 2014г. по 6-10'!D81+'июнь 2014г. по 0,4'!D78 -> 6 | E82: ='июнь 2014г. по 6-10'!E81+'июнь 2014г. по 0,4'!E78 -> 65 | F82: ='июнь 2014г. по 6-10'!F81+'июнь 2014г. по 0,4'!F78 -> 6 | G82: ='июнь 2014г. по 6-10'!G81+'июнь 2014г. по 0,4'!G78 -> 65 | H82: 0 | I82: 0 | J82: ='июнь 2014г. по 6-10'!J81+'июнь 2014г. по 0,4'!J78 -> 1 | K82: ='июнь 2014г. по 6-10'!K81+'июнь 2014г. по 0,4'!K78 -> 8 | L82: 0 | M82: 0 | N82: 0 | O82: 0 | P82: 0 | Q82: 0
C83: ПС «Баксан-35» | D83: ='июнь 2014г. по 6-10'!D82+'июнь 2014г. по 0,4'!D79 -> 1 | E83: ='июнь 2014г. по 6-10'!E82+'июнь 2014г. по 0,4'!E79 -> 5 | F83: ='июнь 2014г. по 6-10'!F82+'июнь 2014г. по 0,4'!F79 -> 1 | G83: ='июнь 2014г. по 6-10'!G82+'июнь 2014г. по 0,4'!G79 -> 5 | H83: 0 | I83: 0 | J83: ='июнь 2014г. по 6-10'!J82+'июнь 2014г. по 0,4'!J79 -> 0 | K83: ='июнь 2014г. по 6-10'!K82+'июнь 2014г. по 0,4'!K79 -> 0 | L83: 0 | M83: 0 | N83: 0 | O83: 0 | P83: 0 | Q83: 0
C84: ПС «Кр.Константин.» | D84: ='июнь 2014г. по 6-10'!D83+'июнь 2014г. по 0,4'!D80 -> 4 | E84: ='июнь 2014г. по 6-10'!E83+'июнь 2014г. по 0,4'!E80 -> 120 | F84: ='июнь 2014г. по 6-10'!F83+'июнь 2014г. по 0,4'!F80 -> 4 | G84: ='июнь 2014г. по 6-10'!G83+'июнь 2014г. по 0,4'!G80 -> 120 | H84: 0 | I84: 0 | J84: ='июнь 2014г. по 6-10'!J83+'июнь 2014г. по 0,4'!J80 -> 0 | K84: ='июнь 2014г. по 6-10'!K83+'июнь 2014г. по 0,4'!K80 -> 0 | L84: 0 | M84: 0 | N84: 0 | O84: 0 | P84: 0 | Q84: 0
C85: ПС «Гунделен-110» | D85: ='июнь 2014г. по 6-10'!D84+'июнь 2014г. по 0,4'!D81 -> 4 | E85: ='июнь 2014г. по 6-10'!E84+'июнь 2014г. по 0,4'!E81 -> 35 | F85: ='июнь 2014г. по 6-10'!F84+'июнь 2014г. по 0,4'!F81 -> 4 | G85: ='июнь 2014г. по 6-10'!G84+'июнь 2014г. по 0,4'!G81 -> 35 | H85: 0 | I85: 0 | J85: ='июнь 2014г. по 6-10'!J84+'июнь 2014г. по 0,4'!J81 -> 0 | K85: ='июнь 2014г. по 6-10'!K84+'июнь 2014г. по 0,4'!K81 -> 0 | L85: 0 | M85: 0 | N85: 0 | O85: 0 | P85: 0 | Q85: 0
C86: ПС «Плотина» | D86: ='июнь 2014г. по 6-10'!D85+'июнь 2014г. по 0,4'!D82 -> 2 | E86: ='июнь 2014г. по 6-10'!E85+'июнь 2014г. по 0,4'!E82 -> 19 | F86: ='июнь 2014г. по 6-10'!F85+'июнь 2014г. по 0,4'!F82 -> 2 | G86: ='июнь 2014г. по 6-10'!G85+'июнь 2014г. по 0,4'!G82 -> 19 | H86: 0 | I86: 0 | J86: ='июнь 2014г. по 6-10'!J85+'июнь 2014г. по 0,4'!J82 -> 1 | K86: ='июнь 2014г. по 6-10'!K85+'июнь 2014г. по 0,4'!K82 -> 4 | L86: 0 | M86: 0 | N86: 0 | O86: 0 | P86: 0 | Q86: 0
C87: ПС «Баксаненок» | D87: ='июнь 2014г. по 6-10'!D86+'июнь 2014г. по 0,4'!D83 -> 5 | E87: ='июнь 2014г. по 6-10'!E86+'июнь 2014г. по 0,4'!E83 -> 43.5 | F87: ='июнь 2014г. по 6-10'!F86+'июнь 2014г. по 0,4'!F83 -> 5 | G87: ='июнь 2014г. по 6-10'!G86+'июнь 2014г. по 0,4'!G83 -> 43.5 | H87: 0 | I87: 0 | J87: ='июнь 2014г. по 6-10'!J86+'июнь 2014г. по 0,4'!J83 -> 0 | K87: ='июнь 2014г. по 6-10'!K86+'июнь 2014г. по 0,4'!K83 -> 0 | L87: 0 | M87: 0 | N87: 0 | O87: 0 | P87: 0 | Q87: 0
C88: ПС «Баксан-330» | D88: ='июнь 2014г. по 6-10'!D87+'июнь 2014г. по 0,4'!D84 -> 2 | E88: ='июнь 2014г. по 6-10'!E87+'июнь 2014г. по 0,4'!E84 -> 20 | F88: ='июнь 2014г. по 6-10'!F87+'июнь 2014г. по 0,4'!F84 -> 2 | G88: ='июнь 2014г. по 6-10'!G87+'июнь 2014г. по 0,4'!G84 -> 20 | H88: 0 | I88: 0 | J88: ='июнь 2014г. по 6-10'!J87+'июнь 2014г. по 0,4'!J84 -> 0 | K88: ='июнь 2014г. по 6-10'!K87+'июнь 2014г. по 0,4'!K84 -> 0 | L88: 0 | M88: 0 | N88: 0 | O88: 0 | P88: 0 | Q88: 0
C89: РП Заюково | D89: ='июнь 2014г. по 6-10'!D88+'июнь 2014г. по 0,4'!D85 -> 1 | E89: ='июнь 2014г. по 6-10'!E88+'июнь 2014г. по 0,4'!E85 -> 15 | F89: ='июнь 2014г. по 6-10'!F88+'июнь 2014г. по 0,4'!F85 -> 1 | G89: ='июнь 2014г. по 6-10'!G88+'июнь 2014г. по 0,4'!G85 -> 15 | H89: 0 | I89: 0 | J89: ='июнь 2014г. по 6-10'!J88+'июнь 2014г. по 0,4'!J85 -> 0 | K89: ='июнь 2014г. по 6-10'!K88+'июнь 2014г. по 0,4'!K85 -> 0 | L89: 0 | M89: 0 | N89: 0 | O89: 0 | P89: 0 | Q89: 0
C90: РП Куба | D90: ='июнь 2014г. по 6-10'!D89+'июнь 2014г. по 0,4'!D86 -> 0 | E90: ='июнь 2014г. по 6-10'!E89+'июнь 2014г. по 0,4'!E86 -> 0 | F90: ='июнь 2014г. по 6-10'!F89+'июнь 2014г. по 0,4'!F86 -> 0 | G90: ='июнь 2014г. по 6-10'!G89+'июнь 2014г. по 0,4'!G86 -> 0 | H90: 0 | I90: 0 | J90: ='июнь 2014г. по 6-10'!J89+'июнь 2014г. по 0,4'!J86 -> 0 | K90: ='июнь 2014г. по 6-10'!K89+'июнь 2014г. по 0,4'!K86 -> 0 | L90: 0 | M90: 0 | N90: 0 | O90: 0 | P90: 0 | Q90: 0
C91: итого: | D91: =D80+D81+D82+D83+D84+D85+D86+D87+D88+D89+D90 -> 26 | E91: =E80+E81+E82+E83+E84+E85+E86+E87+E88+E89+E90 -> 329.5 | F91: =F80+F81+F82+F83+F84+F85+F86+F87+F88+F89+F90 -> 26 | G91: =G80+G81+G82+G83+G84+G85+G86+G87+G88+G89+G90 -> 329.5 | H91: =H80+H81+H82+H83+H84+H85+H86+H87+H88+H89+H90 -> 1 | I91: =I80+I81+I82+I83+I84+I85+I86+I87+I88+I89+I90 -> 5 | J91: =J80+J81+J82+J83+J84+J85+J86+J87+J88+J89+J90 -> 2 | K91: =K80+K81+K82+K83+K84+K85+K86+K87+K88+K89+K90 -> 12 | ... Q91: =Q80+Q81+Q82+Q83+Q84+Q85+Q86+Q87+Q88+Q89+Q90 -> 0
C92: Черекская группа ПС
C93: ПС «Кашхатау» | D93: ='июнь 2014г. по 6-10'!D92+'июнь 2014г. по 0,4'!D89 -> 1 | E93: ='июнь 2014г. по 6-10'!E92+'июнь 2014г. по 0,4'!E89 -> 15 | F93: ='июнь 2014г. по 6-10'!F92+'июнь 2014г. по 0,4'!F89 -> 1 | G93: ='июнь 2014г. по 6-10'!G92+'июнь 2014г. по 0,4'!G89 -> 15 | H93: 1 | I93: 15 | J93: ='июнь 2014г. по 6-10'!J92+'июнь 2014г. по 0,4'!J89 -> 0 | K93: ='июнь 2014г. по 6-10'!K92+'июнь 2014г. по 0,4'!K89 -> 0 | L93: 0 | M93: 0 | N93: 0 | O93: 0 | P93: 0 | Q93: 0
C94: ПС «Аушигер» | D94: ='июнь 2014г. по 6-10'!D93+'июнь 2014г. по 0,4'!D90 -> 10 | E94: ='июнь 2014г. по 6-10'!E93+'июнь 2014г. по 0,4'!E90 -> 112 | F94: ='июнь 2014г. по 6-10'!F93+'июнь 2014г. по 0,4'!F90 -> 10 | G94: ='июнь 2014г. по 6-10'!G93+'июнь 2014г. по 0,4'!G90 -> 112 | H94: 0 | I94: 0 | J94: ='июнь 2014г. по 6-10'!J93+'июнь 2014г. по 0,4'!J90 -> 0 | K94: ='июнь 2014г. по 6-10'!K93+'июнь 2014г. по 0,4'!K90 -> 0 | L94: 0 | M94: 0 | N94: 0 | O94: 0 | P94: 0 | Q94: 0
C95: ПС «Советская» | D95: ='июнь 2014г. по 6-10'!D94+'июнь 2014г. по 0,4'!D91 -> 0 | E95: ='июнь 2014г. по 6-10'!E94+'июнь 2014г. по 0,4'!E91 -> 0 | F95: ='июнь 2014г. по 6-10'!F94+'июнь 2014г. по 0,4'!F91 -> 0 | G95: ='июнь 2014г. по 6-10'!G94+'июнь 2014г. по 0,4'!G91 -> 0 | H95: 0 | I95: 0 | J95: ='июнь 2014г. по 6-10'!J94+'июнь 2014г. по 0,4'!J91 -> 0 | K95: ='июнь 2014г. по 6-10'!K94+'июнь 2014г. по 0,4'!K91 -> 0 | L95: 0 | M95: 0 | N95: 0 | O95: 0 | P95: 0 | Q95: 0
C96: ПС «Кара-Су» | D96: ='июнь 2014г. по 6-10'!D95+'июнь 2014г. по 0,4'!D92 -> 0 | E96: ='июнь 2014г. по 6-10'!E95+'июнь 2014г. по 0,4'!E92 -> 0 | F96: ='июнь 2014г. по 6-10'!F95+'июнь 2014г. по 0,4'!F92 -> 0 | G96: ='июнь 2014г. по 6-10'!G95+'июнь 2014г. по 0,4'!G92 -> 0 | H96: 0 | I96: 0 | J96: ='июнь 2014г. по 6-10'!J95+'июнь 2014г. по 0,4'!J92 -> 0 | K96: ='июнь 2014г. по 6-10'!K95+'июнь 2014г. по 0,4'!K92 -> 0 | L96: 0 | M96: 0 | N96: 0 | O96: 0 | P96: 0 | Q96: 0
C97: ПС «ЦСБ» | D97: ='июнь 2014г. по 6-10'!D96+'июнь 2014г. по 0,4'!D93 -> 1 | E97: ='июнь 2014г. по 6-10'!E96+'июнь 2014г. по 0,4'!E93 -> 6 | F97: ='июнь 2014г. по 6-10'!F96+'июнь 2014г. по 0,4'!F93 -> 1 | G97: ='июнь 2014г. по 6-10'!G96+'июнь 2014г. по 0,4'!G93 -> 6 | H97: 0 | I97: 0 | J97: ='июнь 2014г. по 6-10'!J96+'июнь 2014г. по 0,4'!J93 -> 0 | K97: ='июнь 2014г. по 6-10'!K96+'июнь 2014г. по 0,4'!K93 -> 0 | L97: 0 | M97: 0 | N97: 0 | O97: 0 | P97: 0 | Q97: 0
C98: ПС «Портал-2» | D98: ='июнь 2014г. по 6-10'!D97+'июнь 2014г. по 0,4'!D94 -> 6 | E98: ='июнь 2014г. по 6-10'!E97+'июнь 2014г. по 0,4'!E94 -> 94 | F98: ='июнь 2014г. по 6-10'!F97+'июнь 2014г. по 0,4'!F94 -> 6 | G98: ='июнь 2014г. по 6-10'!G97+'июнь 2014г. по 0,4'!G94 -> 94 | H98: 0 | I98: 0 | J98: ='июнь 2014г. по 6-10'!J97+'июнь 2014г. по 0,4'!J94 -> 0 | K98: ='июнь 2014г. по 6-10'!K97+'июнь 2014г. по 0,4'!K94 -> 0 | L98: 0 | M98: 0 | N98: 0 | O98: 0 | P98: 0 | Q98: 0
C99: ПС «Портал-1» | D99: ='июнь 2014г. по 6-10'!D98+'июнь 2014г. по 0,4'!D95 -> 2 | E99: ='июнь 2014г. по 6-10'!E98+'июнь 2014г. по 0,4'!E95 -> 25 | F99: ='июнь 2014г. по 6-10'!F98+'июнь 2014г. по 0,4'!F95 -> 2 | G99: ='июнь 2014г. по 6-10'!G98+'июнь 2014г. по 0,4'!G95 -> 25 | H99: 0 | I99: 0 | J99: ='июнь 2014г. по 6-10'!J98+'июнь 2014г. по 0,4'!J95 -> 0 | K99: ='июнь 2014г. по 6-10'!K98+'июнь 2014г. по 0,4'!K95 -> 0 | L99: 0 | M99: 0 | N99: 0 | O99: 0 | P99: 0 | Q99: 0
C100: ПС «Бабугент» | D100: ='июнь 2014г. по 6-10'!D99+'июнь 2014г. по 0,4'!D96 -> 4 | E100: ='июнь 2014г. по 6-10'!E99+'июнь 2014г. по 0,4'!E96 -> 33 | F100: ='июнь 2014г. по 6-10'!F99+'июнь 2014г. по 0,4'!F96 -> 4 | G100: ='июнь 2014г. по 6-10'!G99+'июнь 2014г. по 0,4'!G96 -> 33 | H100: 0 | I100: 0 | J100: ='июнь 2014г. по 6-10'!J99+'июнь 2014г. по 0,4'!J96 -> 1 | K100: ='июнь 2014г. по 6-10'!K99+'июнь 2014г. по 0,4'!K96 -> 6 | L100: 0 | M100: 0 | N100: 0 | O100: 0 | P100: 0 | Q100: 0
C101: ПС «Мухольская ГЭС» | D101: ='июнь 2014г. по 6-10'!D100+'июнь 2014г. по 0,4'!D97 -> 1 | E101: ='июнь 2014г. по 6-10'!E100+'июнь 2014г. по 0,4'!E97 -> 7 | F101: ='июнь 2014г. по 6-10'!F100+'июнь 2014г. по 0,4'!F97 -> 1 | G101: ='июнь 2014г. по 6-10'!G100+'июнь 2014г. по 0,4'!G97 -> 7 | H101: 0 | I101: 0 | J101: ='июнь 2014г. по 6-10'!J100+'июнь 2014г. по 0,4'!J97 -> 0 | K101: ='июнь 2014г. по 6-10'!K100+'июнь 2014г. по 0,4'!K97 -> 0 | L101: 0 | M101: 0 | N101: 0 | O101: 0 | P101: 0 | Q101: 0
C102: итого: | D102: =D93+D94+D95+D96+D97+D98+D99+D100+D101 -> 25 | E102: =E93+E94+E95+E96+E97+E98+E99+E100+E101 -> 292 | F102: =F93+F94+F95+F96+F97+F98+F99+F100+F101 -> 25 | G102: =G93+G94+G95+G96+G97+G98+G99+G100+G101 -> 292 | H102: =H93+H94+H95+H96+H97+H98+H99+H100+H101 -> 1 | I102: =I93+I94+I95+I96+I97+I98+I99+I100+I101 -> 15 | J102: =J93+J94+J95+J96+J97+J98+J99+J100+J101 -> 1 | K102: =K93+K94+K95+K96+K97+K98+K99+K100+K101 -> 6 | ... Q102: =Q93+Q94+Q95+Q96+Q97+Q98+Q99+Q100+Q101 -> 0
C103: Нарткалинская группа ПС
C104: ПС «Нарткала» | D104: ='июнь 2014г. по 6-10'!D103+'июнь 2014г. по 0,4'!D100 -> 0 | E104: ='июнь 2014г. по 6-10'!E103+'июнь 2014г. по 0,4'!E100 -> 0 | F104: ='июнь 2014г. по 6-10'!F103+'июнь 2014г. по 0,4'!F100 -> 0 | G104: ='июнь 2014г. по 6-10'!G103+'июнь 2014г. по 0,4'!G100 -> 0 | H104: 1 | I104: 15 | J104: ='июнь 2014г. по 6-10'!J103+'июнь 2014г. по 0,4'!J100 -> 0 | K104: ='июнь 2014г. по 6-10'!K103+'июнь 2014г. по 0,4'!K100 -> 0 | L104: 0 | M104: 0 | N104: 0 | O104: 0 | P104: 0 | Q104: 0
C105: ПС «Псыгансу» | D105: ='июнь 2014г. по 6-10'!D104+'июнь 2014г. по 0,4'!D101 -> 26 | E105: ='июнь 2014г. по 6-10'!E104+'июнь 2014г. по 0,4'!E101 -> 1642 | F105: ='июнь 2014г. по 6-10'!F104+'июнь 2014г. по 0,4'!F101 -> 26 | G105: ='июнь 2014г. по 6-10'!G104+'июнь 2014г. по 0,4'!G101 -> 1642 | H105: 0 | I105: 0 | J105: ='июнь 2014г. по 6-10'!J104+'июнь 2014г. по 0,4'!J101 -> 0 | K105: ='июнь 2014г. по 6-10'!K104+'июнь 2014г. по 0,4'!K101 -> 0 | L105: 0 | M105: 0 | N105: 0 | O105: 0 | P105: 0 | Q105: 0
C106: ПС «Ст.Лескен» | D106: ='июнь 2014г. по 6-10'!D105+'июнь 2014г. по 0,4'!D102 -> 18 | E106: ='июнь 2014г. по 6-10'!E105+'июнь 2014г. по 0,4'!E102 -> 419 | F106: ='июнь 2014г. по 6-10'!F105+'июнь 2014г. по 0,4'!F102 -> 18 | G106: ='июнь 2014г. по 6-10'!G105+'июнь 2014г. по 0,4'!G102 -> 419 | H106: 0 | I106: 0 | J106: ='июнь 2014г. по 6-10'!J105+'июнь 2014г. по 0,4'!J102 -> 0 | K106: ='июнь 2014г. по 6-10'!K105+'июнь 2014г. по 0,4'!K102 -> 0 | L106: 0 | M106: 0 | N106: 0 | O106: 0 | P106: 0 | Q106: 0
C107: ПС «Кахун» | D107: ='июнь 2014г. по 6-10'!D106+'июнь 2014г. по 0,4'!D103 -> 4 | E107: ='июнь 2014г. по 6-10'!E106+'июнь 2014г. по 0,4'!E103 -> 37 | F107: ='июнь 2014г. по 6-10'!F106+'июнь 2014г. по 0,4'!F103 -> 4 | G107: ='июнь 2014г. по 6-10'!G106+'июнь 2014г. по 0,4'!G103 -> 37 | H107: 0 | I107: 0 | J107: ='июнь 2014г. по 6-10'!J106+'июнь 2014г. по 0,4'!J103 -> 0 | K107: ='июнь 2014г. по 6-10'!K106+'июнь 2014г. по 0,4'!K103 -> 0 | L107: 0 | M107: 0 | N107: 0 | O107: 0 | P107: 0 | Q107: 0
C108: ПС «Заводская» | D108: ='июнь 2014г. по 6-10'!D107+'июнь 2014г. по 0,4'!D104 -> 22 | E108: ='июнь 2014г. по 6-10'!E107+'июнь 2014г. по 0,4'!E104 -> 1043 | F108: ='июнь 2014г. по 6-10'!F107+'июнь 2014г. по 0,4'!F104 -> 22 | G108: ='июнь 2014г. по 6-10'!G107+'июнь 2014г. по 0,4'!G104 -> 1043 | H108: 0 | I108: 0 | J108: ='июнь 2014г. по 6-10'!J107+'июнь 2014г. по 0,4'!J104 -> 2 | K108: ='июнь 2014г. по 6-10'!K107+'июнь 2014г. по 0,4'!K104 -> 10 | L108: 0 | M108: 0 | N108: 0 | O108: 0 | P108: 0 | Q108: 0
C109: ПС «Герменчик» | D109: ='июнь 2014г. по 6-10'!D108+'июнь 2014г. по 0,4'!D105 -> 9 | E109: ='июнь 2014г. по 6-10'!E108+'июнь 2014г. по 0,4'!E105 -> 164 | F109: ='июнь 2014г. по 6-10'!F108+'июнь 2014г. по 0,4'!F105 -> 9 | G109: ='июнь 2014г. по 6-10'!G108+'июнь 2014г. по 0,4'!G105 -> 164 | H109: 0 | I109: 0 | J109: ='июнь 2014г. по 6-10'!J108+'июнь 2014г. по 0,4'!J105 -> 1 | K109: ='июнь 2014г. по 6-10'!K108+'июнь 2014г. по 0,4'!K105 -> 10 | L109: 0 | M109: 0 | N109: 0 | O109: 0 | P109: 0 | Q109: 0
C110: ПС «Ст.Урух» | D110: ='июнь 2014г. по 6-10'!D109+'июнь 2014г. по 0,4'!D106 -> 9 | E110: ='июнь 2014г. по 6-10'!E109+'июнь 2014г. по 0,4'!E106 -> 191.5 | F110: ='июнь 2014г. по 6-10'!F109+'июнь 2014г. по 0,4'!F106 -> 9 | G110: ='июнь 2014г. по 6-10'!G109+'июнь 2014г. по 0,4'!G106 -> 191.5 | H110: 0 | I110: 0 | J110: ='июнь 2014г. по 6-10'!J109+'июнь 2014г. по 0,4'!J106 -> 0 | K110: ='июнь 2014г. по 6-10'!K109+'июнь 2014г. по 0,4'!K106 -> 0 | L110: 0 | M110: 0 | N110: 0 | O110: 0 | P110: 0 | Q110: 0
C111: ПС «Аргудан» | D111: ='июнь 2014г. по 6-10'!D110+'июнь 2014г. по 0,4'!D107 -> 8 | E111: ='июнь 2014г. по 6-10'!E110+'июнь 2014г. по 0,4'!E107 -> 95 | F111: ='июнь 2014г. по 6-10'!F110+'июнь 2014г. по 0,4'!F107 -> 8 | G111: ='июнь 2014г. по 6-10'!G110+'июнь 2014г. по 0,4'!G107 -> 95 | H111: 0 | I111: 0 | J111: ='июнь 2014г. по 6-10'!J110+'июнь 2014г. по 0,4'!J107 -> 0 | K111: ='июнь 2014г. по 6-10'!K110+'июнь 2014г. по 0,4'!K107 -> 0 | L111: 0 | M111: 0 | N111: 0 | O111: 0 | P111: 0 | Q111: 0
C112: ПС «Лескен-1» | D112: ='июнь 2014г. по 6-10'!D111+'июнь 2014г. по 0,4'!D108 -> 25 | E112: ='июнь 2014г. по 6-10'!E111+'июнь 2014г. по 0,4'!E108 -> 333 | F112: ='июнь 2014г. по 6-10'!F111+'июнь 2014г. по 0,4'!F108 -> 25 | G112: ='июнь 2014г. по 6-10'!G111+'июнь 2014г. по 0,4'!G108 -> 333 | H112: 2 | I112: 45 | J112: ='июнь 2014г. по 6-10'!J111+'июнь 2014г. по 0,4'!J108 -> 2 | K112: ='июнь 2014г. по 6-10'!K111+'июнь 2014г. по 0,4'!K108 -> 15 | L112: 0 | M112: 0 | N112: 0 | O112: 0 | P112: 0 | Q112: 0
...

Sheet июнь 2014г
B14: Информация о технологическом присоединении энергопринимающих устройств к сетям ОАО Дагэнергосеть филиалом ОАО "МРСК Северного Кавказа" за июнь 2014г.
A19: Наименование организации, осуществляющей технологическое присоединение | B19: Наименование субъекта РФ | C19: Наименование центра питания (ПС 35 кВ и выше) | D19: Количество поданных заявок на технологическое присоединение, на общую мощность энергопринимающих устройств, кВт | F19: Заключено договоров на технологическое присоединение, включающие технические условия на общую мощность энергопринимающих устройств, кВт | H19: Расторгнуто договоров на технологическое присоединение, включающие технические условия на общую мощность энергопринимающих устройств, кВт | J19: Суммарная мощность энегргопринимающих устройств, присоединенных к электрическим сетям в соответствии с договором на технологическое присоединение за отчетный период, кВт | L19: Заключено договоров на технологическое присоединение, включающие технические условия на общую мощность генерирущих установок, МВт | N19: Расторгнуто договоров на технологическое присоединение, включающие технические условия на общую мощность генерирущих установок, МВт | P19: Суммарная мощность генерирущих установок, присоединенных к электрическим сетям в соответствии с договором на технологическое присоединение за отчетный период, МВт
A20: 1 | B20: 2 | C20: 3 | D20: 4 | F20: 5 | H20: 6 | J20: 7 | L20: 8 | N20: 9 | P20: 10
D21: шт | E21: кВт | F21: шт | G21: кВт | H21: шт | I21: кВт | J21: шт | K21: кВт | L21: шт | M21: МВт | N21: шт | O21: МВт | P21: шт | Q21: МВт
A22: Кабардино- Балкарсикй филиал ОАО "МРСК Северного Кавказа" | B22: Республика Дагестан | C22: ЦЕНТРАЛЬНЫЕ СЕТИ
C23: ПС ГПП | D23: ='июнь 2014г. по 6-10'!D23+'июнь 2014г. по 0,4'!D20 -> 0 | E23: ='июнь 2014г. по 6-10'!E23+'июнь 2014г. по 0,4'!E20 -> 0 | F23: ='июнь 2014г. по 6-10'!F23+'июнь 2014г. по 0,4'!F20 -> 0 | G23: ='июнь 2014г. по 6-10'!G23+'июнь 2014г. по 0,4'!G20 -> 0 | H23: ='июнь 2014г. по 6-10'!H23+'июнь 2014г. по 0,4'!H20 -> 0 | I23: ='июнь 2014г. по 6-10'!I23+'июнь 2014г. по 0,4'!I20 -> 0 | J23: ='июнь 2014г. по 6-10'!J23+'июнь 2014г. по 0,4'!J20 -> 0 | K23: ='июнь 2014г. по 6-10'!K23+'июнь 2014г. по 0,4'!K20 -> 0 | ... Q23: ='июнь 2014г. по 6-10'!Q23+'июнь 2014г. по 0,4'!Q20 -> 0
C24: ПС Новая | D24: ='июнь 2014г. по 6-10'!D24+'июнь 2014г. по 0,4'!D21 -> 1 | E24: ='июнь 2014г. по 6-10'!E24+'июнь 2014г. по 0,4'!E21 -> 10 | F24: ='июнь 2014г. по 6-10'!F24+'июнь 2014г. по 0,4'!F21 -> 1 | G24: ='июнь 2014г. по 6-10'!G24+'июнь 2014г. по 0,4'!G21 -> 10 | H24: ='июнь 2014г. по 6-10'!H24+'июнь 2014г. по 0,4'!H21 -> 0 | I24: ='июнь 2014г. по 6-10'!I24+'июнь 2014г. по 0,4'!I21 -> 0 | J24: ='июнь 2014г. по 6-10'!J24+'июнь 2014г. по 0,4'!J21 -> 0 | K24: ='июнь 2014г. по 6-10'!K24+'июнь 2014г. по 0,4'!K21 -> 0 | ... Q24: ='июнь 2014г. по 6-10'!Q24+'июнь 2014г. по 0,4'!Q21 -> 0
C25: ПС ЦПП | D25: ='июнь 2014г. по 6-10'!D25+'июнь 2014г. по 0,4'!D22 -> 0 | E25: ='июнь 2014г. по 6-10'!E25+'июнь 2014г. по 0,4'!E22 -> 0 | F25: ='июнь 2014г. по 6-10'!F25+'июнь 2014г. по 0,4'!F22 -> 0 | G25: ='июнь 2014г. по 6-10'!G25+'июнь 2014г. по 0,4'!G22 -> 0 | H25: ='июнь 2014г. по 6-10'!H25+'июнь 2014г. по 0,4'!H22 -> 0 | I25: ='июнь 2014г. по 6-10'!I25+'июнь 2014г. по 0,4'!I22 -> 0 | J25: ='июнь 2014г. по 6-10'!J25+'июнь 2014г. по 0,4'!J22 -> 0 | K25: ='июнь 2014г. по 6-10'!K25+'июнь 2014г. по 0,4'!K22 -> 0 | ... Q25: ='июнь 2014г. по 6-10'!Q25+'июнь 2014г. по 0,4'!Q22 -> 0
C26: ПС М-110 | D26: ='июнь 2014г. по 6-10'!D26+'июнь 2014г. по 0,4'!D23 -> 3 | E26: ='июнь 2014г. по 6-10'!E26+'июнь 2014г. по 0,4'!E23 -> 380 | F26: ='июнь 2014г. по 6-10'!F26+'июнь 2014г. по 0,4'!F23 -> 3 | G26: ='июнь 2014г. по 6-10'!G26+'июнь 2014г. по 0,4'!G23 -> 380 | H26: ='июнь 2014г. по 6-10'!H26+'июнь 2014г. по 0,4'!H23 -> 0 | I26: ='июнь 2014г. по 6-10'!I26+'июнь 2014г. по 0,4'!I23 -> 0 | J26: ='июнь 2014г. по 6-10'!J26+'июнь 2014г. по 0,4'!J23 -> 0 | K26: ='июнь 2014г. по 6-10'!K26+'июнь 2014г. по 0,4'!K23 -> 0 | ... Q26: ='июнь 2014г. по 6-10'!Q26+'июнь 2014г. по 0,4'!Q23 -> 0
C27: ПС Очистные соор. | D27: ='июнь 2014г. по 6-10'!D27+'июнь 2014г. по 0,4'!D24 -> 0 | E27: ='июнь 2014г. по 6-10'!E27+'июнь 2014г. по 0,4'!E24 -> 0 | F27: ='июнь 2014г. по 6-10'!F27+'июнь 2014г. по 0,4'!F24 -> 0 | G27: ='июнь 2014г. по 6-10'!G27+'июнь 2014г. по 0,4'!G24 -> 0 | H27: ='июнь 2014г. по 6-10'!H27+'июнь 2014г. по 0,4'!H24 -> 0 | I27: ='июнь 2014г. по 6-10'!I27+'июнь 2014г. по 0,4'!I24 -> 0 | J27: ='июнь 2014г. по 6-10'!J27+'июнь 2014г. по 0,4'!J24 -> 0 | K27: ='июнь 2014г. по 6-10'!K27+'июнь 2014г. по 0,4'!K24 -> 0 | ... Q27: ='июнь 2014г. по 6-10'!Q27+'июнь 2014г. по 0,4'!Q24 -> 0
C28: ПС Ю-Восточная | D28: ='июнь 2014г. по 6-10'!D28+'июнь 2014г. по 0,4'!D25 -> 0 | E28: ='июнь 2014г. по 6-10'!E28+'июнь 2014г. по 0,4'!E25 -> 0 | F28: ='июнь 2014г. по 6-10'!F28+'июнь 2014г. по 0,4'!F25 -> 0 | G28: ='июнь 2014г. по 6-10'!G28+'июнь 2014г. по 0,4'!G25 -> 0 | H28: ='июнь 2014г. по 6-10'!H28+'июнь 2014г. по 0,4'!H25 -> 0 | I28: ='июнь 2014г. по 6-10'!I28+'июнь 2014г. по 0,4'!I25 -> 0 | J28: ='июнь 2014г. по 6-10'!J28+'июнь 2014г. по 0,4'!J25 -> 0 | K28: ='июнь 2014г. по 6-10'!K28+'июнь 2014г. по 0,4'!K25 -> 0 | ... Q28: ='июнь 2014г. по 6-10'!Q28+'июнь 2014г. по 0,4'!Q25 -> 0
C29: ПС Приморская | D29: ='июнь 2014г. по 6-10'!D29+'июнь 2014г. по 0,4'!D26 -> 0 | E29: ='июнь 2014г. по 6-10'!E29+'июнь 2014г. по 0,4'!E26 -> 0 | F29: ='июнь 2014г. по 6-10'!F29+'июнь 2014г. по 0,4'!F26 -> 0 | G29: ='июнь 2014г. по 6-10'!G29+'июнь 2014г. по 0,4'!G26 -> 0 | H29: ='июнь 2014г. по 6-10'!H29+'июнь 2014г. по 0,4'!H26 -> 0 | I29: ='июнь 2014г. по 6-10'!I29+'июнь 2014г. по 0,4'!I26 -> 0 | J29: ='июнь 2014г. по 6-10'!J29+'июнь 2014г. по 0,4'!J26 -> 0 | K29: ='июнь 2014г. по 6-10'!K29+'июнь 2014г. по 0,4'!K26 -> 0 | ... Q29: ='июнь 2014г. по 6-10'!Q29+'июнь 2014г. по 0,4'!Q26 -> 0
C30: ПС Насосная -1 | D30: ='июнь 2014г. по 6-10'!D30+'июнь 2014г. по 0,4'!D27 -> 13 | E30: ='июнь 2014г. по 6-10'!E30+'июнь 2014г. по 0,4'!E27 -> 351.4 | F30: ='июнь 2014г. по 6-10'!F30+'июнь 2014г. по 0,4'!F27 -> 13 | G30: ='июнь 2014г. по 6-10'!G30+'июнь 2014г. по 0,4'!G27 -> 351.4 | H30: ='июнь 2014г. по 6-10'!H30+'июнь 2014г. по 0,4'!H27 -> 0 | I30: ='июнь 2014г. по 6-10'!I30+'июнь 2014г. по 0,4'!I27 -> 0 | J30: ='июнь 2014г. по 6-10'!J30+'июнь 2014г. по 0,4'!J27 -> 1 | K30: ='июнь 2014г. по 6-10'!K30+'июнь 2014г. по 0,4'!K27 -> 10 | ... Q30: ='июнь 2014г. по 6-10'!Q30+'июнь 2014г. по 0,4'!Q27 -> 0
C31: ПС Радиоцентр | D31: ='июнь 2014г. по 6-10'!D31+'июнь 2014г. по 0,4'!D28 -> 3 | E31: ='июнь 2014г. по 6-10'!E31+'июнь 2014г. по 0,4'!E28 -> 564 | F31: ='июнь 2014г. по 6-10'!F31+'июнь 2014г. по 0,4'!F28 -> 3 | G31: ='июнь 2014г. по 6-10'!G31+'июнь 2014г. по 0,4'!G28 -> 564 | H31: ='июнь 2014г. по 6-10'!H31+'июнь 2014г. по 0,4'!H28 -> 0 | I31: ='июнь 2014г. по 6-10'!I31+'июнь 2014г. по 0,4'!I28 -> 0 | J31: ='июнь 2014г. по 6-10'!J31+'июнь 2014г. по 0,4'!J28 -> 0 | K31: ='июнь 2014г. по 6-10'!K31+'июнь 2014г. по 0,4'!K28 -> 0 | ... Q31: ='июнь 2014г. по 6-10'!Q31+'июнь 2014г. по 0,4'!Q28 -> 0
C32: ПС Изберг- Сев. | D32: ='июнь 2014г. по 6-10'!D32+'июнь 2014г. по 0,4'!D29 -> 15 | E32: ='июнь 2014г. по 6-10'!E32+'июнь 2014г. по 0,4'!E29 -> 586 | F32: ='июнь 2014г. по 6-10'!F32+'июнь 2014г. по 0,4'!F29 -> 15 | G32: ='июнь 2014г. по 6-10'!G32+'июнь 2014г. по 0,4'!G29 -> 586 | H32: ='июнь 2014г. по 6-10'!H32+'июнь 2014г. по 0,4'!H29 -> 0 | I32: ='июнь 2014г. по 6-10'!I32+'июнь 2014г. по 0,4'!I29 -> 0 | J32: ='июнь 2014г. по 6-10'!J32+'июнь 2014г. по 0,4'!J29 -> 0 | K32: ='июнь 2014г. по 6-10'!K32+'июнь 2014г. по 0,4'!K29 -> 0 | ... Q32: ='июнь 2014г. по 6-10'!Q32+'июнь 2014г. по 0,4'!Q29 -> 0
C33: ПС Изберг- Южн. | D33: ='июнь 2014г. по 6-10'!D33+'июнь 2014г. по 0,4'!D30 -> 7 | E33: ='июнь 2014г. по 6-10'!E33+'июнь 2014г. по 0,4'!E30 -> 153 | F33: ='июнь 2014г. по 6-10'!F33+'июнь 2014г. по 0,4'!F30 -> 7 | G33: ='июнь 2014г. по 6-10'!G33+'июнь 2014г. по 0,4'!G30 -> 153 | H33: ='июнь 2014г. по 6-10'!H33+'июнь 2014г. по 0,4'!H30 -> 0 | I33: ='июнь 2014г. по 6-10'!I33+'июнь 2014г. по 0,4'!I30 -> 0 | J33: ='июнь 2014г. по 6-10'!J33+'июнь 2014г. по 0,4'!J30 -> 0 | K33: ='июнь 2014г. по 6-10'!K33+'июнь 2014г. по 0,4'!K30 -> 0 | ... Q33: ='июнь 2014г. по 6-10'!Q33+'июнь 2014г. по 0,4'!Q30 -> 0
C34: ПС Карабуд-т | D34: ='июнь 2014г. по 6-10'!D34+'июнь 2014г. по 0,4'!D31 -> 9 | E34: ='июнь 2014г. по 6-10'!E34+'июнь 2014г. по 0,4'!E31 -> 167 | F34: ='июнь 2014г. по 6-10'!F34+'июнь 2014г. по 0,4'!F31 -> 9 | G34: ='июнь 2014г. по 6-10'!G34+'июнь 2014г. по 0,4'!G31 -> 167 | H34: ='июнь 2014г. по 6-10'!H34+'июнь 2014г. по 0,4'!H31 -> 0 | I34: ='июнь 2014г. по 6-10'!I34+'июнь 2014г. по 0,4'!I31 -> 0 | J34: ='июнь 2014г. по 6-10'!J34+'июнь 2014г. по 0,4'!J31 -> 2 | K34: ='июнь 2014г. по 6-10'!K34+'июнь 2014г. по 0,4'!K31 -> 27 | ... Q34: ='июнь 2014г. по 6-10'!Q34+'июнь 2014г. по 0,4'!Q31 -> 0
... C63: ПС ЗТМ | D63: ='июнь 2014г. по 6-10'!D63+'июнь 2014г. по 0,4'!D60 -> 2 | E63: ='июнь 2014г. по 6-10'!E63+'июнь 2014г. по 0,4'!E60 -> 495 | F63: ='июнь 2014г. по 6-10'!F63+'июнь 2014г. по 0,4'!F60 -> 2 | G63: ='июнь 2014г. по 6-10'!G63+'июнь 2014г. по 0,4'!G60 -> 495 | H63: ='июнь 2014г. по 6-10'!H63+'июнь 2014г. по 0,4'!H60 -> 0 | I63: ='июнь 2014г. по 6-10'!I63+'июнь 2014г. по 0,4'!I60 -> 0 | J63: ='июнь 2014г. по 6-10'!J63+'июнь 2014г. по 0,4'!J60 -> 0 | K63: ='июнь 2014г. по 6-10'!K63+'июнь 2014г. по 0,4'!K60 -> 0 | ... Q63: ='июнь 2014г. по 6-10'!Q63+'июнь 2014г. по 0,4'!Q60 -> 0
C64: итого: | D64: =SUM(D23:D63) -> 265 | E64: =SUM(E23:E63) -> 9256.1 | F64: =SUM(F23:F63) -> 265 | G64: =SUM(G23:G63) -> 9256.1 | H64: =SUM(H23:H63) -> 0 | I64: =SUM(I23:I63) -> 0 | J64: =SUM(J23:J63) -> 20 | K64: =SUM(K23:K63) -> 184.5 | ... Q64: =SUM(Q23:Q63) -> 0
C65: СЕВЕРНЫЕ СЕТИ
C66: Ярыксу | D66: ='июнь 2014г. по 6-10'!D66+'июнь 2014г. по 0,4'!D63 -> 36 | E66: ='июнь 2014г. по 6-10'!E66+'июнь 2014г. по 0,4'!E63 -> 773 | F66: ='июнь 2014г. по 6-10'!F66+'июнь 2014г. по 0,4'!F63 -> 36 | G66: ='июнь 2014г. по 6-10'!G66+'июнь 2014г. по 0,4'!G63 -> 773 | H66: ='июнь 2014г. по 6-10'!H66+'июнь 2014г. по 0,4'!H63 -> 0 | I66: ='июнь 2014г. по 6-10'!I66+'июнь 2014г. по 0,4'!I63 -> 0 | J66: ='июнь 2014г. по 6-10'!J66+'июнь 2014г. по 0,4'!J63 -> 5 | K66: ='июнь 2014г. по 6-10'!K66+'июнь 2014г. по 0,4'!K63 -> 52 | ... Q66: ='июнь 2014г. по 6-10'!Q66+'июнь 2014г. по 0,4'!Q63 -> 0
C67: Акташ | D67: ='июнь 2014г. по 6-10'!D67+'июнь 2014г. по 0,4'!D64 -> 34 | E67: ='июнь 2014г. по 6-10'!E67+'июнь 2014г. по 0,4'!E64 -> 636.5 | F67: ='июнь 2014г. по 6-10'!F67+'июнь 2014г. по 0,4'!F64 -> 34 | G67: ='июнь 2014г. по 6-10'!G67+'июнь 2014г. по 0,4'!G64 -> 636.5 | H67: ='июнь 2014г. по 6-10'!H67+'июнь 2014г. по 0,4'!H64 -> 0 | I67: ='июнь 2014г. по 6-10'!I67+'июнь 2014г. по 0,4'!I64 -> 0 | J67: ='июнь 2014г. по 6-10'!J67+'июнь 2014г. по 0,4'!J64 -> 4 | K67: ='июнь 2014г. по 6-10'!K67+'июнь 2014г. по 0,4'!K64 -> 50 | ... Q67: ='июнь 2014г. по 6-10'!Q67+'июнь 2014г. по 0,4'!Q64 -> 0
C68: Куруш | D68: ='июнь 2014г. по 6-10'!D68+'июнь 2014г. по 0,4'!D65 -> 8 | E68: ='июнь 2014г. по 6-10'!E68+'июнь 2014г. по 0,4'!E65 -> 619.5 | F68: ='июнь 2014г. по 6-10'!F68+'июнь 2014г. по 0,4'!F65 -> 8 | G68: ='июнь 2014г. по 6-10'!G68+'июнь 2014г. по 0,4'!G65 -> 619.5 | H68: ='июнь 2014г. по 6-10'!H68+'июнь 2014г. по 0,4'!H65 -> 0 | I68: ='июнь 2014г. по 6-10'!I68+'июнь 2014г. по 0,4'!I65 -> 0 | J68: ='июнь 2014г. по 6-10'!J68+'июнь 2014г. по 0,4'!J65 -> 2 | K68: ='июнь 2014г. по 6-10'!K68+'июнь 2014г. по 0,4'!K65 -> 10 | ... Q68: ='июнь 2014г. по 6-10'!Q68+'июнь 2014г. по 0,4'!Q65 -> 0
C69: Сулевкент | D69: ='июнь 2014г. по 6-10'!D69+'июнь 2014г. по 0,4'!D66 -> 1 | E69: ='июнь 2014г. по 6-10'!E69+'июнь 2014г. по 0,4'!E66 -> 15 | F69: ='июнь 2014г. по 6-10'!F69+'июнь 2014г. по 0,4'!F66 -> 1 | G69: ='июнь 2014г. по 6-10'!G69+'июнь 2014г. по 0,4'!G66 -> 15 | H69: ='июнь 2014г. по 6-10'!H69+'июнь 2014г. по 0,4'!H66 -> 0 | I69: ='июнь 2014г. по 6-10'!I69+'июнь 2014г. по 0,4'!I66 -> 0 | J69: ='июнь 2014г. по 6-10'!J69+'июнь 2014г. по 0,4'!J66 -> 0 | K69: ='июнь 2014г. по 6-10'!K69+'июнь 2014г. по 0,4'!K66 -> 0 | ... Q69: ='июнь 2014г. по 6-10'!Q69+'июнь 2014г. по 0,4'!Q66 -> 0
C70: Бабаюрт | D70: ='июнь 2014г. по 6-10'!D70+'июнь 2014г. по 0,4'!D67 -> 8 | E70: ='июнь 2014г. по 6-10'!E70+'июнь 2014г. по 0,4'!E67 -> 106 | F70: ='июнь 2014г. по 6-10'!F70+'июнь 2014г. по 0,4'!F67 -> 8 | G70: ='июнь 2014г. по 6-10'!G70+'июнь 2014г. по 0,4'!G67 -> 106 | H70: ='июнь 2014г. по 6-10'!H70+'июнь 2014г. по 0,4'!H67 -> 0 | I70: ='июнь 2014г. по 6-10'!I70+'июнь 2014г. по 0,4'!I67 -> 0 | J70: ='июнь 2014г. по 6-10'!J70+'июнь 2014г. по 0,4'!J67 -> 0 | K70: ='июнь 2014г. по 6-10'!K70+'июнь 2014г. по 0,4'!K67 -> 0 | ... Q70: ='июнь 2014г. по 6-10'!Q70+'июнь 2014г. по 0,4'!Q67 -> 0
C71: Чиркей | D71: ='июнь 2014г. по 6-10'!D71+'июнь 2014г. по 0,4'!D68 -> 1 | E71: ='июнь 2014г. по 6-10'!E71+'июнь 2014г. по 0,4'!E68 -> 10 | F71: ='июнь 2014г. по 6-10'!F71+'июнь 2014г. по 0,4'!F68 -> 1 | G71: ='июнь 2014г. по 6-10'!G71+'июнь 2014г. по 0,4'!G68 -> 10 | H71: ='июнь 2014г. по 6-10'!H71+'июнь 2014г. по 0,4'!H68 -> 0 | I71: ='июнь 2014г. по 6-10'!I71+'июнь 2014г. по 0,4'!I68 -> 0 | J71: ='июнь 2014г. по 6-10'!J71+'июнь 2014г. по 0,4'!J68 -> 0 | K71: ='июнь 2014г. по 6-10'!K71+'июнь 2014г. по 0,4'!K68 -> 0 | ... Q71: ='июнь 2014г. по 6-10'!Q71+'июнь 2014г. по 0,4'!Q68 -> 0
C72: Дылым | D72: ='июнь 2014г. по 6-10'!D72+'июнь 2014г. по 0,4'!D69 -> 4 | E72: ='июнь 2014г. по 6-10'!E72+'июнь 2014г. по 0,4'!E69 -> 32.5 | F72: ='июнь 2014г. по 6-10'!F72+'июнь 2014г. по 0,4'!F69 -> 4 | G72: ='июнь 2014г. по 6-10'!G72+'июнь 2014г. по 0,4'!G69 -> 32.5 | H72: ='июнь 2014г. по 6-10'!H72+'июнь 2014г. по 0,4'!H69 -> 0 | I72: ='июнь 2014г. по 6-10'!I72+'июнь 2014г. по 0,4'!I69 -> 0 | J72: ='июнь 2014г. по 6-10'!J72+'июнь 2014г. по 0,4'!J69 -> 0 | K72: ='июнь 2014г. по 6-10'!K72+'июнь 2014г. по 0,4'!K69 -> 0 | ... Q72: ='июнь 2014г. по 6-10'!Q72+'июнь 2014г. по 0,4'!Q69 -> 0
C73: Миатлы | D73: ='июнь 2014г. по 6-10'!D73+'июнь 2014г. по 0,4'!D70 -> 0 | E73: ='июнь 2014г. по 6-10'!E73+'июнь 2014г. по 0,4'!E70 -> 0 | F73: ='июнь 2014г. по 6-10'!F73+'июнь 2014г. по 0,4'!F70 -> 0 | G73: ='июнь 2014г. по 6-10'!G73+'июнь 2014г. по 0,4'!G70 -> 0 | H73: ='июнь 2014г. по 6-10'!H73+'июнь 2014г. по 0,4'!H70 -> 0 | I73: ='июнь 2014г. по 6-10'!I73+'июнь 2014г. по 0,4'!I70 -> 0 | J73: ='июнь 2014г. по 6-10'!J73+'июнь 2014г. по 0,4'!J70 -> 0 | K73: ='июнь 2014г. по 6-10'!K73+'июнь 2014г. по 0,4'!K70 -> 0 | ... Q73: ='июнь 2014г. по 6-10'!Q73+'июнь 2014г. по 0,4'!Q70 -> 0
C74: ГЩЗ | D74: ='июнь 2014г. по 6-10'!D74+'июнь 2014г. по 0,4'!D71 -> 4 | E74: ='июнь 2014г. по 6-10'!E74+'июнь 2014г. по 0,4'!E71 -> 40 | F74: ='июнь 2014г. по 6-10'!F74+'июнь 2014г. по 0,4'!F71 -> 4 | G74: ='июнь 2014г. по 6-10'!G74+'июнь 2014г. по 0,4'!G71 -> 40 | H74: ='июнь 2014г. по 6-10'!H74+'июнь 2014г. по 0,4'!H71 -> 0 | I74: ='июнь 2014г. по 6-10'!I74+'июнь 2014г. по 0,4'!I71 -> 0 | J74: ='июнь 2014г. по 6-10'!J74+'июнь 2014г. по 0,4'!J71 -> 0 | K74: ='июнь 2014г. по 6-10'!K74+'июнь 2014г. по 0,4'!K71 -> 0 | ... Q74: ='июнь 2014г. по 6-10'!Q74+'июнь 2014г. по 0,4'!Q71 -> 0
C75: Сулак | D75: ='июнь 2014г. по 6-10'!D75+'июнь 2014г. по 0,4'!D72 -> 1 | E75: ='июнь 2014г. по 6-10'!E75+'июнь 2014г. по 0,4'!E72 -> 6 | F75: ='июнь 2014г. по 6-10'!F75+'июнь 2014г. по 0,4'!F72 -> 1 | G75: ='июнь 2014г. по 6-10'!G75+'июнь 2014г. по 0,4'!G72 -> 6 | H75: ='июнь 2014г. по 6-10'!H75+'июнь 2014г. по 0,4'!H72 -> 0 | I75: ='июнь 2014г. по 6-10'!I75+'июнь 2014г. по 0,4'!I72 -> 0 | J75: ='июнь 2014г. по 6-10'!J75+'июнь 2014г. по 0,4'!J72 -> 0 | K75: ='июнь 2014г. по 6-10'!K75+'июнь 2014г. по 0,4'!K72 -> 0 | ... Q75: ='июнь 2014г. по 6-10'!Q75+'июнь 2014г. по 0,4'!Q72 -> 0
C76: Львовская | D76: ='июнь 2014г. по 6-10'!D76+'июнь 2014г. по 0,4'!D73 -> 0 | E76: ='июнь 2014г. по 6-10'!E76+'июнь 2014г. по 0,4'!E73 -> 0 | F76: ='июнь 2014г. по 6-10'!F76+'июнь 2014г. по 0,4'!F73 -> 0 | G76: ='июнь 2014г. по 6-10'!G76+'июнь 2014г. по 0,4'!G73 -> 0 | H76: ='июнь 2014г. по 6-10'!H76+'июнь 2014г. по 0,4'!H73 -> 0 | I76: ='июнь 2014г. по 6-10'!I76+'июнь 2014г. по 0,4'!I73 -> 0 | J76: ='июнь 2014г. по 6-10'!J76+'июнь 2014г. по 0,4'!J73 -> 0 | K76: ='июнь 2014г. по 6-10'!K76+'июнь 2014г. по 0,4'!K73 -> 0 | ... Q76: ='июнь 2014г. по 6-10'!Q76+'июнь 2014г. по 0,4'!Q73 -> 0
C77: Дагестан | D77: ='июнь 2014г. по 6-10'!D77+'июнь 2014г. по 0,4'!D74 -> 11 | E77: ='июнь 2014г. по 6-10'!E77+'июнь 2014г. по 0,4'!E74 -> 94 | F77: ='июнь 2014г. по 6-10'!F77+'июнь 2014г. по 0,4'!F74 -> 11 | G77: ='июнь 2014г. по 6-10'!G77+'июнь 2014г. по 0,4'!G74 -> 94 | H77: ='июнь 2014г. по 6-10'!H77+'июнь 2014г. по 0,4'!H74 -> 0 | I77: ='июнь 2014г. по 6-10'!I77+'июнь 2014г. по 0,4'!I74 -> 0 | J77: ='июнь 2014г. по 6-10'!J77+'июнь 2014г. по 0,4'!J74 -> 0 | K77: ='июнь 2014г. по 6-10'!K77+'июнь 2014г. по 0,4'!K74 -> 0 | ... Q77: ='июнь 2014г. по 6-10'!Q77+'июнь 2014г. по 0,4'!Q74 -> 0
... C101: Карланюрт -(Тяговая) | D101: ='июнь 2014г. по 6-10'!D101+'июнь 2014г. по 0,4'!D98 -> 3 | E101: ='июнь 2014г. по 6-10'!E101+'июнь 2014г. по 0,4'!E98 -> 360 | F101: ='июнь 2014г. по 6-10'!F101+'июнь 2014г. по 0,4'!F98 -> 3 | G101: ='июнь 2014г. по 6-10'!G101+'июнь 2014г. по 0,4'!G98 -> 360 | H101: ='июнь 2014г. по 6-10'!H101+'июнь 2014г. по 0,4'!H98 -> 0 | I101: ='июнь 2014г. по 6-10'!I101+'июнь 2014г. по 0,4'!I98 -> 0 | J101: ='июнь 2014г. по 6-10'!J101+'июнь 2014г. по 0,4'!J98 -> 0 | K101: ='июнь 2014г. по 6-10'!K101+'июнь 2014г. по 0,4'!K98 -> 0 | ... Q101: ='июнь 2014г. по 6-10'!Q101+'июнь 2014г. по 0,4'!Q98 -> 0
C102: итого: | D102: =SUM(D66:D101) -> 169 | E102: =SUM(E66:E101) -> 3397.5 | F102: =SUM(F66:F101) -> 169 | G102: =SUM(G66:G101) -> 3397.5 | H102: =SUM(H66:H101) -> 0 | I102: =SUM(I66:I101) -> 0 | J102: =SUM(J66:J101) -> 14 | K102: =SUM(K66:K101) -> 130 | ... Q102: =SUM(Q66:Q101) -> 0
C103: ДЕРБЕНТСКИЕ СЕТИ
C104: Дербент-330 | D104: ='июнь 2014г. по 6-10'!D104+'июнь 2014г. по 0,4'!D101 -> 26 | E104: ='июнь 2014г. по 6-10'!E104+'июнь 2014г. по 0,4'!E101 -> 1642 | F104: ='июнь 2014г. по 6-10'!F104+'июнь 2014г. по 0,4'!F101 -> 26 | G104: ='июнь 2014г. по 6-10'!G104+'июнь 2014г. по 0,4'!G101 -> 1642 | H104: ='июнь 2014г. по 6-10'!H104+'июнь 2014г. по 0,4'!H101 -> 0 | I104: ='июнь 2014г. по 6-10'!I104+'июнь 2014г. по 0,4'!I101 -> 0 | J104: ='июнь 2014г. по 6-10'!J104+'июнь 2014г. по 0,4'!J101 -> 0 | K104: ='июнь 2014г. по 6-10'!K104+'июнь 2014г. по 0,4'!K101 -> 0 | ... Q104: ='июнь 2014г. по 6-10'!Q104+'июнь 2014г. по 0,4'!Q101 -> 0
C105: Дербент-С | D105: ='июнь 2014г. по 6-10'!D105+'июнь 2014г. по 0,4'!D102 -> 18 | E105: ='июнь 2014г. по 6-10'!E105+'июнь 2014г. по 0,4'!E102 -> 419 | F105: ='июнь 2014г. по 6-10'!F105+'июнь 2014г. по 0,4'!F102 -> 18 | G105: ='июнь 2014г. по 6-10'!G105+'июнь 2014г. по 0,4'!G102 -> 419 | H105: ='июнь 2014г. по 6-10'!H105+'июнь 2014г. по 0,4'!H102 -> 0 | I105: ='июнь 2014г. по 6-10'!I105+'июнь 2014г. по 0,4'!I102 -> 0 | J105: ='июнь 2014г. по 6-10'!J105+'июнь 2014г. по 0,4'!J102 -> 0 | K105: ='июнь 2014г. по 6-10'!K105+'июнь 2014г. по 0,4'!K102 -> 0 | ... Q105: ='июнь 2014г. по 6-10'!Q105+'июнь 2014г. по 0,4'!Q102 -> 0
C106: Мамедкала | D106: ='июнь 2014г. по 6-10'!D106+'июнь 2014г. по 0,4'!D103 -> 4 | E106: ='июнь 2014г. по 6-10'!E106+'июнь 2014г. по 0,4'!E103 -> 37 | F106: ='июнь 2014г. по 6-10'!F106+'июнь 2014г. по 0,4'!F103 -> 4 | G106: ='июнь 2014г. по 6-10'!G106+'июнь 2014г. по 0,4'!G103 -> 37 | H106: ='июнь 2014г. по 6-10'!H106+'июнь 2014г. по 0,4'!H103 -> 0 | I106: ='июнь 2014г. по 6-10'!I106+'июнь 2014г. по 0,4'!I103 -> 0 | J106: ='июнь 2014г. по 6-10'!J106+'июнь 2014г. по 0,4'!J103 -> 0 | K106: ='июнь 2014г. по 6-10'!K106+'июнь 2014г. по 0,4'!K103 -> 0 | ... Q106: ='июнь 2014г. по 6-10'!Q106+'июнь 2014г. по 0,4'!Q103 -> 0
C107: Каякент | D107: ='июнь 2014г. по 6-10'!D107+'июнь 2014г. по 0,4'!D104 -> 22 | E107: ='июнь 2014г. по 6-10'!E107+'июнь 2014г. по 0,4'!E104 -> 1043 | F107: ='июнь 2014г. по 6-10'!F107+'июнь 2014г. по 0,4'!F104 -> 22 | G107: ='июнь 2014г. по 6-10'!G107+'июнь 2014г. по 0,4'!G104 -> 1043 | H107: ='июнь 2014г. по 6-10'!H107+'июнь 2014г. по 0,4'!H104 -> 0 | I107: ='июнь 2014г. по 6-10'!I107+'июнь 2014г. по 0,4'!I104 -> 0 | J107: ='июнь 2014г. по 6-10'!J107+'июнь 2014г. по 0,4'!J104 -> 2 | K107: ='июнь 2014г. по 6-10'!K107+'июнь 2014г. по 0,4'!K104 -> 10 | ... Q107: ='июнь 2014г. по 6-10'!Q107+'июнь 2014г. по 0,4'!Q104 -> 0
C108: Белиджи | D108: ='июнь 2014г. по 6-10'!D108+'июнь 2014г. по 0,4'!D105 -> 9 | E108: ='июнь 2014г. по 6-10'!E108+'июнь 2014г. по 0,4'!E105 -> 164 | F108: ='июнь 2014г. по 6-10'!F108+'июнь 2014г. по 0,4'!F105 -> 9 | G108: ='июнь 2014г. по 6-10'!G108+'июнь 2014г. по 0,4'!G105 -> 164 | H108: ='июнь 2014г. по 6-10'!H108+'июнь 2014г. по 0,4'!H105 -> 0 | I108: ='июнь 2014г. по 6-10'!I108+'июнь 2014г. по 0,4'!I105 -> 0 | J108: ='июнь 2014г. по 6-10'!J108+'июнь 2014г. по 0,4'!J105 -> 1 | K108: ='июнь 2014г. по 6-10'!K108+'июнь 2014г. по 0,4'!K105 -> 10 | ... Q108: ='июнь 2014г. по 6-10'!Q108+'июнь 2014г. по 0,4'!Q105 -> 0
C109: Касумкент | D109: ='июнь 2014г. по 6-10'!D109+'июнь 2014г. по 0,4'!D106 -> 9 | E109: ='июнь 2014г. по 6-10'!E109+'июнь 2014г. по 0,4'!E106 -> 191.5 | F109: ='июнь 2014г. по 6-10'!F109+'июнь 2014г. по 0,4'!F106 -> 9 | G109: ='июнь 2014г. по 6-10'!G109+'июнь 2014г. по 0,4'!G106 -> 191.5 | H109: ='июнь 2014г. по 6-10'!H109+'июнь 2014г. по 0,4'!H106 -> 0 | I109: ='июнь 2014г. по 6-10'!I109+'июнь 2014г. по 0,4'!I106 -> 0 | J109: ='июнь 2014г. по 6-10'!J109+'июнь 2014г. по 0,4'!J106 -> 0 | K109: ='июнь 2014г. по 6-10'!K109+'июнь 2014г. по 0,4'!K106 -> 0 | ... Q109: ='июнь 2014г. по 6-10'!Q109+'июнь 2014г. по 0,4'!Q106 -> 0
C110: Советская | D110: ='июнь 2014г. по 6-10'!D110+'июнь 2014г. по 0,4'!D107 -> 8 | E110: ='июнь 2014г. по 6-10'!E110+'июнь 2014г. по 0,4'!E107 -> 95 | F110: ='июнь 2014г. по 6-10'!F110+'июнь 2014г. по 0,4'!F107 -> 8 | G110: ='июнь 2014г. по 6-10'!G110+'июнь 2014г. по 0,4'!G107 -> 95 | H110: ='июнь 2014г. по 6-10'!H110+'июнь 2014г. по 0,4'!H107 -> 0 | I110: ='июнь 2014г. по 6-10'!I110+'июнь 2014г. по 0,4'!I107 -> 0 | J110: ='июнь 2014г. по 6-10'!J110+'июнь 2014г. по 0,4'!J107 -> 0 | K110: ='июнь 2014г. по 6-10'!K110+'июнь 2014г. по 0,4'!K107 -> 0 | ... Q110: ='июнь 2014г. по 6-10'!Q110+'июнь 2014г. по 0,4'!Q107 -> 0
C111: Магарамкент | D111: ='июнь 2014г. по 6-10'!D111+'июнь 2014г. по 0,4'!D108 -> 25 | E111: ='июнь 2014г. по 6-10'!E111+'июнь 2014г. по 0,4'!E108 -> 333 | F111: ='июнь 2014г. по 6-10'!F111+'июнь 2014г. по 0,4'!F108 -> 25 | G111: ='июнь 2014г. по 6-10'!G111+'июнь 2014г. по 0,4'!G108 -> 333 | H111: ='июнь 2014г. по 6-10'!H111+'июнь 2014г. по 0,4'!H108 -> 0 | I111: ='июнь 2014г. по 6-10'!I111+'июнь 2014г. по 0,4'!I108 -> 0 | J111: ='июнь 2014г. по 6-10'!J111+'июнь 2014г. по 0,4'!J108 -> 2 | K111: ='июнь 2014г. по 6-10'!K111+'июнь 2014г. по 0,4'!K108 -> 15 | ... Q111: ='июнь 2014г. по 6-10'!Q111+'июнь 2014г. по 0,4'!Q108 -> 0
C112: Тагиркент | D112: ='июнь 2014г. по 6-10'!D112+'июнь 2014г. по 0,4'!D109 -> 9 | E112: ='июнь 2014г. по 6-10'!E112+'июнь 2014г. по 0,4'!E109 -> 57 | F112: ='июнь 2014г. по 6-10'!F112+'июнь 2014г. по 0,4'!F109 -> 9 | G112: ='июнь 2014г. по 6-10'!G112+'июнь 2014г. по 0,4'!G109 -> 57 | H112: ='июнь 2014г. по 6-10'!H112+'июнь 2014г. по 0,4'!H109 -> 0 | I112: ='июнь 2014г. по 6-10'!I112+'июнь 2014г. по 0,4'!I109 -> 0 | J112: ='июнь 2014г. по 6-10'!J112+'июнь 2014г. по 0,4'!J109 -> 1 | K112: ='июнь 2014г. по 6-10'!K112+'июнь 2014г. по 0,4'!K109 -> 6 | ... Q112: ='июнь 2014г. по 6-10'!Q112+'июнь 2014г. по 0,4'!Q109 -> 0
C113: Ахты | D113: ='июнь 2014г. по 6-10'!D113+'июнь 2014г. по 0,4'!D110 -> 3 | E113: ='июнь 2014г. по 6-10'!E113+'июнь 2014г. по 0,4'!E110 -> 5.4 | F113: ='июнь 2014г. по 6-10'!F113+'июнь 2014г. по 0,4'!F110 -> 3 | G113: ='июнь 2014г. по 6-10'!G113+'июнь 2014г. по 0,4'!G110 -> 5.4 | H113: ='июнь 2014г. по 6-10'!H113+'июнь 2014г. по 0,4'!H110 -> 0 | I113: ='июнь 2014г. по 6-10'!I113+'июнь 2014г. по 0,4'!I110 -> 0 | J113: ='июнь 2014г. по 6-10'!J113+'июнь 2014г. по 0,4'!J110 -> 0 | K113: ='июнь 2014г. по 6-10'!K113+'июнь 2014г. по 0,4'!K110 -> 0 | ... Q113: ='июнь 2014г. по 6-10'!Q113+'июнь 2014г. по 0,4'!Q110 -> 0
C114: Огни | D114: ='июнь 2014г. по 6-10'!D114+'июнь 2014г. по 0,4'!D111 -> 7 | E114: ='июнь 2014г. по 6-10'!E114+'июнь 2014г. по 0,4'!E111 -> 673.5 | F114: ='июнь 2014г. по 6-10'!F114+'июнь 2014г. по 0,4'!F111 -> 7 | G114: ='июнь 2014г. по 6-10'!G114+'июнь 2014г. по 0,4'!G111 -> 673.5 | H114: ='июнь 2014г. по 6-10'!H114+'июнь 2014г. по 0,4'!H111 -> 0 | I114: ='июнь 2014г. по 6-10'!I114+'июнь 2014г. по 0,4'!I111 -> 0 | J114: ='июнь 2014г. по 6-10'!J114+'июнь 2014г. по 0,4'!J111 -> 0 | K114: ='июнь 2014г. по 6-10'!K114+'июнь 2014г. по 0,4'!K111 -> 0 | ... Q114: ='июнь 2014г. по 6-10'!Q114+'июнь 2014г. по 0,4'!Q111 -> 0
C115: Усухчай | D115: ='июнь 2014г. по 6-10'!D115+'июнь 2014г. по 0,4'!D112 -> 1 | E115: ='июнь 2014г. по 6-10'!E115+'июнь 2014г. по 0,4'!E112 -> 4.4 | F115: ='июнь 2014г. по 6-10'!F115+'июнь 2014г. по 0,4'!F112 -> 1 | G115: ='июнь 2014г. по 6-10'!G115+'июнь 2014г. по 0,4'!G112 -> 4.4 | H115: ='июнь 2014г. по 6-10'!H115+'июнь 2014г. по 0,4'!H112 -> 0 | I115: ='июнь 2014г. по 6-10'!I115+'июнь 2014г. по 0,4'!I112 -> 0 | J115: ='июнь 2014г. по 6-10'!J115+'июнь 2014г. по 0,4'!J112 -> 0 | K115: ='июнь 2014г. по 6-10'!K115+'июнь 2014г. по 0,4'!K112 -> 0 | ... Q115: ='июнь 2014г. по 6-10'!Q115+'июнь 2014г. по 0,4'!Q112 -> 0
... C152: Морская | D152: ='июнь 2014г. по 6-10'!D152+'июнь 2014г. по 0,4'!D149 -> 0 | E152: ='июнь 2014г. по 6-10'!E152+'июнь 2014г. по 0,4'!E149 -> 0 | F152: ='июнь 2014г. по 6-10'!F152+'июнь 2014г. по 0,4'!F149 -> 0 | G152: ='июнь 2014г. по 6-10'!G152+'июнь 2014г. по 0,4'!G149 -> 0 | H152: ='июнь 2014г. по 6-10'!H152+'июнь 2014г. по 0,4'!H149 -> 0 | I152: ='июнь 2014г. по 6-10'!I152+'июнь 2014г. по 0,4'!I149 -> 0 | J152: ='июнь 2014г. по 6-10'!J152+'июнь 2014г. по 0,4'!J149 -> 0 | K152: ='июнь 2014г. по 6-10'!K152+'июнь 2014г. по 0,4'!K149 -> 0 | ... Q152: ='июнь 2014г. по 6-10'!Q152+'июнь 2014г. по 0,4'!Q149 -> 0
C153: итого: | D153: =SUM(D104:D152) -> 253 | E153: =SUM(E104:E152) -> 9033.7 | F153: =SUM(F104:F152) -> 253 | G153: =SUM(G104:G152) -> 9033.7 | H153: =SUM(H104:H152) -> 0 | I153: =SUM(I104:I152) -> 0 | J153: =SUM(J104:J152) -> 10 | K153: =SUM(K104:K152) -> 79 | ... Q153: =SUM(Q104:Q152) -> 0
C154: ЗАТЕРЕЧНЫЕ СЕТИ
C155: Кизляр-1 | D155: ='июнь 2014г. по 6-10'!D155+'июнь 2014г. по 0,4'!D152 -> 10 | E155: ='июнь 2014г. по 6-10'!E155+'июнь 2014г. по 0,4'!E152 -> 137.8 | F155: ='июнь 2014г. по 6-10'!F155+'июнь 2014г. по 0,4'!F152 -> 10 | G155: ='июнь 2014г. по 6-10'!G155+'июнь 2014г. по 0,4'!G152 -> 137.8 | H155: ='июнь 2014г. по 6-10'!H155+'июнь 2014г. по 0,4'!H152 -> 0 | I155: ='июнь 2014г. по 6-10'!I155+'июнь 2014г. по 0,4'!I152 -> 0 | J155: ='июнь 2014г. по 6-10'!J155+'июнь 2014г. по 0,4'!J152 -> 0 | K155: ='июнь 2014г. по 6-10'!K155+'июнь 2014г. по 0,4'!K152 -> 0 | ... Q155: ='июнь 2014г. по 6-10'!Q155+'июнь 2014г. по 0,4'!Q152 -> 0
C156: Кизляр-2 | D156: ='июнь 2014г. по 6-10'!D156+'июнь 2014г. по 0,4'!D153 -> 2 | E156: ='июнь 2014г. по 6-10'!E156+'июнь 2014г. по 0,4'!E153 -> 30 | F156: ='июнь 2014г. по 6-10'!F156+'июнь 2014г. по 0,4'!F153 -> 2 | G156: ='июнь 2014г. по 6-10'!G156+'июнь 2014г. по 0,4'!G153 -> 30 | H156: ='июнь 2014г. по 6-10'!H156+'июнь 2014г. по 0,4'!H153 -> 20 | I156: ='июнь 2014г. по 6-10'!I156+'июнь 2014г. по 0,4'!I153 -> 0 | J156: ='июнь 2014г. по 6-10'!J156+'июнь 2014г. по 0,4'!J153 -> 0 | K156: ='июнь 2014г. по 6-10'!K156+'июнь 2014г. по 0,4'!K153 -> 0 | ... Q156: ='июнь 2014г. по 6-10'!Q156+'июнь 2014г. по 0,4'!Q153 -> 0
C157: Михеевка | D157: ='июнь 2014г. по 6-10'!D157+'июнь 2014г. по 0,4'!D154 -> 0 | E157: ='июнь 2014г. по 6-10'!E157+'июнь 2014г. по 0,4'!E154 -> 0 | F157: ='июнь 2014г. по 6-10'!F157+'июнь 2014г. по 0,4'!F154 -> 0 | G157: ='июнь 2014г. по 6-10'!G157+'июнь 2014г. по 0,4'!G154 -> 0 | H157: ='июнь 2014г. по 6-10'!H157+'июнь 2014г. по 0,4'!H154 -> 0 | I157: ='июнь 2014г. по 6-10'!I157+'июнь 2014г. по 0,4'!I154 -> 0 | J157: ='июнь 2014г. по 6-10'!J157+'июнь 2014г. по 0,4'!J154 -> 0 | K157: ='июнь 2014г. по 6-10'!K157+'июнь 2014г. по 0,4'!K154 -> 0 | ... Q157: ='июнь 2014г. по 6-10'!Q157+'июнь 2014г. по 0,4'!Q154 -> 0
C158: Хуцеевка | D158: ='июнь 2014г. по 6-10'!D158+'июнь 2014г. по 0,4'!D155 -> 0 | E158: ='июнь 2014г. по 6-10'!E158+'июнь 2014г. по 0,4'!E155 -> 0 | F158: ='июнь 2014г. по 6-10'!F158+'июнь 2014г. по 0,4'!F155 -> 0 | G158: ='июнь 2014г. по 6-10'!G158+'июнь 2014г. по 0,4'!G155 -> 0 | H158: ='июнь 2014г. по 6-10'!H158+'июнь 2014г. по 0,4'!H155 -> 0 | I158: ='июнь 2014г. по 6-10'!I158+'июнь 2014г. по 0,4'!I155 -> 0 | J158: ='июнь 2014г. по 6-10'!J158+'июнь 2014г. по 0,4'!J155 -> 0 | K158: ='июнь 2014г. по 6-10'!K158+'июнь 2014г. по 0,4'!K155 -> 0 | ... Q158: ='июнь 2014г. по 6-10'!Q158+'июнь 2014г. по 0,4'!Q155 -> 0
C159: Серебряковка | D159: ='июнь 2014г. по 6-10'!D159+'июнь 2014г. по 0,4'!D156 -> 0 | E159: ='июнь 2014г. по 6-10'!E159+'июнь 2014г. по 0,4'!E156 -> 0 | F159: ='июнь 2014г. по 6-10'!F159+'июнь 2014г. по 0,4'!F156 -> 0 | G159: ='июнь 2014г. по 6-10'!G159+'июнь 2014г. по 0,4'!G156 -> 0 | H159: ='июнь 2014г. по 6-10'!H159+'июнь 2014г. по 0,4'!H156 -> 0 | I159: ='июнь 2014г. по 6-10'!I159+'июнь 2014г. по 0,4'!I156 -> 0 | J159: ='июнь 2014г. по 6-10'!J159+'июнь 2014г. по 0,4'!J156 -> 0 | K159: ='июнь 2014г. по 6-10'!K159+'июнь 2014г. по 0,4'!K156 -> 0 | ... Q159: ='июнь 2014г. по 6-10'!Q159+'июнь 2014г. по 0,4'!Q156 -> 0
C160: Октябрьская | D160: ='июнь 2014г. по 6-10'!D160+'июнь 2014г. по 0,4'!D157 -> 2 | E160: ='июнь 2014г. по 6-10'!E160+'июнь 2014г. по 0,4'!E157 -> 35 | F160: ='июнь 2014г. по 6-10'!F160+'июнь 2014г. по 0,4'!F157 -> 2 | G160: ='июнь 2014г. по 6-10'!G160+'июнь 2014г. по 0,4'!G157 -> 35 | H160: ='июнь 2014г. по 6-10'!H160+'июнь 2014г. по 0,4'!H157 -> 0 | I160: ='июнь 2014г. по 6-10'!I160+'июнь 2014г. по 0,4'!I157 -> 0 | J160: ='июнь 2014г. по 6-10'!J160+'июнь 2014г. по 0,4'!J157 -> 0 | K160: ='июнь 2014г. по 6-10'!K160+'июнь 2014г. по 0,4'!K157 -> 0 | ... Q160: ='июнь 2014г. по 6-10'!Q160+'июнь 2014г. по 0,4'!Q157 -> 0
C161: Некрасовка | D161: ='июнь 2014г. по 6-10'!D161+'июнь 2014г. по 0,4'!D158 -> 0 | E161: ='июнь 2014г. по 6-10'!E161+'июнь 2014г. по 0,4'!E158 -> 0 | F161: ='июнь 2014г. по 6-10'!F161+'июнь 2014г. по 0,4'!F158 -> 0 | G161: ='июнь 2014г. по 6-10'!G161+'июнь 2014г. по 0,4'!G158 -> 0 | H161: ='июнь 2014г. по 6-10'!H161+'июнь 2014г. по 0,4'!H158 -> 0 | I161: ='июнь 2014г. по 6-10'!I161+'июнь 2014г. по 0,4'!I158 -> 0 | J161: ='июнь 2014г. по 6-10'!J161+'июнь 2014г. по 0,4'!J158 -> 0 | K161: ='июнь 2014г. по 6-10'!K161+'июнь 2014г. по 0,4'!K158 -> 0 | ... Q161: ='июнь 2014г. по 6-10'!Q161+'июнь 2014г. по 0,4'!Q158 -> 0
C162: Б-Арешевка | D162: ='июнь 2014г. по 6-10'!D162+'июнь 2014г. по 0,4'!D159 -> 0 | E162: ='июнь 2014г. по 6-10'!E162+'июнь 2014г. по 0,4'!E159 -> 0 | F162: ='июнь 2014г. по 6-10'!F162+'июнь 2014г. по 0,4'!F159 -> 0 | G162: ='июнь 2014г. по 6-10'!G162+'июнь 2014г. по 0,4'!G159 -> 0 | H162: ='июнь 2014г. по 6-10'!H162+'июнь 2014г. по 0,4'!H159 -> 0 | I162: ='июнь 2014г. по 6-10'!I162+'июнь 2014г. по 0,4'!I159 -> 0 | J162: ='июнь 2014г. по 6-10'!J162+'июнь 2014г. по 0,4'!J159 -> 0 | K162: ='июнь 2014г. по 6-10'!K162+'июнь 2014г. по 0,4'!K159 -> 0 | ... Q162: ='июнь 2014г. по 6-10'!Q162+'июнь 2014г. по 0,4'!Q159 -> 0
C163: Александрия | D163: ='июнь 2014г. по 6-10'!D163+'июнь 2014г. по 0,4'!D160 -> 0 | E163: ='июнь 2014г. по 6-10'!E163+'июнь 2014г. по 0,4'!E160 -> 0 | F163: ='июнь 2014г. по 6-10'!F163+'июнь 2014г. по 0,4'!F160 -> 0 | G163: ='июнь 2014г. по 6-10'!G163+'июнь 2014г. по 0,4'!G160 -> 0 | H163: ='июнь 2014г. по 6-10'!H163+'июнь 2014г. по 0,4'!H160 -> 0 | I163: ='июнь 2014г. по 6-10'!I163+'июнь 2014г. по 0,4'!I160 -> 0 | J163: ='июнь 2014г. по 6-10'!J163+'июнь 2014г. по 0,4'!J160 -> 0 | K163: ='июнь 2014г. по 6-10'!K163+'июнь 2014г. по 0,4'!K160 -> 0 | ... Q163: ='июнь 2014г. по 6-10'!Q163+'июнь 2014г. по 0,4'!Q160 -> 0
C164: Крайновка | D164: ='июнь 2014г. по 6-10'!D164+'июнь 2014г. по 0,4'!D161 -> 1 | E164: ='июнь 2014г. по 6-10'!E164+'июнь 2014г. по 0,4'!E161 -> 10 | F164: ='июнь 2014г. по 6-10'!F164+'июнь 2014г. по 0,4'!F161 -> 1 | G164: ='июнь 2014г. по 6-10'!G164+'июнь 2014г. по 0,4'!G161 -> 10 | H164: ='июнь 2014г. по 6-10'!H164+'июнь 2014г. по 0,4'!H161 -> 0 | I164: ='июнь 2014г. по 6-10'!I164+'июнь 2014г. по 0,4'!I161 -> 0 | J164: ='июнь 2014г. по 6-10'!J164+'июнь 2014г. по 0,4'!J161 -> 0 | K164: ='июнь 2014г. по 6-10'!K164+'июнь 2014г. по 0,4'!K161 -> 0 | ... Q164: ='июнь 2014г. по 6-10'!Q164+'июнь 2014г. по 0,4'!Q161 -> 0
C165: Огузер | D165: ='июнь 2014г. по 6-10'!D165+'июнь 2014г. по 0,4'!D162 -> 0 | E165: ='июнь 2014г. по 6-10'!E165+'июнь 2014г. по 0,4'!E162 -> 0 | F165: ='июнь 2014г. по 6-10'!F165+'июнь 2014г. по 0,4'!F162 -> 0 | G165: ='июнь 2014г. по 6-10'!G165+'июнь 2014г. по 0,4'!G162 -> 0 | H165: ='июнь 2014г. по 6-10'!H165+'июнь 2014г. по 0,4'!H162 -> 0 | I165: ='июнь 2014г. по 6-10'!I165+'июнь 2014г. по 0,4'!I162 -> 0 | J165: ='июнь 2014г. по 6-10'!J165+'июнь 2014г. по 0,4'!J162 -> 0 | K165: ='июнь 2014г. по 6-10'!K165+'июнь 2014г. по 0,4'!K162 -> 0 | ... Q165: ='июнь 2014г. по 6-10'!Q165+'июнь 2014г. по 0,4'!Q162 -> 0
C166: Черняевка | D166: ='июнь 2014г. по 6-10'!D166+'июнь 2014г. по 0,4'!D163 -> 1 | E166: ='июнь 2014г. по 6-10'!E166+'июнь 2014г. по 0,4'!E163 -> 5 | F166: ='июнь 2014г. по 6-10'!F166+'июнь 2014г. по 0,4'!F163 -> 1 | G166: ='июнь 2014г. по 6-10'!G166+'июнь 2014г. по 0,4'!G163 -> 5 | H166: ='июнь 2014г. по 6-10'!H166+'июнь 2014г. по 0,4'!H163 -> 0 | I166: ='июнь 2014г. по 6-10'!I166+'июнь 2014г. по 0,4'!I163 -> 0 | J166: ='июнь 2014г. по 6-10'!J166+'июнь 2014г. по 0,4'!J163 -> 0 | K166: ='июнь 2014г. по 6-10'!K166+'июнь 2014г. по 0,4'!K163 -> 0 | ... Q166: ='июнь 2014г. по 6-10'!Q166+'июнь 2014г. по 0,4'!Q163 -> 0
... C184: КЭМЗ | D184: ='июнь 2014г. по 6-10'!D184+'июнь 2014г. по 0,4'!D181 -> 10 | E184: ='июнь 2014г. по 6-10'!E184+'июнь 2014г. по 0,4'!E181 -> 113 | F184: ='июнь 2014г. по 6-10'!F184+'июнь 2014г. по 0,4'!F181 -> 10 | G184: ='июнь 2014г. по 6-10'!G184+'июнь 2014г. по 0,4'!G181 -> 113 | H184: ='июнь 2014г. по 6-10'!H184+'июнь 2014г. по 0,4'!H181 -> 0 | I184: ='июнь 2014г. по 6-10'!I184+'июнь 2014г. по 0,4'!I181 -> 0 | J184: ='июнь 2014г. по 6-10'!J184+'июнь 2014г. по 0,4'!J181 -> 0 | K184: ='июнь 2014г. по 6-10'!K184+'июнь 2014г. по 0,4'!K181 -> 0 | ... Q184: ='июнь 2014г. по 6-10'!Q184+'июнь 2014г. по 0,4'!Q181 -> 0
C185: итого: | D185: =SUM(D155:D184) -> 66 | E185: =SUM(E155:E184) -> 1100.8 | F185: =SUM(F155:F184) -> 66 | G185: =SUM(G155:G184) -> 1100.8 | H185: =SUM(H155:H184) -> 20 | I185: =SUM(I155:I184) -> 0 | J185: =SUM(J155:J184) -> 3 | K185: =SUM(K155:K184) -> 28 | ... Q185: =SUM(Q155:Q184) -> 0
C186: ЮЖНО-СУХОКУМСКИЕ СЕТИ
C187: Юж-Сухокумск | D187: ='июнь 2014г. по 6-10'!D187+'июнь 2014г. по 0,4'!D184 -> 2 | E187: ='июнь 2014г. по 6-10'!E187+'июнь 2014г. по 0,4'!E184 -> 23 | F187: ='июнь 2014г. по 6-10'!F187+'июнь 2014г. по 0,4'!F184 -> 2 | G187: ='июнь 2014г. по 6-10'!G187+'июнь 2014г. по 0,4'!G184 -> 23 | H187: ='июнь 2014г. по 6-10'!H187+'июнь 2014г. по 0,4'!H184 -> 0 | I187: ='июнь 2014г. по 6-10'!I187+'июнь 2014г. по 0,4'!I184 -> 0 | J187: ='июнь 2014г. по 6-10'!J187+'июнь 2014г. по 0,4'!J184 -> 0 | K187: ='июнь 2014г. по 6-10'!K187+'июнь 2014г. по 0,4'!K184 -> 0 | ... Q187: ='июнь 2014г. по 6-10'!Q187+'июнь 2014г. по 0,4'!Q184 -> 0
C188: Кр.партизан | D188: ='июнь 2014г. по 6-10'!D188+'июнь 2014г. по 0,4'!D185 -> 0 | E188: ='июнь 2014г. по 6-10'!E188+'июнь 2014г. по 0,4'!E185 -> 0 | F188: ='июнь 2014г. по 6-10'!F188+'июнь 2014г. по 0,4'!F185 -> 0 | G188: ='июнь 2014г. по 6-10'!G188+'июнь 2014г. по 0,4'!G185 -> 0 | H188: ='июнь 2014г. по 6-10'!H188+'июнь 2014г. по 0,4'!H185 -> 0 | I188: ='июнь 2014г. по 6-10'!I188+'июнь 2014г. по 0,4'!I185 -> 0 | J188: ='июнь 2014г. по 6-10'!J188+'июнь 2014г. по 0,4'!J185 -> 0 | K188: ='июнь 2014г. по 6-10'!K188+'июнь 2014г. по 0,4'!K185 -> 0 | ... Q188: ='июнь 2014г. по 6-10'!Q188+'июнь 2014г. по 0,4'!Q185 -> 0
C189: 3-я ферма | D189: ='июнь 2014г. по 6-10'!D189+'июнь 2014г. по 0,4'!D186 -> 1 | E189: ='июнь 2014г. по 6-10'!E189+'июнь 2014г. по 0,4'!E186 -> 15 | F189: ='июнь 2014г. по 6-10'!F189+'июнь 2014г. по 0,4'!F186 -> 1 | G189: ='июнь 2014г. по 6-10'!G189+'июнь 2014г. по 0,4'!G186 -> 15 | H189: ='июнь 2014г. по 6-10'!H189+'июнь 2014г. по 0,4'!H186 -> 0 | I189: ='июнь 2014г. по 6-10'!I189+'июнь 2014г. по 0,4'!I186 -> 0 | J189: ='июнь 2014г. по 6-10'!J189+'июнь 2014г. по 0,4'!J186 -> 0 | K189: ='июнь 2014г. по 6-10'!K189+'июнь 2014г. по 0,4'!K186 -> 0 | ... Q189: ='июнь 2014г. по 6-10'!Q189+'июнь 2014г. по 0,4'!Q186 -> 0
C190: Солончаковая | D190: ='июнь 2014г. по 6-10'!D190+'июнь 2014г. по 0,4'!D187 -> 0 | E190: ='июнь 2014г. по 6-10'!E190+'июнь 2014г. по 0,4'!E187 -> 0 | F190: ='июнь 2014г. по 6-10'!F190+'июнь 2014г. по 0,4'!F187 -> 0 | G190: ='июнь 2014г. по 6-10'!G190+'июнь 2014г. по 0,4'!G187 -> 0 | H190: ='июнь 2014г. по 6-10'!H190+'июнь 2014г. по 0,4'!H187 -> 0 | I190: ='июнь 2014г. по 6-10'!I190+'июнь 2014г. по 0,4'!I187 -> 0 | J190: ='июнь 2014г. по 6-10'!J190+'июнь 2014г. по 0,4'!J187 -> 0 | K190: ='июнь 2014г. по 6-10'!K190+'июнь 2014г. по 0,4'!K187 -> 0 | ... Q190: ='июнь 2014г. по 6-10'!Q190+'июнь 2014г. по 0,4'!Q187 -> 0
C191: Ногайская | D191: ='июнь 2014г. по 6-10'!D191+'июнь 2014г. по 0,4'!D188 -> 0 | E191: ='июнь 2014г. по 6-10'!E191+'июнь 2014г. по 0,4'!E188 -> 0 | F191: ='июнь 2014г. по 6-10'!F191+'июнь 2014г. по 0,4'!F188 -> 0 | G191: ='июнь 2014г. по 6-10'!G191+'июнь 2014г. по 0,4'!G188 -> 0 | H191: ='июнь 2014г. по 6-10'!H191+'июнь 2014г. по 0,4'!H188 -> 0 | I191: ='июнь 2014г. по 6-10'!I191+'июнь 2014г. по 0,4'!I188 -> 0 | J191: ='июнь 2014г. по 6-10'!J191+'июнь 2014г. по 0,4'!J188 -> 0 | K191: ='июнь 2014г. по 6-10'!K191+'июнь 2014г. по 0,4'!K188 -> 0 | ... Q191: ='июнь 2014г. по 6-10'!Q191+'июнь 2014г. по 0,4'!Q188 -> 0
C192: Степная | D192: ='июнь 2014г. по 6-10'!D192+'июнь 2014г. по 0,4'!D189 -> 0 | E192: ='июнь 2014г. по 6-10'!E192+'июнь 2014г. по 0,4'!E189 -> 0 | F192: ='июнь 2014г. по 6-10'!F192+'июнь 2014г. по 0,4'!F189 -> 0 | G192: ='июнь 2014г. по 6-10'!G192+'июнь 2014г. по 0,4'!G189 -> 0 | H192: ='июнь 2014г. по 6-10'!H192+'июнь 2014г. по 0,4'!H189 -> 0 | I192: ='июнь 2014г. по 6-10'!I192+'июнь 2014г. по 0,4'!I189 -> 0 | J192: ='июнь 2014г. по 6-10'!J192+'июнь 2014г. по 0,4'!J189 -> 0 | K192: ='июнь 2014г. по 6-10'!K192+'июнь 2014г. по 0,4'!K189 -> 0 | ... Q192: ='июнь 2014г. по 6-10'!Q192+'июнь 2014г. по 0,4'!Q189 -> 0
C193: Бажиган | D193: ='июнь 2014г. по 6-10'!D193+'июнь 2014г. по 0,4'!D190 -> 0 | E193: ='июнь 2014г. по 6-10'!E193+'июнь 2014г. по 0,4'!E190 -> 0 | F193: ='июнь 2014г. по 6-10'!F193+'июнь 2014г. по 0,4'!F190 -> 0 | G193: ='июнь 2014г. по 6-10'!G193+'июнь 2014г. по 0,4'!G190 -> 0 | H193: ='июнь 2014г. по 6-10'!H193+'июнь 2014г. по 0,4'!H190 -> 0 | I193: ='июнь 2014г. по 6-10'!I193+'июнь 2014г. по 0,4'!I190 -> 0 | J193: ='июнь 2014г. по 6-10'!J193+'июнь 2014г. по 0,4'!J190 -> 0 | K193: ='июнь 2014г. по 6-10'!K193+'июнь 2014г. по 0,4'!K190 -> 0 | ... Q193: ='июнь 2014г. по 6-10'!Q193+'июнь 2014г. по 0,4'!Q190 -> 0
C194: Грузинская | D194: ='июнь 2014г. по 6-10'!D194+'июнь 2014г. по 0,4'!D191 -> 0 | E194: ='июнь 2014г. по 6-10'!E194+'июнь 2014г. по 0,4'!E191 -> 0 | F194: ='июнь 2014г. по 6-10'!F194+'июнь 2014г. по 0,4'!F191 -> 0 | G194: ='июнь 2014г. по 6-10'!G194+'июнь 2014г. по 0,4'!G191 -> 0 | H194: ='июнь 2014г. по 6-10'!H194+'июнь 2014г. по 0,4'!H191 -> 0 | I194: ='июнь 2014г. по 6-10'!I194+'июнь 2014г. по 0,4'!I191 -> 0 | J194: ='июнь 2014г. по 6-10'!J194+'июнь 2014г. по 0,4'!J191 -> 0 | K194: ='июнь 2014г. по 6-10'!K194+'июнь 2014г. по 0,4'!K191 -> 0 | ... Q194: ='июнь 2014г. по 6-10'!Q194+'июнь 2014г. по 0,4'!Q191 -> 0
C195: итого: | D195: =SUM(D187:D194) -> 3 | E195: =SUM(E187:E194) -> 38 | F195: =SUM(F187:F194) -> 3 | G195: =SUM(G187:G194) -> 38 | H195: =SUM(H187:H194) -> 0 | I195: =SUM(I187:I194) -> 0 | J195: =SUM(J187:J194) -> 0 | K195: =SUM(K187:K194) -> 0 | ... Q195: =SUM(Q187:Q194) -> 0
C196: КИЗИЛЮРТОВСКИЕ СЕТИ
C197: п\с 110\35\6 "ЗФС" | D197: ='июнь 2014г. по 6-10'!D197+'июнь 2014г. по 0,4'!D194 -> 9 | E197: ='июнь 2014г. по 6-10'!E197+'июнь 2014г. по 0,4'!E194 -> 787 | F197: ='июнь 2014г. по 6-10'!F197+'июнь 2014г. по 0,4'!F194 -> 9 | G197: ='июнь 2014г. по 6-10'!G197+'июнь 2014г. по 0,4'!G194 -> 787 | H197: ='июнь 2014г. по 6-10'!H197+'июнь 2014г. по 0,4'!H194 -> 0 | I197: ='июнь 2014г. по 6-10'!I197+'июнь 2014г. по 0,4'!I194 -> 0 | J197: ='июнь 2014г. по 6-10'!J197+'июнь 2014г. по 0,4'!J194 -> 0 | K197: ='июнь 2014г. по 6-10'!K197+'июнь 2014г. по 0,4'!K194 -> 0 | ... Q197: ='июнь 2014г. по 6-10'!Q197+'июнь 2014г. по 0,4'!Q194 -> 0
C198: п\с 35\10 Нечаевка | D198: ='июнь 2014г. по 6-10'!D198+'июнь 2014г. по 0,4'!D195 -> 0 | E198: ='июнь 2014г. по 6-10'!E198+'июнь 2014г. по 0,4'!E195 -> 0 | F198: ='июнь 2014г. по 6-10'!F198+'июнь 2014г. по 0,4'!F195 -> 0 | G198: ='июнь 2014г. по 6-10'!G198+'июнь 2014г. по 0,4'!G195 -> 0 | H198: ='июнь 2014г. по 6-10'!H198+'июнь 2014г. по 0,4'!H195 -> 0 | I198: ='июнь 2014г. по 6-10'!I198+'июнь 2014г. по 0,4'!I195 -> 0 | J198: ='июнь 2014г. по 6-10'!J198+'июнь 2014г. по 0,4'!J195 -> 0 | K198: ='июнь 2014г. по 6-10'!K198+'июнь 2014г. по 0,4'!K195 -> 0 | ... Q198: ='июнь 2014г. по 6-10'!Q198+'июнь 2014г. по 0,4'!Q195 -> 0
C199: п\с Гулькутан | D199: ='июнь 2014г. по 6-10'!D199+'июнь 2014г. по 0,4'!D196 -> 1 | E199: ='июнь 2014г. по 6-10'!E199+'июнь 2014г. по 0,4'!E196 -> 30 | F199: ='июнь 2014г. по 6-10'!F199+'июнь 2014г. по 0,4'!F196 -> 1 | G199: ='июнь 2014г. по 6-10'!G199+'июнь 2014г. по 0,4'!G196 -> 30 | H199: ='июнь 2014г. по 6-10'!H199+'июнь 2014г. по 0,4'!H196 -> 0 | I199: ='июнь 2014г. по 6-10'!I199+'июнь 2014г. по 0,4'!I196 -> 0 | J199: ='июнь 2014г. по 6-10'!J199+'июнь 2014г. по 0,4'!J196 -> 0 | K199: ='июнь 2014г. по 6-10'!K199+'июнь 2014г. по 0,4'!K196 -> 0 | ... Q199: ='июнь 2014г. по 6-10'!Q199+'июнь 2014г. по 0,4'!Q196 -> 0
C200: Шамхалянгиюрт | D200: ='июнь 2014г. по 6-10'!D200+'июнь 2014г. по 0,4'!D197 -> 0 | E200: ='июнь 2014г. по 6-10'!E200+'июнь 2014г. по 0,4'!E197 -> 0 | F200: ='июнь 2014г. по 6-10'!F200+'июнь 2014г. по 0,4'!F197 -> 0 | G200: ='июнь 2014г. по 6-10'!G200+'июнь 2014г. по 0,4'!G197 -> 0 | H200: ='июнь 2014г. по 6-10'!H200+'июнь 2014г. по 0,4'!H197 -> 0 | I200: ='июнь 2014г. по 6-10'!I200+'июнь 2014г. по 0,4'!I197 -> 0 | J200: ='июнь 2014г. по 6-10'!J200+'июнь 2014г. по 0,4'!J197 -> 0 | K200: ='июнь 2014г. по 6-10'!K200+'июнь 2014г. по 0,4'!K197 -> 0 | ... Q200: ='июнь 2014г. по 6-10'!Q200+'июнь 2014г. по 0,4'!Q197 -> 0
C201: ГЩЗ | D201: ='июнь 2014г. по 6-10'!D201+'июнь 2014г. по 0,4'!D198 -> 2 | E201: ='июнь 2014г. по 6-10'!E201+'июнь 2014г. по 0,4'!E198 -> 30 | F201: ='июнь 2014г. по 6-10'!F201+'июнь 2014г. по 0,4'!F198 -> 2 | G201: ='июнь 2014г. по 6-10'!G201+'июнь 2014г. по 0,4'!G198 -> 30 | H201: ='июнь 2014г. по 6-10'!H201+'июнь 2014г. по 0,4'!H198 -> 0 | I201: ='июнь 2014г. по 6-10'!I201+'июнь 2014г. по 0,4'!I198 -> 0 | J201: ='июнь 2014г. по 6-10'!J201+'июнь 2014г. по 0,4'!J198 -> 0 | K201: ='июнь 2014г. по 6-10'!K201+'июнь 2014г. по 0,4'!K198 -> 0 | ... Q201: ='июнь 2014г. по 6-10'!Q201+'июнь 2014г. по 0,4'!Q198 -> 0
C202: Стальск | D202: ='июнь 2014г. по 6-10'!D202+'июнь 2014г. по 0,4'!D199 -> 5 | E202: ='июнь 2014г. по 6-10'!E202+'июнь 2014г. по 0,4'!E199 -> 53 | F202: ='июнь 2014г. по 6-10'!F202+'июнь 2014г. по 0,4'!F199 -> 5 | G202: ='июнь 2014г. по 6-10'!G202+'июнь 2014г. по 0,4'!G199 -> 53 | H202: ='июнь 2014г. по 6-10'!H202+'июнь 2014г. по 0,4'!H199 -> 0 | I202: ='июнь 2014г. по 6-10'!I202+'июнь 2014г. по 0,4'!I199 -> 0 | J202: ='июнь 2014г. по 6-10'!J202+'июнь 2014г. по 0,4'!J199 -> 0 | K202: ='июнь 2014г. по 6-10'!K202+'июнь 2014г. по 0,4'!K199 -> 0 | ... Q202: ='июнь 2014г. по 6-10'!Q202+'июнь 2014г. по 0,4'!Q199 -> 0
C203: итого: | D203: =SUM(D197:D202) -> 17 | E203: =SUM(E197:E202) -> 900 | F203: =SUM(F197:F202) -> 17 | G203: =SUM(G197:G202) -> 900 | H203: =SUM(H197:H202) -> 0 | I203: =SUM(I197:I202) -> 0 | J203: =SUM(J197:J202) -> 0 | K203: =SUM(K197:K202) -> 0 | ... Q203: =SUM(Q197:Q202) -> 0
C204: ГЕРГЕБИЛЬСКИЕ СЕТИ
C205: ПС Гергебиль-110 | D205: ='июнь 2014г. по 6-10'!D205+'июнь 2014г. по 0,4'!D202 -> 1 | E205: ='июнь 2014г. по 6-10'!E205+'июнь 2014г. по 0,4'!E202 -> 96 | F205: ='июнь 2014г. по 6-10'!F205+'июнь 2014г. по 0,4'!F202 -> 1 | G205: ='июнь 2014г. по 6-10'!G205+'июнь 2014г. по 0,4'!G202 -> 96 | H205: ='июнь 2014г. по 6-10'!H205+'июнь 2014г. по 0,4'!H202 -> 0 | I205: ='июнь 2014г. по 6-10'!I205+'июнь 2014г. по 0,4'!I202 -> 0 | J205: ='июнь 2014г. по 6-10'!J205+'июнь 2014г. по 0,4'!J202 -> 0 | K205: ='июнь 2014г. по 6-10'!K205+'июнь 2014г. по 0,4'!K202 -> 0 | ... Q205: ='июнь 2014г. по 6-10'!Q205+'июнь 2014г. по 0,4'!Q202 -> 0
C206: ГГЭС | D206: ='июнь 2014г. по 6-10'!D206+'июнь 2014г. по 0,4'!D203 -> 0 | E206: ='июнь 2014г. по 6-10'!E206+'июнь 2014г. по 0,4'!E203 -> 0 | F206: ='июнь 2014г. по 6-10'!F206+'июнь 2014г. по 0,4'!F203 -> 0 | G206: ='июнь 2014г. по 6-10'!G206+'июнь 2014г. по 0,4'!G203 -> 0 | H206: ='июнь 2014г. по 6-10'!H206+'июнь 2014г. по 0,4'!H203 -> 0 | I206: ='июнь 2014г. по 6-10'!I206+'июнь 2014г. по 0,4'!I203 -> 0 | J206: ='июнь 2014г. по 6-10'!J206+'июнь 2014г. по 0,4'!J203 -> 0 | K206: ='июнь 2014г. по 6-10'!K206+'июнь 2014г. по 0,4'!K203 -> 0 | ... Q206: ='июнь 2014г. по 6-10'!Q206+'июнь 2014г. по 0,4'!Q203 -> 0
C207: ПС Карадах-110 | D207: ='июнь 2014г. по 6-10'!D207+'июнь 2014г. по 0,4'!D204 -> 0 | E207: ='июнь 2014г. по 6-10'!E207+'июнь 2014г. по 0,4'!E204 -> 0 | F207: ='июнь 2014г. по 6-10'!F207+'июнь 2014г. по 0,4'!F204 -> 0 | G207: ='июнь 2014г. по 6-10'!G207+'июнь 2014г. по 0,4'!G204 -> 0 | H207: ='июнь 2014г. по 6-10'!H207+'июнь 2014г. по 0,4'!H204 -> 0 | I207: ='июнь 2014г. по 6-10'!I207+'июнь 2014г. по 0,4'!I204 -> 0 | J207: ='июнь 2014г. по 6-10'!J207+'июнь 2014г. по 0,4'!J204 -> 0 | K207: ='июнь 2014г. по 6-10'!K207+'июнь 2014г. по 0,4'!K204 -> 0 | ... Q207: ='июнь 2014г. по 6-10'!Q207+'июнь 2014г. по 0,4'!Q204 -> 0
C208: Тлайлух-110 | D208: ='июнь 2014г. по 6-10'!D208+'июнь 2014г. по 0,4'!D205 -> 0 | E208: ='июнь 2014г. по 6-10'!E208+'июнь 2014г. по 0,4'!E205 -> 0 | F208: ='июнь 2014г. по 6-10'!F208+'июнь 2014г. по 0,4'!F205 -> 0 | G208: ='июнь 2014г. по 6-10'!G208+'июнь 2014г. по 0,4'!G205 -> 0 | H208: ='июнь 2014г. по 6-10'!H208+'июнь 2014г. по 0,4'!H205 -> 0 | I208: ='июнь 2014г. по 6-10'!I208+'июнь 2014г. по 0,4'!I205 -> 0 | J208: ='июнь 2014г. по 6-10'!J208+'июнь 2014г. по 0,4'!J205 -> 0 | K208: ='июнь 2014г. по 6-10'!K208+'июнь 2014г. по 0,4'!K205 -> 0 | ... Q208: ='июнь 2014г. по 6-10'!Q208+'июнь 2014г. по 0,4'!Q205 -> 0
C209: ПС Леваши-110 | D209: ='июнь 2014г. по 6-10'!D209+'июнь 2014г. по 0,4'!D206 -> 21 | E209: ='июнь 2014г. по 6-10'!E209+'июнь 2014г. по 0,4'!E206 -> 532.9 | F209: ='июнь 2014г. по 6-10'!F209+'июнь 2014г. по 0,4'!F206 -> 21 | G209: ='июнь 2014г. по 6-10'!G209+'июнь 2014г. по 0,4'!G206 -> 532.9 | H209: ='июнь 2014г. по 6-10'!H209+'июнь 2014г. по 0,4'!H206 -> 0 | I209: ='июнь 2014г. по 6-10'!I209+'июнь 2014г. по 0,4'!I206 -> 0 | J209: ='июнь 2014г. по 6-10'!J209+'июнь 2014г. по 0,4'!J206 -> 0 | K209: ='июнь 2014г. по 6-10'!K209+'июнь 2014г. по 0,4'!K206 -> 0 | ... Q209: ='июнь 2014г. по 6-10'!Q209+'июнь 2014г. по 0,4'!Q206 -> 0
C210: ПС Цудахар-110 | D210: ='июнь 2014г. по 6-10'!D210+'июнь 2014г. по 0,4'!D207 -> 6 | E210: ='июнь 2014г. по 6-10'!E210+'июнь 2014г. по 0,4'!E207 -> 45 | F210: ='июнь 2014г. по 6-10'!F210+'июнь 2014г. по 0,4'!F207 -> 6 | G210: ='июнь 2014г. по 6-10'!G210+'июнь 2014г. по 0,4'!G207 -> 45 | H210: ='июнь 2014г. по 6-10'!H210+'июнь 2014г. по 0,4'!H207 -> 0 | I210: ='июнь 2014г. по 6-10'!I210+'июнь 2014г. по 0,4'!I207 -> 0 | J210: ='июнь 2014г. по 6-10'!J210+'июнь 2014г. по 0,4'!J207 -> 0 | K210: ='июнь 2014г. по 6-10'!K210+'июнь 2014г. по 0,4'!K207 -> 0 | ... Q210: ='июнь 2014г. по 6-10'!Q210+'июнь 2014г. по 0,4'!Q207 -> 0
C211: Ташкапур-35 | D211: ='июнь 2014г. по 6-10'!D211+'июнь 2014г. по 0,4'!D208 -> 2 | E211: ='июнь 2014г. по 6-10'!E211+'июнь 2014г. по 0,4'!E208 -> 10.5 | F211: ='июнь 2014г. по 6-10'!F211+'июнь 2014г. по 0,4'!F208 -> 2 | G211: ='июнь 2014г. по 6-10'!G211+'июнь 2014г. по 0,4'!G208 -> 10.5 | H211: ='июнь 2014г. по 6-10'!H211+'июнь 2014г. по 0,4'!H208 -> 0 | I211: ='июнь 2014г. по 6-10'!I211+'июнь 2014г. по 0,4'!I208 -> 0 | J211: ='июнь 2014г. по 6-10'!J211+'июнь 2014г. по 0,4'!J208 -> 0 | K211: ='июнь 2014г. по 6-10'!K211+'июнь 2014г. по 0,4'!K208 -> 0 | ... Q211: ='июнь 2014г. по 6-10'!Q211+'июнь 2014г. по 0,4'!Q208 -> 0
C212: ПС Хунзах-110 | D212: ='июнь 2014г. по 6-10'!D212+'июнь 2014г. по 0,4'!D209 -> 2 | E212: ='июнь 2014г. по 6-10'!E212+'июнь 2014г. по 0,4'!E209 -> 28 | F212: ='июнь 2014г. по 6-10'!F212+'июнь 2014г. по 0,4'!F209 -> 2 | G212: ='июнь 2014г. по 6-10'!G212+'июнь 2014г. по 0,4'!G209 -> 28 | H212: ='июнь 2014г. по 6-10'!H212+'июнь 2014г. по 0,4'!H209 -> 0 | I212: ='июнь 2014г. по 6-10'!I212+'июнь 2014г. по 0,4'!I209 -> 0 | J212: ='июнь 2014г. по 6-10'!J212+'июнь 2014г. по 0,4'!J209 -> 0 | K212: ='июнь 2014г. по 6-10'!K212+'июнь 2014г. по 0,4'!K209 -> 0 | ... Q212: ='июнь 2014г. по 6-10'!Q212+'июнь 2014г. по 0,4'!Q209 -> 0
C213: ПС Тлох-110 | D213: ='июнь 2014г. по 6-10'!D213+'июнь 2014г. по 0,4'!D210 -> 1 | E213: ='июнь 2014г. по 6-10'!E213+'июнь 2014г. по 0,4'!E210 -> 10 | F213: ='июнь 2014г. по 6-10'!F213+'июнь 2014г. по 0,4'!F210 -> 1 | G213: ='июнь 2014г. по 6-10'!G213+'июнь 2014г. по 0,4'!G210 -> 10 | H213: ='июнь 2014г. по 6-10'!H213+'июнь 2014г. по 0,4'!H210 -> 0 | I213: ='июнь 2014г. по 6-10'!I213+'июнь 2014г. по 0,4'!I210 -> 0 | J213: ='июнь 2014г. по 6-10'!J213+'июнь 2014г. по 0,4'!J210 -> 0 | K213: ='июнь 2014г. по 6-10'!K213+'июнь 2014г. по 0,4'!K210 -> 0 | ... Q213: ='июнь 2014г. по 6-10'!Q213+'июнь 2014г. по 0,4'!Q210 -> 0
C214: Гуниб-110 | D214: ='июнь 2014г. по 6-10'!D214+'июнь 2014г. по 0,4'!D211 -> 4 | E214: ='июнь 2014г. по 6-10'!E214+'июнь 2014г. по 0,4'!E211 -> 320 | F214: ='июнь 2014г. по 6-10'!F214+'июнь 2014г. по 0,4'!F211 -> 4 | G214: ='июнь 2014г. по 6-10'!G214+'июнь 2014г. по 0,4'!G211 -> 320 | H214: ='июнь 2014г. по 6-10'!H214+'июнь 2014г. по 0,4'!H211 -> 0 | I214: ='июнь 2014г. по 6-10'!I214+'июнь 2014г. по 0,4'!I211 -> 0 | J214: ='июнь 2014г. по 6-10'!J214+'июнь 2014г. по 0,4'!J211 -> 0 | K214: ='июнь 2014г. по 6-10'!K214+'июнь 2014г. по 0,4'!K211 -> 0 | ... Q214: ='июнь 2014г. по 6-10'!Q214+'июнь 2014г. по 0,4'!Q211 -> 0
C215: Акуша | D215: ='июнь 2014г. по 6-10'!D215+'июнь 2014г. по 0,4'!D212 -> 6 | E215: ='июнь 2014г. по 6-10'!E215+'июнь 2014г. по 0,4'!E212 -> 58.8 | F215: ='июнь 2014г. по 6-10'!F215+'июнь 2014г. по 0,4'!F212 -> 6 | G215: ='июнь 2014г. по 6-10'!G215+'июнь 2014г. по 0,4'!G212 -> 58.8 | H215: ='июнь 2014г. по 6-10'!H215+'июнь 2014г. по 0,4'!H212 -> 0 | I215: ='июнь 2014г. по 6-10'!I215+'июнь 2014г. по 0,4'!I212 -> 0 | J215: ='июнь 2014г. по 6-10'!J215+'июнь 2014г. по 0,4'!J212 -> 0 | K215: ='июнь 2014г. по 6-10'!K215+'июнь 2014г. по 0,4'!K212 -> 0 | ... Q215: ='июнь 2014г. по 6-10'!Q215+'июнь 2014г. по 0,4'!Q212 -> 0
C216: Кумух-35 | D216: ='июнь 2014г. по 6-10'!D216+'июнь 2014г. по 0,4'!D213 -> 2 | E216: ='июнь 2014г. по 6-10'!E216+'июнь 2014г. по 0,4'!E213 -> 325 | F216: ='июнь 2014г. по 6-10'!F216+'июнь 2014г. по 0,4'!F213 -> 2 | G216: ='июнь 2014г. по 6-10'!G216+'июнь 2014г. по 0,4'!G213 -> 325 | H216: ='июнь 2014г. по 6-10'!H216+'июнь 2014г. по 0,4'!H213 -> 0 | I216: ='июнь 2014г. по 6-10'!I216+'июнь 2014г. по 0,4'!I213 -> 0 | J216: ='июнь 2014г. по 6-10'!J216+'июнь 2014г. по 0,4'!J213 -> 0 | K216: ='июнь 2014г. по 6-10'!K216+'июнь 2014г. по 0,4'!K213 -> 0 | ... Q216: ='июнь 2014г. по 6-10'!Q216+'июнь 2014г. по 0,4'!Q213 -> 0
... C244: Сагри | D244: ='июнь 2014г. по 6-10'!D244+'июнь 2014г. по 0,4'!D241 -> 5 | E244: ='июнь 2014г. по 6-10'!E244+'июнь 2014г. по 0,4'!E241 -> 63 | F244: ='июнь 2014г. по 6-10'!F244+'июнь 2014г. по 0,4'!F241 -> 5 | G244: ='июнь 2014г. по 6-10'!G244+'июнь 2014г. по 0,4'!G241 -> 63 | H244: ='июнь 2014г. по 6-10'!H244+'июнь 2014г. по 0,4'!H241 -> 0 | I244: ='июнь 2014г. по 6-10'!I244+'июнь 2014г. по 0,4'!I241 -> 0 | J244: ='июнь 2014г. по 6-10'!J244+'июнь 2014г. по 0,4'!J241 -> 0 | K244: ='июнь 2014г. по 6-10'!K244+'июнь 2014г. по 0,4'!K241 -> 0 | ... Q244: ='июнь 2014г. по 6-10'!Q244+'июнь 2014г. по 0,4'!Q241 -> 0
C245: итого: | D245: =SUM(D205:D244) -> 105 | E245: =SUM(E205:E244) -> 2278.2 | F245: =SUM(F205:F244) -> 105 | G245: =SUM(G205:G244) -> 2278.2 | H245: =SUM(H205:H244) -> 0 | I245: =SUM(I205:I244) -> 0 | J245: =SUM(J205:J244) -> 5 | K245: =SUM(K205:K244) -> 55 | ... Q245: =SUM(Q205:Q244) -> 0
C246: ВСЕГО: | D246: =SUM(D245+D203+D195+D185+D153+D102+D64) -> 878 | E246: =SUM(E245+E203+E195+E185+E153+E102+E64) -> 26004.3 | F246: =SUM(F245+F203+F195+F185+F153+F102+F64) -> 878 | G246: =SUM(G245+G203+G195+G185+G153+G102+G64) -> 26004.3 | H246: =SUM(H245+H203+H195+H185+H153+H102+H64) -> 20 | I246: =SUM(I245+I203+I195+I185+I153+I102+I64) -> 0 | J246: =SUM(J245+J203+J195+J185+J153+J102+J64) -> 52 | K246: =SUM(K245+K203+K195+K185+K153+K102+K64) -> 476.5 | ... Q246: =SUM(Q245+Q203+Q195+Q185+Q153+Q102+Q64) -> 0
A247: ИТОГО: | B247: Филиал | D247: =SUM(D246:D246) -> 878 | E247: =SUM(E246:E246) -> 26004.3 | F247: =SUM(F246:F246) -> 878 | G247: =SUM(G246:G246) -> 26004.3 | H247: =SUM(H246:H246) -> 20 | I247: =SUM(I246:I246) -> 0 | J247: =SUM(J246:J246) -> 52 | K247: =SUM(K246:K246) -> 476.5 | ... Q247: =SUM(Q246:Q246) -> 0
A250: аннулированных заявок 0 шт. на 0 кВт.

Sheet июнь 2014г. по 6-10
M1: Приложение № 28
M2: к Положению о технологическом присоединении
M3: энергетических установок к электрическим сетям
M4: ОАО «МРСК Северного Кавказа», управляемых
M5: Обществ
B14: Информация о технологическом присоединении энергопринимающих устройств к сетям ОАО Дагэнергосеть филиалом ОАО "МРСК Северного Кавказа" за июнь 2014г.
A19: Наименование организации, осуществляющей технологическое присоединение | B19: Наименование субъекта РФ | C19: Наименование центра питания (ПС 35 кВ и выше) | D19: Количество поданных заявок на технологическое присоединение, на общую мощность энергопринимающих устройств, кВт | F19: Заключено договоров на технологическое присоединение, включающие технические условия на общую мощность энергопринимающих устройств, кВт | H19: Расторгнуто договоров на технологическое присоединение, включающие технические условия на общую мощность энергопринимающих устройств, кВт | J19: Суммарная мощность энегргопринимающих устройств, присоединенных к электрическим сетям в соответствии с договором на технологическое присоединение за отчетный период, кВт | L19: Заключено договоров на технологическое присоединение, включающие технические условия на общую мощность генерирущих установок, МВт | N19: Расторгнуто договоров на технологическое присоединение, включающие технические условия на общую мощность генерирущих установок, МВт | P19: Суммарная мощность генерирущих установок, присоединенных к электрическим сетям в соответствии с договором на технологическое присоединение за отчетный период, МВт
A20: 1 | B20: 2 | C20: 3 | D20: 4 | F20: 5 | H20: 6 | J20: 7 | L20: 8 | N20: 9 | P20: 10
D21: шт | E21: кВт | F21: шт | G21: кВт | H21: шт | I21: кВт | J21: шт | K21: кВт | L21: шт | M21: МВт | N21: шт | O21: МВт | P21: шт | Q21: МВт
A22: Кабардино- Балкарсикй филиал ОАО "МРСК Северного Кавказа" | B22: Республика Дагестан | C22: ЦЕНТРАЛЬНЫЕ СЕТИ
C23: ПС ГПП | H23: 0
C24: ПС Новая | D24: 1 | E24: 10 | F24: 1 | G24: 10 | H24: 0
C25: ПС ЦПП | H25: 0
C26: ПС М-110 | D26: 3 | E26: =80+100+200 -> 380 | F26: 3 | G26: =80+100+200 -> 380 | H26: 0
C27: ПС Очистные соор. | H27: 0
C28: ПС Ю-Восточная | H28: 0
C29: ПС Приморская | H29: 0
C30: ПС Насосная -1 | D30: 9 | E30: =30+4.4+15+10+30+15+10+5+150 -> 269.4 | F30: 9 | G30: 269.4 | H30: 0
C31: ПС Радиоцентр | D31: 2 | E31: =60+500 -> 560 | F31: 2 | G31: 560 | H31: 0
C32: ПС Изберг- Сев. | D32: 5 | E32: =10+100+300+80+10 -> 500 | F32: 5 | G32: 500 | H32: 0
C33: ПС Изберг- Южн. | D33: 2 | E33: =60+48 -> 108 | F33: 2 | G33: 108 | H33: 0
C34: ПС Карабуд-т | D34: 3 | E34: =15+10+30 -> 55 | F34: 3 | G34: 55 | H34: 0 | J34: 1 | K34: =15 -> 15
C35: ПС Рассвет | D35: 9 | E35: =15+100+25+20+20+25+160+45+15 -> 425 | F35: 9 | G35: 425 | H35: 0
C36: ПС Шамхал | D36: 10 | E36: =50+150+18+160+90+200+75+15+150+50 -> 958 | F36: 10 | G36: 958 | H36: 0
C37: ПС Сергокала | D37: 2 | E37: =60+15 -> 75 | F37: 2 | G37: 75 | H37: 0
C38: ПС Алмало | D38: 2 | E38: =155+15 -> 170 | F38: 2 | G38: =155+15 -> 170 | H38: 0
C39: ПС Буйнакск -1 | D39: 1 | E39: 14 | F39: 1 | G39: 14 | H39: 0
C40: ПС Буйнакск -2 | D40: 1 | E40: 60 | F40: 1 | G40: 60 | H40: 0
C41: ПС Казанище | D41: 5 | E41: =10+15+15+20+70 -> 130 | F41: 5 | G41: 130 | H41: 0
C42: ПС Согратль | D42: 4 | E42: =20+170+180+60 -> 430 | F42: 4 | G42: 430 | H42: 0
C43: ПС Дженгутай | D43: 3 | E43: =180+100+100 -> 380 | F43: 3 | G43: 380 | H43: 0
C44: ПС Такалай | H44: 0
C45: ПС Параул | D45: 1 | E45: 50 | F45: 1 | G45: 50 | H45: 0
C46: ПС Восточная | H46: 0
C47: ПС Приозерная | H47: 0
C48: ПС Солнце | D48: 9 | E48: =100+170+100+60+160+63+80+30+50 -> 813 | F48: 9 | G48: 813 | H48: 0
C49: ПС Компас | H49: 0
C50: ПС Сулак | D50: 3 | E50: =162+6+15 -> 183 | F50: 3 | G50: =162+6+15 -> 183 | H50: 0
C51: ПС НИИСХА | D51: 5 | E51: =200+40+155+100+80 -> 575 | F51: 5 | G51: 575 | H51: 0
C52: ПС Тепл. Комбинат | H52: 0
C53: ПС Насосная - 2 | H53: 0
C54: ПС Ленинкент | D54: 1 | E54: =350 -> 350 | F54: 1 | G54: =350 -> 350 | H54: 0
C55: ПС Дурмаз | H55: 0
C56: ПС Эрпели | D56: 1 | E56: 15 | F56: 1 | G56: 15 | H56: 0
C57: ПС Гурбуки | H57: 0
C58: ПС Халимбекаул | D58: 5 | E58: =160+80+240+15+15 -> 510 | F58: 5 | G58: 510 | H58: 0
C59: ПС Мулебки | H59: 0
C60: ПС Н. Чиркей | D60: 2 | E60: =15+160 -> 175 | F60: 2 | G60: 175 | H60: 0
C61: ПС КПФ | H61: 0
C62: ПС Аграханская | H62: 0
C63: ПС ЗТМ | D63: 2 | E63: =325+170 -> 495 | F63: 2 | G63: 495 | H63: 0
C64: итого: | D64: =SUM(D23:D63) -> 91 | E64: =SUM(E23:E63) -> 7690.4 | F64: =SUM(F23:F63) -> 91 | G64: =SUM(G23:G63) -> 7690.4 | H64: =SUM(H23:H63) -> 0 | I64: =SUM(I23:I63) -> 0 | J64: =SUM(J23:J63) -> 1 | K64: =SUM(K23:K63) -> 15 | ... Q64: =SUM(Q23:Q63) -> 0
C65: СЕВЕРНЫЕ СЕТИ | H65: 0
C66: Ярыксу | D66: 2 | E66: =414+20 -> 434 | F66: 2 | G66: 434 | H66: 0
C67: Акташ | D67: 6 | E67: =41+15+15+155+50+15 -> 291 | F67: 6 | G67: 291 | H67: 0
C68: Куруш | D68: 2 | E68: =65+155 -> 220 | F68: 2 | G68: =65+155 -> 220 | H68: 0
C69: Сулевкент | D69: 1 | E69: 15 | F69: 1 | G69: 15 | H69: 0
C70: Бабаюрт | D70: 1 | E70: 15 | F70: 1 | G70: 15 | H70: 0
C71: Чиркей | H71: 0
C72: Дылым | D72: 1 | E72: 10 | F72: 1 | G72: 10 | H72: 0
C73: Миатлы | H73: 0
C74: ГЩЗ | D74: 1 | E74: 15 | F74: 1 | G74: 15 | H74: 0
C75: Сулак | H75: 0
C76: Львовская | H76: 0
C77: Дагестан | D77: 2 | E77: =15+5 -> 20 | F77: 2 | G77: 20 | H77: 0
C78: Аксай | D78: 2 | E78: =30+15 -> 45 | F78: 2 | G78: 45 | H78: 0
C79: Чагаротар | H79: 0
C80: Гертма | H80: 0
C81: Татаюрт | D81: 3 | E81: =8+10+15 -> 33 | F81: 3 | G81: 33 | H81: 0 | J81: 1 | K81: 8
C82: Тамазатюбе | H82: 0
C83: Туршунай | H83: 0
C84: Хамам-юрт | H84: 0
C85: Костек | D85: 1 | E85: 15 | F85: 1 | G85: 15 | H85: 0
C86: Новокули | D86: 1 | E86: 15 | F86: 1 | G86: 15 | H86: 0
C87: Акбула-Тюрт | D87: 1 | E87: 15 | F87: 1 | G87: 15 | H87: 0
C88: Янгильбай | D88: 1 | E88: 15 | F88: 1 | G88: 15 | H88: 0
C89: Шава | H89: 0
C90: Новая коса | D90: 2 | E90: =10+10 -> 20 | F90: 2 | G90: 20 | H90: 0
C91: Караузбек | H91: 0
C92: Свердлова | D92: 1 | E92: 15 | F92: 1 | G92: 15 | H92: 0
C93: Димитрова | H93: 0
C94: Казиюрт | H94: 0
C95: Аликазган | H95: 0
C96: Д Консер.з-д | H96: 0
C97: Сивух | D97: 2 | E97: =10+45 -> 55 | F97: 2 | G97: 55 | H97: 0
C98: Андрейаул | D98: 2 | E98: =10+15 -> 25 | F98: 2 | G98: 25 | H98: 0
C99: Дружба | D99: 1 | E99: 15 | F99: 1 | G99: 15 | H99: 0
C100: Дубки | H100: 0
C101: Карланюрт -(Тяговая) | D101: 3 | E101: =15+30+315 -> 360 | F101: 3 | G101: =15+30+315 -> 360 | H101: 0
C102: итого: | D102: =SUM(D66:D101) -> 36 | E102: =SUM(E66:E101) -> 1648 | F102: =SUM(F66:F101) -> 36 | G102: =SUM(G66:G101) -> 1648 | H102: =SUM(H66:H101) -> 0 | I102: =SUM(I66:I101) -> 0 | J102: =SUM(J66:J101) -> 1 | K102: =SUM(K66:K101) -> 8 | ... Q102: =SUM(Q66:Q101) -> 0
C103: ДЕРБЕНТСКИЕ СЕТИ | H103: 0
C104: Дербент-330 | D104: 12 | E104: =350+130+70+160+200+65+8+10+160+15+200+20 -> 1388 | F104: 12 | G104: 1388 | H104: 0
C105: Дербент-С | D105: 5 | E105: =100+15+25+15+80 -> 235 | F105: 5 | G105: 235 | H105: 0
C106: Мамедкала | D106: 1 | E106: 15 | F106: 1 | G106: 15 | H106: 0
C107: Каякент | D107: 7 | E107: =15+630+12+45+30+60+70 -> 862 | F107: 7 | G107: 862 | H107: 0
C108: Белиджи | D108: 4 | E108: =10+10+15+55 -> 90 | F108: 4 | G108: 90 | H108: 0
C109: Касумкент | D109: 7 | E109: =30+60+20+10+20+15+15 -> 170 | F109: 7 | G109: 170 | H109: 0
C110: Советская | D110: 3 | E110: =15+25+15 -> 55 | F110: 3 | G110: 55 | H110: 0
C111: Магарамкент | D111: 5 | E111: =40+7+50+35+10 -> 142 | F111: 5 | G111: 142 | H111: 0
C112: Тагиркент | D112: 3 | E112: =10+7+10 -> 27 | F112: 3 | G112: =10+7+10 -> 27 | H112: 0
...

Sheet июнь 2014г. по 0,4
M1: Приложение № 28
M2: к Положению о технологическом присоединении
M3: энергетических установок к электрическим сетям
M4: ОАО «МРСК Северного Кавказа», управляемых
M5: Обществ
B14: Информация о технологическом присоединении энергопринимающих устройств к сетям ОАО Дагэнергосеть филиалом ОАО "МРСК Северного Кавказа" за июнь 2014г.
A16: Наименование организации, осуществляющей технологическое присоединение | B16: Наименование субъекта РФ | C16: Наименование центра питания (ПС 35 кВ и выше) | D16: Количество поданных заявок на технологическое присоединение, на общую мощность энергопринимающих устройств, кВт | F16: Заключено договоров на технологическое присоединение, включающие технические условия на общую мощность энергопринимающих устройств, кВт | H16: Расторгнуто договоров на технологическое присоединение, включающие технические условия на общую мощность энергопринимающих устройств, кВт | J16: Суммарная мощность энегргопринимающих устройств, присоединенных к электрическим сетям в соответствии с договором на технологическое присоединение за отчетный период, кВт | L16: Заключено договоров на технологическое присоединение, включающие технические условия на общую мощность генерирущих установок, МВт | N16: Расторгнуто договоров на технологическое присоединение, включающие технические условия на общую мощность генерирущих установок, МВт | P16: Суммарная мощность генерирущих установок, присоединенных к электрическим сетям в соответствии с договором на технологическое присоединение за отчетный период, МВт
A17: 1 | B17: 2 | C17: 3 | D17: 4 | F17: 5 | H17: 6 | J17: 7 | L17: 8 | N17: 9 | P17: 10
D18: шт | E18: кВт | F18: шт | G18: кВт | H18: шт | I18: кВт | J18: шт | K18: кВт | L18: шт | M18: МВт | N18: шт | O18: МВт | P18: шт | Q18: МВт
A19: Кабардино- Балкарсикй филиал ОАО "МРСК Северного Кавказа" | B19: Республика Дагестан | C19: ЦЕНТРАЛЬНЫЕ СЕТИ
C20: ПС ГПП | D20: 0 | E20: 0 | F20: 0 | G20: 0 | H20: 0
C21: ПС Новая | D21: 0 | E21: 0 | F21: 0 | G21: 0 | H21: 0
C22: ПС ЦПП | D22: 0 | E22: 0 | F22: 0 | G22: 0 | H22: 0
C23: ПС М-110 | D23: 0 | E23: 0 | F23: 0 | G23: 0 | H23: 0
C24: ПС Очистные соор. | D24: 0 | E24: 0 | F24: 0 | G24: 0 | H24: 0
C25: ПС Ю-Восточная | D25: 0 | E25: 0 | F25: 0 | G25: 0 | H25: 0
C26: ПС Приморская | D26: 0 | E26: 0 | F26: 0 | G26: 0 | H26: 0
C27: ПС Насосная -1 | D27: 4 | E27: =15+10+50+7 -> 82 | F27: 4 | G27: 82 | H27: 0 | J27: 1 | K27: =10 -> 10
C28: ПС Радиоцентр | D28: 1 | E28: 4 | F28: 1 | G28: 4 | H28: 0
C29: ПС Изберг- Сев. | D29: 10 | E29: =10+8+8+5+8+10+5+10+7+15 -> 86 | F29: 10 | G29: 86 | H29: 0
C30: ПС Изберг- Южн. | D30: 5 | E30: =8+8+8+6+15 -> 45 | F30: 5 | G30: 45 | H30: 0
C31: ПС Карабуд-т | D31: 6 | E31: =12+30+10+5+15+40 -> 112 | F31: 6 | G31: 112 | H31: 0 | J31: 1 | K31: 12
C32: ПС Рассвет | D32: 1 | E32: 15 | F32: 1 | G32: 15 | H32: 0
C33: ПС Шамхал | D33: 27 | E33: =5.5+15+6+4+10+10+6+6+15+10+8+5+6+5+4+12+12+5+5+5+11+14+10+8+12+10+12 -> 231.5 | F33: 27 | G33: 231.5 | H33: 0 | J33: 6 | K33: =6+6+10+10+4+6+5.5 -> 47.5
C34: ПС Сергокала | D34: 7 | E34: =5+15+3+8+5+3+5 -> 44 | F34: 7 | G34: =5+15+3+8+5+3+5 -> 44 | H34: 0
C35: ПС Алмало | D35: 6 | E35: =6+10+15+3+7+5 -> 46 | F35: 6 | G35: 46 | H35: 0
C36: ПС Буйнакск -1 | D36: 41 | E36: =5+6+5+2+5+10+3+5+2+14+5+6+2+6+5+3+2.5+10+1+2+3+2+1.5+14+2.5+2+3+3+5+14.5+5+5+15+15+10+10+15+4+3.5+7+2 -> 241.5 | F36: 41 | G36: =5+6+5+2+5+10+3+5+2+14+5+6+2+6+5+3+2.5+10+1+2+3+2+1.5+14+2.5+2+3+3+5+14.5+5+5+15+15+10+10+15+4+3.5+7+2 -> 241.5 | H36: 0
C37: ПС Буйнакск -2 | D37: 13 | E37: =10+10+15+6+2+4+3+2+2.5+3+5+10+15 -> 87.5 | F37: 13 | G37: 87.5 | H37: 0 | J37: 1 | K37: =10 -> 10
C38: ПС Казанище | D38: 12 | E38: =7+12+15+13+13+12+7+5+35+15+2.2+8 -> 144.2 | F38: 12 | G38: 144.2 | H38: 0 | J38: 2 | K38: =7+6 -> 13
C39: ПС Согратль | D39: 9 | E39: =10+10+15+8+15+10+15+8+15 -> 106 | F39: 9 | G39: 106 | H39: 0 | J39: 2 | K39: =10+10 -> 20
C40: ПС Дженгутай | D40: 4 | E40: =10+10+5+11 -> 36 | F40: 4 | G40: =10+10+5+11 -> 36 | H40: 0 | J40: 1 | K40: =10 -> 10
C41: ПС Такалай | H41: 0
C42: ПС Параул | D42: 1 | E42: =12 -> 12 | F42: 1 | G42: =12 -> 12 | H42: 0 | J42: 1 | K42: 12
C43: ПС Восточная | H43: 0
C44: ПС Приозерная | H44: 0
C45: ПС Солнце | D45: 12 | E45: =15+10+10+13+6+10+15+15+15+15+8 -> 132 | F45: 12 | G45: 132 | H45: 0
C46: ПС Компас | H46: 0
C47: ПС Сулак | H47: 0
C48: ПС НИИСХА | D48: 1 | F48: 1 | H48: 0
C49: ПС Тепл. Комбинат | H49: 0
C50: ПС Насосная - 2 | H50: 0
C51: ПС Ленинкент | D51: 2 | E51: =13+5 -> 18 | F51: 2 | G51: 18 | H51: 0
C52: ПС Дурмаз | D52: 2 | E52: =4+20 -> 24 | F52: 2 | G52: 24 | H52: 0
C53: ПС Эрпели | D53: 1 | E53: =10 -> 10 | F53: 1 | G53: =10 -> 10 | H53: 0 | J53: 1 | K53: =10 -> 10
C54: ПС Гурбуки | H54: 0
C55: ПС Халимбекаул | D55: 7 | E55: =10+10+6+14+14+10+15 -> 79 | F55: 7 | G55: 79 | H55: 0 | J55: 2 | K55: =10+10 -> 20
C56: ПС Мулебки | D56: 2 | E56: =5+5 -> 10 | F56: 2 | G56: =5+5 -> 10 | H56: 0 | J56: 1 | K56: 5
C57: ПС Н. Чиркей | H57: 0
C58: ПС КПФ | H58: 0
C59: ПС Аграханская | H59: 0
C60: ПС ЗТМ | H60: 0
C61: итого: | D61: =SUM(D20:D60) -> 174 | E61: =SUM(E20:E60) -> 1565.7 | F61: =SUM(F20:F60) -> 174 | G61: =SUM(G20:G60) -> 1565.7 | H61: =SUM(H20:H60) -> 0 | I61: =SUM(I20:I60) -> 0 | J61: =SUM(J20:J60) -> 19 | K61: =SUM(K20:K60) -> 169.5 | ... Q61: =SUM(Q20:Q60) -> 0
C62: СЕВЕРНЫЕ СЕТИ | H62: 0
C63: Ярыксу | D63: 34 | E63: =10+7+12+8+15+15+4+12+8+8+7+12+7+15+6+6+8+7+5+15+10+3+10+10+5+5+15+5+20+14+15+15+10+15 -> 339 | F63: 34 | G63: 339 | H63: 0 | J63: 5 | K63: =10+7+12+8+15 -> 52
C64: Акташ | D64: 28 | E64: =15+15+5+15+15+15+15+8+15+15+15+15+4.5+15+10+15+10+15+15+15+13+15+15+5+5+10+5+15 -> 345.5 | F64: 28 | G64: 345.5 | H64: 0 | J64: 4 | K64: =15+15+5+15 -> 50
C65: Куруш | D65: 6 | E65: =5+350+5+30+5+4.5 -> 399.5 | F65: 6 | G65: =5+350+5+30+5+4.5 -> 399.5 | H65: 0 | J65: 2 | K65: =5+5 -> 10
C66: Сулевкент | H66: 0
C67: Бабаюрт | D67: 7 | E67: =15+5+5+15+6+15+30 -> 91 | F67: 7 | G67: 91 | H67: 0
C68: Чиркей | D68: 1 | E68: 10 | F68: 1 | G68: 10 | H68: 0
C69: Дылым | D69: 3 | E69: =2.5+7+13 -> 22.5 | F69: 3 | G69: 22.5 | H69: 0
C70: Миатлы | H70: 0
C71: ГЩЗ | D71: 3 | E71: =5+10+10 -> 25 | F71: 3 | G71: =5+10+10 -> 25 | H71: 0
C72: Сулак | D72: 1 | E72: =6 -> 6 | F72: 1 | G72: =6 -> 6 | H72: 0
C73: Львовская | H73: 0
C74: Дагестан | D74: 9 | E74: =5+10+7+5+7+15+5+15+5 -> 74 | F74: 9 | G74: 74 | H74: 0
C75: Аксай | D75: 2 | E75: =3.5+5 -> 8.5 | F75: 2 | G75: =3.5+5 -> 8.5 | H75: 0
C76: Чагаротар | H76: 0
C77: Гертма | D77: 1 | E77: 7 | F77: 1 | G77: 7 | H77: 0
C78: Татаюрт | D78: 3 | E78: =10+15+7 -> 32 | F78: 3 | G78: 32 | H78: 0
C79: Тамазатюбе | D79: 1 | E79: 5 | F79: 1 | G79: 5 | H79: 0
C80: Туршунай | D80: 4 | E80: =100+5+5+10 -> 120 | F80: 4 | G80: =100+5+5+10 -> 120 | H80: 0
C81: Хамам-юрт | D81: 4 | E81: =5+15+5+10 -> 35 | F81: 4 | G81: 35 | H81: 0
C82: Костек | D82: 1 | E82: =4 -> 4 | F82: 1 | G82: =4 -> 4 | H82: 0 | J82: 1 | K82: 4
C83: Новокули | D83: 4 | E83: =8+2.5+12+6 -> 28.5 | F83: 4 | G83: 28.5 | H83: 0
C84: Акбула-Тюрт | D84: 1 | E84: 5 | F84: 1 | G84: 5 | H84: 0
C85: Янгильбай | H85: 0
C86: Шава | H86: 0
C87: Новая коса | H87: 0
C88: Караузбек | D88: 1 | E88: 10 | F88: 1 | G88: 10 | H88: 0
C89: Свердлова | H89: 0
C90: Димитрова | D90: 10 | E90: =10+12+8+40+5+7+5+12+5+8 -> 112 | F90: 10 | G90: 112 | H90: 0
C91: Казиюрт | H91: 0
C92: Аликазган | H92: 0
C93: Д Консер.з-д | D93: 1 | E93: 6 | F93: 1 | G93: 6 | H93: 0
C94: Сивух | D94: 4 | E94: =6+15+10+8 -> 39 | F94: 4 | G94: 39 | H94: 0
C95: Андрейаул | H95: 0
C96: Дружба | D96: 3 | E96: =6+7+5 -> 18 | F96: 3 | G96: =6+7+5 -> 18 | H96: 0 | J96: 1 | K96: 6
C97: Дубки | D97: 1 | E97: 7 | F97: 1 | G97: 7 | H97: 0
C98: Карланюрт -(Тяговая) | H98: 0
C99: итого: | D99: =SUM(D63:D98) -> 133 | E99: =SUM(E63:E98) -> 1749.5 | F99: =SUM(F63:F98) -> 133 | G99: =SUM(G63:G98) -> 1749.5 | H99: =SUM(H63:H98) -> 0 | I99: =SUM(I63:I98) -> 0 | J99: =SUM(J63:J98) -> 13 | K99: =SUM(K63:K98) -> 122 | ... Q99: =SUM(Q63:Q98) -> 0
C100: ДЕРБЕНТСКИЕ СЕТИ | H100: 0
C101: Дербент-330 | D101: 14 | E101: =4+5+13+8+160+10+5+14+10+3+5+6+8+3 -> 254 | F101: 14 | G101: 254 | H101: 0
C102: Дербент-С | D102: 13 | E102: =12+12+5+8+50+14+30+12+8+12+5+3+13 -> 184 | F102: 13 | G102: 184 | H102: 0
C103: Мамедкала | D103: 3 | E103: =5+12+5 -> 22 | F103: 3 | G103: =5+12+5 -> 22 | H103: 0
C104: Каякент | D104: 15 | E104: =5+70+5+13+5+5+8+10+5+8+15+12+5+5+10 -> 181 | F104: 15 | G104: 181 | H104: 0 | J104: 2 | K104: =5+5 -> 10
C105: Белиджи | D105: 5 | E105: =45+10+5+10+4 -> 74 | F105: 5 | G105: =45+10+5+10+4 -> 74 | H105: 0 | J105: 1 | K105: =10 -> 10
C106: Касумкент | D106: 2 | E106: =7+14.5 -> 21.5 | F106: 2 | G106: =7+14.5 -> 21.5 | H106: 0
C107: Советская | D107: 5 | E107: =10+5+10+5+10 -> 40 | F107: 5 | G107: 40 | H107: 0
C108: Магарамкент | D108: 20 | E108: =50+10+5+5+5+10+5+10+13+5+7+10+5+5+5+5+11+5+15+5 -> 191 | F108: 20 | G108: 191 | H108: 0 | J108: 2 | K108: =5+10 -> 15
C109: Тагиркент | D109: 6 | E109: =6+4+5+5+3+7 -> 30 | F109: 6 | G109: =6+4+5+5+3+7 -> 30 | H109: 0 | J109: 1 | K109: =6 -> 6
...

Sheet Лист2

Sheet Лист3

Sheet Лист4
