Workbook

Sheet Лист1

Sheet Ноябрь 2013г
M1: Приложение № 28
M2: к Положению о технологическом присоединении
M3: энергетических установок к электрическим сетям
M4: ОАО «МРСК Северного Кавказа», управляемых
M5: Обществ
B14: Информация о технологическом присоединении энергопринимающих устройств к сетям КБ филиалом ОАО "МРСК Северного Кавказа" за Ноябрь 2013г.
A19: Наименование организации, осуществляющей технологическое присоединение | B19: Наименование субъекта РФ | C19: Наименование центра питания (ПС 35 кВ и выше) | D19: Количество поданных заявок на технологическое присоединение, на общую мощность энергопринимающих устройств, кВт | F19: Заключено договоров на технологическое присоединение, включающие технические условия на общую мощность энергопринимающих устройств, кВт | H19: Расторгнуто договоров на технологическое присоединение, включающие технические условия на общую мощность энергопринимающих устройств, кВт | J19: Суммарная мощность энегргопринимающих устройств, присоединенных к электрическим сетям в соответствии с договором на технологическое присоединение за отчетный период, кВт | L19: Заключено договоров на технологическое присоединение, включающие технические условия на общую мощность генерирущих установок, МВт | N19: Расторгнуто договоров на технологическое присоединение, включающие технические условия на общую мощность генерирущих установок, МВт | P19: Суммарная мощность генерирущих установок, присоединенных к электрическим сетям в соответствии с договором на технологическое присоединение за отчетный период, МВт
A20: 1 | B20: 2 | C20: 3 | D20: 4 | F20: 5 | H20: 6 | J20: 7 | L20: 8 | N20: 9 | P20: 10
D21: шт | E21: кВт | F21: шт | G21: кВт | H21: шт | I21: кВт | J21: шт | K21: кВт | L21: шт | M21: МВт | N21: шт | O21: МВт | P21: шт | Q21: МВт
A22: Кабардино- Балкарсикй филиал ОАО "МРСК Северного Кавказа" | B22: Кабардино- Балкарская Республика | C22: Нальчикская группа ПС
C23: ПС «Нальчик» | D23: ='апрель 2014г. по 6-10'!D23+'апрель 2014г. по 0,4'!D20 -> 0 | E23: ='апрель 2014г. по 6-10'!E23+'апрель 2014г. по 0,4'!E20 -> 0 | F23: ='апрель 2014г. по 6-10'!F23+'апрель 2014г. по 0,4'!F20 -> 0 | G23: ='апрель 2014г. по 6-10'!G23+'апрель 2014г. по 0,4'!G20 -> 0 | H23: 2 | I23: 11.2 | J23: ='апрель 2014г. по 6-10'!J23+'апрель 2014г. по 0,4'!J20 -> 0 | K23: ='апрель 2014г. по 6-10'!K23+'апрель 2014г. по 0,4'!K20 -> 0 | L23: 0 | M23: 0 | N23: 0 | O23: 0 | P23: 0 | Q23: 0
C24: ПС «Телемеханика-1» | D24: ='апрель 2014г. по 6-10'!D24+'апрель 2014г. по 0,4'!D21 -> 1 | E24: ='апрель 2014г. по 6-10'!E24+'апрель 2014г. по 0,4'!E21 -> 10 | F24: ='апрель 2014г. по 6-10'!F24+'апрель 2014г. по 0,4'!F21 -> 1 | G24: ='апрель 2014г. по 6-10'!G24+'апрель 2014г. по 0,4'!G21 -> 10 | H24: 0 | I24: 0 | J24: ='апрель 2014г. по 6-10'!J24+'апрель 2014г. по 0,4'!J21 -> 0 | K24: ='апрель 2014г. по 6-10'!K24+'апрель 2014г. по 0,4'!K21 -> 0 | L24: 0 | M24: 0 | N24: 0 | O24: 0 | P24: 0 | Q24: 0
C25: ПС «Искож» | D25: ='апрель 2014г. по 6-10'!D25+'апрель 2014г. по 0,4'!D22 -> 0 | E25: ='апрель 2014г. по 6-10'!E25+'апрель 2014г. по 0,4'!E22 -> 0 | F25: ='апрель 2014г. по 6-10'!F25+'апрель 2014г. по 0,4'!F22 -> 0 | G25: ='апрель 2014г. по 6-10'!G25+'апрель 2014г. по 0,4'!G22 -> 0 | H25: 0 | I25: 0 | J25: ='апрель 2014г. по 6-10'!J25+'апрель 2014г. по 0,4'!J22 -> 0 | K25: ='апрель 2014г. по 6-10'!K25+'апрель 2014г. по 0,4'!K22 -> 0 | L25: 0 | M25: 0 | N25: 0 | O25: 0 | P25: 0 | Q25: 0
C26: ПС «СКЭП-Н» | D26: ='апрель 2014г. по 6-10'!D26+'апрель 2014г. по 0,4'!D23 -> 3 | E26: ='апрель 2014г. по 6-10'!E26+'апрель 2014г. по 0,4'!E23 -> 380 | F26: ='апрель 2014г. по 6-10'!F26+'апрель 2014г. по 0,4'!F23 -> 3 | G26: ='апрель 2014г. по 6-10'!G26+'апрель 2014г. по 0,4'!G23 -> 380 | H26: 0 | I26: 0 | J26: ='апрель 2014г. по 6-10'!J26+'апрель 2014г. по 0,4'!J23 -> 0 | K26: ='апрель 2014г. по 6-10'!K26+'апрель 2014г. по 0,4'!K23 -> 0 | L26: 0 | M26: 0 | N26: 0 | O26: 0 | P26: 0 | Q26: 0
C27: ПС «Долинск» | D27: ='апрель 2014г. по 6-10'!D27+'апрель 2014г. по 0,4'!D24 -> 0 | E27: ='апрель 2014г. по 6-10'!E27+'апрель 2014г. по 0,4'!E24 -> 0 | F27: ='апрель 2014г. по 6-10'!F27+'апрель 2014г. по 0,4'!F24 -> 0 | G27: ='апрель 2014г. по 6-10'!G27+'апрель 2014г. по 0,4'!G24 -> 0 | H27: 0 | I27: 0 | J27: ='апрель 2014г. по 6-10'!J27+'апрель 2014г. по 0,4'!J24 -> 0 | K27: ='апрель 2014г. по 6-10'!K27+'апрель 2014г. по 0,4'!K24 -> 0 | L27: 0 | M27: 0 | N27: 0 | O27: 0 | P27: 0 | Q27: 0
C28: ПС «Дубки» | D28: ='апрель 2014г. по 6-10'!D28+'апрель 2014г. по 0,4'!D25 -> 0 | E28: ='апрель 2014г. по 6-10'!E28+'апрель 2014г. по 0,4'!E25 -> 0 | F28: ='апрель 2014г. по 6-10'!F28+'апрель 2014г. по 0,4'!F25 -> 0 | G28: ='апрель 2014г. по 6-10'!G28+'апрель 2014г. по 0,4'!G25 -> 0 | H28: 0 | I28: 0 | J28: ='апрель 2014г. по 6-10'!J28+'апрель 2014г. по 0,4'!J25 -> 0 | K28: ='апрель 2014г. по 6-10'!K28+'апрель 2014г. по 0,4'!K25 -> 0 | L28: 0 | M28: 0 | N28: 0 | O28: 0 | P28: 0 | Q28: 0
C29: ПС «Птицефабрика» | D29: ='апрель 2014г. по 6-10'!D29+'апрель 2014г. по 0,4'!D26 -> 0 | E29: ='апрель 2014г. по 6-10'!E29+'апрель 2014г. по 0,4'!E26 -> 0 | F29: ='апрель 2014г. по 6-10'!F29+'апрель 2014г. по 0,4'!F26 -> 0 | G29: ='апрель 2014г. по 6-10'!G29+'апрель 2014г. по 0,4'!G26 -> 0 | H29: 1 | I29: 300 | J29: ='апрель 2014г. по 6-10'!J29+'апрель 2014г. по 0,4'!J26 -> 0 | K29: ='апрель 2014г. по 6-10'!K29+'апрель 2014г. по 0,4'!K26 -> 0 | L29: 0 | M29: 0 | N29: 0 | O29: 0 | P29: 0 | Q29: 0
C30: итого: | D30: =D23+D24+D25+D26+D27+D28+D29 -> 4 | E30: =E23+E24+E25+E26+E27+E28+E29 -> 390 | F30: =F23+F24+F25+F26+F27+F28+F29 -> 4 | G30: =G23+G24+G25+G26+G27+G28+G29 -> 390 | H30: =H23+H24+H25+H26+H27+H28+H29 -> 3 | I30: =I23+I24+I25+I26+I27+I28+I29 -> 311.2 | J30: =J23+J24+J25+J26+J27+J28+J29 -> 0 | K30: =K23+K24+K25+K26+K27+K28+K29 -> 0 | ... Q30: =Q23+Q24+Q25+Q26+Q27+Q28+Q29 -> 0
C31: Малкинская группа ПС
C32: ПС «Малка» | D32: ='апрель 2014г. по 6-10'!D32+'апрель 2014г. по 0,4'!D29 -> 12 | E32: ='апрель 2014г. по 6-10'!E32+'апрель 2014г. по 0,4'!E29 -> 554 | F32: ='апрель 2014г. по 6-10'!F32+'апрель 2014г. по 0,4'!F29 -> 12 | G32: ='апрель 2014г. по 6-10'!G32+'апрель 2014г. по 0,4'!G29 -> 554 | H32: 0 | I32: 0 | J32: ='апрель 2014г. по 6-10'!J32+'апрель 2014г. по 0,4'!J29 -> 0 | K32: ='апрель 2014г. по 6-10'!K32+'апрель 2014г. по 0,4'!K29 -> 0 | L32: 0 | M32: 0 | N32: 0 | O32: 0 | P32: 0 | Q32: 0
C33: ПС «Каменномостская» | D33: ='апрель 2014г. по 6-10'!D33+'апрель 2014г. по 0,4'!D30 -> 4 | E33: ='апрель 2014г. по 6-10'!E33+'апрель 2014г. по 0,4'!E30 -> 84 | F33: ='апрель 2014г. по 6-10'!F33+'апрель 2014г. по 0,4'!F30 -> 4 | G33: ='апрель 2014г. по 6-10'!G33+'апрель 2014г. по 0,4'!G30 -> 84 | H33: 0 | I33: 0 | J33: ='апрель 2014г. по 6-10'!J33+'апрель 2014г. по 0,4'!J30 -> 0 | K33: ='апрель 2014г. по 6-10'!K33+'апрель 2014г. по 0,4'!K30 -> 0 | L33: 0 | M33: 0 | N33: 0 | O33: 0 | P33: 0 | Q33: 0
C34: ПС «Залукокоаже» | D34: ='апрель 2014г. по 6-10'!D34+'апрель 2014г. по 0,4'!D31 -> 6 | E34: ='апрель 2014г. по 6-10'!E34+'апрель 2014г. по 0,4'!E31 -> 82 | F34: ='апрель 2014г. по 6-10'!F34+'апрель 2014г. по 0,4'!F31 -> 6 | G34: ='апрель 2014г. по 6-10'!G34+'апрель 2014г. по 0,4'!G31 -> 82 | H34: 0 | I34: 0 | J34: ='апрель 2014г. по 6-10'!J34+'апрель 2014г. по 0,4'!J31 -> 2 | K34: ='апрель 2014г. по 6-10'!K34+'апрель 2014г. по 0,4'!K31 -> 27 | L34: 0 | M34: 0 | N34: 0 | O34: 0 | P34: 0 | Q34: 0
C35: ПС «Залукодес» | D35: ='апрель 2014г. по 6-10'!D35+'апрель 2014г. по 0,4'!D32 -> 5 | E35: ='апрель 2014г. по 6-10'!E35+'апрель 2014г. по 0,4'!E32 -> 180 | F35: ='апрель 2014г. по 6-10'!F35+'апрель 2014г. по 0,4'!F32 -> 5 | G35: ='апрель 2014г. по 6-10'!G35+'апрель 2014г. по 0,4'!G32 -> 180 | H35: 0 | I35: 0 | J35: ='апрель 2014г. по 6-10'!J35+'апрель 2014г. по 0,4'!J32 -> 0 | K35: ='апрель 2014г. по 6-10'!K35+'апрель 2014г. по 0,4'!K32 -> 0 | L35: 0 | M35: 0 | N35: 0 | O35: 0 | P35: 0 | Q35: 0
C36: ПС «Сармаково» | D36: ='апрель 2014г. по 6-10'!D36+'апрель 2014г. по 0,4'!D33 -> 23 | E36: ='апрель 2014г. по 6-10'!E36+'апрель 2014г. по 0,4'!E33 -> 807.5 | F36: ='апрель 2014г. по 6-10'!F36+'апрель 2014г. по 0,4'!F33 -> 23 | G36: ='апрель 2014г. по 6-10'!G36+'апрель 2014г. по 0,4'!G33 -> 807.5 | H36: 0 | I36: 0 | J36: ='апрель 2014г. по 6-10'!J36+'апрель 2014г. по 0,4'!J33 -> 6 | K36: ='апрель 2014г. по 6-10'!K36+'апрель 2014г. по 0,4'!K33 -> 47.5 | L36: 0 | M36: 0 | N36: 0 | O36: 0 | P36: 0 | Q36: 0
C37: ПС «Аурсентх» | D37: ='апрель 2014г. по 6-10'!D37+'апрель 2014г. по 0,4'!D34 -> 8 | E37: ='апрель 2014г. по 6-10'!E37+'апрель 2014г. по 0,4'!E34 -> 104 | F37: ='апрель 2014г. по 6-10'!F37+'апрель 2014г. по 0,4'!F34 -> 8 | G37: ='апрель 2014г. по 6-10'!G37+'апрель 2014г. по 0,4'!G34 -> 104 | H37: 0 | I37: 0 | J37: ='апрель 2014г. по 6-10'!J37+'апрель 2014г. по 0,4'!J34 -> 0 | K37: ='апрель 2014г. по 6-10'!K37+'апрель 2014г. по 0,4'!K34 -> 0 | L37: 0 | M37: 0 | N37: 0 | O37: 0 | P37: 0 | Q37: 0
C38: итого: | D38: =D32+D33+D34+D35+D36+D37 -> 58 | E38: =E32+E33+E34+E35+E36+E37 -> 1811.5 | F38: =F32+F33+F34+F35+F36+F37 -> 58 | G38: =G32+G33+G34+G35+G36+G37 -> 1811.5 | H38: =H32+H33+H34+H35+H36+H37 -> 0 | I38: =I32+I33+I34+I35+I36+I37 -> 0 | J38: =J32+J33+J34+J35+J36+J37 -> 8 | K38: =K32+K33+K34+K35+K36+K37 -> 74.5 | ... Q38: =Q32+Q33+Q34+Q35+Q36+Q37 -> 0
C39: Эльбрусская группа ПС
C40: ПС «ЦРУ» | D40: ='апрель 2014г. по 6-10'!D40+'апрель 2014г. по 0,4'!D37 -> 10 | E40: ='апрель 2014г. по 6-10'!E40+'апрель 2014г. по 0,4'!E37 -> 114.5 | F40: ='апрель 2014г. по 6-10'!F40+'апрель 2014г. по 0,4'!F37 -> 10 | G40: ='апрель 2014г. по 6-10'!G40+'апрель 2014г. по 0,4'!G37 -> 114.5 | H40: 0 | I40: 0 | J40: ='апрель 2014г. по 6-10'!J40+'апрель 2014г. по 0,4'!J37 -> 1 | K40: ='апрель 2014г. по 6-10'!K40+'апрель 2014г. по 0,4'!K37 -> 10 | L40: 0 | M40: 0 | N40: 0 | O40: 0 | P40: 0 | Q40: 0
C41: ПС «Адыл-Су» | D41: ='апрель 2014г. по 6-10'!D41+'апрель 2014г. по 0,4'!D38 -> 14 | E41: ='апрель 2014г. по 6-10'!E41+'апрель 2014г. по 0,4'!E38 -> 194 | F41: ='апрель 2014г. по 6-10'!F41+'апрель 2014г. по 0,4'!F38 -> 14 | G41: ='апрель 2014г. по 6-10'!G41+'апрель 2014г. по 0,4'!G38 -> 194 | H41: 0 | I41: 0 | J41: ='апрель 2014г. по 6-10'!J41+'апрель 2014г. по 0,4'!J38 -> 2 | K41: ='апрель 2014г. по 6-10'!K41+'апрель 2014г. по 0,4'!K38 -> 13 | L41: 0 | M41: 0 | N41: 0 | O41: 0 | P41: 0 | Q41: 0
C42: ПС «Нейтрино» | D42: ='апрель 2014г. по 6-10'!D42+'апрель 2014г. по 0,4'!D39 -> 7 | E42: ='апрель 2014г. по 6-10'!E42+'апрель 2014г. по 0,4'!E39 -> 233 | F42: ='апрель 2014г. по 6-10'!F42+'апрель 2014г. по 0,4'!F39 -> 6 | G42: ='апрель 2014г. по 6-10'!G42+'апрель 2014г. по 0,4'!G39 -> 233 | H42: 0 | I42: 0 | J42: ='апрель 2014г. по 6-10'!J42+'апрель 2014г. по 0,4'!J39 -> 2 | K42: ='апрель 2014г. по 6-10'!K42+'апрель 2014г. по 0,4'!K39 -> 20 | L42: 0 | M42: 0 | N42: 0 | O42: 0 | P42: 0 | Q42: 0
C43: ПС «Чегет» | D43: ='апрель 2014г. по 6-10'!D43+'апрель 2014г. по 0,4'!D40 -> 4 | E43: ='апрель 2014г. по 6-10'!E43+'апрель 2014г. по 0,4'!E40 -> 36 | F43: ='апрель 2014г. по 6-10'!F43+'апрель 2014г. по 0,4'!F40 -> 4 | G43: ='апрель 2014г. по 6-10'!G43+'апрель 2014г. по 0,4'!G40 -> 36 | H43: 0 | I43: 0 | J43: ='апрель 2014г. по 6-10'!J43+'апрель 2014г. по 0,4'!J40 -> 1 | K43: ='апрель 2014г. по 6-10'!K43+'апрель 2014г. по 0,4'!K40 -> 10 | L43: 0 | M43: 0 | N43: 0 | O43: 0 | P43: 0 | Q43: 0
C44: ПС «Терскол» | D44: ='апрель 2014г. по 6-10'!D44+'апрель 2014г. по 0,4'!D41 -> 0 | E44: ='апрель 2014г. по 6-10'!E44+'апрель 2014г. по 0,4'!E41 -> 0 | F44: ='апрель 2014г. по 6-10'!F44+'апрель 2014г. по 0,4'!F41 -> 0 | G44: ='апрель 2014г. по 6-10'!G44+'апрель 2014г. по 0,4'!G41 -> 0 | H44: 0 | I44: 0 | J44: ='апрель 2014г. по 6-10'!J44+'апрель 2014г. по 0,4'!J41 -> 0 | K44: ='апрель 2014г. по 6-10'!K44+'апрель 2014г. по 0,4'!K41 -> 0 | L44: 0 | M44: 0 | N44: 0 | O44: 0 | P44: 0 | Q44: 0
C45: ПС «Джайлык» | D45: ='апрель 2014г. по 6-10'!D45+'апрель 2014г. по 0,4'!D42 -> 2 | E45: ='апрель 2014г. по 6-10'!E45+'апрель 2014г. по 0,4'!E42 -> 62 | F45: ='апрель 2014г. по 6-10'!F45+'апрель 2014г. по 0,4'!F42 -> 2 | G45: ='апрель 2014г. по 6-10'!G45+'апрель 2014г. по 0,4'!G42 -> 62 | H45: 0 | I45: 0 | J45: ='апрель 2014г. по 6-10'!J45+'апрель 2014г. по 0,4'!J42 -> 1 | K45: ='апрель 2014г. по 6-10'!K45+'апрель 2014г. по 0,4'!K42 -> 12 | L45: 0 | M45: 0 | N45: 0 | O45: 0 | P45: 0 | Q45: 0
C46: ПС «Соц. городок» | D46: ='апрель 2014г. по 6-10'!D46+'апрель 2014г. по 0,4'!D43 -> 0 | E46: ='апрель 2014г. по 6-10'!E46+'апрель 2014г. по 0,4'!E43 -> 0 | F46: ='апрель 2014г. по 6-10'!F46+'апрель 2014г. по 0,4'!F43 -> 0 | G46: ='апрель 2014г. по 6-10'!G46+'апрель 2014г. по 0,4'!G43 -> 0 | H46: 0 | I46: 0 | J46: ='апрель 2014г. по 6-10'!J46+'апрель 2014г. по 0,4'!J43 -> 0 | K46: ='апрель 2014г. по 6-10'!K46+'апрель 2014г. по 0,4'!K43 -> 0 | L46: 0 | M46: 0 | N46: 0 | O46: 0 | P46: 0 | Q46: 0
C47: ПС «Чалмас» | D47: ='апрель 2014г. по 6-10'!D47+'апрель 2014г. по 0,4'!D44 -> 0 | E47: ='апрель 2014г. по 6-10'!E47+'апрель 2014г. по 0,4'!E44 -> 0 | F47: ='апрель 2014г. по 6-10'!F47+'апрель 2014г. по 0,4'!F44 -> 0 | G47: ='апрель 2014г. по 6-10'!G47+'апрель 2014г. по 0,4'!G44 -> 0 | H47: 0 | I47: 0 | J47: ='апрель 2014г. по 6-10'!J47+'апрель 2014г. по 0,4'!J44 -> 0 | K47: ='апрель 2014г. по 6-10'!K47+'апрель 2014г. по 0,4'!K44 -> 0 | L47: 0 | M47: 0 | N47: 0 | O47: 0 | P47: 0 | Q47: 0
C48: ПС «РМЗ» | D48: ='апрель 2014г. по 6-10'!D48+'апрель 2014г. по 0,4'!D45 -> 10 | E48: ='апрель 2014г. по 6-10'!E48+'апрель 2014г. по 0,4'!E45 -> 494 | F48: ='апрель 2014г. по 6-10'!F48+'апрель 2014г. по 0,4'!F45 -> 10 | G48: ='апрель 2014г. по 6-10'!G48+'апрель 2014г. по 0,4'!G45 -> 494 | H48: 0 | I48: 0 | J48: ='апрель 2014г. по 6-10'!J48+'апрель 2014г. по 0,4'!J45 -> 0 | K48: ='апрель 2014г. по 6-10'!K48+'апрель 2014г. по 0,4'!K45 -> 0 | L48: 0 | M48: 0 | N48: 0 | O48: 0 | P48: 0 | Q48: 0
C49: РП «Водогрейная» | D49: ='апрель 2014г. по 6-10'!D49+'апрель 2014г. по 0,4'!D46 -> 0 | E49: ='апрель 2014г. по 6-10'!E49+'апрель 2014г. по 0,4'!E46 -> 0 | F49: ='апрель 2014г. по 6-10'!F49+'апрель 2014г. по 0,4'!F46 -> 0 | G49: ='апрель 2014г. по 6-10'!G49+'апрель 2014г. по 0,4'!G46 -> 0 | H49: 0 | I49: 0 | J49: ='апрель 2014г. по 6-10'!J49+'апрель 2014г. по 0,4'!J46 -> 0 | K49: ='апрель 2014г. по 6-10'!K49+'апрель 2014г. по 0,4'!K46 -> 0 | L49: 0 | M49: 0 | N49: 0 | O49: 0 | P49: 0 | Q49: 0
C50: ПС «Былым» | D50: ='апрель 2014г. по 6-10'!D50+'апрель 2014г. по 0,4'!D47 -> 2 | E50: ='апрель 2014г. по 6-10'!E50+'апрель 2014г. по 0,4'!E47 -> 168 | F50: ='апрель 2014г. по 6-10'!F50+'апрель 2014г. по 0,4'!F47 -> 2 | G50: ='апрель 2014г. по 6-10'!G50+'апрель 2014г. по 0,4'!G47 -> 168 | H50: 0 | I50: 0 | J50: ='апрель 2014г. по 6-10'!J50+'апрель 2014г. по 0,4'!J47 -> 0 | K50: ='апрель 2014г. по 6-10'!K50+'апрель 2014г. по 0,4'!K47 -> 0 | L50: 0 | M50: 0 | N50: 0 | O50: 0 | P50: 0 | Q50: 0
C51: ПС "Гунделен" | D51: ='апрель 2014г. по 6-10'!D51+'апрель 2014г. по 0,4'!D48 -> 6 | E51: ='апрель 2014г. по 6-10'!E51+'апрель 2014г. по 0,4'!E48 -> 575 | F51: ='апрель 2014г. по 6-10'!F51+'апрель 2014г. по 0,4'!F48 -> 6 | G51: ='апрель 2014г. по 6-10'!G51+'апрель 2014г. по 0,4'!G48 -> 575 | H51: 0 | I51: 0 | J51: ='апрель 2014г. по 6-10'!J51+'апрель 2014г. по 0,4'!J48 -> 0 | K51: ='апрель 2014г. по 6-10'!K51+'апрель 2014г. по 0,4'!K48 -> 0 | L51: 0 | M51: 0 | N51: 0 | O51: 0 | P51: 0 | Q51: 0
C52: итого: | D52: =D40+D41+D42+D43+D44+D45+D46+D47+D48+D49+D50+D51 -> 55 | E52: =E40+E41+E42+E43+E44+E45+E46+E47+E48+E49+E50+E51 -> 1876.5 | F52: =F40+F41+F42+F43+F44+F45+F46+F47+F48+F49+F50+F51 -> 54 | G52: =G40+G41+G42+G43+G44+G45+G46+G47+G48+G49+G50+G51 -> 1876.5 | H52: =H40+H41+H42+H43+H44+H45+H46+H47+H48+H49+H50+H51 -> 0 | I52: =I40+I41+I42+I43+I44+I45+I46+I47+I48+I49+I50+I51 -> 0 | J52: =J40+J41+J42+J43+J44+J45+J46+J47+J48+J49+J50+J51 -> 7 | K52: =K40+K41+K42+K43+K44+K45+K46+K47+K48+K49+K50+K51 -> 65 | ... Q52: =Q40+Q41+Q42+Q43+Q44+Q45+Q46+Q47+Q48+Q49+Q50+Q51 -> 0
...

Sheet апрель 2014г
B14: Информация о технологическом присоединении энергопринимающих устройств к сетям ОАО Дагэнергосеть филиалом ОАО "МРСК Северного Кавказа" за апрель 2014г.
A19: Наименование организации, осуществляющей технологическое присоединение | B19: Наименование субъекта РФ | C19: Наименование центра питания (ПС 35 кВ и выше) | D19: Количество поданных заявок на технологическое присоединение, на общую мощность энергопринимающих устройств, кВт | F19: Заключено договоров на технологическое присоединение, включающие технические условия на общую мощность энергопринимающих устройств, кВт | H19: Расторгнуто договоров на технологическое присоединение, включающие технические условия на общую мощность энергопринимающих устройств, кВт | J19: Суммарная мощность энегргопринимающих устройств, присоединенных к электрическим сетям в соответствии с договором на технологическое присоединение за отчетный период, кВт | L19: Заключено договоров на технологическое присоединение, включающие технические условия на общую мощность генерирущих установок, МВт | N19: Расторгнуто договоров на технологическое присоединение, включающие технические условия на общую мощность генерирущих установок, МВт | P19: Суммарная мощность генерирущих установок, присоединенных к электрическим сетям в соответствии с договором на технологическое присоединение за отчетный период, МВт
A20: 1 | B20: 2 | C20: 3 | D20: 4 | F20: 5 | H20: 6 | J20: 7 | L20: 8 | N20: 9 | P20: 10
D21: шт | E21: кВт | F21: шт | G21: кВт | H21: шт | I21: кВт | J21: шт | K21: кВт | L21: шт | M21: МВт | N21: шт | O21: МВт | P21: шт | Q21: МВт
A22: Кабардино- Балкарсикй филиал ОАО "МРСК Северного Кавказа" | B22: Республика Дагестан | C22: ЦЕНТРАЛЬНЫЕ СЕТИ
C23: ПС ГПП | D23: ='апрель 2014г. по 6-10'!D23+'апрель 2014г. по 0,4'!D20 -> 0 | E23: ='апрель 2014г. по 6-10'!E23+'апрель 2014г. по 0,4'!E20 -> 0 | F23: ='апрель 2014г. по 6-10'!F23+'апрель 2014г. по 0,4'!F20 -> 0 | G23: ='апрель 2014г. по 6-10'!G23+'апрель 2014г. по 0,4'!G20 -> 0 | H23: ='апрель 2014г. по 6-10'!H23+'апрель 2014г. по 0,4'!H20 -> 0 | I23: ='апрель 2014г. по 6-10'!I23+'апрель 2014г. по 0,4'!I20 -> 0 | J23: ='апрель 2014г. по 6-10'!J23+'апрель 2014г. по 0,4'!J20 -> 0 | K23: ='апрель 2014г. по 6-10'!K23+'апрель 2014г. по 0,4'!K20 -> 0 | ... Q23: ='апрель 2014г. по 6-10'!Q23+'апрель 2014г. по 0,4'!Q20 -> 0
C24: ПС Новая | D24: ='апрель 2014г. по 6-10'!D24+'апрель 2014г. по 0,4'!D21 -> 1 | E24: ='апрель 2014г. по 6-10'!E24+'апрель 2014г. по 0,4'!E21 -> 10 | F24: ='апрель 2014г. по 6-10'!F24+'апрель 2014г. по 0,4'!F21 -> 1 | G24: ='апрель 2014г. по 6-10'!G24+'апрель 2014г. по 0,4'!G21 -> 10 | H24: ='апрель 2014г. по 6-10'!H24+'апрель 2014г. по 0,4'!H21 -> 0 | I24: ='апрель 2014г. по 6-10'!I24+'апрель 2014г. по 0,4'!I21 -> 0 | J24: ='апрель 2014г. по 6-10'!J24+'апрель 2014г. по 0,4'!J21 -> 0 | K24: ='апрель 2014г. по 6-10'!K24+'апрель 2014г. по 0,4'!K21 -> 0 | ... Q24: ='апрель 2014г. по 6-10'!Q24+'апрель 2014г. по 0,4'!Q21 -> 0
C25: ПС ЦПП | D25: ='апрель 2014г. по 6-10'!D25+'апрель 2014г. по 0,4'!D22 -> 0 | E25: ='апрель 2014г. по 6-10'!E25+'апрель 2014г. по 0,4'!E22 -> 0 | F25: ='апрель 2014г. по 6-10'!F25+'апрель 2014г. по 0,4'!F22 -> 0 | G25: ='апрель 2014г. по 6-10'!G25+'апрель 2014г. по 0,4'!G22 -> 0 | H25: ='апрель 2014г. по 6-10'!H25+'апрель 2014г. по 0,4'!H22 -> 0 | I25: ='апрель 2014г. по 6-10'!I25+'апрель 2014г. по 0,4'!I22 -> 0 | J25: ='апрель 2014г. по 6-10'!J25+'апрель 2014г. по 0,4'!J22 -> 0 | K25: ='апрель 2014г. по 6-10'!K25+'апрель 2014г. по 0,4'!K22 -> 0 | ... Q25: ='апрель 2014г. по 6-10'!Q25+'апрель 2014г. по 0,4'!Q22 -> 0
C26: ПС М-110 | D26: ='апрель 2014г. по 6-10'!D26+'апрель 2014г. по 0,4'!D23 -> 3 | E26: ='апрель 2014г. по 6-10'!E26+'апрель 2014г. по 0,4'!E23 -> 380 | F26: ='апрель 2014г. по 6-10'!F26+'апрель 2014г. по 0,4'!F23 -> 3 | G26: ='апрель 2014г. по 6-10'!G26+'апрель 2014г. по 0,4'!G23 -> 380 | H26: ='апрель 2014г. по 6-10'!H26+'апрель 2014г. по 0,4'!H23 -> 0 | I26: ='апрель 2014г. по 6-10'!I26+'апрель 2014г. по 0,4'!I23 -> 0 | J26: ='апрель 2014г. по 6-10'!J26+'апрель 2014г. по 0,4'!J23 -> 0 | K26: ='апрель 2014г. по 6-10'!K26+'апрель 2014г. по 0,4'!K23 -> 0 | ... Q26: ='апрель 2014г. по 6-10'!Q26+'апрель 2014г. по 0,4'!Q23 -> 0
C27: ПС Очистные соор. | D27: ='апрель 2014г. по 6-10'!D27+'апрель 2014г. по 0,4'!D24 -> 0 | E27: ='апрель 2014г. по 6-10'!E27+'апрель 2014г. по 0,4'!E24 -> 0 | F27: ='апрель 2014г. по 6-10'!F27+'апрель 2014г. по 0,4'!F24 -> 0 | G27: ='апрель 2014г. по 6-10'!G27+'апрель 2014г. по 0,4'!G24 -> 0 | H27: ='апрель 2014г. по 6-10'!H27+'апрель 2014г. по 0,4'!H24 -> 0 | I27: ='апрель 2014г. по 6-10'!I27+'апрель 2014г. по 0,4'!I24 -> 0 | J27: ='апрель 2014г. по 6-10'!J27+'апрель 2014г. по 0,4'!J24 -> 0 | K27: ='апрель 2014г. по 6-10'!K27+'апрель 2014г. по 0,4'!K24 -> 0 | ... Q27: ='апрель 2014г. по 6-10'!Q27+'апрель 2014г. по 0,4'!Q24 -> 0
C28: ПС Ю-Восточная | D28: ='апрель 2014г. по 6-10'!D28+'апрель 2014г. по 0,4'!D25 -> 0 | E28: ='апрель 2014г. по 6-10'!E28+'апрель 2014г. по 0,4'!E25 -> 0 | F28: ='апрель 2014г. по 6-10'!F28+'апрель 2014г. по 0,4'!F25 -> 0 | G28: ='апрель 2014г. по 6-10'!G28+'апрель 2014г. по 0,4'!G25 -> 0 | H28: ='апрель 2014г. по 6-10'!H28+'апрель 2014г. по 0,4'!H25 -> 0 | I28: ='апрель 2014г. по 6-10'!I28+'апрель 2014г. по 0,4'!I25 -> 0 | J28: ='апрель 2014г. по 6-10'!J28+'апрель 2014г. по 0,4'!J25 -> 0 | K28: ='апрель 2014г. по 6-10'!K28+'апрель 2014г. по 0,4'!K25 -> 0 | ... Q28: ='апрель 2014г. по 6-10'!Q28+'апрель 2014г. по 0,4'!Q25 -> 0
C29: ПС Приморская | D29: ='апрель 2014г. по 6-10'!D29+'апрель 2014г. по 0,4'!D26 -> 0 | E29: ='апрель 2014г. по 6-10'!E29+'апрель 2014г. по 0,4'!E26 -> 0 | F29: ='апрель 2014г. по 6-10'!F29+'апрель 2014г. по 0,4'!F26 -> 0 | G29: ='апрель 2014г. по 6-10'!G29+'апрель 2014г. по 0,4'!G26 -> 0 | H29: ='апрель 2014г. по 6-10'!H29+'апрель 2014г. по 0,4'!H26 -> 0 | I29: ='апрель 2014г. по 6-10'!I29+'апрель 2014г. по 0,4'!I26 -> 0 | J29: ='апрель 2014г. по 6-10'!J29+'апрель 2014г. по 0,4'!J26 -> 0 | K29: ='апрель 2014г. по 6-10'!K29+'апрель 2014г. по 0,4'!K26 -> 0 | ... Q29: ='апрель 2014г. по 6-10'!Q29+'апрель 2014г. по 0,4'!Q26 -> 0
C30: ПС Насосная -1 | D30: ='апрель 2014г. по 6-10'!D30+'апрель 2014г. по 0,4'!D27 -> 6 | E30: ='апрель 2014г. по 6-10'!E30+'апрель 2014г. по 0,4'!E27 -> 124.4 | F30: ='апрель 2014г. по 6-10'!F30+'апрель 2014г. по 0,4'!F27 -> 6 | G30: ='апрель 2014г. по 6-10'!G30+'апрель 2014г. по 0,4'!G27 -> 124.4 | H30: ='апрель 2014г. по 6-10'!H30+'апрель 2014г. по 0,4'!H27 -> 0 | I30: ='апрель 2014г. по 6-10'!I30+'апрель 2014г. по 0,4'!I27 -> 0 | J30: ='апрель 2014г. по 6-10'!J30+'апрель 2014г. по 0,4'!J27 -> 1 | K30: ='апрель 2014г. по 6-10'!K30+'апрель 2014г. по 0,4'!K27 -> 10 | ... Q30: ='апрель 2014г. по 6-10'!Q30+'апрель 2014г. по 0,4'!Q27 -> 0
C31: ПС Радиоцентр | D31: ='апрель 2014г. по 6-10'!D31+'апрель 2014г. по 0,4'!D28 -> 2 | E31: ='апрель 2014г. по 6-10'!E31+'апрель 2014г. по 0,4'!E28 -> 64 | F31: ='апрель 2014г. по 6-10'!F31+'апрель 2014г. по 0,4'!F28 -> 2 | G31: ='апрель 2014г. по 6-10'!G31+'апрель 2014г. по 0,4'!G28 -> 64 | H31: ='апрель 2014г. по 6-10'!H31+'апрель 2014г. по 0,4'!H28 -> 0 | I31: ='апрель 2014г. по 6-10'!I31+'апрель 2014г. по 0,4'!I28 -> 0 | J31: ='апрель 2014г. по 6-10'!J31+'апрель 2014г. по 0,4'!J28 -> 0 | K31: ='апрель 2014г. по 6-10'!K31+'апрель 2014г. по 0,4'!K28 -> 0 | ... Q31: ='апрель 2014г. по 6-10'!Q31+'апрель 2014г. по 0,4'!Q28 -> 0
C32: ПС Изберг- Сев. | D32: ='апрель 2014г. по 6-10'!D32+'апрель 2014г. по 0,4'!D29 -> 12 | E32: ='апрель 2014г. по 6-10'!E32+'апрель 2014г. по 0,4'!E29 -> 554 | F32: ='апрель 2014г. по 6-10'!F32+'апрель 2014г. по 0,4'!F29 -> 12 | G32: ='апрель 2014г. по 6-10'!G32+'апрель 2014г. по 0,4'!G29 -> 554 | H32: ='апрель 2014г. по 6-10'!H32+'апрель 2014г. по 0,4'!H29 -> 0 | I32: ='апрель 2014г. по 6-10'!I32+'апрель 2014г. по 0,4'!I29 -> 0 | J32: ='апрель 2014г. по 6-10'!J32+'апрель 2014г. по 0,4'!J29 -> 0 | K32: ='апрель 2014г. по 6-10'!K32+'апрель 2014г. по 0,4'!K29 -> 0 | ... Q32: ='апрель 2014г. по 6-10'!Q32+'апрель 2014г. по 0,4'!Q29 -> 0
C33: ПС Изберг- Южн. | D33: ='апрель 2014г. по 6-10'!D33+'апрель 2014г. по 0,4'!D30 -> 4 | E33: ='апрель 2014г. по 6-10'!E33+'апрель 2014г. по 0,4'!E30 -> 84 | F33: ='апрель 2014г. по 6-10'!F33+'апрель 2014г. по 0,4'!F30 -> 4 | G33: ='апрель 2014г. по 6-10'!G33+'апрель 2014г. по 0,4'!G30 -> 84 | H33: ='апрель 2014г. по 6-10'!H33+'апрель 2014г. по 0,4'!H30 -> 0 | I33: ='апрель 2014г. по 6-10'!I33+'апрель 2014г. по 0,4'!I30 -> 0 | J33: ='апрель 2014г. по 6-10'!J33+'апрель 2014г. по 0,4'!J30 -> 0 | K33: ='апрель 2014г. по 6-10'!K33+'апрель 2014г. по 0,4'!K30 -> 0 | ... Q33: ='апрель 2014г. по 6-10'!Q33+'апрель 2014г. по 0,4'!Q30 -> 0
C34: ПС Карабуд-т | D34: ='апрель 2014г. по 6-10'!D34+'апрель 2014г. по 0,4'!D31 -> 6 | E34: ='апрель 2014г. по 6-10'!E34+'апрель 2014г. по 0,4'!E31 -> 82 | F34: ='апрель 2014г. по 6-10'!F34+'апрель 2014г. по 0,4'!F31 -> 6 | G34: ='апрель 2014г. по 6-10'!G34+'апрель 2014г. по 0,4'!G31 -> 82 | H34: ='апрель 2014г. по 6-10'!H34+'апрель 2014г. по 0,4'!H31 -> 0 | I34: ='апрель 2014г. по 6-10'!I34+'апрель 2014г. по 0,4'!I31 -> 0 | J34: ='апрель 2014г. по 6-10'!J34+'апрель 2014г. по 0,4'!J31 -> 2 | K34: ='апрель 2014г. по 6-10'!K34+'апрель 2014г. по 0,4'!K31 -> 27 | ... Q34: ='апрель 2014г. по 6-10'!Q34+'апрель 2014г. по 0,4'!Q31 -> 0
... C64: Точная механика | D64: ='апрель 2014г. по 6-10'!D64+'апрель 2014г. по 0,4'!D61 -> 0 | E64: ='апрель 2014г. по 6-10'!E64+'апрель 2014г. по 0,4'!E61 -> 0 | F64: ='апрель 2014г. по 6-10'!F64+'апрель 2014г. по 0,4'!F61 -> 0 | G64: ='апрель 2014г. по 6-10'!G64+'апрель 2014г. по 0,4'!G61 -> 0 | H64: ='апрель 2014г. по 6-10'!H64+'апрель 2014г. по 0,4'!H61 -> 0 | I64: ='апрель 2014г. по 6-10'!I64+'апрель 2014г. по 0,4'!I61 -> 0 | J64: ='апрель 2014г. по 6-10'!J64+'апрель 2014г. по 0,4'!J61 -> 0 | K64: ='апрель 2014г. по 6-10'!K64+'апрель 2014г. по 0,4'!K61 -> 0 | ... Q64: ='апрель 2014г. по 6-10'!Q64+'апрель 2014г. по 0,4'!Q61 -> 0
C65: итого: | D65: =SUM(D23:D64) -> 183 | E65: =SUM(E23:E64) -> 6092.9 | F65: =SUM(F23:F64) -> 182 | G65: =SUM(G23:G64) -> 6092.9 | H65: =SUM(H23:H64) -> 0 | I65: =SUM(I23:I64) -> 0 | J65: =SUM(J23:J64) -> 20 | K65: =SUM(K23:K64) -> 184.5 | ... Q65: =SUM(Q23:Q64) -> 0
C66: СЕВЕРНЫЕ СЕТИ
C67: Ярыксу | D67: ='апрель 2014г. по 6-10'!D67+'апрель 2014г. по 0,4'!D64 -> 20 | E67: ='апрель 2014г. по 6-10'!E67+'апрель 2014г. по 0,4'!E64 -> 586 | F67: ='апрель 2014г. по 6-10'!F67+'апрель 2014г. по 0,4'!F64 -> 20 | G67: ='апрель 2014г. по 6-10'!G67+'апрель 2014г. по 0,4'!G64 -> 586 | H67: ='апрель 2014г. по 6-10'!H67+'апрель 2014г. по 0,4'!H64 -> 0 | I67: ='апрель 2014г. по 6-10'!I67+'апрель 2014г. по 0,4'!I64 -> 0 | J67: ='апрель 2014г. по 6-10'!J67+'апрель 2014г. по 0,4'!J64 -> 5 | K67: ='апрель 2014г. по 6-10'!K67+'апрель 2014г. по 0,4'!K64 -> 52 | ... Q67: ='апрель 2014г. по 6-10'!Q67+'апрель 2014г. по 0,4'!Q64 -> 0
C68: Акташ | D68: ='апрель 2014г. по 6-10'!D68+'апрель 2014г. по 0,4'!D65 -> 24 | E68: ='апрель 2014г. по 6-10'!E68+'апрель 2014г. по 0,4'!E65 -> 523.5 | F68: ='апрель 2014г. по 6-10'!F68+'апрель 2014г. по 0,4'!F65 -> 24 | G68: ='апрель 2014г. по 6-10'!G68+'апрель 2014г. по 0,4'!G65 -> 523.5 | H68: ='апрель 2014г. по 6-10'!H68+'апрель 2014г. по 0,4'!H65 -> 0 | I68: ='апрель 2014г. по 6-10'!I68+'апрель 2014г. по 0,4'!I65 -> 0 | J68: ='апрель 2014г. по 6-10'!J68+'апрель 2014г. по 0,4'!J65 -> 4 | K68: ='апрель 2014г. по 6-10'!K68+'апрель 2014г. по 0,4'!K65 -> 50 | ... Q68: ='апрель 2014г. по 6-10'!Q68+'апрель 2014г. по 0,4'!Q65 -> 0
C69: Куруш | D69: ='апрель 2014г. по 6-10'!D69+'апрель 2014г. по 0,4'!D66 -> 8 | E69: ='апрель 2014г. по 6-10'!E69+'апрель 2014г. по 0,4'!E66 -> 619.5 | F69: ='апрель 2014г. по 6-10'!F69+'апрель 2014г. по 0,4'!F66 -> 8 | G69: ='апрель 2014г. по 6-10'!G69+'апрель 2014г. по 0,4'!G66 -> 619.5 | H69: ='апрель 2014г. по 6-10'!H69+'апрель 2014г. по 0,4'!H66 -> 0 | I69: ='апрель 2014г. по 6-10'!I69+'апрель 2014г. по 0,4'!I66 -> 0 | J69: ='апрель 2014г. по 6-10'!J69+'апрель 2014г. по 0,4'!J66 -> 2 | K69: ='апрель 2014г. по 6-10'!K69+'апрель 2014г. по 0,4'!K66 -> 10 | ... Q69: ='апрель 2014г. по 6-10'!Q69+'апрель 2014г. по 0,4'!Q66 -> 0
C70: Сулевкент | D70: ='апрель 2014г. по 6-10'!D70+'апрель 2014г. по 0,4'!D67 -> 0 | E70: ='апрель 2014г. по 6-10'!E70+'апрель 2014г. по 0,4'!E67 -> 0 | F70: ='апрель 2014г. по 6-10'!F70+'апрель 2014г. по 0,4'!F67 -> 0 | G70: ='апрель 2014г. по 6-10'!G70+'апрель 2014г. по 0,4'!G67 -> 0 | H70: ='апрель 2014г. по 6-10'!H70+'апрель 2014г. по 0,4'!H67 -> 0 | I70: ='апрель 2014г. по 6-10'!I70+'апрель 2014г. по 0,4'!I67 -> 0 | J70: ='апрель 2014г. по 6-10'!J70+'апрель 2014г. по 0,4'!J67 -> 0 | K70: ='апрель 2014г. по 6-10'!K70+'апрель 2014г. по 0,4'!K67 -> 0 | ... Q70: ='апрель 2014г. по 6-10'!Q70+'апрель 2014г. по 0,4'!Q67 -> 0
C71: Бабаюрт | D71: ='апрель 2014г. по 6-10'!D71+'апрель 2014г. по 0,4'!D68 -> 5 | E71: ='апрель 2014г. по 6-10'!E71+'апрель 2014г. по 0,4'!E68 -> 55 | F71: ='апрель 2014г. по 6-10'!F71+'апрель 2014г. по 0,4'!F68 -> 5 | G71: ='апрель 2014г. по 6-10'!G71+'апрель 2014г. по 0,4'!G68 -> 55 | H71: ='апрель 2014г. по 6-10'!H71+'апрель 2014г. по 0,4'!H68 -> 0 | I71: ='апрель 2014г. по 6-10'!I71+'апрель 2014г. по 0,4'!I68 -> 0 | J71: ='апрель 2014г. по 6-10'!J71+'апрель 2014г. по 0,4'!J68 -> 0 | K71: ='апрель 2014г. по 6-10'!K71+'апрель 2014г. по 0,4'!K68 -> 0 | ... Q71: ='апрель 2014г. по 6-10'!Q71+'апрель 2014г. по 0,4'!Q68 -> 0
C72: Чиркей | D72: ='апрель 2014г. по 6-10'!D72+'апрель 2014г. по 0,4'!D69 -> 1 | E72: ='апрель 2014г. по 6-10'!E72+'апрель 2014г. по 0,4'!E69 -> 10 | F72: ='апрель 2014г. по 6-10'!F72+'апрель 2014г. по 0,4'!F69 -> 1 | G72: ='апрель 2014г. по 6-10'!G72+'апрель 2014г. по 0,4'!G69 -> 10 | H72: ='апрель 2014г. по 6-10'!H72+'апрель 2014г. по 0,4'!H69 -> 0 | I72: ='апрель 2014г. по 6-10'!I72+'апрель 2014г. по 0,4'!I69 -> 0 | J72: ='апрель 2014г. по 6-10'!J72+'апрель 2014г. по 0,4'!J69 -> 0 | K72: ='апрель 2014г. по 6-10'!K72+'апрель 2014г. по 0,4'!K69 -> 0 | ... Q72: ='апрель 2014г. по 6-10'!Q72+'апрель 2014г. по 0,4'!Q69 -> 0
C73: Дылым | D73: ='апрель 2014г. по 6-10'!D73+'апрель 2014г. по 0,4'!D70 -> 0 | E73: ='апрель 2014г. по 6-10'!E73+'апрель 2014г. по 0,4'!E70 -> 0 | F73: ='апрель 2014г. по 6-10'!F73+'апрель 2014г. по 0,4'!F70 -> 0 | G73: ='апрель 2014г. по 6-10'!G73+'апрель 2014г. по 0,4'!G70 -> 0 | H73: ='апрель 2014г. по 6-10'!H73+'апрель 2014г. по 0,4'!H70 -> 0 | I73: ='апрель 2014г. по 6-10'!I73+'апрель 2014г. по 0,4'!I70 -> 0 | J73: ='апрель 2014г. по 6-10'!J73+'апрель 2014г. по 0,4'!J70 -> 0 | K73: ='апрель 2014г. по 6-10'!K73+'апрель 2014г. по 0,4'!K70 -> 0 | ... Q73: ='апрель 2014г. по 6-10'!Q73+'апрель 2014г. по 0,4'!Q70 -> 0
C74: Миатлы | D74: ='апрель 2014г. по 6-10'!D74+'апрель 2014г. по 0,4'!D71 -> 0 | E74: ='апрель 2014г. по 6-10'!E74+'апрель 2014г. по 0,4'!E71 -> 0 | F74: ='апрель 2014г. по 6-10'!F74+'апрель 2014г. по 0,4'!F71 -> 0 | G74: ='апрель 2014г. по 6-10'!G74+'апрель 2014г. по 0,4'!G71 -> 0 | H74: ='апрель 2014г. по 6-10'!H74+'апрель 2014г. по 0,4'!H71 -> 0 | I74: ='апрель 2014г. по 6-10'!I74+'апрель 2014г. по 0,4'!I71 -> 0 | J74: ='апрель 2014г. по 6-10'!J74+'апрель 2014г. по 0,4'!J71 -> 0 | K74: ='апрель 2014г. по 6-10'!K74+'апрель 2014г. по 0,4'!K71 -> 0 | ... Q74: ='апрель 2014г. по 6-10'!Q74+'апрель 2014г. по 0,4'!Q71 -> 0
C75: ГЩЗ | D75: ='апрель 2014г. по 6-10'!D75+'апрель 2014г. по 0,4'!D72 -> 4 | E75: ='апрель 2014г. по 6-10'!E75+'апрель 2014г. по 0,4'!E72 -> 40 | F75: ='апрель 2014г. по 6-10'!F75+'апрель 2014г. по 0,4'!F72 -> 4 | G75: ='апрель 2014г. по 6-10'!G75+'апрель 2014г. по 0,4'!G72 -> 40 | H75: ='апрель 2014г. по 6-10'!H75+'апрель 2014г. по 0,4'!H72 -> 0 | I75: ='апрель 2014г. по 6-10'!I75+'апрель 2014г. по 0,4'!I72 -> 0 | J75: ='апрель 2014г. по 6-10'!J75+'апрель 2014г. по 0,4'!J72 -> 0 | K75: ='апрель 2014г. по 6-10'!K75+'апрель 2014г. по 0,4'!K72 -> 0 | ... Q75: ='апрель 2014г. по 6-10'!Q75+'апрель 2014г. по 0,4'!Q72 -> 0
C76: Сулак | D76: ='апрель 2014г. по 6-10'!D76+'апрель 2014г. по 0,4'!D73 -> 1 | E76: ='апрель 2014г. по 6-10'!E76+'апрель 2014г. по 0,4'!E73 -> 6 | F76: ='апрель 2014г. по 6-10'!F76+'апрель 2014г. по 0,4'!F73 -> 1 | G76: ='апрель 2014г. по 6-10'!G76+'апрель 2014г. по 0,4'!G73 -> 6 | H76: ='апрель 2014г. по 6-10'!H76+'апрель 2014г. по 0,4'!H73 -> 0 | I76: ='апрель 2014г. по 6-10'!I76+'апрель 2014г. по 0,4'!I73 -> 0 | J76: ='апрель 2014г. по 6-10'!J76+'апрель 2014г. по 0,4'!J73 -> 0 | K76: ='апрель 2014г. по 6-10'!K76+'апрель 2014г. по 0,4'!K73 -> 0 | ... Q76: ='апрель 2014г. по 6-10'!Q76+'апрель 2014г. по 0,4'!Q73 -> 0
C77: Львовская | D77: ='апрель 2014г. по 6-10'!D77+'апрель 2014г. по 0,4'!D74 -> 0 | E77: ='апрель 2014г. по 6-10'!E77+'апрель 2014г. по 0,4'!E74 -> 0 | F77: ='апрель 2014г. по 6-10'!F77+'апрель 2014г. по 0,4'!F74 -> 0 | G77: ='апрель 2014г. по 6-10'!G77+'апрель 2014г. по 0,4'!G74 -> 0 | H77: ='апрель 2014г. по 6-10'!H77+'апрель 2014г. по 0,4'!H74 -> 0 | I77: ='апрель 2014г. по 6-10'!I77+'апрель 2014г. по 0,4'!I74 -> 0 | J77: ='апрель 2014г. по 6-10'!J77+'апрель 2014г. по 0,4'!J74 -> 0 | K77: ='апрель 2014г. по 6-10'!K77+'апрель 2014г. по 0,4'!K74 -> 0 | ... Q77: ='апрель 2014г. по 6-10'!Q77+'апрель 2014г. по 0,4'!Q74 -> 0
C78: Дагестан | D78: ='апрель 2014г. по 6-10'!D78+'апрель 2014г. по 0,4'!D75 -> 9 | E78: ='апрель 2014г. по 6-10'!E78+'апрель 2014г. по 0,4'!E75 -> 74 | F78: ='апрель 2014г. по 6-10'!F78+'апрель 2014г. по 0,4'!F75 -> 9 | G78: ='апрель 2014г. по 6-10'!G78+'апрель 2014г. по 0,4'!G75 -> 74 | H78: ='апрель 2014г. по 6-10'!H78+'апрель 2014г. по 0,4'!H75 -> 0 | I78: ='апрель 2014г. по 6-10'!I78+'апрель 2014г. по 0,4'!I75 -> 0 | J78: ='апрель 2014г. по 6-10'!J78+'апрель 2014г. по 0,4'!J75 -> 0 | K78: ='апрель 2014г. по 6-10'!K78+'апрель 2014г. по 0,4'!K75 -> 0 | ... Q78: ='апрель 2014г. по 6-10'!Q78+'апрель 2014г. по 0,4'!Q75 -> 0
... C102: Карланюрт -(Тяговая) | D102: ='апрель 2014г. по 6-10'!D102+'апрель 2014г. по 0,4'!D99 -> 2 | E102: ='апрель 2014г. по 6-10'!E102+'апрель 2014г. по 0,4'!E99 -> 45 | F102: ='апрель 2014г. по 6-10'!F102+'апрель 2014г. по 0,4'!F99 -> 2 | G102: ='апрель 2014г. по 6-10'!G102+'апрель 2014г. по 0,4'!G99 -> 45 | H102: ='апрель 2014г. по 6-10'!H102+'апрель 2014г. по 0,4'!H99 -> 0 | I102: ='апрель 2014г. по 6-10'!I102+'апрель 2014г. по 0,4'!I99 -> 0 | J102: ='апрель 2014г. по 6-10'!J102+'апрель 2014г. по 0,4'!J99 -> 0 | K102: ='апрель 2014г. по 6-10'!K102+'апрель 2014г. по 0,4'!K99 -> 0 | ... Q102: ='апрель 2014г. по 6-10'!Q102+'апрель 2014г. по 0,4'!Q99 -> 0
C103: итого: | D103: =SUM(D67:D102) -> 103 | E103: =SUM(E67:E102) -> 2311.5 | F103: =SUM(F67:F102) -> 103 | G103: =SUM(G67:G102) -> 2311.5 | H103: =SUM(H67:H102) -> 0 | I103: =SUM(I67:I102) -> 0 | J103: =SUM(J67:J102) -> 14 | K103: =SUM(K67:K102) -> 130 | ... Q103: =SUM(Q67:Q102) -> 0
C104: ДЕРБЕНТСКИЕ СЕТИ
C105: Дербент-330 | D105: ='апрель 2014г. по 6-10'!D105+'апрель 2014г. по 0,4'!D102 -> 15 | E105: ='апрель 2014г. по 6-10'!E105+'апрель 2014г. по 0,4'!E102 -> 1202 | F105: ='апрель 2014г. по 6-10'!F105+'апрель 2014г. по 0,4'!F102 -> 15 | G105: ='апрель 2014г. по 6-10'!G105+'апрель 2014г. по 0,4'!G102 -> 1202 | H105: ='апрель 2014г. по 6-10'!H105+'апрель 2014г. по 0,4'!H102 -> 0 | I105: ='апрель 2014г. по 6-10'!I105+'апрель 2014г. по 0,4'!I102 -> 0 | J105: ='апрель 2014г. по 6-10'!J105+'апрель 2014г. по 0,4'!J102 -> 0 | K105: ='апрель 2014г. по 6-10'!K105+'апрель 2014г. по 0,4'!K102 -> 0 | ... Q105: ='апрель 2014г. по 6-10'!Q105+'апрель 2014г. по 0,4'!Q102 -> 0
C106: Дербент-С | D106: ='апрель 2014г. по 6-10'!D106+'апрель 2014г. по 0,4'!D103 -> 14 | E106: ='апрель 2014г. по 6-10'!E106+'апрель 2014г. по 0,4'!E103 -> 308 | F106: ='апрель 2014г. по 6-10'!F106+'апрель 2014г. по 0,4'!F103 -> 14 | G106: ='апрель 2014г. по 6-10'!G106+'апрель 2014г. по 0,4'!G103 -> 308 | H106: ='апрель 2014г. по 6-10'!H106+'апрель 2014г. по 0,4'!H103 -> 0 | I106: ='апрель 2014г. по 6-10'!I106+'апрель 2014г. по 0,4'!I103 -> 0 | J106: ='апрель 2014г. по 6-10'!J106+'апрель 2014г. по 0,4'!J103 -> 0 | K106: ='апрель 2014г. по 6-10'!K106+'апрель 2014г. по 0,4'!K103 -> 0 | ... Q106: ='апрель 2014г. по 6-10'!Q106+'апрель 2014г. по 0,4'!Q103 -> 0
C107: Мамедкала | D107: ='апрель 2014г. по 6-10'!D107+'апрель 2014г. по 0,4'!D104 -> 2 | E107: ='апрель 2014г. по 6-10'!E107+'апрель 2014г. по 0,4'!E104 -> 20 | F107: ='апрель 2014г. по 6-10'!F107+'апрель 2014г. по 0,4'!F104 -> 2 | G107: ='апрель 2014г. по 6-10'!G107+'апрель 2014г. по 0,4'!G104 -> 20 | H107: ='апрель 2014г. по 6-10'!H107+'апрель 2014г. по 0,4'!H104 -> 0 | I107: ='апрель 2014г. по 6-10'!I107+'апрель 2014г. по 0,4'!I104 -> 0 | J107: ='апрель 2014г. по 6-10'!J107+'апрель 2014г. по 0,4'!J104 -> 0 | K107: ='апрель 2014г. по 6-10'!K107+'апрель 2014г. по 0,4'!K104 -> 0 | ... Q107: ='апрель 2014г. по 6-10'!Q107+'апрель 2014г. по 0,4'!Q104 -> 0
C108: Каякент | D108: ='апрель 2014г. по 6-10'!D108+'апрель 2014г. по 0,4'!D105 -> 10 | E108: ='апрель 2014г. по 6-10'!E108+'апрель 2014г. по 0,4'!E105 -> 805 | F108: ='апрель 2014г. по 6-10'!F108+'апрель 2014г. по 0,4'!F105 -> 10 | G108: ='апрель 2014г. по 6-10'!G108+'апрель 2014г. по 0,4'!G105 -> 805 | H108: ='апрель 2014г. по 6-10'!H108+'апрель 2014г. по 0,4'!H105 -> 0 | I108: ='апрель 2014г. по 6-10'!I108+'апрель 2014г. по 0,4'!I105 -> 0 | J108: ='апрель 2014г. по 6-10'!J108+'апрель 2014г. по 0,4'!J105 -> 2 | K108: ='апрель 2014г. по 6-10'!K108+'апрель 2014г. по 0,4'!K105 -> 10 | ... Q108: ='апрель 2014г. по 6-10'!Q108+'апрель 2014г. по 0,4'!Q105 -> 0
C109: Белиджи | D109: ='апрель 2014г. по 6-10'!D109+'апрель 2014г. по 0,4'!D106 -> 7 | E109: ='апрель 2014г. по 6-10'!E109+'апрель 2014г. по 0,4'!E106 -> 105 | F109: ='апрель 2014г. по 6-10'!F109+'апрель 2014г. по 0,4'!F106 -> 7 | G109: ='апрель 2014г. по 6-10'!G109+'апрель 2014г. по 0,4'!G106 -> 105 | H109: ='апрель 2014г. по 6-10'!H109+'апрель 2014г. по 0,4'!H106 -> 0 | I109: ='апрель 2014г. по 6-10'!I109+'апрель 2014г. по 0,4'!I106 -> 0 | J109: ='апрель 2014г. по 6-10'!J109+'апрель 2014г. по 0,4'!J106 -> 1 | K109: ='апрель 2014г. по 6-10'!K109+'апрель 2014г. по 0,4'!K106 -> 10 | ... Q109: ='апрель 2014г. по 6-10'!Q109+'апрель 2014г. по 0,4'!Q106 -> 0
...

Sheet апрель 2014г. по 6-10
M1: Приложение № 28
M2: к Положению о технологическом присоединении
M3: энергетических установок к электрическим сетям
M4: ОАО «МРСК Северного Кавказа», управляемых
M5: Обществ
B14: Информация о технологическом присоединении энергопринимающих устройств к сетям ОАО Дагэнергосеть филиалом ОАО "МРСК Северного Кавказа" за апрель 2014г.
A19: Наименование организации, осуществляющей технологическое присоединение | B19: Наименование субъекта РФ | C19: Наименование центра питания (ПС 35 кВ и выше) | D19: Количество поданных заявок на технологическое присоединение, на общую мощность энергопринимающих устройств, кВт | F19: Заключено договоров на технологическое присоединение, включающие технические условия на общую мощность энергопринимающих устройств, кВт | H19: Расторгнуто договоров на технологическое присоединение, включающие технические условия на общую мощность энергопринимающих устройств, кВт | J19: Суммарная мощность энегргопринимающих устройств, присоединенных к электрическим сетям в соответствии с договором на технологическое присоединение за отчетный период, кВт | L19: Заключено договоров на технологическое присоединение, включающие технические условия на общую мощность генерирущих установок, МВт | N19: Расторгнуто договоров на технологическое присоединение, включающие технические условия на общую мощность генерирущих установок, МВт | P19: Суммарная мощность генерирущих установок, присоединенных к электрическим сетям в соответствии с договором на технологическое присоединение за отчетный период, МВт
A20: 1 | B20: 2 | C20: 3 | D20: 4 | F20: 5 | H20: 6 | J20: 7 | L20: 8 | N20: 9 | P20: 10
D21: шт | E21: кВт | F21: шт | G21: кВт | H21: шт | I21: кВт | J21: шт | K21: кВт | L21: шт | M21: МВт | N21: шт | O21: МВт | P21: шт | Q21: МВт
A22: Кабардино- Балкарсикй филиал ОАО "МРСК Северного Кавказа" | B22: Республика Дагестан | C22: ЦЕНТРАЛЬНЫЕ СЕТИ
C23: ПС ГПП | H23: 0
C24: ПС Новая | D24: 1 | E24: 10 | F24: 1 | G24: 10 | H24: 0
C25: ПС ЦПП | H25: 0
C26: ПС М-110 | D26: 3 | E26: =80+100+200 -> 380 | F26: 3 | G26: =80+100+200 -> 380 | H26: 0
C27: ПС Очистные соор. | H27: 0
C28: ПС Ю-Восточная | H28: 0
C29: ПС Приморская | H29: 0
C30: ПС Насосная -1 | D30: 3 | E30: =30+4.4+15 -> 49.4 | F30: 3 | G30: 49.4 | H30: 0
C31: ПС Радиоцентр | D31: 1 | E31: 60 | F31: 1 | G31: 60 | H31: 0
C32: ПС Изберг- Сев. | D32: 4 | E32: =10+100+300+80 -> 490 | F32: 4 | G32: =10+100+300+80 -> 490 | H32: 0
C33: ПС Изберг- Южн. | D33: 1 | E33: 60 | F33: 1 | G33: 60 | H33: 0
C34: ПС Карабуд-т | D34: 2 | E34: =15+10 -> 25 | F34: 2 | G34: =15+10 -> 25 | H34: 0 | J34: 1 | K34: =15 -> 15
C35: ПС Рассвет | D35: 5 | E35: =15+100+25+20+20 -> 180 | F35: 5 | G35: 180 | H35: 0
C36: ПС Шамхал | D36: 6 | E36: =50+150+18+160+90+200 -> 668 | F36: 6 | G36: =50+150+18+160+90+200 -> 668 | H36: 0
C37: ПС Сергокала | D37: 1 | E37: 60 | F37: 1 | G37: 60 | H37: 0
C38: ПС Алмало | D38: 2 | E38: =155+15 -> 170 | F38: 2 | G38: =155+15 -> 170 | H38: 0
C39: ПС Буйнакск -1 | D39: 1 | E39: 14 | F39: 1 | G39: 14 | H39: 0
C40: ПС Буйнакск -2 | D40: 1 | E40: 60 | F40: 1 | G40: 60 | H40: 0
C41: ПС Казанище | D41: 4 | E41: =10+15+15+20 -> 60 | F41: 4 | G41: =10+15+15+20 -> 60 | H41: 0
C42: ПС Согратль | D42: 2 | E42: =20+170 -> 190 | F42: 2 | G42: =20+170 -> 190 | H42: 0
C43: ПС Дженгутай | H43: 0
C44: ПС Такалай | H44: 0
C45: ПС Параул | D45: 1 | E45: 50 | F45: 1 | G45: 50 | H45: 0
C46: ПС Восточная | H46: 0
C47: ПС Приозерная | H47: 0
C48: ПС Солнце | D48: 4 | E48: =100+170+100+60 -> 430 | F48: 4 | G48: 430 | H48: 0
C49: ПС Компас | H49: 0
C50: ПС Сулак | D50: 2 | E50: =162+6 -> 168 | F50: 2 | G50: =162+6 -> 168 | H50: 0
C51: ПС НИИСХА | D51: 5 | E51: =200+40+155+100+80 -> 575 | F51: 5 | G51: 575 | H51: 0
C52: ПС Тепл. Комбинат | H52: 0
...

Sheet апрель 2014г. по 0,4
M1: Приложение № 28
M2: к Положению о технологическом присоединении
M3: энергетических установок к электрическим сетям
M4: ОАО «МРСК Северного Кавказа», управляемых
M5: Обществ
B14: Информация о технологическом присоединении энергопринимающих устройств к сетям ОАО Дагэнергосеть филиалом ОАО "МРСК Северного Кавказа" за апрель 2014г.
A16: Наименование организации, осуществляющей технологическое присоединение | B16: Наименование субъекта РФ | C16: Наименование центра питания (ПС 35 кВ и выше) | D16: Количество поданных заявок на технологическое присоединение, на общую мощность энергопринимающих устройств, кВт | F16: Заключено договоров на технологическое присоединение, включающие технические условия на общую мощность энергопринимающих устройств, кВт | H16: Расторгнуто договоров на технологическое присоединение, включающие технические условия на общую мощность энергопринимающих устройств, кВт | J16: Суммарная мощность энегргопринимающих устройств, присоединенных к электрическим сетям в соответствии с договором на технологическое присоединение за отчетный период, кВт | L16: Заключено договоров на технологическое присоединение, включающие технические условия на общую мощность генерирущих установок, МВт | N16: Расторгнуто договоров на технологическое присоединение, включающие технические условия на общую мощность генерирущих установок, МВт | P16: Суммарная мощность генерирущих установок, присоединенных к электрическим сетям в соответствии с договором на технологическое присоединение за отчетный период, МВт
A17: 1 | B17: 2 | C17: 3 | D17: 4 | F17: 5 | H17: 6 | J17: 7 | L17: 8 | N17: 9 | P17: 10
D18: шт | E18: кВт | F18: шт | G18: кВт | H18: шт | I18: кВт | J18: шт | K18: кВт | L18: шт | M18: МВт | N18: шт | O18: МВт | P18: шт | Q18: МВт
A19: Кабардино- Балкарсикй филиал ОАО "МРСК Северного Кавказа" | B19: Республика Дагестан | C19: ЦЕНТРАЛЬНЫЕ СЕТИ
C20: ПС ГПП | H20: 0
C21: ПС Новая | H21: 0
C22: ПС ЦПП | H22: 0
C23: ПС М-110 | H23: 0
C24: ПС Очистные соор. | H24: 0
C25: ПС Ю-Восточная | H25: 0
C26: ПС Приморская | H26: 0
C27: ПС Насосная -1 | D27: 3 | E27: =15+10+50 -> 75 | F27: 3 | G27: =15+10+50 -> 75 | H27: 0 | J27: 1 | K27: =10 -> 10
C28: ПС Радиоцентр | D28: 1 | E28: 4 | F28: 1 | G28: 4 | H28: 0
C29: ПС Изберг- Сев. | D29: 8 | E29: =10+8+8+5+8+10+5+10 -> 64 | F29: 8 | G29: 64 | H29: 0
C30: ПС Изберг- Южн. | D30: 3 | E30: =8+8+8 -> 24 | F30: 3 | G30: 24 | H30: 0
C31: ПС Карабуд-т | D31: 4 | E31: =12+30+10+5 -> 57 | F31: 4 | G31: =12+30+10+5 -> 57 | H31: 0 | J31: 1 | K31: 12
C32: ПС Рассвет | H32: 0
C33: ПС Шамхал | D33: 17 | E33: =5.5+15+6+4+10+10+6+6+15+10+8+5+6+5+4+12+12 -> 139.5 | F33: 17 | G33: =5.5+15+6+4+10+10+6+6+15+10+8+5+6+5+4+12+12 -> 139.5 | H33: 0 | J33: 6 | K33: =6+6+10+10+4+6+5.5 -> 47.5
C34: ПС Сергокала | D34: 7 | E34: =5+15+3+8+5+3+5 -> 44 | F34: 7 | G34: =5+15+3+8+5+3+5 -> 44 | H34: 0
C35: ПС Алмало | D35: 6 | E35: =6+10+15+3+7+5 -> 46 | F35: 6 | G35: 46 | H35: 0
C36: ПС Буйнакск -1 | D36: 29 | E36: =5+6+5+2+5+10+3+5+2+14+5+6+2+6+5+3+2.5+10+1+2+3+2+1.5+14+2.5+2+3+3+5 -> 135.5 | F36: 29 | G36: =5+6+5+2+5+10+3+5+2+14+5+6+2+6+5+3+2.5+10+1+2+3+2+1.5+14+2.5+2+3+3+5 -> 135.5 | H36: 0
C37: ПС Буйнакск -2 | D37: 9 | E37: =10+10+15+6+2+4+3+2+2.5 -> 54.5 | F37: 9 | G37: =10+10+15+6+2+4+3+2+2.5 -> 54.5 | H37: 0 | J37: 1 | K37: =10 -> 10
C38: ПС Казанище | D38: 10 | E38: =7+12+15+13+13+12+7+5+35+15 -> 134 | F38: 10 | G38: =7+12+15+13+13+12+7+5+35+15 -> 134 | H38: 0 | J38: 2 | K38: =7+6 -> 13
C39: ПС Согратль | D39: 5 | E39: =10+10+15+8 -> 43 | F39: 4 | G39: =10+10+15+8 -> 43 | H39: 0 | J39: 2 | K39: =10+10 -> 20
C40: ПС Дженгутай | D40: 4 | E40: =10+10+5+11 -> 36 | F40: 4 | G40: =10+10+5+11 -> 36 | H40: 0 | J40: 1 | K40: =10 -> 10
C41: ПС Такалай | H41: 0
C42: ПС Параул | D42: 1 | E42: =12 -> 12 | F42: 1 | G42: =12 -> 12 | H42: 0 | J42: 1 | K42: 12
C43: ПС Восточная | H43: 0
C44: ПС Приозерная | H44: 0
C45: ПС Солнце | D45: 6 | E45: =15+10+10+13+6+10 -> 64 | F45: 6 | G45: 64 | H45: 0
C46: ПС Компас | H46: 0
C47: ПС Сулак | H47: 0
C48: ПС НИИСХА | D48: 1 | F48: 1 | H48: 0
C49: ПС Тепл. Комбинат | H49: 0
...

Sheet Лист2
