Workbook

Sheet Лист1

Sheet Ноябрь 2013г
M1: Приложение № 28
M2: к Положению о технологическом присоединении
M3: энергетических установок к электрическим сетям
M4: ОАО «МРСК Северного Кавказа», управляемых
M5: Обществ
B14: Информация о технологическом присоединении энергопринимающих устройств к сетям КБ филиалом ОАО "МРСК Северного Кавказа" за Ноябрь 2013г.
A19: Наименование организации, осуществляющей технологическое присоединение | B19: Наименование субъекта РФ | C19: Наименование центра питания (ПС 35 кВ и выше) | D19: Количество поданных заявок на технологическое присоединение, на общую мощность энергопринимающих устройств, кВт | F19: Заключено договоров на технологическое присоединение, включающие технические условия на общую мощность энергопринимающих устройств, кВт | H19: Расторгнуто договоров на технологическое присоединение, включающие технические условия на общую мощность энергопринимающих устройств, кВт | J19: Суммарная мощность энегргопринимающих устройств, присоединенных к электрическим сетям в соответствии с договором на технологическое присоединение за отчетный период, кВт | L19: Заключено договоров на технологическое присоединение, включающие технические условия на общую мощность генерирущих установок, МВт | N19: Расторгнуто договоров на технологическое присоединение, включающие технические условия на общую мощность генерирущих установок, МВт | P19: Суммарная мощность генерирущих установок, присоединенных к электрическим сетям в соответствии с договором на технологическое присоединение за отчетный период, МВт
A20: 1 | B20: 2 | C20: 3 | D20: 4 | F20: 5 | H20: 6 | J20: 7 | L20: 8 | N20: 9 | P20: 10
D21: шт | E21: кВт | F21: шт | G21: кВт | H21: шт | I21: кВт | J21: шт | K21: кВт | L21: шт | M21: МВт | N21: шт | O21: МВт | P21: шт | Q21: МВт
A22: Кабардино- Балкарсикй филиал ОАО "МРСК Северного Кавказа" | B22: Кабардино- Балкарская Республика | C22: Нальчикская группа ПС
C23: ПС «Нальчик» | D23: ='апрель 2014г. по 6-10'!D23+'апрель 2014г. по 0,4'!D20 -> 0 | E23: ='апрель 2014г. по 6-10'!E23+'апрель 2014г. по 0,4'!E20 -> 0 | F23: ='апрель 2014г. по 6-10'!F23+'апрель 2014г. по 0,4'!F20 -> 0 | G23: ='апрель 2014г. по 6-10'!G23+'апрель 2014г. по 0,4'!G20 -> 0 | H23: 2 | I23: 11.2 | J23: ='апрель 2014г. по 6-10'!J23+'апрель 2014г. по 0,4'!J20 -> 0 | K23: ='апрель 2014г. по 6-10'!K23+'апрель 2014г. по 0,4'!K20 -> 0 | L23: 0 | M23: 0 | N23: 0 | O23: 0 | P23: 0 | Q23: 0
C24: ПС «Телемеханика-1» | D24: ='апрель 2014г. по 6-10'!D24+'апрель 2014г. по 0,4'!D21 -> 1 | E24: ='апрель 2014г. по 6-10'!E24+'апрель 2014г. по 0,4'!E21 -> 10 | F24: ='апрель 2014г. по 6-10'!F24+'апрель 2014г. по 0,4'!F21 -> 1 | G24: ='апрель 2014г. по 6-10'!G24+'апрель 2014г. по 0,4'!G21 -> 10 | H24: 0 | I24: 0 | J24: ='апрель 2014г. по 6-10'!J24+'апрель 2014г. по 0,4'!J21 -> 0 | K24: ='апрель 2014г. по 6-10'!K24+'апрель 2014г. по 0,4'!K21 -> 0 | L24: 0 | M24: 0 | N24: 0 | O24: 0 | P24: 0 | Q24: 0
C25: ПС «Искож» | D25: ='апрель 2014г. по 6-10'!D25+'апрель 2014г. по 0,4'!D22 -> 0 | E25: ='апрель 2014г. по 6-10'!E25+'апрель 2014г. по 0,4'!E22 -> 0 | F25: ='апрель 2014г. по 6-10'!F25+'апрель 2014г. по 0,4'!F22 -> 0 | G25: ='апрель 2014г. по 6-10'!G25+'апрель 2014г. по 0,4'!G22 -> 0 | H25: 0 | I25: 0 | J25: ='апрель 2014г. по 6-10'!J25+'апрель 2014г. по 0,4'!J22 -> 0 | K25: ='апрель 2014г. по 6-10'!K25+'апрель 2014г. по 0,4'!K22 -> 0 | L25: 0 | M25: 0 | N25: 0 | O25: 0 | P25: 0 | Q25: 0
C26: ПС «СКЭП-Н» | D26: ='апрель 2014г. по 6-10'!D26+'апрель 2014г. по 0,4'!D23 -> 3 | E26: ='апрель 2014г. по 6-10'!E26+'апрель 2014г. по 0,4'!E23 -> 380 | F26: ='апрель 2014г. по 6-10'!F26+'апрель 2014г. по 0,4'!F23 -> 3 | G26: ='апрель 2014г. по 6-10'!G26+'апрель 2014г. по 0,4'!G23 -> 380 | H26: 0 | I26: 0 | J26: ='апрель 2014г. по 6-10'!J26+'апрель 2014г. по 0,4'!J23 -> 0 | K26: ='апрель 2014г. по 6-10'!K26+'апрель 2014г. по 0,4'!K23 -> 0 | L26: 0 | M26: 0 | N26: 0 | O26: 0 | P26: 0 | Q26: 0
C27: ПС «Долинск» | D27: ='апрель 2014г. по 6-10'!D27+'апрель 2014г. по 0,4'!D24 -> 0 | E27: ='апрель 2014г. по 6-10'!E27+'апрель 2014г. по 0,4'!E24 -> 0 | F27: ='апрель 2014г. по 6-10'!F27+'апрель 2014г. по 0,4'!F24 -> 0 | G27: ='апрель 2014г. по 6-10'!G27+'апрель 2014г. по 0,4'!G24 -> 0 | H27: 0 | I27: 0 | J27: ='апрель 2014г. по 6-10'!J27+'апрель 2014г. по 0,4'!J24 -> 0 | K27: ='апрель 2014г. по 6-10'!K27+'апрель 2014г. по 0,4'!K24 -> 0 | L27: 0 | M27: 0 | N27: 0 | O27: 0 | P27: 0 | Q27: 0
C28: ПС «Дубки» | D28: ='апрель 2014г. по 6-10'!D28+'апрель 2014г. по 0,4'!D25 -> 0 | E28: ='апрель 2014г. по 6-10'!E28+'апрель 2014г. по 0,4'!E25 -> 0 | F28: ='апрель 2014г. по 6-10'!F28+'апрель 2014г. по 0,4'!F25 -> 0 | G28: ='апрель 2014г. по 6-10'!G28+'апрель 2014г. по 0,4'!G25 -> 0 | H28: 0 | I28: 0 | J28: ='апрель 2014г. по 6-10'!J28+'апрель 2014г. по 0,4'!J25 -> 0 | K28: ='апрель 2014г. по 6-10'!K28+'апрель 2014г. по 0,4'!K25 -> 0 | L28: 0 | M28: 0 | N28: 0 | O28: 0 | P28: 0 | Q28: 0
C29: ПС «Птицефабрика» | D29: ='апрель 2014г. по 6-10'!D29+'апрель 2014г. по 0,4'!D26 -> 0 | E29: ='апрель 2014г. по 6-10'!E29+'апрель 2014г. по 0,4'!E26 -> 0 | F29: ='апрель 2014г. по 6-10'!F29+'апрель 2014г. по 0,4'!F26 -> 0 | G29: ='апрель 2014г. по 6-10'!G29+'апрель 2014г. по 0,4'!G26 -> 0 | H29: 1 | I29: 300 | J29: ='апрель 2014г. по 6-10'!J29+'апрель 2014г. по 0,4'!J26 -> 0 | K29: ='апрель 2014г. по 6-10'!K29+'апрель 2014г. по 0,4'!K26 -> 0 | L29: 0 | M29: 0 | N29: 0 | O29: 0 | P29: 0 | Q29: 0
C30: итого: | D30: =D23+D24+D25+D26+D27+D28+D29 -> 4 | E30: =E23+E24+E25+E26+E27+E28+E29 -> 390 | F30: =F23+F24+F25+F26+F27+F28+F29 -> 4 | G30: =G23+G24+G25+G26+G27+G28+G29 -> 390 | H30: =H23+H24+H25+H26+H27+H28+H29 -> 3 | I30: =I23+I24+I25+I26+I27+I28+I29 -> 311.2 | J30: =J23+J24+J25+J26+J27+J28+J29 -> 0 | K30: =K23+K24+K25+K26+K27+K28+K29 -> 0 | ... Q30: =Q23+Q24+Q25+Q26+Q27+Q28+Q29 -> 0
C31: Малкинская группа ПС
C32: ПС «Малка» | D32: ='апрель 2014г. по 6-10'!D32+'апрель 2014г. по 0,4'!D29 -> 12 | E32: ='апрель 2014г. по 6-10'!E32+'апрель 2014г. по 0,4'!E29 -> 554 | F32: ='апрель 2014г. по 6-10'!F32+'апрель 2014г. по 0,4'!F29 -> 12 | G32: ='апрель 2014г. по 6-10'!G32+'апрель 2014г. по 0,4'!G29 -> 554 | H32: 0 | I32: 0 | J32: ='апрель 2014г. по 6-10'!J32+'апрель 2014г. по 0,4'!J29 -> 0 | K32: ='апрель 2014г. по 6-10'!K32+'апрель 2014г. по 0,4'!K29 -> 0 | L32: 0 | M32: 0 | N32: 0 | O32: 0 | P32: 0 | Q32: 0
C33: ПС «Каменномостская» | D33: ='апрель 2014г. по 6-10'!D33+'апрель 2014г. по 0,4'!D30 -> 4 | E33: ='апрель 2014г. по 6-10'!E33+'апрель 2014г. по 0,4'!E30 -> 84 | F33: ='апрель 2014г. по 6-10'!F33+'апрель 2014г. по 0,4'!F30 -> 4 | G33: ='апрель 2014г. по 6-10'!G33+'апрель 2014г. по 0,4'!G30 -> 84 | H33: 0 | I33: 0 | J33: ='апрель 2014г. по 6-10'!J33+'апрель 2014г. по 0,4'!J30 -> 0 | K33: ='апрель 2014г. по 6-10'!K33+'апрель 2014г. по 0,4'!K30 -> 0 | L33: 0 | M33: 0 | N33: 0 | O33: 0 | P33: 0 | Q33: 0
C34: ПС «Залукокоаже» | D34: ='апрель 2014г. по 6-10'!D34+'апрель 2014г. по 0,4'!D31 -> 6 | E34: ='апрель 2014г. по 6-10'!E34+'апрель 2014г. по 0,4'!E31 -> 82 | F34: ='апрель 2014г. по 6-10'!F34+'апрель 2014г. по 0,4'!F31 -> 6 | G34: ='апрель 2014г. по 6-10'!G34+'апрель 2014г. по 0,4'!G31 -> 82 | H34: 0 | I34: 0 | J34: ='апрель 2014г. по 6-10'!J34+'апрель 2014г. по 0,4'!J31 -> 2 | K34: ='апрель 2014г. по 6-10'!K34+'апрель 2014г. по 0,4'!K31 -> 27 | L34: 0 | M34: 0 | N34: 0 | O34: 0 | P34: 0 | Q34: 0
C35: ПС «Залукодес» | D35: ='апрель 2014г. по 6-10'!D35+'апрель 2014г. по 0,4'!D32 -> 5 | E35: ='апрель 2014г. по 6-10'!E35+'апрель 2014г. по 0,4'!E32 -> 180 | F35: ='апрель 2014г. по 6-10'!F35+'апрель 2014г. по 0,4'!F32 -> 5 | G35: ='апрель 2014г. по 6-10'!G35+'апрель 2014г. по 0,4'!G32 -> 180 | H35: 0 | I35: 0 | J35: ='апрель 2014г. по 6-10'!J35+'апрель 2014г. по 0,4'!J32 -> 0 | K35: ='апрель 2014г. по 6-10'!K35+'апрель 2014г. по 0,4'!K32 -> 0 | L35: 0 | M35: 0 | N35: 0 | O35: 0 | P35: 0 | Q35: 0
C36: ПС «Сармаково» | D36: ='апрель 2014г. по 6-10'!D36+'апрель 2014г. по 0,4'!D33 -> 23 | E36: ='апрель 2014г. по 6-10'!E36+'апрель 2014г. по 0,4'!E33 -> 807.5 | F36: ='апрель 2014г. по 6-10'!F36+'апрель 2014г. по 0,4'!F33 -> 23 | G36: ='апрель 2014г. по 6-10'!G36+'апрель 2014г. по 0,4'!G33 -> 807.5 | H36: 0 | I36: 0 | J36: ='апрель 2014г. по 6-10'!J36+'апрель 2014г. по 0,4'!J33 -> 6 | K36: ='апрель 2014г. по 6-10'!K36+'апрель 2014г. по 0,4'!K33 -> 47.5 | L36: 0 | M36: 0 | N36: 0 | O36: 0 | P36: 0 | Q36: 0
C37: ПС «Аурсентх» | D37: ='апрель 2014г. по 6-10'!D37+'апрель 2014г. по 0,4'!D34 -> 8 | E37: ='апрель 2014г. по 6-10'!E37+'апрель 2014г. по 0,4'!E34 -> 104 | F37: ='апрель 2014г. по 6-10'!F37+'апрель 2014г. по 0,4'!F34 -> 8 | G37: ='апрель 2014г. по 6-10'!G37+'апрель 2014г. по 0,4'!G34 -> 104 | H37: 0 | I37: 0 | J37: ='апрель 2014г. по 6-10'!J37+'апрель 2014г. по 0,4'!J34 -> 0 | K37: ='апрель 2014г. по 6-10'!K37+'апрель 2014г. по 0,4'!K34 -> 0 | L37: 0 | M37: 0 | N37: 0 | O37: 0 | P37: 0 | Q37: 0
C38: итого: | D38: =D32+D33+D34+D35+D36+D37 -> 58 | E38: =E32+E33+E34+E35+E36+E37 -> 1811.5 | F38: =F32+F33+F34+F35+F36+F37 -> 58 | G38: =G32+G33+G34+G35+G36+G37 -> 1811.5 | H38: =H32+H33+H34+H35+H36+H37 -> 0 | I38: =I32+I33+I34+I35+I36+I37 -> 0 | J38: =J32+J33+J34+J35+J36+J37 -> 8 | K38: =K32+K33+K34+K35+K36+K37 -> 74.5 | ... Q38: =Q32+Q33+Q34+Q35+Q36+Q37 -> 0
C39: Эльбрусская группа ПС
C40: ПС «ЦРУ» | D40: ='апрель 2014г. по 6-10'!D40+'апрель 2014г. по 0,4'!D37 -> 10 | E40: ='апрель 2014г. по 6-10'!E40+'апрель 2014г. по 0,4'!E37 -> 114.5 | F40: ='апрель 2014г. по 6-10'!F40+'апрель 2014г. по 0,4'!F37 -> 10 | G40: ='апрель 2014г. по 6-10'!G40+'апрель 2014г. по 0,4'!G37 -> 114.5 | H40: 0 | I40: 0 | J40: ='апрель 2014г. по 6-10'!J40+'апрель 2014г. по 0,4'!J37 -> 1 | K40: ='апрель 2014г. по 6-10'!K40+'апрель 2014г. по 0,4'!K37 -> 10 | L40: 0 | M40: 0 | N40: 0 | O40: 0 | P40: 0 | Q40: 0
C41: ПС «Адыл-Су» | D41: ='апрель 2014г. по 6-10'!D41+'апрель 2014г. по 0,4'!D38 -> 14 | E41: ='апрель 2014г. по 6-10'!E41+'апрель 2014г. по 0,4'!E38 -> 194 | F41: ='апрель 2014г. по 6-10'!F41+'апрель 2014г. по 0,4'!F38 -> 14 | G41: ='апрель 2014г. по 6-10'!G41+'апрель 2014г. по 0,4'!G38 -> 194 | H41: 0 | I41: 0 | J41: ='апрель 2014г. по 6-10'!J41+'апрель 2014г. по 0,4'!J38 -> 2 | K41: ='апрель 2014г. по 6-10'!K41+'апрель 2014г. по 0,4'!K38 -> 13 | L41: 0 | M41: 0 | N41: 0 | O41: 0 | P41: 0 | Q41: 0
C42: ПС «Нейтрино» | D42: ='апрель 2014г. по 6-10'!D42+'апрель 2014г. по 0,4'!D39 -> 7 | E42: ='апрель 2014г. по 6-10'!E42+'апрель 2014г. по 0,4'!E39 -> 233 | F42: ='апрель 2014г. по 6-10'!F42+'апрель 2014г. по 0,4'!F39 -> 6 | G42: ='апрель 2014г. по 6-10'!G42+'апрель 2014г. по 0,4'!G39 -> 233 | H42: 0 | I42: 0 | J42: ='апрель 2014г. по 6-10'!J42+'апрель 2014г. по 0,4'!J39 -> 2 | K42: ='апрель 2014г. по 6-10'!K42+'апрель 2014г. по 0,4'!K39 -> 20 | L42: 0 | M42: 0 | N42: 0 | O42: 0 | P42: 0 | Q42: 0
C43: ПС «Чегет» | D43: ='апрель 2014г. по 6-10'!D43+'апрель 2014г. по 0,4'!D40 -> 4 | E43: ='апрель 2014г. по 6-10'!E43+'апрель 2014г. по 0,4'!E40 -> 36 | F43: ='апрель 2014г. по 6-10'!F43+'апрель 2014г. по 0,4'!F40 -> 4 | G43: ='апрель 2014г. по 6-10'!G43+'апрель 2014г. по 0,4'!G40 -> 36 | H43: 0 | I43: 0 | J43: ='апрель 2014г. по 6-10'!J43+'апрель 2014г. по 0,4'!J40 -> 1 | K43: ='апрель 2014г. по 6-10'!K43+'апрель 2014г. по 0,4'!K40 -> 10 | L43: 0 | M43: 0 | N43: 0 | O43: 0 | P43: 0 | Q43: 0
C44: ПС «Терскол» | D44: ='апрель 2014г. по 6-10'!D44+'апрель 2014г. по 0,4'!D41 -> 0 | E44: ='апрель 2014г. по 6-10'!E44+'апрель 2014г. по 0,4'!E41 -> 0 | F44: ='апрель 2014г. по 6-10'!F44+'апрель 2014г. по 0,4'!F41 -> 0 | G44: ='апрель 2014г. по 6-10'!G44+'апрель 2014г. по 0,4'!G41 -> 0 | H44: 0 | I44: 0 | J44: ='апрель 2014г. по 6-10'!J44+'апрель 2014г. по 0,4'!J41 -> 0 | K44: ='апрель 2014г. по 6-10'!K44+'апрель 2014г. по 0,4'!K41 -> 0 | L44: 0 | M44: 0 | N44: 0 | O44: 0 | P44: 0 | Q44: 0
C45: ПС «Джайлык» | D45: ='апрель 2014г. по 6-10'!D45+'апрель 2014г. по 0,4'!D42 -> 2 | E45: ='апрель 2014г. по 6-10'!E45+'апрель 2014г. по 0,4'!E42 -> 62 | F45: ='апрель 2014г. по 6-10'!F45+'апрель 2014г. по 0,4'!F42 -> 2 | G45: ='апрель 2014г. по 6-10'!G45+'апрель 2014г. по 0,4'!G42 -> 62 | H45: 0 | I45: 0 | J45: ='апрель 2014г. по 6-10'!J45+'апрель 2014г. по 0,4'!J42 -> 1 | K45: ='апрель 2014г. по 6-10'!K45+'апрель 2014г. по 0,4'!K42 -> 12 | L45: 0 | M45: 0 | N45: 0 | O45: 0 | P45: 0 | Q45: 0
C46: ПС «Соц. городок» | D46: ='апрель 2014г. по 6-10'!D46+'апрель 2014г. по 0,4'!D43 -> 0 | E46: ='апрель 2014г. по 6-10'!E46+'апрель 2014г. по 0,4'!E43 -> 0 | F46: ='апрель 2014г. по 6-10'!F46+'апрель 2014г. по 0,4'!F43 -> 0 | G46: ='апрель 2014г. по 6-10'!G46+'апрель 2014г. по 0,4'!G43 -> 0 | H46: 0 | I46: 0 | J46: ='апрель 2014г. по 6-10'!J46+'апрель 2014г. по 0,4'!J43 -> 0 | K46: ='апрель 2014г. по 6-10'!K46+'апрель 2014г. по 0,4'!K43 -> 0 | L46: 0 | M46: 0 | N46: 0 | O46: 0 | P46: 0 | Q46: 0
C47: ПС «Чалмас» | D47: ='апрель 2014г. по 6-10'!D47+'апрель 2014г. по 0,4'!D44 -> 0 | E47: ='апрель 2014г. по 6-10'!E47+'апрель 2014г. по 0,4'!E44 -> 0 | F47: ='апрель 2014г. по 6-10'!F47+'апрель 2014г. по 0,4'!F44 -> 0 | G47: ='апрель 2014г. по 6-10'!G47+'апрель 2014г. по 0,4'!G44 -> 0 | H47: 0 | I47: 0 | J47: ='апрель 2014г. по 6-10'!J47+'апрель 2014г. по 0,4'!J44 -> 0 | K47: ='апрель 2014г. по 6-10'!K47+'апрель 2014г. по 0,4'!K44 -> 0 | L47: 0 | M47: 0 | N47: 0 | O47: 0 | P47: 0 | Q47: 0
C48: ПС «РМЗ» | D48: ='апрель 2014г. по 6-10'!D48+'апрель 2014г. по 0,4'!D45 -> 10 | E48: ='апрель 2014г. по 6-10'!E48+'апрель 2014г. по 0,4'!E45 -> 494 | F48: ='апрель 2014г. по 6-10'!F48+'апрель 2014г. по 0,4'!F45 -> 10 | G48: ='апрель 2014г. по 6-10'!G48+'апрель 2014г. по 0,4'!G45 -> 494 | H48: 0 | I48: 0 | J48: ='апрель 2014г. по 6-10'!J48+'апрель 2014г. по 0,4'!J45 -> 0 | K48: ='апрель 2014г. по 6-10'!K48+'апрель 2014г. по 0,4'!K45 -> 0 | L48: 0 | M48: 0 | N48: 0 | O48: 0 | P48: 0 | Q48: 0
C49: РП «Водогрейная» | D49: ='апрель 2014г. по 6-10'!D49+'апрель 2014г. по 0,4'!D46 -> 0 | E49: ='апрель 2014г. по 6-10'!E49+'апрель 2014г. по 0,4'!E46 -> 0 | F49: ='апрель 2014г. по 6-10'!F49+'апрель 2014г. по 0,4'!F46 -> 0 | G49: ='апрель 2014г. по 6-10'!G49+'апрель 2014г. по 0,4'!G46 -> 0 | H49: 0 | I49: 0 | J49: ='апрель 2014г. по 6-10'!J49+'апрель 2014г. по 0,4'!J46 -> 0 | K49: ='апрель 2014г. по 6-10'!K49+'апрель 2014г. по 0,4'!K46 -> 0 | L49: 0 | M49: 0 | N49: 0 | O49: 0 | P49: 0 | Q49: 0
C50: ПС «Былым» | D50: ='апрель 2014г. по 6-10'!D50+'апрель 2014г. по 0,4'!D47 -> 2 | E50: ='апрель 2014г. по 6-10'!E50+'апрель 2014г. по 0,4'!E47 -> 168 | F50: ='апрель 2014г. по 6-10'!F50+'апрель 2014г. по 0,4'!F47 -> 2 | G50: ='апрель 2014г. по 6-10'!G50+'апрель 2014г. по 0,4'!G47 -> 168 | H50: 0 | I50: 0 | J50: ='апрель 2014г. по 6-10'!J50+'апрель 2014г. по 0,4'!J47 -> 0 | K50: ='апрель 2014г. по 6-10'!K50+'апрель 2014г. по 0,4'!K47 -> 0 | L50: 0 | M50: 0 | N50: 0 | O50: 0 | P50: 0 | Q50: 0
C51: ПС "Гунделен" | D51: ='апрель 2014г. по 6-10'!D51+'апрель 2014г. по 0,4'!D48 -> 6 | E51: ='апрель 2014г. по 6-10'!E51+'апрель 2014г. по 0,4'!E48 -> 575 | F51: ='апрель 2014г. по 6-10'!F51+'апрель 2014г. по 0,4'!F48 -> 6 | G51: ='апрель 2014г. по 6-10'!G51+'апрель 2014г. по 0,4'!G48 -> 575 | H51: 0 | I51: 0 | J51: ='апрель 2014г. по 6-10'!J51+'апрель 2014г. по 0,4'!J48 -> 0 | K51: ='апрель 2014г. по 6-10'!K51+'апрель 2014г. по 0,4'!K48 -> 0 | L51: 0 | M51: 0 | N51: 0 | O51: 0 | P51: 0 | Q51: 0
C52: итого: | D52: =D40+D41+D42+D43+D44+D45+D46+D47+D48+D49+D50+D51 -> 55 | E52: =E40+E41+E42+E43+E44+E45+E46+E47+E48+E49+E50+E51 -> 1876.5 | F52: =F40+F41+F42+F43+F44+F45+F46+F47+F48+F49+F50+F51 -> 54 | G52: =G40+G41+G42+G43+G44+G45+G46+G47+G48+G49+G50+G51 -> 1876.5 | H52: =H40+H41+H42+H43+H44+H45+H46+H47+H48+H49+H50+H51 -> 0 | I52: =I40+I41+I42+I43+I44+I45+I46+I47+I48+I49+I50+I51 -> 0 | J52: =J40+J41+J42+J43+J44+J45+J46+J47+J48+J49+J50+J51 -> 7 | K52: =K40+K41+K42+K43+K44+K45+K46+K47+K48+K49+K50+K51 -> 65 | ... Q52: =Q40+Q41+Q42+Q43+Q44+Q45+Q46+Q47+Q48+Q49+Q50+Q51 -> 0
C53: Терская группа ПС
C54: ПС «Терек-II» | D54: ='апрель 2014г. по 6-10'!D54+'апрель 2014г. по 0,4'!D51 -> 2 | E54: ='апрель 2014г. по 6-10'!E54+'апрель 2014г. по 0,4'!E51 -> 363 | F54: ='апрель 2014г. по 6-10'!F54+'апрель 2014г. по 0,4'!F51 -> 2 | G54: ='апрель 2014г. по 6-10'!G54+'апрель 2014г. по 0,4'!G51 -> 363 | H54: 2 | I54: 350 | J54: ='апрель 2014г. по 6-10'!J54+'апрель 2014г. по 0,4'!J51 -> 0 | K54: ='апрель 2014г. по 6-10'!K54+'апрель 2014г. по 0,4'!K51 -> 0 | L54: 0 | M54: 0 | N54: 0 | O54: 0 | P54: 0 | Q54: 0
C55: ПС «В.Акбаш» | D55: ='апрель 2014г. по 6-10'!D55+'апрель 2014г. по 0,4'!D52 -> 1 | E55: ='апрель 2014г. по 6-10'!E55+'апрель 2014г. по 0,4'!E52 -> 4 | F55: ='апрель 2014г. по 6-10'!F55+'апрель 2014г. по 0,4'!F52 -> 1 | G55: ='апрель 2014г. по 6-10'!G55+'апрель 2014г. по 0,4'!G52 -> 4 | H55: 0 | I55: 0 | J55: ='апрель 2014г. по 6-10'!J55+'апрель 2014г. по 0,4'!J52 -> 0 | K55: ='апрель 2014г. по 6-10'!K55+'апрель 2014г. по 0,4'!K52 -> 0 | L55: 0 | M55: 0 | N55: 0 | O55: 0 | P55: 0 | Q55: 0
C56: ПС «ЗАИ» | D56: ='апрель 2014г. по 6-10'!D56+'апрель 2014г. по 0,4'!D53 -> 2 | E56: ='апрель 2014г. по 6-10'!E56+'апрель 2014г. по 0,4'!E53 -> 25 | F56: ='апрель 2014г. по 6-10'!F56+'апрель 2014г. по 0,4'!F53 -> 2 | G56: ='апрель 2014г. по 6-10'!G56+'апрель 2014г. по 0,4'!G53 -> 25 | H56: 0 | I56: 0 | J56: ='апрель 2014г. по 6-10'!J56+'апрель 2014г. по 0,4'!J53 -> 1 | K56: ='апрель 2014г. по 6-10'!K56+'апрель 2014г. по 0,4'!K53 -> 10 | L56: 0 | M56: 0 | N56: 0 | O56: 0 | P56: 0 | Q56: 0
C57: ПС «Пенькозавод» | D57: ='апрель 2014г. по 6-10'!D57+'апрель 2014г. по 0,4'!D54 -> 0 | E57: ='апрель 2014г. по 6-10'!E57+'апрель 2014г. по 0,4'!E54 -> 0 | F57: ='апрель 2014г. по 6-10'!F57+'апрель 2014г. по 0,4'!F54 -> 0 | G57: ='апрель 2014г. по 6-10'!G57+'апрель 2014г. по 0,4'!G54 -> 0 | H57: 0 | I57: 0 | J57: ='апрель 2014г. по 6-10'!J57+'апрель 2014г. по 0,4'!J54 -> 0 | K57: ='апрель 2014г. по 6-10'!K57+'апрель 2014г. по 0,4'!K54 -> 0 | L57: 0 | M57: 0 | N57: 0 | O57: 0 | P57: 0 | Q57: 0
C58: ПС «Терекская» | D58: ='апрель 2014г. по 6-10'!D58+'апрель 2014г. по 0,4'!D55 -> 10 | E58: ='апрель 2014г. по 6-10'!E58+'апрель 2014г. по 0,4'!E55 -> 559 | F58: ='апрель 2014г. по 6-10'!F58+'апрель 2014г. по 0,4'!F55 -> 10 | G58: ='апрель 2014г. по 6-10'!G58+'апрель 2014г. по 0,4'!G55 -> 559 | H58: 0 | I58: 0 | J58: ='апрель 2014г. по 6-10'!J58+'апрель 2014г. по 0,4'!J55 -> 2 | K58: ='апрель 2014г. по 6-10'!K58+'апрель 2014г. по 0,4'!K55 -> 20 | L58: 0 | M58: 0 | N58: 0 | O58: 0 | P58: 0 | Q58: 0
C59: ПС «Терек-1» | D59: ='апрель 2014г. по 6-10'!D59+'апрель 2014г. по 0,4'!D56 -> 2 | E59: ='апрель 2014г. по 6-10'!E59+'апрель 2014г. по 0,4'!E56 -> 10 | F59: ='апрель 2014г. по 6-10'!F59+'апрель 2014г. по 0,4'!F56 -> 2 | G59: ='апрель 2014г. по 6-10'!G59+'апрель 2014г. по 0,4'!G56 -> 10 | H59: 2 | I59: 395 | J59: ='апрель 2014г. по 6-10'!J59+'апрель 2014г. по 0,4'!J56 -> 1 | K59: ='апрель 2014г. по 6-10'!K59+'апрель 2014г. по 0,4'!K56 -> 5 | L59: 0 | M59: 0 | N59: 0 | O59: 0 | P59: 0 | Q59: 0
C60: ПС «В.Курп» | D60: ='апрель 2014г. по 6-10'!D60+'апрель 2014г. по 0,4'!D57 -> 2 | E60: ='апрель 2014г. по 6-10'!E60+'апрель 2014г. по 0,4'!E57 -> 175 | F60: ='апрель 2014г. по 6-10'!F60+'апрель 2014г. по 0,4'!F57 -> 2 | G60: ='апрель 2014г. по 6-10'!G60+'апрель 2014г. по 0,4'!G57 -> 175 | H60: 0 | I60: 0 | J60: ='апрель 2014г. по 6-10'!J60+'апрель 2014г. по 0,4'!J57 -> 0 | K60: ='апрель 2014г. по 6-10'!K60+'апрель 2014г. по 0,4'!K57 -> 0 | L60: 0 | M60: 0 | N60: 0 | O60: 0 | P60: 0 | Q60: 0
C61: ПС «Н.Курп» | D61: ='апрель 2014г. по 6-10'!D61+'апрель 2014г. по 0,4'!D58 -> 0 | E61: ='апрель 2014г. по 6-10'!E61+'апрель 2014г. по 0,4'!E58 -> 0 | F61: ='апрель 2014г. по 6-10'!F61+'апрель 2014г. по 0,4'!F58 -> 0 | G61: ='апрель 2014г. по 6-10'!G61+'апрель 2014г. по 0,4'!G58 -> 0 | H61: 0 | I61: 0 | J61: ='апрель 2014г. по 6-10'!J61+'апрель 2014г. по 0,4'!J58 -> 0 | K61: ='апрель 2014г. по 6-10'!K61+'апрель 2014г. по 0,4'!K58 -> 0 | L61: 0 | M61: 0 | N61: 0 | O61: 0 | P61: 0 | Q61: 0
C62: ПС «Акбаш-35» | D62: ='апрель 2014г. по 6-10'!D62+'апрель 2014г. по 0,4'!D59 -> 0 | E62: ='апрель 2014г. по 6-10'!E62+'апрель 2014г. по 0,4'!E59 -> 0 | F62: ='апрель 2014г. по 6-10'!F62+'апрель 2014г. по 0,4'!F59 -> 0 | G62: ='апрель 2014г. по 6-10'!G62+'апрель 2014г. по 0,4'!G59 -> 0 | H62: 0 | I62: 0 | J62: ='апрель 2014г. по 6-10'!J62+'апрель 2014г. по 0,4'!J59 -> 0 | K62: ='апрель 2014г. по 6-10'!K62+'апрель 2014г. по 0,4'!K59 -> 0 | L62: 0 | M62: 0 | N62: 0 | O62: 0 | P62: 0 | Q62: 0
C63: итого: | D63: =D54+D55+D56+D57+D58+D59+D60+D61+D62 -> 19 | E63: =E54+E55+E56+E57+E58+E59+E60+E61+E62 -> 1136 | F63: =F54+F55+F56+F57+F58+F59+F60+F61+F62 -> 19 | G63: =G54+G55+G56+G57+G58+G59+G60+G61+G62 -> 1136 | H63: =H54+H55+H56+H57+H58+H59+H60+H61+H62 -> 4 | I63: =I54+I55+I56+I57+I58+I59+I60+I61+I62 -> 745 | J63: =J54+J55+J56+J57+J58+J59+J60+J61+J62 -> 4 | K63: =K54+K55+K56+K57+K58+K59+K60+K61+K62 -> 35 | ... Q63: =Q54+Q55+Q56+Q57+Q58+Q59+Q60+Q61+Q62 -> 0
C64: Майская группа ПС
C65: ПС «Майская» | D65: ='апрель 2014г. по 6-10'!D65+'апрель 2014г. по 0,4'!D62 -> 183 | E65: ='апрель 2014г. по 6-10'!E65+'апрель 2014г. по 0,4'!E62 -> 6092.9 | F65: ='апрель 2014г. по 6-10'!F65+'апрель 2014г. по 0,4'!F62 -> 182 | G65: ='апрель 2014г. по 6-10'!G65+'апрель 2014г. по 0,4'!G62 -> 6092.9 | H65: 0 | I65: 0 | J65: ='апрель 2014г. по 6-10'!J65+'апрель 2014г. по 0,4'!J62 -> 20 | K65: ='апрель 2014г. по 6-10'!K65+'апрель 2014г. по 0,4'!K62 -> 184.5 | L65: 0 | M65: 0 | N65: 0 | O65: 0 | P65: 0 | Q65: 0
C66: ПС «Александровская» | D66: ='апрель 2014г. по 6-10'!D66+'апрель 2014г. по 0,4'!D63 -> 0 | E66: ='апрель 2014г. по 6-10'!E66+'апрель 2014г. по 0,4'!E63 -> 0 | F66: ='апрель 2014г. по 6-10'!F66+'апрель 2014г. по 0,4'!F63 -> 0 | G66: ='апрель 2014г. по 6-10'!G66+'апрель 2014г. по 0,4'!G63 -> 0 | H66: 0 | I66: 0 | J66: ='апрель 2014г. по 6-10'!J66+'апрель 2014г. по 0,4'!J63 -> 0 | K66: ='апрель 2014г. по 6-10'!K66+'апрель 2014г. по 0,4'!K63 -> 0 | L66: 0 | M66: 0 | N66: 0 | O66: 0 | P66: 0 | Q66: 0
C67: ПС «Котляревская» | D67: ='апрель 2014г. по 6-10'!D67+'апрель 2014г. по 0,4'!D64 -> 20 | E67: ='апрель 2014г. по 6-10'!E67+'апрель 2014г. по 0,4'!E64 -> 586 | F67: ='апрель 2014г. по 6-10'!F67+'апрель 2014г. по 0,4'!F64 -> 20 | G67: ='апрель 2014г. по 6-10'!G67+'апрель 2014г. по 0,4'!G64 -> 586 | H67: 0 | I67: 0 | J67: ='апрель 2014г. по 6-10'!J67+'апрель 2014г. по 0,4'!J64 -> 5 | K67: ='апрель 2014г. по 6-10'!K67+'апрель 2014г. по 0,4'!K64 -> 52 | L67: 0 | M67: 0 | N67: 0 | O67: 0 | P67: 0 | Q67: 0
C68: ПС «Ново-Ивановская» | D68: ='апрель 2014г. по 6-10'!D68+'апрель 2014г. по 0,4'!D65 -> 24 | E68: ='апрель 2014г. по 6-10'!E68+'апрель 2014г. по 0,4'!E65 -> 523.5 | F68: ='апрель 2014г. по 6-10'!F68+'апрель 2014г. по 0,4'!F65 -> 24 | G68: ='апрель 2014г. по 6-10'!G68+'апрель 2014г. по 0,4'!G65 -> 523.5 | H68: 0 | I68: 0 | J68: ='апрель 2014г. по 6-10'!J68+'апрель 2014г. по 0,4'!J65 -> 4 | K68: ='апрель 2014г. по 6-10'!K68+'апрель 2014г. по 0,4'!K65 -> 50 | L68: 0 | M68: 0 | N68: 0 | O68: 0 | P68: 0 | Q68: 0
C69: ПС «Красная Нива» | D69: ='апрель 2014г. по 6-10'!D69+'апрель 2014г. по 0,4'!D66 -> 8 | E69: ='апрель 2014г. по 6-10'!E69+'апрель 2014г. по 0,4'!E66 -> 619.5 | F69: ='апрель 2014г. по 6-10'!F69+'апрель 2014г. по 0,4'!F66 -> 8 | G69: ='апрель 2014г. по 6-10'!G69+'апрель 2014г. по 0,4'!G66 -> 619.5 | H69: 0 | I69: 0 | J69: ='апрель 2014г. по 6-10'!J69+'апрель 2014г. по 0,4'!J66 -> 2 | K69: ='апрель 2014г. по 6-10'!K69+'апрель 2014г. по 0,4'!K66 -> 10 | L69: 0 | M69: 0 | N69: 0 | O69: 0 | P69: 0 | Q69: 0
C70: итого: | D70: =D65+D66+D67+D68+D69 -> 235 | E70: =E65+E66+E67+E68+E69 -> 7821.9 | F70: =F65+F66+F67+F68+F69 -> 234 | G70: =G65+G66+G67+G68+G69 -> 7821.9 | H70: =H65+H66+H67+H68+H69 -> 0 | I70: =I65+I66+I67+I68+I69 -> 0 | J70: =J65+J66+J67+J68+J69 -> 31 | K70: =K65+K66+K67+K68+K69 -> 296.5 | ... Q70: =Q65+Q66+Q67+Q68+Q69 -> 0
C71: Чегемская группа ПС
C72: ПС «Чегем-II» | D72: ='апрель 2014г. по 6-10'!D72+'апрель 2014г. по 0,4'!D69 -> 1 | E72: ='апрель 2014г. по 6-10'!E72+'апрель 2014г. по 0,4'!E69 -> 10 | F72: ='апрель 2014г. по 6-10'!F72+'апрель 2014г. по 0,4'!F69 -> 1 | G72: ='апрель 2014г. по 6-10'!G72+'апрель 2014г. по 0,4'!G69 -> 10 | H72: 0 | I72: 0 | J72: ='апрель 2014г. по 6-10'!J72+'апрель 2014г. по 0,4'!J69 -> 0 | K72: ='апрель 2014г. по 6-10'!K72+'апрель 2014г. по 0,4'!K69 -> 0 | L72: 0 | M72: 0 | N72: 0 | O72: 0 | P72: 0 | Q72: 0
C73: ПС «Водозабор» | D73: ='апрель 2014г. по 6-10'!D73+'апрель 2014г. по 0,4'!D70 -> 0 | E73: ='апрель 2014г. по 6-10'!E73+'апрель 2014г. по 0,4'!E70 -> 0 | F73: ='апрель 2014г. по 6-10'!F73+'апрель 2014г. по 0,4'!F70 -> 0 | G73: ='апрель 2014г. по 6-10'!G73+'апрель 2014г. по 0,4'!G70 -> 0 | H73: 0 | I73: 0 | J73: ='апрель 2014г. по 6-10'!J73+'апрель 2014г. по 0,4'!J70 -> 0 | K73: ='апрель 2014г. по 6-10'!K73+'апрель 2014г. по 0,4'!K70 -> 0 | L73: 0 | M73: 0 | N73: 0 | O73: 0 | P73: 0 | Q73: 0
C74: ПС «Чегем-1» | D74: ='апрель 2014г. по 6-10'!D74+'апрель 2014г. по 0,4'!D71 -> 0 | E74: ='апрель 2014г. по 6-10'!E74+'апрель 2014г. по 0,4'!E71 -> 0 | F74: ='апрель 2014г. по 6-10'!F74+'апрель 2014г. по 0,4'!F71 -> 0 | G74: ='апрель 2014г. по 6-10'!G74+'апрель 2014г. по 0,4'!G71 -> 0 | H74: 1 | I74: 5.6 | J74: ='апрель 2014г. по 6-10'!J74+'апрель 2014г. по 0,4'!J71 -> 0 | K74: ='апрель 2014г. по 6-10'!K74+'апрель 2014г. по 0,4'!K71 -> 0 | L74: 0 | M74: 0 | N74: 0 | O74: 0 | P74: 0 | Q74: 0
C75: ПС «Лечинкай» | D75: ='апрель 2014г. по 6-10'!D75+'апрель 2014г. по 0,4'!D72 -> 4 | E75: ='апрель 2014г. по 6-10'!E75+'апрель 2014г. по 0,4'!E72 -> 40 | F75: ='апрель 2014г. по 6-10'!F75+'апрель 2014г. по 0,4'!F72 -> 4 | G75: ='апрель 2014г. по 6-10'!G75+'апрель 2014г. по 0,4'!G72 -> 40 | H75: 1 | I75: 6 | J75: ='апрель 2014г. по 6-10'!J75+'апрель 2014г. по 0,4'!J72 -> 0 | K75: ='апрель 2014г. по 6-10'!K75+'апрель 2014г. по 0,4'!K72 -> 0 | L75: 0 | M75: 0 | N75: 0 | O75: 0 | P75: 0 | Q75: 0
C76: ПС «Н.Чегем» | D76: ='апрель 2014г. по 6-10'!D76+'апрель 2014г. по 0,4'!D73 -> 1 | E76: ='апрель 2014г. по 6-10'!E76+'апрель 2014г. по 0,4'!E73 -> 6 | F76: ='апрель 2014г. по 6-10'!F76+'апрель 2014г. по 0,4'!F73 -> 1 | G76: ='апрель 2014г. по 6-10'!G76+'апрель 2014г. по 0,4'!G73 -> 6 | H76: 0 | I76: 0 | J76: ='апрель 2014г. по 6-10'!J76+'апрель 2014г. по 0,4'!J73 -> 0 | K76: ='апрель 2014г. по 6-10'!K76+'апрель 2014г. по 0,4'!K73 -> 0 | L76: 0 | M76: 0 | N76: 0 | O76: 0 | P76: 0 | Q76: 0
C77: ПС «Кара-Су» | D77: ='апрель 2014г. по 6-10'!D77+'апрель 2014г. по 0,4'!D74 -> 0 | E77: ='апрель 2014г. по 6-10'!E77+'апрель 2014г. по 0,4'!E74 -> 0 | F77: ='апрель 2014г. по 6-10'!F77+'апрель 2014г. по 0,4'!F74 -> 0 | G77: ='апрель 2014г. по 6-10'!G77+'апрель 2014г. по 0,4'!G74 -> 0 | H77: 0 | I77: 0 | J77: ='апрель 2014г. по 6-10'!J77+'апрель 2014г. по 0,4'!J74 -> 0 | K77: ='апрель 2014г. по 6-10'!K77+'апрель 2014г. по 0,4'!K74 -> 0 | L77: 0 | M77: 0 | N77: 0 | O77: 0 | P77: 0 | Q77: 0
C78: итого: | D78: =D72+D73+D74+D75+D76+D77 -> 6 | E78: =E72+E73+E74+E75+E76+E77 -> 56 | F78: =F72+F73+F74+F75+F76+F77 -> 6 | G78: =G72+G73+G74+G75+G76+G77 -> 56 | H78: =H72+H73+H74+H75+H76+H77 -> 2 | I78: =I72+I73+I74+I75+I76+I77 -> 11.6 | J78: =J72+J73+J74+J75+J76+J77 -> 0 | K78: =K72+K73+K74+K75+K76+K77 -> 0 | ... Q78: =Q72+Q73+Q74+Q75+Q76+Q77 -> 0
C79: Баксанская группа ПС
C80: ПС «Баксан-110» | D80: ='апрель 2014г. по 6-10'!D80+'апрель 2014г. по 0,4'!D77 -> 0 | E80: ='апрель 2014г. по 6-10'!E80+'апрель 2014г. по 0,4'!E77 -> 0 | F80: ='апрель 2014г. по 6-10'!F80+'апрель 2014г. по 0,4'!F77 -> 0 | G80: ='апрель 2014г. по 6-10'!G80+'апрель 2014г. по 0,4'!G77 -> 0 | H80: 0 | I80: 0 | J80: ='апрель 2014г. по 6-10'!J80+'апрель 2014г. по 0,4'!J77 -> 0 | K80: ='апрель 2014г. по 6-10'!K80+'апрель 2014г. по 0,4'!K77 -> 0 | L80: 0 | M80: 0 | N80: 0 | O80: 0 | P80: 0 | Q80: 0
C81: ПС «Кызбурун-110» | D81: ='апрель 2014г. по 6-10'!D81+'апрель 2014г. по 0,4'!D78 -> 0 | E81: ='апрель 2014г. по 6-10'!E81+'апрель 2014г. по 0,4'!E78 -> 0 | F81: ='апрель 2014г. по 6-10'!F81+'апрель 2014г. по 0,4'!F78 -> 0 | G81: ='апрель 2014г. по 6-10'!G81+'апрель 2014г. по 0,4'!G78 -> 0 | H81: 1 | I81: 5 | J81: ='апрель 2014г. по 6-10'!J81+'апрель 2014г. по 0,4'!J78 -> 0 | K81: ='апрель 2014г. по 6-10'!K81+'апрель 2014г. по 0,4'!K78 -> 0 | L81: 0 | M81: 0 | N81: 0 | O81: 0 | P81: 0 | Q81: 0
C82: ПС «Куркужин» | D82: ='апрель 2014г. по 6-10'!D82+'апрель 2014г. по 0,4'!D79 -> 4 | E82: ='апрель 2014г. по 6-10'!E82+'апрель 2014г. по 0,4'!E79 -> 43 | F82: ='апрель 2014г. по 6-10'!F82+'апрель 2014г. по 0,4'!F79 -> 4 | G82: ='апрель 2014г. по 6-10'!G82+'апрель 2014г. по 0,4'!G79 -> 43 | H82: 0 | I82: 0 | J82: ='апрель 2014г. по 6-10'!J82+'апрель 2014г. по 0,4'!J79 -> 1 | K82: ='апрель 2014г. по 6-10'!K82+'апрель 2014г. по 0,4'!K79 -> 8 | L82: 0 | M82: 0 | N82: 0 | O82: 0 | P82: 0 | Q82: 0
C83: ПС «Баксан-35» | D83: ='апрель 2014г. по 6-10'!D83+'апрель 2014г. по 0,4'!D80 -> 1 | E83: ='апрель 2014г. по 6-10'!E83+'апрель 2014г. по 0,4'!E80 -> 5 | F83: ='апрель 2014г. по 6-10'!F83+'апрель 2014г. по 0,4'!F80 -> 1 | G83: ='апрель 2014г. по 6-10'!G83+'апрель 2014г. по 0,4'!G80 -> 5 | H83: 0 | I83: 0 | J83: ='апрель 2014г. по 6-10'!J83+'апрель 2014г. по 0,4'!J80 -> 0 | K83: ='апрель 2014г. по 6-10'!K83+'апрель 2014г. по 0,4'!K80 -> 0 | L83: 0 | M83: 0 | N83: 0 | O83: 0 | P83: 0 | Q83: 0
C84: ПС «Кр.Константин.» | D84: ='апрель 2014г. по 6-10'!D84+'апрель 2014г. по 0,4'!D81 -> 2 | E84: ='апрель 2014г. по 6-10'!E84+'апрель 2014г. по 0,4'!E81 -> 105 | F84: ='апрель 2014г. по 6-10'!F84+'апрель 2014г. по 0,4'!F81 -> 2 | G84: ='апрель 2014г. по 6-10'!G84+'апрель 2014г. по 0,4'!G81 -> 105 | H84: 0 | I84: 0 | J84: ='апрель 2014г. по 6-10'!J84+'апрель 2014г. по 0,4'!J81 -> 0 | K84: ='апрель 2014г. по 6-10'!K84+'апрель 2014г. по 0,4'!K81 -> 0 | L84: 0 | M84: 0 | N84: 0 | O84: 0 | P84: 0 | Q84: 0
C85: ПС «Гунделен-110» | D85: ='апрель 2014г. по 6-10'!D85+'апрель 2014г. по 0,4'!D82 -> 3 | E85: ='апрель 2014г. по 6-10'!E85+'апрель 2014г. по 0,4'!E82 -> 25 | F85: ='апрель 2014г. по 6-10'!F85+'апрель 2014г. по 0,4'!F82 -> 3 | G85: ='апрель 2014г. по 6-10'!G85+'апрель 2014г. по 0,4'!G82 -> 25 | H85: 0 | I85: 0 | J85: ='апрель 2014г. по 6-10'!J85+'апрель 2014г. по 0,4'!J82 -> 0 | K85: ='апрель 2014г. по 6-10'!K85+'апрель 2014г. по 0,4'!K82 -> 0 | L85: 0 | M85: 0 | N85: 0 | O85: 0 | P85: 0 | Q85: 0
C86: ПС «Плотина» | D86: ='апрель 2014г. по 6-10'!D86+'апрель 2014г. по 0,4'!D83 -> 1 | E86: ='апрель 2014г. по 6-10'!E86+'апрель 2014г. по 0,4'!E83 -> 4 | F86: ='апрель 2014г. по 6-10'!F86+'апрель 2014г. по 0,4'!F83 -> 1 | G86: ='апрель 2014г. по 6-10'!G86+'апрель 2014г. по 0,4'!G83 -> 4 | H86: 0 | I86: 0 | J86: ='апрель 2014г. по 6-10'!J86+'апрель 2014г. по 0,4'!J83 -> 1 | K86: ='апрель 2014г. по 6-10'!K86+'апрель 2014г. по 0,4'!K83 -> 4 | L86: 0 | M86: 0 | N86: 0 | O86: 0 | P86: 0 | Q86: 0
C87: ПС «Баксаненок» | D87: ='апрель 2014г. по 6-10'!D87+'апрель 2014г. по 0,4'!D84 -> 1 | E87: ='апрель 2014г. по 6-10'!E87+'апрель 2014г. по 0,4'!E84 -> 8 | F87: ='апрель 2014г. по 6-10'!F87+'апрель 2014г. по 0,4'!F84 -> 1 | G87: ='апрель 2014г. по 6-10'!G87+'апрель 2014г. по 0,4'!G84 -> 8 | H87: 0 | I87: 0 | J87: ='апрель 2014г. по 6-10'!J87+'апрель 2014г. по 0,4'!J84 -> 0 | K87: ='апрель 2014г. по 6-10'!K87+'апрель 2014г. по 0,4'!K84 -> 0 | L87: 0 | M87: 0 | N87: 0 | O87: 0 | P87: 0 | Q87: 0
C88: ПС «Баксан-330» | D88: ='апрель 2014г. по 6-10'!D88+'апрель 2014г. по 0,4'!D85 -> 0 | E88: ='апрель 2014г. по 6-10'!E88+'апрель 2014г. по 0,4'!E85 -> 0 | F88: ='апрель 2014г. по 6-10'!F88+'апрель 2014г. по 0,4'!F85 -> 0 | G88: ='апрель 2014г. по 6-10'!G88+'апрель 2014г. по 0,4'!G85 -> 0 | H88: 0 | I88: 0 | J88: ='апрель 2014г. по 6-10'!J88+'апрель 2014г. по 0,4'!J85 -> 0 | K88: ='апрель 2014г. по 6-10'!K88+'апрель 2014г. по 0,4'!K85 -> 0 | L88: 0 | M88: 0 | N88: 0 | O88: 0 | P88: 0 | Q88: 0
C89: РП Заюково | D89: ='апрель 2014г. по 6-10'!D89+'апрель 2014г. по 0,4'!D86 -> 0 | E89: ='апрель 2014г. по 6-10'!E89+'апрель 2014г. по 0,4'!E86 -> 0 | F89: ='апрель 2014г. по 6-10'!F89+'апрель 2014г. по 0,4'!F86 -> 0 | G89: ='апрель 2014г. по 6-10'!G89+'апрель 2014г. по 0,4'!G86 -> 0 | H89: 0 | I89: 0 | J89: ='апрель 2014г. по 6-10'!J89+'апрель 2014г. по 0,4'!J86 -> 0 | K89: ='апрель 2014г. по 6-10'!K89+'апрель 2014г. по 0,4'!K86 -> 0 | L89: 0 | M89: 0 | N89: 0 | O89: 0 | P89: 0 | Q89: 0
C90: РП Куба | D90: ='апрель 2014г. по 6-10'!D90+'апрель 2014г. по 0,4'!D87 -> 0 | E90: ='апрель 2014г. по 6-10'!E90+'апрель 2014г. по 0,4'!E87 -> 0 | F90: ='апрель 2014г. по 6-10'!F90+'апрель 2014г. по 0,4'!F87 -> 0 | G90: ='апрель 2014г. по 6-10'!G90+'апрель 2014г. по 0,4'!G87 -> 0 | H90: 0 | I90: 0 | J90: ='апрель 2014г. по 6-10'!J90+'апрель 2014г. по 0,4'!J87 -> 0 | K90: ='апрель 2014г. по 6-10'!K90+'апрель 2014г. по 0,4'!K87 -> 0 | L90: 0 | M90: 0 | N90: 0 | O90: 0 | P90: 0 | Q90: 0
C91: итого: | D91: =D80+D81+D82+D83+D84+D85+D86+D87+D88+D89+D90 -> 12 | E91: =E80+E81+E82+E83+E84+E85+E86+E87+E88+E89+E90 -> 190 | F91: =F80+F81+F82+F83+F84+F85+F86+F87+F88+F89+F90 -> 12 | G91: =G80+G81+G82+G83+G84+G85+G86+G87+G88+G89+G90 -> 190 | H91: =H80+H81+H82+H83+H84+H85+H86+H87+H88+H89+H90 -> 1 | I91: =I80+I81+I82+I83+I84+I85+I86+I87+I88+I89+I90 -> 5 | J91: =J80+J81+J82+J83+J84+J85+J86+J87+J88+J89+J90 -> 2 | K91: =K80+K81+K82+K83+K84+K85+K86+K87+K88+K89+K90 -> 12 | ... Q91: =Q80+Q81+Q82+Q83+Q84+Q85+Q86+Q87+Q88+Q89+Q90 -> 0
C92: Черекская группа ПС
C93: ПС «Кашхатау» | D93: ='апрель 2014г. по 6-10'!D93+'апрель 2014г. по 0,4'!D90 -> 0 | E93: ='апрель 2014г. по 6-10'!E93+'апрель 2014г. по 0,4'!E90 -> 0 | F93: ='апрель 2014г. по 6-10'!F93+'апрель 2014г. по 0,4'!F90 -> 0 | G93: ='апрель 2014г. по 6-10'!G93+'апрель 2014г. по 0,4'!G90 -> 0 | H93: 1 | I93: 15 | J93: ='апрель 2014г. по 6-10'!J93+'апрель 2014г. по 0,4'!J90 -> 0 | K93: ='апрель 2014г. по 6-10'!K93+'апрель 2014г. по 0,4'!K90 -> 0 | L93: 0 | M93: 0 | N93: 0 | O93: 0 | P93: 0 | Q93: 0
C94: ПС «Аушигер» | D94: ='апрель 2014г. по 6-10'!D94+'апрель 2014г. по 0,4'!D91 -> 8 | E94: ='апрель 2014г. по 6-10'!E94+'апрель 2014г. по 0,4'!E91 -> 99 | F94: ='апрель 2014г. по 6-10'!F94+'апрель 2014г. по 0,4'!F91 -> 8 | G94: ='апрель 2014г. по 6-10'!G94+'апрель 2014г. по 0,4'!G91 -> 99 | H94: 0 | I94: 0 | J94: ='апрель 2014г. по 6-10'!J94+'апрель 2014г. по 0,4'!J91 -> 0 | K94: ='апрель 2014г. по 6-10'!K94+'апрель 2014г. по 0,4'!K91 -> 0 | L94: 0 | M94: 0 | N94: 0 | O94: 0 | P94: 0 | Q94: 0
C95: ПС «Советская» | D95: ='апрель 2014г. по 6-10'!D95+'апрель 2014г. по 0,4'!D92 -> 0 | E95: ='апрель 2014г. по 6-10'!E95+'апрель 2014г. по 0,4'!E92 -> 0 | F95: ='апрель 2014г. по 6-10'!F95+'апрель 2014г. по 0,4'!F92 -> 0 | G95: ='апрель 2014г. по 6-10'!G95+'апрель 2014г. по 0,4'!G92 -> 0 | H95: 0 | I95: 0 | J95: ='апрель 2014г. по 6-10'!J95+'апрель 2014г. по 0,4'!J92 -> 0 | K95: ='апрель 2014г. по 6-10'!K95+'апрель 2014г. по 0,4'!K92 -> 0 | L95: 0 | M95: 0 | N95: 0 | O95: 0 | P95: 0 | Q95: 0
C96: ПС «Кара-Су» | D96: ='апрель 2014г. по 6-10'!D96+'апрель 2014г. по 0,4'!D93 -> 0 | E96: ='апрель 2014г. по 6-10'!E96+'апрель 2014г. по 0,4'!E93 -> 0 | F96: ='апрель 2014г. по 6-10'!F96+'апрель 2014г. по 0,4'!F93 -> 0 | G96: ='апрель 2014г. по 6-10'!G96+'апрель 2014г. по 0,4'!G93 -> 0 | H96: 0 | I96: 0 | J96: ='апрель 2014г. по 6-10'!J96+'апрель 2014г. по 0,4'!J93 -> 0 | K96: ='апрель 2014г. по 6-10'!K96+'апрель 2014г. по 0,4'!K93 -> 0 | L96: 0 | M96: 0 | N96: 0 | O96: 0 | P96: 0 | Q96: 0
C97: ПС «ЦСБ» | D97: ='апрель 2014г. по 6-10'!D97+'апрель 2014г. по 0,4'!D94 -> 1 | E97: ='апрель 2014г. по 6-10'!E97+'апрель 2014г. по 0,4'!E94 -> 6 | F97: ='апрель 2014г. по 6-10'!F97+'апрель 2014г. по 0,4'!F94 -> 1 | G97: ='апрель 2014г. по 6-10'!G97+'апрель 2014г. по 0,4'!G94 -> 6 | H97: 0 | I97: 0 | J97: ='апрель 2014г. по 6-10'!J97+'апрель 2014г. по 0,4'!J94 -> 0 | K97: ='апрель 2014г. по 6-10'!K97+'апрель 2014г. по 0,4'!K94 -> 0 | L97: 0 | M97: 0 | N97: 0 | O97: 0 | P97: 0 | Q97: 0
C98: ПС «Портал-2» | D98: ='апрель 2014г. по 6-10'!D98+'апрель 2014г. по 0,4'!D95 -> 2 | E98: ='апрель 2014г. по 6-10'!E98+'апрель 2014г. по 0,4'!E95 -> 16 | F98: ='апрель 2014г. по 6-10'!F98+'апрель 2014г. по 0,4'!F95 -> 2 | G98: ='апрель 2014г. по 6-10'!G98+'апрель 2014г. по 0,4'!G95 -> 16 | H98: 0 | I98: 0 | J98: ='апрель 2014г. по 6-10'!J98+'апрель 2014г. по 0,4'!J95 -> 0 | K98: ='апрель 2014г. по 6-10'!K98+'апрель 2014г. по 0,4'!K95 -> 0 | L98: 0 | M98: 0 | N98: 0 | O98: 0 | P98: 0 | Q98: 0
C99: ПС «Портал-1» | D99: ='апрель 2014г. по 6-10'!D99+'апрель 2014г. по 0,4'!D96 -> 0 | E99: ='апрель 2014г. по 6-10'!E99+'апрель 2014г. по 0,4'!E96 -> 0 | F99: ='апрель 2014г. по 6-10'!F99+'апрель 2014г. по 0,4'!F96 -> 0 | G99: ='апрель 2014г. по 6-10'!G99+'апрель 2014г. по 0,4'!G96 -> 0 | H99: 0 | I99: 0 | J99: ='апрель 2014г. по 6-10'!J99+'апрель 2014г. по 0,4'!J96 -> 0 | K99: ='апрель 2014г. по 6-10'!K99+'апрель 2014г. по 0,4'!K96 -> 0 | L99: 0 | M99: 0 | N99: 0 | O99: 0 | P99: 0 | Q99: 0
C100: ПС «Бабугент» | D100: ='апрель 2014г. по 6-10'!D100+'апрель 2014г. по 0,4'!D97 -> 3 | E100: ='апрель 2014г. по 6-10'!E100+'апрель 2014г. по 0,4'!E97 -> 18 | F100: ='апрель 2014г. по 6-10'!F100+'апрель 2014г. по 0,4'!F97 -> 3 | G100: ='апрель 2014г. по 6-10'!G100+'апрель 2014г. по 0,4'!G97 -> 18 | H100: 0 | I100: 0 | J100: ='апрель 2014г. по 6-10'!J100+'апрель 2014г. по 0,4'!J97 -> 1 | K100: ='апрель 2014г. по 6-10'!K100+'апрель 2014г. по 0,4'!K97 -> 6 | L100: 0 | M100: 0 | N100: 0 | O100: 0 | P100: 0 | Q100: 0
C101: ПС «Мухольская ГЭС» | D101: ='апрель 2014г. по 6-10'!D101+'апрель 2014г. по 0,4'!D98 -> 0 | E101: ='апрель 2014г. по 6-10'!E101+'апрель 2014г. по 0,4'!E98 -> 0 | F101: ='апрель 2014г. по 6-10'!F101+'апрель 2014г. по 0,4'!F98 -> 0 | G101: ='апрель 2014г. по 6-10'!G101+'апрель 2014г. по 0,4'!G98 -> 0 | H101: 0 | I101: 0 | J101: ='апрель 2014г. по 6-10'!J101+'апрель 2014г. по 0,4'!J98 -> 0 | K101: ='апрель 2014г. по 6-10'!K101+'апрель 2014г. по 0,4'!K98 -> 0 | L101: 0 | M101: 0 | N101: 0 | O101: 0 | P101: 0 | Q101: 0
C102: итого: | D102: =D93+D94+D95+D96+D97+D98+D99+D100+D101 -> 14 | E102: =E93+E94+E95+E96+E97+E98+E99+E100+E101 -> 139 | F102: =F93+F94+F95+F96+F97+F98+F99+F100+F101 -> 14 | G102: =G93+G94+G95+G96+G97+G98+G99+G100+G101 -> 139 | H102: =H93+H94+H95+H96+H97+H98+H99+H100+H101 -> 1 | I102: =I93+I94+I95+I96+I97+I98+I99+I100+I101 -> 15 | J102: =J93+J94+J95+J96+J97+J98+J99+J100+J101 -> 1 | K102: =K93+K94+K95+K96+K97+K98+K99+K100+K101 -> 6 | ... Q102: =Q93+Q94+Q95+Q96+Q97+Q98+Q99+Q100+Q101 -> 0
C103: Нарткалинская группа ПС
C104: ПС «Нарткала» | D104: ='апрель 2014г. по 6-10'!D104+'апрель 2014г. по 0,4'!D101 -> 0 | E104: ='апрель 2014г. по 6-10'!E104+'апрель 2014г. по 0,4'!E101 -> 0 | F104: ='апрель 2014г. по 6-10'!F104+'апрель 2014г. по 0,4'!F101 -> 0 | G104: ='апрель 2014г. по 6-10'!G104+'апрель 2014г. по 0,4'!G101 -> 0 | H104: 1 | I104: 15 | J104: ='апрель 2014г. по 6-10'!J104+'апрель 2014г. по 0,4'!J101 -> 0 | K104: ='апрель 2014г. по 6-10'!K104+'апрель 2014г. по 0,4'!K101 -> 0 | L104: 0 | M104: 0 | N104: 0 | O104: 0 | P104: 0 | Q104: 0
C105: ПС «Псыгансу» | D105: ='апрель 2014г. по 6-10'!D105+'апрель 2014г. по 0,4'!D102 -> 15 | E105: ='апрель 2014г. по 6-10'!E105+'апрель 2014г. по 0,4'!E102 -> 1202 | F105: ='апрель 2014г. по 6-10'!F105+'апрель 2014г. по 0,4'!F102 -> 15 | G105: ='апрель 2014г. по 6-10'!G105+'апрель 2014г. по 0,4'!G102 -> 1202 | H105: 0 | I105: 0 | J105: ='апрель 2014г. по 6-10'!J105+'апрель 2014г. по 0,4'!J102 -> 0 | K105: ='апрель 2014г. по 6-10'!K105+'апрель 2014г. по 0,4'!K102 -> 0 | L105: 0 | M105: 0 | N105: 0 | O105: 0 | P105: 0 | Q105: 0
C106: ПС «Ст.Лескен» | D106: ='апрель 2014г. по 6-10'!D106+'апрель 2014г. по 0,4'!D103 -> 14 | E106: ='апрель 2014г. по 6-10'!E106+'апрель 2014г. по 0,4'!E103 -> 308 | F106: ='апрель 2014г. по 6-10'!F106+'апрель 2014г. по 0,4'!F103 -> 14 | G106: ='апрель 2014г. по 6-10'!G106+'апрель 2014г. по 0,4'!G103 -> 308 | H106: 0 | I106: 0 | J106: ='апрель 2014г. по 6-10'!J106+'апрель 2014г. по 0,4'!J103 -> 0 | K106: ='апрель 2014г. по 6-10'!K106+'апрель 2014г. по 0,4'!K103 -> 0 | L106: 0 | M106: 0 | N106: 0 | O106: 0 | P106: 0 | Q106: 0
C107: ПС «Кахун» | D107: ='апрель 2014г. по 6-10'!D107+'апрель 2014г. по 0,4'!D104 -> 2 | E107: ='апрель 2014г. по 6-10'!E107+'апрель 2014г. по 0,4'!E104 -> 20 | F107: ='апрель 2014г. по 6-10'!F107+'апрель 2014г. по 0,4'!F104 -> 2 | G107: ='апрель 2014г. по 6-10'!G107+'апрель 2014г. по 0,4'!G104 -> 20 | H107: 0 | I107: 0 | J107: ='апрель 2014г. по 6-10'!J107+'апрель 2014г. по 0,4'!J104 -> 0 | K107: ='апрель 2014г. по 6-10'!K107+'апрель 2014г. по 0,4'!K104 -> 0 | L107: 0 | M107: 0 | N107: 0 | O107: 0 | P107: 0 | Q107: 0
C108: ПС «Заводская» | D108: ='апрель 2014г. по 6-10'!D108+'апрель 2014г. по 0,4'!D105 -> 10 | E108: ='апрель 2014г. по 6-10'!E108+'апрель 2014г. по 0,4'!E105 -> 805 | F108: ='апрель 2014г. по 6-10'!F108+'апрель 2014г. по 0,4'!F105 -> 10 | G108: ='апрель 2014г. по 6-10'!G108+'апрель 2014г. по 0,4'!G105 -> 805 | H108: 0 | I108: 0 | J108: ='апрель 2014г. по 6-10'!J108+'апрель 2014г. по 0,4'!J105 -> 2 | K108: ='апрель 2014г. по 6-10'!K108+'апрель 2014г. по 0,4'!K105 -> 10 | L108: 0 | M108: 0 | N108: 0 | O108: 0 | P108: 0 | Q108: 0
C109: ПС «Герменчик» | D109: ='апрель 2014г. по 6-10'!D109+'апрель 2014г. по 0,4'!D106 -> 7 | E109: ='апрель 2014г. по 6-10'!E109+'апрель 2014г. по 0,4'!E106 -> 105 | F109: ='апрель 2014г. по 6-10'!F109+'апрель 2014г. по 0,4'!F106 -> 7 | G109: ='апрель 2014г. по 6-10'!G109+'апрель 2014г. по 0,4'!G106 -> 105 | H109: 0 | I109: 0 | J109: ='апрель 2014г. по 6-10'!J109+'апрель 2014г. по 0,4'!J106 -> 1 | K109: ='апрель 2014г. по 6-10'!K109+'апрель 2014г. по 0,4'!K106 -> 10 | L109: 0 | M109: 0 | N109: 0 | O109: 0 | P109: 0 | Q109: 0
C110: ПС «Ст.Урух» | D110: ='апрель 2014г. по 6-10'!D110+'апрель 2014г. по 0,4'!D107 -> 4 | E110: ='апрель 2014г. по 6-10'!E110+'апрель 2014г. по 0,4'!E107 -> 111.5 | F110: ='апрель 2014г. по 6-10'!F110+'апрель 2014г. по 0,4'!F107 -> 4 | G110: ='апрель 2014г. по 6-10'!G110+'апрель 2014г. по 0,4'!G107 -> 111.5 | H110: 0 | I110: 0 | J110: ='апрель 2014г. по 6-10'!J110+'апрель 2014г. по 0,4'!J107 -> 0 | K110: ='апрель 2014г. по 6-10'!K110+'апрель 2014г. по 0,4'!K107 -> 0 | L110: 0 | M110: 0 | N110: 0 | O110: 0 | P110: 0 | Q110: 0
C111: ПС «Аргудан» | D111: ='апрель 2014г. по 6-10'!D111+'апрель 2014г. по 0,4'!D108 -> 4 | E111: ='апрель 2014г. по 6-10'!E111+'апрель 2014г. по 0,4'!E108 -> 55 | F111: ='апрель 2014г. по 6-10'!F111+'апрель 2014г. по 0,4'!F108 -> 4 | G111: ='апрель 2014г. по 6-10'!G111+'апрель 2014г. по 0,4'!G108 -> 55 | H111: 0 | I111: 0 | J111: ='апрель 2014г. по 6-10'!J111+'апрель 2014г. по 0,4'!J108 -> 0 | K111: ='апрель 2014г. по 6-10'!K111+'апрель 2014г. по 0,4'!K108 -> 0 | L111: 0 | M111: 0 | N111: 0 | O111: 0 | P111: 0 | Q111: 0
C112: ПС «Лескен-1» | D112: ='апрель 2014г. по 6-10'!D112+'апрель 2014г. по 0,4'!D109 -> 18 | E112: ='апрель 2014г. по 6-10'!E112+'апрель 2014г. по 0,4'!E109 -> 202 | F112: ='апрель 2014г. по 6-10'!F112+'апрель 2014г. по 0,4'!F109 -> 18 | G112: ='апрель 2014г. по 6-10'!G112+'апрель 2014г. по 0,4'!G109 -> 202 | H112: 2 | I112: 45 | J112: ='апрель 2014г. по 6-10'!J112+'апрель 2014г. по 0,4'!J109 -> 2 | K112: ='апрель 2014г. по 6-10'!K112+'апрель 2014г. по 0,4'!K109 -> 15 | L112: 0 | M112: 0 | N112: 0 | O112: 0 | P112: 0 | Q112: 0
...

Sheet апрель 2014г
B14: Информация о технологическом присоединении энергопринимающих устройств к сетям ОАО Дагэнергосеть филиалом ОАО "МРСК Северного Кавказа" за апрель 2014г.
A19: Наименование организации, осуществляющей технологическое присоединение | B19: Наименование субъекта РФ | C19: Наименование центра питания (ПС 35 кВ и выше) | D19: Количество поданных заявок на технологическое присоединение, на общую мощность энергопринимающих устройств, кВт | F19: Заключено договоров на технологическое присоединение, включающие технические условия на общую мощность энергопринимающих устройств, кВт | H19: Расторгнуто договоров на технологическое присоединение, включающие технические условия на общую мощность энергопринимающих устройств, кВт | J19: Суммарная мощность энегргопринимающих устройств, присоединенных к электрическим сетям в соответствии с договором на технологическое присоединение за отчетный период, кВт | L19: Заключено договоров на технологическое присоединение, включающие технические условия на общую мощность генерирущих установок, МВт | N19: Расторгнуто договоров на технологическое присоединение, включающие технические условия на общую мощность генерирущих установок, МВт | P19: Суммарная мощность генерирущих установок, присоединенных к электрическим сетям в соответствии с договором на технологическое присоединение за отчетный период, МВт
A20: 1 | B20: 2 | C20: 3 | D20: 4 | F20: 5 | H20: 6 | J20: 7 | L20: 8 | N20: 9 | P20: 10
D21: шт | E21: кВт | F21: шт | G21: кВт | H21: шт | I21: кВт | J21: шт | K21: кВт | L21: шт | M21: МВт | N21: шт | O21: МВт | P21: шт | Q21: МВт
A22: Кабардино- Балкарсикй филиал ОАО "МРСК Северного Кавказа" | B22: Республика Дагестан | C22: ЦЕНТРАЛЬНЫЕ СЕТИ
C23: ПС ГПП | D23: ='апрель 2014г. по 6-10'!D23+'апрель 2014г. по 0,4'!D20 -> 0 | E23: ='апрель 2014г. по 6-10'!E23+'апрель 2014г. по 0,4'!E20 -> 0 | F23: ='апрель 2014г. по 6-10'!F23+'апрель 2014г. по 0,4'!F20 -> 0 | G23: ='апрель 2014г. по 6-10'!G23+'апрель 2014г. по 0,4'!G20 -> 0 | H23: ='апрель 2014г. по 6-10'!H23+'апрель 2014г. по 0,4'!H20 -> 0 | I23: ='апрель 2014г. по 6-10'!I23+'апрель 2014г. по 0,4'!I20 -> 0 | J23: ='апрель 2014г. по 6-10'!J23+'апрель 2014г. по 0,4'!J20 -> 0 | K23: ='апрель 2014г. по 6-10'!K23+'апрель 2014г. по 0,4'!K20 -> 0 | ... Q23: ='апрель 2014г. по 6-10'!Q23+'апрель 2014г. по 0,4'!Q20 -> 0
C24: ПС Новая | D24: ='апрель 2014г. по 6-10'!D24+'апрель 2014г. по 0,4'!D21 -> 1 | E24: ='апрель 2014г. по 6-10'!E24+'апрель 2014г. по 0,4'!E21 -> 10 | F24: ='апрель 2014г. по 6-10'!F24+'апрель 2014г. по 0,4'!F21 -> 1 | G24: ='апрель 2014г. по 6-10'!G24+'апрель 2014г. по 0,4'!G21 -> 10 | H24: ='апрель 2014г. по 6-10'!H24+'апрель 2014г. по 0,4'!H21 -> 0 | I24: ='апрель 2014г. по 6-10'!I24+'апрель 2014г. по 0,4'!I21 -> 0 | J24: ='апрель 2014г. по 6-10'!J24+'апрель 2014г. по 0,4'!J21 -> 0 | K24: ='апрель 2014г. по 6-10'!K24+'апрель 2014г. по 0,4'!K21 -> 0 | ... Q24: ='апрель 2014г. по 6-10'!Q24+'апрель 2014г. по 0,4'!Q21 -> 0
C25: ПС ЦПП | D25: ='апрель 2014г. по 6-10'!D25+'апрель 2014г. по 0,4'!D22 -> 0 | E25: ='апрель 2014г. по 6-10'!E25+'апрель 2014г. по 0,4'!E22 -> 0 | F25: ='апрель 2014г. по 6-10'!F25+'апрель 2014г. по 0,4'!F22 -> 0 | G25: ='апрель 2014г. по 6-10'!G25+'апрель 2014г. по 0,4'!G22 -> 0 | H25: ='апрель 2014г. по 6-10'!H25+'апрель 2014г. по 0,4'!H22 -> 0 | I25: ='апрель 2014г. по 6-10'!I25+'апрель 2014г. по 0,4'!I22 -> 0 | J25: ='апрель 2014г. по 6-10'!J25+'апрель 2014г. по 0,4'!J22 -> 0 | K25: ='апрель 2014г. по 6-10'!K25+'апрель 2014г. по 0,4'!K22 -> 0 | ... Q25: ='апрель 2014г. по 6-10'!Q25+'апрель 2014г. по 0,4'!Q22 -> 0
C26: ПС М-110 | D26: ='апрель 2014г. по 6-10'!D26+'апрель 2014г. по 0,4'!D23 -> 3 | E26: ='апрель 2014г. по 6-10'!E26+'апрель 2014г. по 0,4'!E23 -> 380 | F26: ='апрель 2014г. по 6-10'!F26+'апрель 2014г. по 0,4'!F23 -> 3 | G26: ='апрель 2014г. по 6-10'!G26+'апрель 2014г. по 0,4'!G23 -> 380 | H26: ='апрель 2014г. по 6-10'!H26+'апрель 2014г. по 0,4'!H23 -> 0 | I26: ='апрель 2014г. по 6-10'!I26+'апрель 2014г. по 0,4'!I23 -> 0 | J26: ='апрель 2014г. по 6-10'!J26+'апрель 2014г. по 0,4'!J23 -> 0 | K26: ='апрель 2014г. по 6-10'!K26+'апрель 2014г. по 0,4'!K23 -> 0 | ... Q26: ='апрель 2014г. по 6-10'!Q26+'апрель 2014г. по 0,4'!Q23 -> 0
C27: ПС Очистные соор. | D27: ='апрель 2014г. по 6-10'!D27+'апрель 2014г. по 0,4'!D24 -> 0 | E27: ='апрель 2014г. по 6-10'!E27+'апрель 2014г. по 0,4'!E24 -> 0 | F27: ='апрель 2014г. по 6-10'!F27+'апрель 2014г. по 0,4'!F24 -> 0 | G27: ='апрель 2014г. по 6-10'!G27+'апрель 2014г. по 0,4'!G24 -> 0 | H27: ='апрель 2014г. по 6-10'!H27+'апрель 2014г. по 0,4'!H24 -> 0 | I27: ='апрель 2014г. по 6-10'!I27+'апрель 2014г. по 0,4'!I24 -> 0 | J27: ='апрель 2014г. по 6-10'!J27+'апрель 2014г. по 0,4'!J24 -> 0 | K27: ='апрель 2014г. по 6-10'!K27+'апрель 2014г. по 0,4'!K24 -> 0 | ... Q27: ='апрель 2014г. по 6-10'!Q27+'апрель 2014г. по 0,4'!Q24 -> 0
C28: ПС Ю-Восточная | D28: ='апрель 2014г. по 6-10'!D28+'апрель 2014г. по 0,4'!D25 -> 0 | E28: ='апрель 2014г. по 6-10'!E28+'апрель 2014г. по 0,4'!E25 -> 0 | F28: ='апрель 2014г. по 6-10'!F28+'апрель 2014г. по 0,4'!F25 -> 0 | G28: ='апрель 2014г. по 6-10'!G28+'апрель 2014г. по 0,4'!G25 -> 0 | H28: ='апрель 2014г. по 6-10'!H28+'апрель 2014г. по 0,4'!H25 -> 0 | I28: ='апрель 2014г. по 6-10'!I28+'апрель 2014г. по 0,4'!I25 -> 0 | J28: ='апрель 2014г. по 6-10'!J28+'апрель 2014г. по 0,4'!J25 -> 0 | K28: ='апрель 2014г. по 6-10'!K28+'апрель 2014г. по 0,4'!K25 -> 0 | ... Q28: ='апрель 2014г. по 6-10'!Q28+'апрель 2014г. по 0,4'!Q25 -> 0
C29: ПС Приморская | D29: ='апрель 2014г. по 6-10'!D29+'апрель 2014г. по 0,4'!D26 -> 0 | E29: ='апрель 2014г. по 6-10'!E29+'апрель 2014г. по 0,4'!E26 -> 0 | F29: ='апрель 2014г. по 6-10'!F29+'апрель 2014г. по 0,4'!F26 -> 0 | G29: ='апрель 2014г. по 6-10'!G29+'апрель 2014г. по 0,4'!G26 -> 0 | H29: ='апрель 2014г. по 6-10'!H29+'апрель 2014г. по 0,4'!H26 -> 0 | I29: ='апрель 2014г. по 6-10'!I29+'апрель 2014г. по 0,4'!I26 -> 0 | J29: ='апрель 2014г. по 6-10'!J29+'апрель 2014г. по 0,4'!J26 -> 0 | K29: ='апрель 2014г. по 6-10'!K29+'апрель 2014г. по 0,4'!K26 -> 0 | ... Q29: ='апрель 2014г. по 6-10'!Q29+'апрель 2014г. по 0,4'!Q26 -> 0
C30: ПС Насосная -1 | D30: ='апрель 2014г. по 6-10'!D30+'апрель 2014г. по 0,4'!D27 -> 6 | E30: ='апрель 2014г. по 6-10'!E30+'апрель 2014г. по 0,4'!E27 -> 124.4 | F30: ='апрель 2014г. по 6-10'!F30+'апрель 2014г. по 0,4'!F27 -> 6 | G30: ='апрель 2014г. по 6-10'!G30+'апрель 2014г. по 0,4'!G27 -> 124.4 | H30: ='апрель 2014г. по 6-10'!H30+'апрель 2014г. по 0,4'!H27 -> 0 | I30: ='апрель 2014г. по 6-10'!I30+'апрель 2014г. по 0,4'!I27 -> 0 | J30: ='апрель 2014г. по 6-10'!J30+'апрель 2014г. по 0,4'!J27 -> 1 | K30: ='апрель 2014г. по 6-10'!K30+'апрель 2014г. по 0,4'!K27 -> 10 | ... Q30: ='апрель 2014г. по 6-10'!Q30+'апрель 2014г. по 0,4'!Q27 -> 0
C31: ПС Радиоцентр | D31: ='апрель 2014г. по 6-10'!D31+'апрель 2014г. по 0,4'!D28 -> 2 | E31: ='апрель 2014г. по 6-10'!E31+'апрель 2014г. по 0,4'!E28 -> 64 | F31: ='апрель 2014г. по 6-10'!F31+'апрель 2014г. по 0,4'!F28 -> 2 | G31: ='апрель 2014г. по 6-10'!G31+'апрель 2014г. по 0,4'!G28 -> 64 | H31: ='апрель 2014г. по 6-10'!H31+'апрель 2014г. по 0,4'!H28 -> 0 | I31: ='апрель 2014г. по 6-10'!I31+'апрель 2014г. по 0,4'!I28 -> 0 | J31: ='апрель 2014г. по 6-10'!J31+'апрель 2014г. по 0,4'!J28 -> 0 | K31: ='апрель 2014г. по 6-10'!K31+'апрель 2014г. по 0,4'!K28 -> 0 | ... Q31: ='апрель 2014г. по 6-10'!Q31+'апрель 2014г. по 0,4'!Q28 -> 0
C32: ПС Изберг- Сев. | D32: ='апрель 2014г. по 6-10'!D32+'апрель 2014г. по 0,4'!D29 -> 12 | E32: ='апрель 2014г. по 6-10'!E32+'апрель 2014г. по 0,4'!E29 -> 554 | F32: ='апрель 2014г. по 6-10'!F32+'апрель 2014г. по 0,4'!F29 -> 12 | G32: ='апрель 2014г. по 6-10'!G32+'апрель 2014г. по 0,4'!G29 -> 554 | H32: ='апрель 2014г. по 6-10'!H32+'апрель 2014г. по 0,4'!H29 -> 0 | I32: ='апрель 2014г. по 6-10'!I32+'апрель 2014г. по 0,4'!I29 -> 0 | J32: ='апрель 2014г. по 6-10'!J32+'апрель 2014г. по 0,4'!J29 -> 0 | K32: ='апрель 2014г. по 6-10'!K32+'апрель 2014г. по 0,4'!K29 -> 0 | ... Q32: ='апрель 2014г. по 6-10'!Q32+'апрель 2014г. по 0,4'!Q29 -> 0
C33: ПС Изберг- Южн. | D33: ='апрель 2014г. по 6-10'!D33+'апрель 2014г. по 0,4'!D30 -> 4 | E33: ='апрель 2014г. по 6-10'!E33+'апрель 2014г. по 0,4'!E30 -> 84 | F33: ='апрель 2014г. по 6-10'!F33+'апрель 2014г. по 0,4'!F30 -> 4 | G33: ='апрель 2014г. по 6-10'!G33+'апрель 2014г. по 0,4'!G30 -> 84 | H33: ='апрель 2014г. по 6-10'!H33+'апрель 2014г. по 0,4'!H30 -> 0 | I33: ='апрель 2014г. по 6-10'!I33+'апрель 2014г. по 0,4'!I30 -> 0 | J33: ='апрель 2014г. по 6-10'!J33+'апрель 2014г. по 0,4'!J30 -> 0 | K33: ='апрель 2014г. по 6-10'!K33+'апрель 2014г. по 0,4'!K30 -> 0 | ... Q33: ='апрель 2014г. по 6-10'!Q33+'апрель 2014г. по 0,4'!Q30 -> 0
C34: ПС Карабуд-т | D34: ='апрель 2014г. по 6-10'!D34+'апрель 2014г. по 0,4'!D31 -> 6 | E34: ='апрель 2014г. по 6-10'!E34+'апрель 2014г. по 0,4'!E31 -> 82 | F34: ='апрель 2014г. по 6-10'!F34+'апрель 2014г. по 0,4'!F31 -> 6 | G34: ='апрель 2014г. по 6-10'!G34+'апрель 2014г. по 0,4'!G31 -> 82 | H34: ='апрель 2014г. по 6-10'!H34+'апрель 2014г. по 0,4'!H31 -> 0 | I34: ='апрель 2014г. по 6-10'!I34+'апрель 2014г. по 0,4'!I31 -> 0 | J34: ='апрель 2014г. по 6-10'!J34+'апрель 2014г. по 0,4'!J31 -> 2 | K34: ='апрель 2014г. по 6-10'!K34+'апрель 2014г. по 0,4'!K31 -> 27 | ... Q34: ='апрель 2014г. по 6-10'!Q34+'апрель 2014г. по 0,4'!Q31 -> 0
... C64: Точная механика | D64: ='апрель 2014г. по 6-10'!D64+'апрель 2014г. по 0,4'!D61 -> 0 | E64: ='апрель 2014г. по 6-10'!E64+'апрель 2014г. по 0,4'!E61 -> 0 | F64: ='апрель 2014г. по 6-10'!F64+'апрель 2014г. по 0,4'!F61 -> 0 | G64: ='апрель 2014г. по 6-10'!G64+'апрель 2014г. по 0,4'!G61 -> 0 | H64: ='апрель 2014г. по 6-10'!H64+'апрель 2014г. по 0,4'!H61 -> 0 | I64: ='апрель 2014г. по 6-10'!I64+'апрель 2014г. по 0,4'!I61 -> 0 | J64: ='апрель 2014г. по 6-10'!J64+'апрель 2014г. по 0,4'!J61 -> 0 | K64: ='апрель 2014г. по 6-10'!K64+'апрель 2014г. по 0,4'!K61 -> 0 | ... Q64: ='апрель 2014г. по 6-10'!Q64+'апрель 2014г. по 0,4'!Q61 -> 0
C65: итого: | D65: =SUM(D23:D64) -> 183 | E65: =SUM(E23:E64) -> 6092.9 | F65: =SUM(F23:F64) -> 182 | G65: =SUM(G23:G64) -> 6092.9 | H65: =SUM(H23:H64) -> 0 | I65: =SUM(I23:I64) -> 0 | J65: =SUM(J23:J64) -> 20 | K65: =SUM(K23:K64) -> 184.5 | ... Q65: =SUM(Q23:Q64) -> 0
C66: СЕВЕРНЫЕ СЕТИ
C67: Ярыксу | D67: ='апрель 2014г. по 6-10'!D67+'апрель 2014г. по 0,4'!D64 -> 20 | E67: ='апрель 2014г. по 6-10'!E67+'апрель 2014г. по 0,4'!E64 -> 586 | F67: ='апрель 2014г. по 6-10'!F67+'апрель 2014г. по 0,4'!F64 -> 20 | G67: ='апрель 2014г. по 6-10'!G67+'апрель 2014г. по 0,4'!G64 -> 586 | H67: ='апрель 2014г. по 6-10'!H67+'апрель 2014г. по 0,4'!H64 -> 0 | I67: ='апрель 2014г. по 6-10'!I67+'апрель 2014г. по 0,4'!I64 -> 0 | J67: ='апрель 2014г. по 6-10'!J67+'апрель 2014г. по 0,4'!J64 -> 5 | K67: ='апрель 2014г. по 6-10'!K67+'апрель 2014г. по 0,4'!K64 -> 52 | ... Q67: ='апрель 2014г. по 6-10'!Q67+'апрель 2014г. по 0,4'!Q64 -> 0
C68: Акташ | D68: ='апрель 2014г. по 6-10'!D68+'апрель 2014г. по 0,4'!D65 -> 24 | E68: ='апрель 2014г. по 6-10'!E68+'апрель 2014г. по 0,4'!E65 -> 523.5 | F68: ='апрель 2014г. по 6-10'!F68+'апрель 2014г. по 0,4'!F65 -> 24 | G68: ='апрель 2014г. по 6-10'!G68+'апрель 2014г. по 0,4'!G65 -> 523.5 | H68: ='апрель 2014г. по 6-10'!H68+'апрель 2014г. по 0,4'!H65 -> 0 | I68: ='апрель 2014г. по 6-10'!I68+'апрель 2014г. по 0,4'!I65 -> 0 | J68: ='апрель 2014г. по 6-10'!J68+'апрель 2014г. по 0,4'!J65 -> 4 | K68: ='апрель 2014г. по 6-10'!K68+'апрель 2014г. по 0,4'!K65 -> 50 | ... Q68: ='апрель 2014г. по 6-10'!Q68+'апрель 2014г. по 0,4'!Q65 -> 0
C69: Куруш | D69: ='апрель 2014г. по 6-10'!D69+'апрель 2014г. по 0,4'!D66 -> 8 | E69: ='апрель 2014г. по 6-10'!E69+'апрель 2014г. по 0,4'!E66 -> 619.5 | F69: ='апрель 2014г. по 6-10'!F69+'апрель 2014г. по 0,4'!F66 -> 8 | G69: ='апрель 2014г. по 6-10'!G69+'апрель 2014г. по 0,4'!G66 -> 619.5 | H69: ='апрель 2014г. по 6-10'!H69+'апрель 2014г. по 0,4'!H66 -> 0 | I69: ='апрель 2014г. по 6-10'!I69+'апрель 2014г. по 0,4'!I66 -> 0 | J69: ='апрель 2014г. по 6-10'!J69+'апрель 2014г. по 0,4'!J66 -> 2 | K69: ='апрель 2014г. по 6-10'!K69+'апрель 2014г. по 0,4'!K66 -> 10 | ... Q69: ='апрель 2014г. по 6-10'!Q69+'апрель 2014г. по 0,4'!Q66 -> 0
C70: Сулевкент | D70: ='апрель 2014г. по 6-10'!D70+'апрель 2014г. по 0,4'!D67 -> 0 | E70: ='апрель 2014г. по 6-10'!E70+'апрель 2014г. по 0,4'!E67 -> 0 | F70: ='апрель 2014г. по 6-10'!F70+'апрель 2014г. по 0,4'!F67 -> 0 | G70: ='апрель 2014г. по 6-10'!G70+'апрель 2014г. по 0,4'!G67 -> 0 | H70: ='апрель 2014г. по 6-10'!H70+'апрель 2014г. по 0,4'!H67 -> 0 | I70: ='апрель 2014г. по 6-10'!I70+'апрель 2014г. по 0,4'!I67 -> 0 | J70: ='апрель 2014г. по 6-10'!J70+'апрель 2014г. по 0,4'!J67 -> 0 | K70: ='апрель 2014г. по 6-10'!K70+'апрель 2014г. по 0,4'!K67 -> 0 | ... Q70: ='апрель 2014г. по 6-10'!Q70+'апрель 2014г. по 0,4'!Q67 -> 0
C71: Бабаюрт | D71: ='апрель 2014г. по 6-10'!D71+'апрель 2014г. по 0,4'!D68 -> 5 | E71: ='апрель 2014г. по 6-10'!E71+'апрель 2014г. по 0,4'!E68 -> 55 | F71: ='апрель 2014г. по 6-10'!F71+'апрель 2014г. по 0,4'!F68 -> 5 | G71: ='апрель 2014г. по 6-10'!G71+'апрель 2014г. по 0,4'!G68 -> 55 | H71: ='апрель 2014г. по 6-10'!H71+'апрель 2014г. по 0,4'!H68 -> 0 | I71: ='апрель 2014г. по 6-10'!I71+'апрель 2014г. по 0,4'!I68 -> 0 | J71: ='апрель 2014г. по 6-10'!J71+'апрель 2014г. по 0,4'!J68 -> 0 | K71: ='апрель 2014г. по 6-10'!K71+'апрель 2014г. по 0,4'!K68 -> 0 | ... Q71: ='апрель 2014г. по 6-10'!Q71+'апрель 2014г. по 0,4'!Q68 -> 0
C72: Чиркей | D72: ='апрель 2014г. по 6-10'!D72+'апрель 2014г. по 0,4'!D69 -> 1 | E72: ='апрель 2014г. по 6-10'!E72+'апрель 2014г. по 0,4'!E69 -> 10 | F72: ='апрель 2014г. по 6-10'!F72+'апрель 2014г. по 0,4'!F69 -> 1 | G72: ='апрель 2014г. по 6-10'!G72+'апрель 2014г. по 0,4'!G69 -> 10 | H72: ='апрель 2014г. по 6-10'!H72+'апрель 2014г. по 0,4'!H69 -> 0 | I72: ='апрель 2014г. по 6-10'!I72+'апрель 2014г. по 0,4'!I69 -> 0 | J72: ='апрель 2014г. по 6-10'!J72+'апрель 2014г. по 0,4'!J69 -> 0 | K72: ='апрель 2014г. по 6-10'!K72+'апрель 2014г. по 0,4'!K69 -> 0 | ... Q72: ='апрель 2014г. по 6-10'!Q72+'апрель 2014г. по 0,4'!Q69 -> 0
C73: Дылым | D73: ='апрель 2014г. по 6-10'!D73+'апрель 2014г. по 0,4'!D70 -> 0 | E73: ='апрель 2014г. по 6-10'!E73+'апрель 2014г. по 0,4'!E70 -> 0 | F73: ='апрель 2014г. по 6-10'!F73+'апрель 2014г. по 0,4'!F70 -> 0 | G73: ='апрель 2014г. по 6-10'!G73+'апрель 2014г. по 0,4'!G70 -> 0 | H73: ='апрель 2014г. по 6-10'!H73+'апрель 2014г. по 0,4'!H70 -> 0 | I73: ='апрель 2014г. по 6-10'!I73+'апрель 2014г. по 0,4'!I70 -> 0 | J73: ='апрель 2014г. по 6-10'!J73+'апрель 2014г. по 0,4'!J70 -> 0 | K73: ='апрель 2014г. по 6-10'!K73+'апрель 2014г. по 0,4'!K70 -> 0 | ... Q73: ='апрель 2014г. по 6-10'!Q73+'апрель 2014г. по 0,4'!Q70 -> 0
C74: Миатлы | D74: ='апрель 2014г. по 6-10'!D74+'апрель 2014г. по 0,4'!D71 -> 0 | E74: ='апрель 2014г. по 6-10'!E74+'апрель 2014г. по 0,4'!E71 -> 0 | F74: ='апрель 2014г. по 6-10'!F74+'апрель 2014г. по 0,4'!F71 -> 0 | G74: ='апрель 2014г. по 6-10'!G74+'апрель 2014г. по 0,4'!G71 -> 0 | H74: ='апрель 2014г. по 6-10'!H74+'апрель 2014г. по 0,4'!H71 -> 0 | I74: ='апрель 2014г. по 6-10'!I74+'апрель 2014г. по 0,4'!I71 -> 0 | J74: ='апрель 2014г. по 6-10'!J74+'апрель 2014г. по 0,4'!J71 -> 0 | K74: ='апрель 2014г. по 6-10'!K74+'апрель 2014г. по 0,4'!K71 -> 0 | ... Q74: ='апрель 2014г. по 6-10'!Q74+'апрель 2014г. по 0,4'!Q71 -> 0
C75: ГЩЗ | D75: ='апрель 2014г. по 6-10'!D75+'апрель 2014г. по 0,4'!D72 -> 4 | E75: ='апрель 2014г. по 6-10'!E75+'апрель 2014г. по 0,4'!E72 -> 40 | F75: ='апрель 2014г. по 6-10'!F75+'апрель 2014г. по 0,4'!F72 -> 4 | G75: ='апрель 2014г. по 6-10'!G75+'апрель 2014г. по 0,4'!G72 -> 40 | H75: ='апрель 2014г. по 6-10'!H75+'апрель 2014г. по 0,4'!H72 -> 0 | I75: ='апрель 2014г. по 6-10'!I75+'апрель 2014г. по 0,4'!I72 -> 0 | J75: ='апрель 2014г. по 6-10'!J75+'апрель 2014г. по 0,4'!J72 -> 0 | K75: ='апрель 2014г. по 6-10'!K75+'апрель 2014г. по 0,4'!K72 -> 0 | ... Q75: ='апрель 2014г. по 6-10'!Q75+'апрель 2014г. по 0,4'!Q72 -> 0
C76: Сулак | D76: ='апрель 2014г. по 6-10'!D76+'апрель 2014г. по 0,4'!D73 -> 1 | E76: ='апрель 2014г. по 6-10'!E76+'апрель 2014г. по 0,4'!E73 -> 6 | F76: ='апрель 2014г. по 6-10'!F76+'апрель 2014г. по 0,4'!F73 -> 1 | G76: ='апрель 2014г. по 6-10'!G76+'апрель 2014г. по 0,4'!G73 -> 6 | H76: ='апрель 2014г. по 6-10'!H76+'апрель 2014г. по 0,4'!H73 -> 0 | I76: ='апрель 2014г. по 6-10'!I76+'апрель 2014г. по 0,4'!I73 -> 0 | J76: ='апрель 2014г. по 6-10'!J76+'апрель 2014г. по 0,4'!J73 -> 0 | K76: ='апрель 2014г. по 6-10'!K76+'апрель 2014г. по 0,4'!K73 -> 0 | ... Q76: ='апрель 2014г. по 6-10'!Q76+'апрель 2014г. по 0,4'!Q73 -> 0
C77: Львовская | D77: ='апрель 2014г. по 6-10'!D77+'апрель 2014г. по 0,4'!D74 -> 0 | E77: ='апрель 2014г. по 6-10'!E77+'апрель 2014г. по 0,4'!E74 -> 0 | F77: ='апрель 2014г. по 6-10'!F77+'апрель 2014г. по 0,4'!F74 -> 0 | G77: ='апрель 2014г. по 6-10'!G77+'апрель 2014г. по 0,4'!G74 -> 0 | H77: ='апрель 2014г. по 6-10'!H77+'апрель 2014г. по 0,4'!H74 -> 0 | I77: ='апрель 2014г. по 6-10'!I77+'апрель 2014г. по 0,4'!I74 -> 0 | J77: ='апрель 2014г. по 6-10'!J77+'апрель 2014г. по 0,4'!J74 -> 0 | K77: ='апрель 2014г. по 6-10'!K77+'апрель 2014г. по 0,4'!K74 -> 0 | ... Q77: ='апрель 2014г. по 6-10'!Q77+'апрель 2014г. по 0,4'!Q74 -> 0
C78: Дагестан | D78: ='апрель 2014г. по 6-10'!D78+'апрель 2014г. по 0,4'!D75 -> 9 | E78: ='апрель 2014г. по 6-10'!E78+'апрель 2014г. по 0,4'!E75 -> 74 | F78: ='апрель 2014г. по 6-10'!F78+'апрель 2014г. по 0,4'!F75 -> 9 | G78: ='апрель 2014г. по 6-10'!G78+'апрель 2014г. по 0,4'!G75 -> 74 | H78: ='апрель 2014г. по 6-10'!H78+'апрель 2014г. по 0,4'!H75 -> 0 | I78: ='апрель 2014г. по 6-10'!I78+'апрель 2014г. по 0,4'!I75 -> 0 | J78: ='апрель 2014г. по 6-10'!J78+'апрель 2014г. по 0,4'!J75 -> 0 | K78: ='апрель 2014г. по 6-10'!K78+'апрель 2014г. по 0,4'!K75 -> 0 | ... Q78: ='апрель 2014г. по 6-10'!Q78+'апрель 2014г. по 0,4'!Q75 -> 0
... C102: Карланюрт -(Тяговая) | D102: ='апрель 2014г. по 6-10'!D102+'апрель 2014г. по 0,4'!D99 -> 2 | E102: ='апрель 2014г. по 6-10'!E102+'апрель 2014г. по 0,4'!E99 -> 45 | F102: ='апрель 2014г. по 6-10'!F102+'апрель 2014г. по 0,4'!F99 -> 2 | G102: ='апрель 2014г. по 6-10'!G102+'апрель 2014г. по 0,4'!G99 -> 45 | H102: ='апрель 2014г. по 6-10'!H102+'апрель 2014г. по 0,4'!H99 -> 0 | I102: ='апрель 2014г. по 6-10'!I102+'апрель 2014г. по 0,4'!I99 -> 0 | J102: ='апрель 2014г. по 6-10'!J102+'апрель 2014г. по 0,4'!J99 -> 0 | K102: ='апрель 2014г. по 6-10'!K102+'апрель 2014г. по 0,4'!K99 -> 0 | ... Q102: ='апрель 2014г. по 6-10'!Q102+'апрель 2014г. по 0,4'!Q99 -> 0
C103: итого: | D103: =SUM(D67:D102) -> 103 | E103: =SUM(E67:E102) -> 2311.5 | F103: =SUM(F67:F102) -> 103 | G103: =SUM(G67:G102) -> 2311.5 | H103: =SUM(H67:H102) -> 0 | I103: =SUM(I67:I102) -> 0 | J103: =SUM(J67:J102) -> 14 | K103: =SUM(K67:K102) -> 130 | ... Q103: =SUM(Q67:Q102) -> 0
C104: ДЕРБЕНТСКИЕ СЕТИ
C105: Дербент-330 | D105: ='апрель 2014г. по 6-10'!D105+'апрель 2014г. по 0,4'!D102 -> 15 | E105: ='апрель 2014г. по 6-10'!E105+'апрель 2014г. по 0,4'!E102 -> 1202 | F105: ='апрель 2014г. по 6-10'!F105+'апрель 2014г. по 0,4'!F102 -> 15 | G105: ='апрель 2014г. по 6-10'!G105+'апрель 2014г. по 0,4'!G102 -> 1202 | H105: ='апрель 2014г. по 6-10'!H105+'апрель 2014г. по 0,4'!H102 -> 0 | I105: ='апрель 2014г. по 6-10'!I105+'апрель 2014г. по 0,4'!I102 -> 0 | J105: ='апрель 2014г. по 6-10'!J105+'апрель 2014г. по 0,4'!J102 -> 0 | K105: ='апрель 2014г. по 6-10'!K105+'апрель 2014г. по 0,4'!K102 -> 0 | ... Q105: ='апрель 2014г. по 6-10'!Q105+'апрель 2014г. по 0,4'!Q102 -> 0
C106: Дербент-С | D106: ='апрель 2014г. по 6-10'!D106+'апрель 2014г. по 0,4'!D103 -> 14 | E106: ='апрель 2014г. по 6-10'!E106+'апрель 2014г. по 0,4'!E103 -> 308 | F106: ='апрель 2014г. по 6-10'!F106+'апрель 2014г. по 0,4'!F103 -> 14 | G106: ='апрель 2014г. по 6-10'!G106+'апрель 2014г. по 0,4'!G103 -> 308 | H106: ='апрель 2014г. по 6-10'!H106+'апрель 2014г. по 0,4'!H103 -> 0 | I106: ='апрель 2014г. по 6-10'!I106+'апрель 2014г. по 0,4'!I103 -> 0 | J106: ='апрель 2014г. по 6-10'!J106+'апрель 2014г. по 0,4'!J103 -> 0 | K106: ='апрель 2014г. по 6-10'!K106+'апрель 2014г. по 0,4'!K103 -> 0 | ... Q106: ='апрель 2014г. по 6-10'!Q106+'апрель 2014г. по 0,4'!Q103 -> 0
C107: Мамедкала | D107: ='апрель 2014г. по 6-10'!D107+'апрель 2014г. по 0,4'!D104 -> 2 | E107: ='апрель 2014г. по 6-10'!E107+'апрель 2014г. по 0,4'!E104 -> 20 | F107: ='апрель 2014г. по 6-10'!F107+'апрель 2014г. по 0,4'!F104 -> 2 | G107: ='апрель 2014г. по 6-10'!G107+'апрель 2014г. по 0,4'!G104 -> 20 | H107: ='апрель 2014г. по 6-10'!H107+'апрель 2014г. по 0,4'!H104 -> 0 | I107: ='апрель 2014г. по 6-10'!I107+'апрель 2014г. по 0,4'!I104 -> 0 | J107: ='апрель 2014г. по 6-10'!J107+'апрель 2014г. по 0,4'!J104 -> 0 | K107: ='апрель 2014г. по 6-10'!K107+'апрель 2014г. по 0,4'!K104 -> 0 | ... Q107: ='апрель 2014г. по 6-10'!Q107+'апрель 2014г. по 0,4'!Q104 -> 0
C108: Каякент | D108: ='апрель 2014г. по 6-10'!D108+'апрель 2014г. по 0,4'!D105 -> 10 | E108: ='апрель 2014г. по 6-10'!E108+'апрель 2014г. по 0,4'!E105 -> 805 | F108: ='апрель 2014г. по 6-10'!F108+'апрель 2014г. по 0,4'!F105 -> 10 | G108: ='апрель 2014г. по 6-10'!G108+'апрель 2014г. по 0,4'!G105 -> 805 | H108: ='апрель 2014г. по 6-10'!H108+'апрель 2014г. по 0,4'!H105 -> 0 | I108: ='апрель 2014г. по 6-10'!I108+'апрель 2014г. по 0,4'!I105 -> 0 | J108: ='апрель 2014г. по 6-10'!J108+'апрель 2014г. по 0,4'!J105 -> 2 | K108: ='апрель 2014г. по 6-10'!K108+'апрель 2014г. по 0,4'!K105 -> 10 | ... Q108: ='апрель 2014г. по 6-10'!Q108+'апрель 2014г. по 0,4'!Q105 -> 0
C109: Белиджи | D109: ='апрель 2014г. по 6-10'!D109+'апрель 2014г. по 0,4'!D106 -> 7 | E109: ='апрель 2014г. по 6-10'!E109+'апрель 2014г. по 0,4'!E106 -> 105 | F109: ='апрель 2014г. по 6-10'!F109+'апрель 2014г. по 0,4'!F106 -> 7 | G109: ='апрель 2014г. по 6-10'!G109+'апрель 2014г. по 0,4'!G106 -> 105 | H109: ='апрель 2014г. по 6-10'!H109+'апрель 2014г. по 0,4'!H106 -> 0 | I109: ='апрель 2014г. по 6-10'!I109+'апрель 2014г. по 0,4'!I106 -> 0 | J109: ='апрель 2014г. по 6-10'!J109+'апрель 2014г. по 0,4'!J106 -> 1 | K109: ='апрель 2014г. по 6-10'!K109+'апрель 2014г. по 0,4'!K106 -> 10 | ... Q109: ='апрель 2014г. по 6-10'!Q109+'апрель 2014г. по 0,4'!Q106 -> 0
C110: Касумкент | D110: ='апрель 2014г. по 6-10'!D110+'апрель 2014г. по 0,4'!D107 -> 4 | E110: ='апрель 2014г. по 6-10'!E110+'апрель 2014г. по 0,4'!E107 -> 111.5 | F110: ='апрель 2014г. по 6-10'!F110+'апрель 2014г. по 0,4'!F107 -> 4 | G110: ='апрель 2014г. по 6-10'!G110+'апрель 2014г. по 0,4'!G107 -> 111.5 | H110: ='апрель 2014г. по 6-10'!H110+'апрель 2014г. по 0,4'!H107 -> 0 | I110: ='апрель 2014г. по 6-10'!I110+'апрель 2014г. по 0,4'!I107 -> 0 | J110: ='апрель 2014г. по 6-10'!J110+'апрель 2014г. по 0,4'!J107 -> 0 | K110: ='апрель 2014г. по 6-10'!K110+'апрель 2014г. по 0,4'!K107 -> 0 | ... Q110: ='апрель 2014г. по 6-10'!Q110+'апрель 2014г. по 0,4'!Q107 -> 0
C111: Советская | D111: ='апрель 2014г. по 6-10'!D111+'апрель 2014г. по 0,4'!D108 -> 4 | E111: ='апрель 2014г. по 6-10'!E111+'апрель 2014г. по 0,4'!E108 -> 55 | F111: ='апрель 2014г. по 6-10'!F111+'апрель 2014г. по 0,4'!F108 -> 4 | G111: ='апрель 2014г. по 6-10'!G111+'апрель 2014г. по 0,4'!G108 -> 55 | H111: ='апрель 2014г. по 6-10'!H111+'апрель 2014г. по 0,4'!H108 -> 0 | I111: ='апрель 2014г. по 6-10'!I111+'апрель 2014г. по 0,4'!I108 -> 0 | J111: ='апрель 2014г. по 6-10'!J111+'апрель 2014г. по 0,4'!J108 -> 0 | K111: ='апрель 2014г. по 6-10'!K111+'апрель 2014г. по 0,4'!K108 -> 0 | ... Q111: ='апрель 2014г. по 6-10'!Q111+'апрель 2014г. по 0,4'!Q108 -> 0
C112: Магарамкент | D112: ='апрель 2014г. по 6-10'!D112+'апрель 2014г. по 0,4'!D109 -> 18 | E112: ='апрель 2014г. по 6-10'!E112+'апрель 2014г. по 0,4'!E109 -> 202 | F112: ='апрель 2014г. по 6-10'!F112+'апрель 2014г. по 0,4'!F109 -> 18 | G112: ='апрель 2014г. по 6-10'!G112+'апрель 2014г. по 0,4'!G109 -> 202 | H112: ='апрель 2014г. по 6-10'!H112+'апрель 2014г. по 0,4'!H109 -> 0 | I112: ='апрель 2014г. по 6-10'!I112+'апрель 2014г. по 0,4'!I109 -> 0 | J112: ='апрель 2014г. по 6-10'!J112+'апрель 2014г. по 0,4'!J109 -> 2 | K112: ='апрель 2014г. по 6-10'!K112+'апрель 2014г. по 0,4'!K109 -> 15 | ... Q112: ='апрель 2014г. по 6-10'!Q112+'апрель 2014г. по 0,4'!Q109 -> 0
C113: Тагиркент | D113: ='апрель 2014г. по 6-10'!D113+'апрель 2014г. по 0,4'!D110 -> 7 | E113: ='апрель 2014г. по 6-10'!E113+'апрель 2014г. по 0,4'!E110 -> 47 | F113: ='апрель 2014г. по 6-10'!F113+'апрель 2014г. по 0,4'!F110 -> 7 | G113: ='апрель 2014г. по 6-10'!G113+'апрель 2014г. по 0,4'!G110 -> 47 | H113: ='апрель 2014г. по 6-10'!H113+'апрель 2014г. по 0,4'!H110 -> 0 | I113: ='апрель 2014г. по 6-10'!I113+'апрель 2014г. по 0,4'!I110 -> 0 | J113: ='апрель 2014г. по 6-10'!J113+'апрель 2014г. по 0,4'!J110 -> 1 | K113: ='апрель 2014г. по 6-10'!K113+'апрель 2014г. по 0,4'!K110 -> 6 | ... Q113: ='апрель 2014г. по 6-10'!Q113+'апрель 2014г. по 0,4'!Q110 -> 0
C114: Ахты | D114: ='апрель 2014г. по 6-10'!D114+'апрель 2014г. по 0,4'!D111 -> 2 | E114: ='апрель 2014г. по 6-10'!E114+'апрель 2014г. по 0,4'!E111 -> 3.6 | F114: ='апрель 2014г. по 6-10'!F114+'апрель 2014г. по 0,4'!F111 -> 2 | G114: ='апрель 2014г. по 6-10'!G114+'апрель 2014г. по 0,4'!G111 -> 3.6 | H114: ='апрель 2014г. по 6-10'!H114+'апрель 2014г. по 0,4'!H111 -> 0 | I114: ='апрель 2014г. по 6-10'!I114+'апрель 2014г. по 0,4'!I111 -> 0 | J114: ='апрель 2014г. по 6-10'!J114+'апрель 2014г. по 0,4'!J111 -> 0 | K114: ='апрель 2014г. по 6-10'!K114+'апрель 2014г. по 0,4'!K111 -> 0 | ... Q114: ='апрель 2014г. по 6-10'!Q114+'апрель 2014г. по 0,4'!Q111 -> 0
C115: Огни | D115: ='апрель 2014г. по 6-10'!D115+'апрель 2014г. по 0,4'!D112 -> 5 | E115: ='апрель 2014г. по 6-10'!E115+'апрель 2014г. по 0,4'!E112 -> 343.5 | F115: ='апрель 2014г. по 6-10'!F115+'апрель 2014г. по 0,4'!F112 -> 5 | G115: ='апрель 2014г. по 6-10'!G115+'апрель 2014г. по 0,4'!G112 -> 343.5 | H115: ='апрель 2014г. по 6-10'!H115+'апрель 2014г. по 0,4'!H112 -> 0 | I115: ='апрель 2014г. по 6-10'!I115+'апрель 2014г. по 0,4'!I112 -> 0 | J115: ='апрель 2014г. по 6-10'!J115+'апрель 2014г. по 0,4'!J112 -> 0 | K115: ='апрель 2014г. по 6-10'!K115+'апрель 2014г. по 0,4'!K112 -> 0 | ... Q115: ='апрель 2014г. по 6-10'!Q115+'апрель 2014г. по 0,4'!Q112 -> 0
C116: Усухчай | D116: ='апрель 2014г. по 6-10'!D116+'апрель 2014г. по 0,4'!D113 -> 1 | E116: ='апрель 2014г. по 6-10'!E116+'апрель 2014г. по 0,4'!E113 -> 4.4 | F116: ='апрель 2014г. по 6-10'!F116+'апрель 2014г. по 0,4'!F113 -> 1 | G116: ='апрель 2014г. по 6-10'!G116+'апрель 2014г. по 0,4'!G113 -> 4.4 | H116: ='апрель 2014г. по 6-10'!H116+'апрель 2014г. по 0,4'!H113 -> 0 | I116: ='апрель 2014г. по 6-10'!I116+'апрель 2014г. по 0,4'!I113 -> 0 | J116: ='апрель 2014г. по 6-10'!J116+'апрель 2014г. по 0,4'!J113 -> 0 | K116: ='апрель 2014г. по 6-10'!K116+'апрель 2014г. по 0,4'!K113 -> 0 | ... Q116: ='апрель 2014г. по 6-10'!Q116+'апрель 2014г. по 0,4'!Q113 -> 0
... C153: Морская | D153: ='апрель 2014г. по 6-10'!D153+'апрель 2014г. по 0,4'!D150 -> 0 | E153: ='апрель 2014г. по 6-10'!E153+'апрель 2014г. по 0,4'!E150 -> 0 | F153: ='апрель 2014г. по 6-10'!F153+'апрель 2014г. по 0,4'!F150 -> 0 | G153: ='апрель 2014г. по 6-10'!G153+'апрель 2014г. по 0,4'!G150 -> 0 | H153: ='апрель 2014г. по 6-10'!H153+'апрель 2014г. по 0,4'!H150 -> 0 | I153: ='апрель 2014г. по 6-10'!I153+'апрель 2014г. по 0,4'!I150 -> 0 | J153: ='апрель 2014г. по 6-10'!J153+'апрель 2014г. по 0,4'!J150 -> 0 | K153: ='апрель 2014г. по 6-10'!K153+'апрель 2014г. по 0,4'!K150 -> 0 | ... Q153: ='апрель 2014г. по 6-10'!Q153+'апрель 2014г. по 0,4'!Q150 -> 0
C154: итого: | D154: =SUM(D105:D153) -> 171 | E154: =SUM(E105:E153) -> 6915.3 | F154: =SUM(F105:F153) -> 169 | G154: =SUM(G105:G153) -> 6904.3 | H154: =SUM(H105:H153) -> 0 | I154: =SUM(I105:I153) -> 0 | J154: =SUM(J105:J153) -> 10 | K154: =SUM(K105:K153) -> 79 | ... Q154: =SUM(Q105:Q153) -> 0
C155: ЗАТЕРЕЧНЫЕ СЕТИ
C156: Кизляр-1 | D156: ='апрель 2014г. по 6-10'!D156+'апрель 2014г. по 0,4'!D153 -> 6 | E156: ='апрель 2014г. по 6-10'!E156+'апрель 2014г. по 0,4'!E153 -> 96.8 | F156: ='апрель 2014г. по 6-10'!F156+'апрель 2014г. по 0,4'!F153 -> 6 | G156: ='апрель 2014г. по 6-10'!G156+'апрель 2014г. по 0,4'!G153 -> 96.8 | H156: ='апрель 2014г. по 6-10'!H156+'апрель 2014г. по 0,4'!H153 -> 0 | I156: ='апрель 2014г. по 6-10'!I156+'апрель 2014г. по 0,4'!I153 -> 0 | J156: ='апрель 2014г. по 6-10'!J156+'апрель 2014г. по 0,4'!J153 -> 0 | K156: ='апрель 2014г. по 6-10'!K156+'апрель 2014г. по 0,4'!K153 -> 0 | ... Q156: ='апрель 2014г. по 6-10'!Q156+'апрель 2014г. по 0,4'!Q153 -> 0
C157: Кизляр-2 | D157: ='апрель 2014г. по 6-10'!D157+'апрель 2014г. по 0,4'!D154 -> 2 | E157: ='апрель 2014г. по 6-10'!E157+'апрель 2014г. по 0,4'!E154 -> 30 | F157: ='апрель 2014г. по 6-10'!F157+'апрель 2014г. по 0,4'!F154 -> 21 | G157: ='апрель 2014г. по 6-10'!G157+'апрель 2014г. по 0,4'!G154 -> 11 | H157: ='апрель 2014г. по 6-10'!H157+'апрель 2014г. по 0,4'!H154 -> 20 | I157: ='апрель 2014г. по 6-10'!I157+'апрель 2014г. по 0,4'!I154 -> 0 | J157: ='апрель 2014г. по 6-10'!J157+'апрель 2014г. по 0,4'!J154 -> 0 | K157: ='апрель 2014г. по 6-10'!K157+'апрель 2014г. по 0,4'!K154 -> 0 | ... Q157: ='апрель 2014г. по 6-10'!Q157+'апрель 2014г. по 0,4'!Q154 -> 0
C158: Михеевка | D158: ='апрель 2014г. по 6-10'!D158+'апрель 2014г. по 0,4'!D155 -> 0 | E158: ='апрель 2014г. по 6-10'!E158+'апрель 2014г. по 0,4'!E155 -> 0 | F158: ='апрель 2014г. по 6-10'!F158+'апрель 2014г. по 0,4'!F155 -> 0 | G158: ='апрель 2014г. по 6-10'!G158+'апрель 2014г. по 0,4'!G155 -> 0 | H158: ='апрель 2014г. по 6-10'!H158+'апрель 2014г. по 0,4'!H155 -> 0 | I158: ='апрель 2014г. по 6-10'!I158+'апрель 2014г. по 0,4'!I155 -> 0 | J158: ='апрель 2014г. по 6-10'!J158+'апрель 2014г. по 0,4'!J155 -> 0 | K158: ='апрель 2014г. по 6-10'!K158+'апрель 2014г. по 0,4'!K155 -> 0 | ... Q158: ='апрель 2014г. по 6-10'!Q158+'апрель 2014г. по 0,4'!Q155 -> 0
C159: Хуцеевка | D159: ='апрель 2014г. по 6-10'!D159+'апрель 2014г. по 0,4'!D156 -> 0 | E159: ='апрель 2014г. по 6-10'!E159+'апрель 2014г. по 0,4'!E156 -> 0 | F159: ='апрель 2014г. по 6-10'!F159+'апрель 2014г. по 0,4'!F156 -> 0 | G159: ='апрель 2014г. по 6-10'!G159+'апрель 2014г. по 0,4'!G156 -> 0 | H159: ='апрель 2014г. по 6-10'!H159+'апрель 2014г. по 0,4'!H156 -> 0 | I159: ='апрель 2014г. по 6-10'!I159+'апрель 2014г. по 0,4'!I156 -> 0 | J159: ='апрель 2014г. по 6-10'!J159+'апрель 2014г. по 0,4'!J156 -> 0 | K159: ='апрель 2014г. по 6-10'!K159+'апрель 2014г. по 0,4'!K156 -> 0 | ... Q159: ='апрель 2014г. по 6-10'!Q159+'апрель 2014г. по 0,4'!Q156 -> 0
C160: Серебряковка | D160: ='апрель 2014г. по 6-10'!D160+'апрель 2014г. по 0,4'!D157 -> 0 | E160: ='апрель 2014г. по 6-10'!E160+'апрель 2014г. по 0,4'!E157 -> 0 | F160: ='апрель 2014г. по 6-10'!F160+'апрель 2014г. по 0,4'!F157 -> 0 | G160: ='апрель 2014г. по 6-10'!G160+'апрель 2014г. по 0,4'!G157 -> 0 | H160: ='апрель 2014г. по 6-10'!H160+'апрель 2014г. по 0,4'!H157 -> 0 | I160: ='апрель 2014г. по 6-10'!I160+'апрель 2014г. по 0,4'!I157 -> 0 | J160: ='апрель 2014г. по 6-10'!J160+'апрель 2014г. по 0,4'!J157 -> 0 | K160: ='апрель 2014г. по 6-10'!K160+'апрель 2014г. по 0,4'!K157 -> 0 | ... Q160: ='апрель 2014г. по 6-10'!Q160+'апрель 2014г. по 0,4'!Q157 -> 0
C161: Октябрьская | D161: ='апрель 2014г. по 6-10'!D161+'апрель 2014г. по 0,4'!D158 -> 1 | E161: ='апрель 2014г. по 6-10'!E161+'апрель 2014г. по 0,4'!E158 -> 15 | F161: ='апрель 2014г. по 6-10'!F161+'апрель 2014г. по 0,4'!F158 -> 1 | G161: ='апрель 2014г. по 6-10'!G161+'апрель 2014г. по 0,4'!G158 -> 15 | H161: ='апрель 2014г. по 6-10'!H161+'апрель 2014г. по 0,4'!H158 -> 0 | I161: ='апрель 2014г. по 6-10'!I161+'апрель 2014г. по 0,4'!I158 -> 0 | J161: ='апрель 2014г. по 6-10'!J161+'апрель 2014г. по 0,4'!J158 -> 0 | K161: ='апрель 2014г. по 6-10'!K161+'апрель 2014г. по 0,4'!K158 -> 0 | ... Q161: ='апрель 2014г. по 6-10'!Q161+'апрель 2014г. по 0,4'!Q158 -> 0
C162: Некрасовка | D162: ='апрель 2014г. по 6-10'!D162+'апрель 2014г. по 0,4'!D159 -> 0 | E162: ='апрель 2014г. по 6-10'!E162+'апрель 2014г. по 0,4'!E159 -> 0 | F162: ='апрель 2014г. по 6-10'!F162+'апрель 2014г. по 0,4'!F159 -> 0 | G162: ='апрель 2014г. по 6-10'!G162+'апрель 2014г. по 0,4'!G159 -> 0 | H162: ='апрель 2014г. по 6-10'!H162+'апрель 2014г. по 0,4'!H159 -> 0 | I162: ='апрель 2014г. по 6-10'!I162+'апрель 2014г. по 0,4'!I159 -> 0 | J162: ='апрель 2014г. по 6-10'!J162+'апрель 2014г. по 0,4'!J159 -> 0 | K162: ='апрель 2014г. по 6-10'!K162+'апрель 2014г. по 0,4'!K159 -> 0 | ... Q162: ='апрель 2014г. по 6-10'!Q162+'апрель 2014г. по 0,4'!Q159 -> 0
C163: Б-Арешевка | D163: ='апрель 2014г. по 6-10'!D163+'апрель 2014г. по 0,4'!D160 -> 0 | E163: ='апрель 2014г. по 6-10'!E163+'апрель 2014г. по 0,4'!E160 -> 0 | F163: ='апрель 2014г. по 6-10'!F163+'апрель 2014г. по 0,4'!F160 -> 0 | G163: ='апрель 2014г. по 6-10'!G163+'апрель 2014г. по 0,4'!G160 -> 0 | H163: ='апрель 2014г. по 6-10'!H163+'апрель 2014г. по 0,4'!H160 -> 0 | I163: ='апрель 2014г. по 6-10'!I163+'апрель 2014г. по 0,4'!I160 -> 0 | J163: ='апрель 2014г. по 6-10'!J163+'апрель 2014г. по 0,4'!J160 -> 0 | K163: ='апрель 2014г. по 6-10'!K163+'апрель 2014г. по 0,4'!K160 -> 0 | ... Q163: ='апрель 2014г. по 6-10'!Q163+'апрель 2014г. по 0,4'!Q160 -> 0
C164: Александрия | D164: ='апрель 2014г. по 6-10'!D164+'апрель 2014г. по 0,4'!D161 -> 0 | E164: ='апрель 2014г. по 6-10'!E164+'апрель 2014г. по 0,4'!E161 -> 0 | F164: ='апрель 2014г. по 6-10'!F164+'апрель 2014г. по 0,4'!F161 -> 0 | G164: ='апрель 2014г. по 6-10'!G164+'апрель 2014г. по 0,4'!G161 -> 0 | H164: ='апрель 2014г. по 6-10'!H164+'апрель 2014г. по 0,4'!H161 -> 0 | I164: ='апрель 2014г. по 6-10'!I164+'апрель 2014г. по 0,4'!I161 -> 0 | J164: ='апрель 2014г. по 6-10'!J164+'апрель 2014г. по 0,4'!J161 -> 0 | K164: ='апрель 2014г. по 6-10'!K164+'апрель 2014г. по 0,4'!K161 -> 0 | ... Q164: ='апрель 2014г. по 6-10'!Q164+'апрель 2014г. по 0,4'!Q161 -> 0
C165: Крайновка | D165: ='апрель 2014г. по 6-10'!D165+'апрель 2014г. по 0,4'!D162 -> 1 | E165: ='апрель 2014г. по 6-10'!E165+'апрель 2014г. по 0,4'!E162 -> 10 | F165: ='апрель 2014г. по 6-10'!F165+'апрель 2014г. по 0,4'!F162 -> 1 | G165: ='апрель 2014г. по 6-10'!G165+'апрель 2014г. по 0,4'!G162 -> 10 | H165: ='апрель 2014г. по 6-10'!H165+'апрель 2014г. по 0,4'!H162 -> 0 | I165: ='апрель 2014г. по 6-10'!I165+'апрель 2014г. по 0,4'!I162 -> 0 | J165: ='апрель 2014г. по 6-10'!J165+'апрель 2014г. по 0,4'!J162 -> 0 | K165: ='апрель 2014г. по 6-10'!K165+'апрель 2014г. по 0,4'!K162 -> 0 | ... Q165: ='апрель 2014г. по 6-10'!Q165+'апрель 2014г. по 0,4'!Q162 -> 0
C166: Огузер | D166: ='апрель 2014г. по 6-10'!D166+'апрель 2014г. по 0,4'!D163 -> 0 | E166: ='апрель 2014г. по 6-10'!E166+'апрель 2014г. по 0,4'!E163 -> 0 | F166: ='апрель 2014г. по 6-10'!F166+'апрель 2014г. по 0,4'!F163 -> 0 | G166: ='апрель 2014г. по 6-10'!G166+'апрель 2014г. по 0,4'!G163 -> 0 | H166: ='апрель 2014г. по 6-10'!H166+'апрель 2014г. по 0,4'!H163 -> 0 | I166: ='апрель 2014г. по 6-10'!I166+'апрель 2014г. по 0,4'!I163 -> 0 | J166: ='апрель 2014г. по 6-10'!J166+'апрель 2014г. по 0,4'!J163 -> 0 | K166: ='апрель 2014г. по 6-10'!K166+'апрель 2014г. по 0,4'!K163 -> 0 | ... Q166: ='апрель 2014г. по 6-10'!Q166+'апрель 2014г. по 0,4'!Q163 -> 0
C167: Черняевка | D167: ='апрель 2014г. по 6-10'!D167+'апрель 2014г. по 0,4'!D164 -> 1 | E167: ='апрель 2014г. по 6-10'!E167+'апрель 2014г. по 0,4'!E164 -> 5 | F167: ='апрель 2014г. по 6-10'!F167+'апрель 2014г. по 0,4'!F164 -> 1 | G167: ='апрель 2014г. по 6-10'!G167+'апрель 2014г. по 0,4'!G164 -> 5 | H167: ='апрель 2014г. по 6-10'!H167+'апрель 2014г. по 0,4'!H164 -> 0 | I167: ='апрель 2014г. по 6-10'!I167+'апрель 2014г. по 0,4'!I164 -> 0 | J167: ='апрель 2014г. по 6-10'!J167+'апрель 2014г. по 0,4'!J164 -> 0 | K167: ='апрель 2014г. по 6-10'!K167+'апрель 2014г. по 0,4'!K164 -> 0 | ... Q167: ='апрель 2014г. по 6-10'!Q167+'апрель 2014г. по 0,4'!Q164 -> 0
... C185: КЭМЗ | D185: ='апрель 2014г. по 6-10'!D185+'апрель 2014г. по 0,4'!D182 -> 5 | E185: ='апрель 2014г. по 6-10'!E185+'апрель 2014г. по 0,4'!E182 -> 45 | F185: ='апрель 2014г. по 6-10'!F185+'апрель 2014г. по 0,4'!F182 -> 5 | G185: ='апрель 2014г. по 6-10'!G185+'апрель 2014г. по 0,4'!G182 -> 45 | H185: ='апрель 2014г. по 6-10'!H185+'апрель 2014г. по 0,4'!H182 -> 0 | I185: ='апрель 2014г. по 6-10'!I185+'апрель 2014г. по 0,4'!I182 -> 0 | J185: ='апрель 2014г. по 6-10'!J185+'апрель 2014г. по 0,4'!J182 -> 0 | K185: ='апрель 2014г. по 6-10'!K185+'апрель 2014г. по 0,4'!K182 -> 0 | ... Q185: ='апрель 2014г. по 6-10'!Q185+'апрель 2014г. по 0,4'!Q182 -> 0
C186: итого: | D186: =SUM(D156:D185) -> 44 | E186: =SUM(E156:E185) -> 777.8 | F186: =SUM(F156:F185) -> 63 | G186: =SUM(G156:G185) -> 758.8 | H186: =SUM(H156:H185) -> 20 | I186: =SUM(I156:I185) -> 0 | J186: =SUM(J156:J185) -> 3 | K186: =SUM(K156:K185) -> 28 | ... Q186: =SUM(Q156:Q185) -> 0
C187: ЮЖНО-СУХОКУМСКИЕ СЕТИ
C188: Юж-Сухокумск | D188: ='апрель 2014г. по 6-10'!D188+'апрель 2014г. по 0,4'!D185 -> 1 | E188: ='апрель 2014г. по 6-10'!E188+'апрель 2014г. по 0,4'!E185 -> 15 | F188: ='апрель 2014г. по 6-10'!F188+'апрель 2014г. по 0,4'!F185 -> 1 | G188: ='апрель 2014г. по 6-10'!G188+'апрель 2014г. по 0,4'!G185 -> 15 | H188: ='апрель 2014г. по 6-10'!H188+'апрель 2014г. по 0,4'!H185 -> 0 | I188: ='апрель 2014г. по 6-10'!I188+'апрель 2014г. по 0,4'!I185 -> 0 | J188: ='апрель 2014г. по 6-10'!J188+'апрель 2014г. по 0,4'!J185 -> 0 | K188: ='апрель 2014г. по 6-10'!K188+'апрель 2014г. по 0,4'!K185 -> 0 | ... Q188: ='апрель 2014г. по 6-10'!Q188+'апрель 2014г. по 0,4'!Q185 -> 0
C189: Кр.партизан | D189: ='апрель 2014г. по 6-10'!D189+'апрель 2014г. по 0,4'!D186 -> 0 | E189: ='апрель 2014г. по 6-10'!E189+'апрель 2014г. по 0,4'!E186 -> 0 | F189: ='апрель 2014г. по 6-10'!F189+'апрель 2014г. по 0,4'!F186 -> 0 | G189: ='апрель 2014г. по 6-10'!G189+'апрель 2014г. по 0,4'!G186 -> 0 | H189: ='апрель 2014г. по 6-10'!H189+'апрель 2014г. по 0,4'!H186 -> 0 | I189: ='апрель 2014г. по 6-10'!I189+'апрель 2014г. по 0,4'!I186 -> 0 | J189: ='апрель 2014г. по 6-10'!J189+'апрель 2014г. по 0,4'!J186 -> 0 | K189: ='апрель 2014г. по 6-10'!K189+'апрель 2014г. по 0,4'!K186 -> 0 | ... Q189: ='апрель 2014г. по 6-10'!Q189+'апрель 2014г. по 0,4'!Q186 -> 0
C190: 3-я ферма | D190: ='апрель 2014г. по 6-10'!D190+'апрель 2014г. по 0,4'!D187 -> 1 | E190: ='апрель 2014г. по 6-10'!E190+'апрель 2014г. по 0,4'!E187 -> 15 | F190: ='апрель 2014г. по 6-10'!F190+'апрель 2014г. по 0,4'!F187 -> 1 | G190: ='апрель 2014г. по 6-10'!G190+'апрель 2014г. по 0,4'!G187 -> 15 | H190: ='апрель 2014г. по 6-10'!H190+'апрель 2014г. по 0,4'!H187 -> 0 | I190: ='апрель 2014г. по 6-10'!I190+'апрель 2014г. по 0,4'!I187 -> 0 | J190: ='апрель 2014г. по 6-10'!J190+'апрель 2014г. по 0,4'!J187 -> 0 | K190: ='апрель 2014г. по 6-10'!K190+'апрель 2014г. по 0,4'!K187 -> 0 | ... Q190: ='апрель 2014г. по 6-10'!Q190+'апрель 2014г. по 0,4'!Q187 -> 0
C191: Солончаковая | D191: ='апрель 2014г. по 6-10'!D191+'апрель 2014г. по 0,4'!D188 -> 0 | E191: ='апрель 2014г. по 6-10'!E191+'апрель 2014г. по 0,4'!E188 -> 0 | F191: ='апрель 2014г. по 6-10'!F191+'апрель 2014г. по 0,4'!F188 -> 0 | G191: ='апрель 2014г. по 6-10'!G191+'апрель 2014г. по 0,4'!G188 -> 0 | H191: ='апрель 2014г. по 6-10'!H191+'апрель 2014г. по 0,4'!H188 -> 0 | I191: ='апрель 2014г. по 6-10'!I191+'апрель 2014г. по 0,4'!I188 -> 0 | J191: ='апрель 2014г. по 6-10'!J191+'апрель 2014г. по 0,4'!J188 -> 0 | K191: ='апрель 2014г. по 6-10'!K191+'апрель 2014г. по 0,4'!K188 -> 0 | ... Q191: ='апрель 2014г. по 6-10'!Q191+'апрель 2014г. по 0,4'!Q188 -> 0
C192: Ногайская | D192: ='апрель 2014г. по 6-10'!D192+'апрель 2014г. по 0,4'!D189 -> 0 | E192: ='апрель 2014г. по 6-10'!E192+'апрель 2014г. по 0,4'!E189 -> 0 | F192: ='апрель 2014г. по 6-10'!F192+'апрель 2014г. по 0,4'!F189 -> 0 | G192: ='апрель 2014г. по 6-10'!G192+'апрель 2014г. по 0,4'!G189 -> 0 | H192: ='апрель 2014г. по 6-10'!H192+'апрель 2014г. по 0,4'!H189 -> 0 | I192: ='апрель 2014г. по 6-10'!I192+'апрель 2014г. по 0,4'!I189 -> 0 | J192: ='апрель 2014г. по 6-10'!J192+'апрель 2014г. по 0,4'!J189 -> 0 | K192: ='апрель 2014г. по 6-10'!K192+'апрель 2014г. по 0,4'!K189 -> 0 | ... Q192: ='апрель 2014г. по 6-10'!Q192+'апрель 2014г. по 0,4'!Q189 -> 0
C193: Степная | D193: ='апрель 2014г. по 6-10'!D193+'апрель 2014г. по 0,4'!D190 -> 0 | E193: ='апрель 2014г. по 6-10'!E193+'апрель 2014г. по 0,4'!E190 -> 0 | F193: ='апрель 2014г. по 6-10'!F193+'апрель 2014г. по 0,4'!F190 -> 0 | G193: ='апрель 2014г. по 6-10'!G193+'апрель 2014г. по 0,4'!G190 -> 0 | H193: ='апрель 2014г. по 6-10'!H193+'апрель 2014г. по 0,4'!H190 -> 0 | I193: ='апрель 2014г. по 6-10'!I193+'апрель 2014г. по 0,4'!I190 -> 0 | J193: ='апрель 2014г. по 6-10'!J193+'апрель 2014г. по 0,4'!J190 -> 0 | K193: ='апрель 2014г. по 6-10'!K193+'апрель 2014г. по 0,4'!K190 -> 0 | ... Q193: ='апрель 2014г. по 6-10'!Q193+'апрель 2014г. по 0,4'!Q190 -> 0
C194: Бажиган | D194: ='апрель 2014г. по 6-10'!D194+'апрель 2014г. по 0,4'!D191 -> 0 | E194: ='апрель 2014г. по 6-10'!E194+'апрель 2014г. по 0,4'!E191 -> 0 | F194: ='апрель 2014г. по 6-10'!F194+'апрель 2014г. по 0,4'!F191 -> 0 | G194: ='апрель 2014г. по 6-10'!G194+'апрель 2014г. по 0,4'!G191 -> 0 | H194: ='апрель 2014г. по 6-10'!H194+'апрель 2014г. по 0,4'!H191 -> 0 | I194: ='апрель 2014г. по 6-10'!I194+'апрель 2014г. по 0,4'!I191 -> 0 | J194: ='апрель 2014г. по 6-10'!J194+'апрель 2014г. по 0,4'!J191 -> 0 | K194: ='апрель 2014г. по 6-10'!K194+'апрель 2014г. по 0,4'!K191 -> 0 | ... Q194: ='апрель 2014г. по 6-10'!Q194+'апрель 2014г. по 0,4'!Q191 -> 0
C195: Грузинская | D195: ='апрель 2014г. по 6-10'!D195+'апрель 2014г. по 0,4'!D192 -> 0 | E195: ='апрель 2014г. по 6-10'!E195+'апрель 2014г. по 0,4'!E192 -> 0 | F195: ='апрель 2014г. по 6-10'!F195+'апрель 2014г. по 0,4'!F192 -> 0 | G195: ='апрель 2014г. по 6-10'!G195+'апрель 2014г. по 0,4'!G192 -> 0 | H195: ='апрель 2014г. по 6-10'!H195+'апрель 2014г. по 0,4'!H192 -> 0 | I195: ='апрель 2014г. по 6-10'!I195+'апрель 2014г. по 0,4'!I192 -> 0 | J195: ='апрель 2014г. по 6-10'!J195+'апрель 2014г. по 0,4'!J192 -> 0 | K195: ='апрель 2014г. по 6-10'!K195+'апрель 2014г. по 0,4'!K192 -> 0 | ... Q195: ='апрель 2014г. по 6-10'!Q195+'апрель 2014г. по 0,4'!Q192 -> 0
C196: итого: | D196: =SUM(D188:D195) -> 2 | E196: =SUM(E188:E195) -> 30 | F196: =SUM(F188:F195) -> 2 | G196: =SUM(G188:G195) -> 30 | H196: =SUM(H188:H195) -> 0 | I196: =SUM(I188:I195) -> 0 | J196: =SUM(J188:J195) -> 0 | K196: =SUM(K188:K195) -> 0 | ... Q196: =SUM(Q188:Q195) -> 0
C197: КИЗИЛЮРТОВСКИЕ СЕТИ
C198: п\с 110\35\6 "ЗФС" | D198: ='апрель 2014г. по 6-10'!D198+'апрель 2014г. по 0,4'!D195 -> 6 | E198: ='апрель 2014г. по 6-10'!E198+'апрель 2014г. по 0,4'!E195 -> 345 | F198: ='апрель 2014г. по 6-10'!F198+'апрель 2014г. по 0,4'!F195 -> 6 | G198: ='апрель 2014г. по 6-10'!G198+'апрель 2014г. по 0,4'!G195 -> 345 | H198: ='апрель 2014г. по 6-10'!H198+'апрель 2014г. по 0,4'!H195 -> 0 | I198: ='апрель 2014г. по 6-10'!I198+'апрель 2014г. по 0,4'!I195 -> 0 | J198: ='апрель 2014г. по 6-10'!J198+'апрель 2014г. по 0,4'!J195 -> 0 | K198: ='апрель 2014г. по 6-10'!K198+'апрель 2014г. по 0,4'!K195 -> 0 | ... Q198: ='апрель 2014г. по 6-10'!Q198+'апрель 2014г. по 0,4'!Q195 -> 0
C199: п\с 35\10 Нечаевка | D199: ='апрель 2014г. по 6-10'!D199+'апрель 2014г. по 0,4'!D196 -> 0 | E199: ='апрель 2014г. по 6-10'!E199+'апрель 2014г. по 0,4'!E196 -> 0 | F199: ='апрель 2014г. по 6-10'!F199+'апрель 2014г. по 0,4'!F196 -> 0 | G199: ='апрель 2014г. по 6-10'!G199+'апрель 2014г. по 0,4'!G196 -> 0 | H199: ='апрель 2014г. по 6-10'!H199+'апрель 2014г. по 0,4'!H196 -> 0 | I199: ='апрель 2014г. по 6-10'!I199+'апрель 2014г. по 0,4'!I196 -> 0 | J199: ='апрель 2014г. по 6-10'!J199+'апрель 2014г. по 0,4'!J196 -> 0 | K199: ='апрель 2014г. по 6-10'!K199+'апрель 2014г. по 0,4'!K196 -> 0 | ... Q199: ='апрель 2014г. по 6-10'!Q199+'апрель 2014г. по 0,4'!Q196 -> 0
C200: п\с Гулькутан | D200: ='апрель 2014г. по 6-10'!D200+'апрель 2014г. по 0,4'!D197 -> 0 | E200: ='апрель 2014г. по 6-10'!E200+'апрель 2014г. по 0,4'!E197 -> 0 | F200: ='апрель 2014г. по 6-10'!F200+'апрель 2014г. по 0,4'!F197 -> 0 | G200: ='апрель 2014г. по 6-10'!G200+'апрель 2014г. по 0,4'!G197 -> 0 | H200: ='апрель 2014г. по 6-10'!H200+'апрель 2014г. по 0,4'!H197 -> 0 | I200: ='апрель 2014г. по 6-10'!I200+'апрель 2014г. по 0,4'!I197 -> 0 | J200: ='апрель 2014г. по 6-10'!J200+'апрель 2014г. по 0,4'!J197 -> 0 | K200: ='апрель 2014г. по 6-10'!K200+'апрель 2014г. по 0,4'!K197 -> 0 | ... Q200: ='апрель 2014г. по 6-10'!Q200+'апрель 2014г. по 0,4'!Q197 -> 0
C201: Шамхалянгиюрт | D201: ='апрель 2014г. по 6-10'!D201+'апрель 2014г. по 0,4'!D198 -> 0 | E201: ='апрель 2014г. по 6-10'!E201+'апрель 2014г. по 0,4'!E198 -> 0 | F201: ='апрель 2014г. по 6-10'!F201+'апрель 2014г. по 0,4'!F198 -> 0 | G201: ='апрель 2014г. по 6-10'!G201+'апрель 2014г. по 0,4'!G198 -> 0 | H201: ='апрель 2014г. по 6-10'!H201+'апрель 2014г. по 0,4'!H198 -> 0 | I201: ='апрель 2014г. по 6-10'!I201+'апрель 2014г. по 0,4'!I198 -> 0 | J201: ='апрель 2014г. по 6-10'!J201+'апрель 2014г. по 0,4'!J198 -> 0 | K201: ='апрель 2014г. по 6-10'!K201+'апрель 2014г. по 0,4'!K198 -> 0 | ... Q201: ='апрель 2014г. по 6-10'!Q201+'апрель 2014г. по 0,4'!Q198 -> 0
C202: ГЩЗ | D202: ='апрель 2014г. по 6-10'!D202+'апрель 2014г. по 0,4'!D199 -> 2 | E202: ='апрель 2014г. по 6-10'!E202+'апрель 2014г. по 0,4'!E199 -> 30 | F202: ='апрель 2014г. по 6-10'!F202+'апрель 2014г. по 0,4'!F199 -> 2 | G202: ='апрель 2014г. по 6-10'!G202+'апрель 2014г. по 0,4'!G199 -> 30 | H202: ='апрель 2014г. по 6-10'!H202+'апрель 2014г. по 0,4'!H199 -> 0 | I202: ='апрель 2014г. по 6-10'!I202+'апрель 2014г. по 0,4'!I199 -> 0 | J202: ='апрель 2014г. по 6-10'!J202+'апрель 2014г. по 0,4'!J199 -> 0 | K202: ='апрель 2014г. по 6-10'!K202+'апрель 2014г. по 0,4'!K199 -> 0 | ... Q202: ='апрель 2014г. по 6-10'!Q202+'апрель 2014г. по 0,4'!Q199 -> 0
C203: Стальск | D203: ='апрель 2014г. по 6-10'!D203+'апрель 2014г. по 0,4'!D200 -> 3 | E203: ='апрель 2014г. по 6-10'!E203+'апрель 2014г. по 0,4'!E200 -> 28 | F203: ='апрель 2014г. по 6-10'!F203+'апрель 2014г. по 0,4'!F200 -> 3 | G203: ='апрель 2014г. по 6-10'!G203+'апрель 2014г. по 0,4'!G200 -> 28 | H203: ='апрель 2014г. по 6-10'!H203+'апрель 2014г. по 0,4'!H200 -> 0 | I203: ='апрель 2014г. по 6-10'!I203+'апрель 2014г. по 0,4'!I200 -> 0 | J203: ='апрель 2014г. по 6-10'!J203+'апрель 2014г. по 0,4'!J200 -> 0 | K203: ='апрель 2014г. по 6-10'!K203+'апрель 2014г. по 0,4'!K200 -> 0 | ... Q203: ='апрель 2014г. по 6-10'!Q203+'апрель 2014г. по 0,4'!Q200 -> 0
C204: итого: | D204: =SUM(D198:D203) -> 11 | E204: =SUM(E198:E203) -> 403 | F204: =SUM(F198:F203) -> 11 | G204: =SUM(G198:G203) -> 403 | H204: =SUM(H198:H203) -> 0 | I204: =SUM(I198:I203) -> 0 | J204: =SUM(J198:J203) -> 0 | K204: =SUM(K198:K203) -> 0 | ... Q204: =SUM(Q198:Q203) -> 0
C205: ГЕРГЕБИЛЬСКИЕ СЕТИ
C206: ПС Гергебиль-110 | D206: ='апрель 2014г. по 6-10'!D206+'апрель 2014г. по 0,4'!D203 -> 1 | E206: ='апрель 2014г. по 6-10'!E206+'апрель 2014г. по 0,4'!E203 -> 96 | F206: ='апрель 2014г. по 6-10'!F206+'апрель 2014г. по 0,4'!F203 -> 1 | G206: ='апрель 2014г. по 6-10'!G206+'апрель 2014г. по 0,4'!G203 -> 96 | H206: ='апрель 2014г. по 6-10'!H206+'апрель 2014г. по 0,4'!H203 -> 0 | I206: ='апрель 2014г. по 6-10'!I206+'апрель 2014г. по 0,4'!I203 -> 0 | J206: ='апрель 2014г. по 6-10'!J206+'апрель 2014г. по 0,4'!J203 -> 0 | K206: ='апрель 2014г. по 6-10'!K206+'апрель 2014г. по 0,4'!K203 -> 0 | ... Q206: ='апрель 2014г. по 6-10'!Q206+'апрель 2014г. по 0,4'!Q203 -> 0
C207: ГГЭС | D207: ='апрель 2014г. по 6-10'!D207+'апрель 2014г. по 0,4'!D204 -> 0 | E207: ='апрель 2014г. по 6-10'!E207+'апрель 2014г. по 0,4'!E204 -> 0 | F207: ='апрель 2014г. по 6-10'!F207+'апрель 2014г. по 0,4'!F204 -> 0 | G207: ='апрель 2014г. по 6-10'!G207+'апрель 2014г. по 0,4'!G204 -> 0 | H207: ='апрель 2014г. по 6-10'!H207+'апрель 2014г. по 0,4'!H204 -> 0 | I207: ='апрель 2014г. по 6-10'!I207+'апрель 2014г. по 0,4'!I204 -> 0 | J207: ='апрель 2014г. по 6-10'!J207+'апрель 2014г. по 0,4'!J204 -> 0 | K207: ='апрель 2014г. по 6-10'!K207+'апрель 2014г. по 0,4'!K204 -> 0 | ... Q207: ='апрель 2014г. по 6-10'!Q207+'апрель 2014г. по 0,4'!Q204 -> 0
C208: ПС Карадах-110 | D208: ='апрель 2014г. по 6-10'!D208+'апрель 2014г. по 0,4'!D205 -> 0 | E208: ='апрель 2014г. по 6-10'!E208+'апрель 2014г. по 0,4'!E205 -> 0 | F208: ='апрель 2014г. по 6-10'!F208+'апрель 2014г. по 0,4'!F205 -> 0 | G208: ='апрель 2014г. по 6-10'!G208+'апрель 2014г. по 0,4'!G205 -> 0 | H208: ='апрель 2014г. по 6-10'!H208+'апрель 2014г. по 0,4'!H205 -> 0 | I208: ='апрель 2014г. по 6-10'!I208+'апрель 2014г. по 0,4'!I205 -> 0 | J208: ='апрель 2014г. по 6-10'!J208+'апрель 2014г. по 0,4'!J205 -> 0 | K208: ='апрель 2014г. по 6-10'!K208+'апрель 2014г. по 0,4'!K205 -> 0 | ... Q208: ='апрель 2014г. по 6-10'!Q208+'апрель 2014г. по 0,4'!Q205 -> 0
C209: Тлайлух-110 | D209: ='апрель 2014г. по 6-10'!D209+'апрель 2014г. по 0,4'!D206 -> 0 | E209: ='апрель 2014г. по 6-10'!E209+'апрель 2014г. по 0,4'!E206 -> 0 | F209: ='апрель 2014г. по 6-10'!F209+'апрель 2014г. по 0,4'!F206 -> 0 | G209: ='апрель 2014г. по 6-10'!G209+'апрель 2014г. по 0,4'!G206 -> 0 | H209: ='апрель 2014г. по 6-10'!H209+'апрель 2014г. по 0,4'!H206 -> 0 | I209: ='апрель 2014г. по 6-10'!I209+'апрель 2014г. по 0,4'!I206 -> 0 | J209: ='апрель 2014г. по 6-10'!J209+'апрель 2014г. по 0,4'!J206 -> 0 | K209: ='апрель 2014г. по 6-10'!K209+'апрель 2014г. по 0,4'!K206 -> 0 | ... Q209: ='апрель 2014г. по 6-10'!Q209+'апрель 2014г. по 0,4'!Q206 -> 0
C210: ПС Леваши-110 | D210: ='апрель 2014г. по 6-10'!D210+'апрель 2014г. по 0,4'!D207 -> 7 | E210: ='апрель 2014г. по 6-10'!E210+'апрель 2014г. по 0,4'!E207 -> 72.4 | F210: ='апрель 2014г. по 6-10'!F210+'апрель 2014г. по 0,4'!F207 -> 7 | G210: ='апрель 2014г. по 6-10'!G210+'апрель 2014г. по 0,4'!G207 -> 72.4 | H210: ='апрель 2014г. по 6-10'!H210+'апрель 2014г. по 0,4'!H207 -> 0 | I210: ='апрель 2014г. по 6-10'!I210+'апрель 2014г. по 0,4'!I207 -> 0 | J210: ='апрель 2014г. по 6-10'!J210+'апрель 2014г. по 0,4'!J207 -> 0 | K210: ='апрель 2014г. по 6-10'!K210+'апрель 2014г. по 0,4'!K207 -> 0 | ... Q210: ='апрель 2014г. по 6-10'!Q210+'апрель 2014г. по 0,4'!Q207 -> 0
C211: ПС Цудахар-110 | D211: ='апрель 2014г. по 6-10'!D211+'апрель 2014г. по 0,4'!D208 -> 6 | E211: ='апрель 2014г. по 6-10'!E211+'апрель 2014г. по 0,4'!E208 -> 45 | F211: ='апрель 2014г. по 6-10'!F211+'апрель 2014г. по 0,4'!F208 -> 6 | G211: ='апрель 2014г. по 6-10'!G211+'апрель 2014г. по 0,4'!G208 -> 45 | H211: ='апрель 2014г. по 6-10'!H211+'апрель 2014г. по 0,4'!H208 -> 0 | I211: ='апрель 2014г. по 6-10'!I211+'апрель 2014г. по 0,4'!I208 -> 0 | J211: ='апрель 2014г. по 6-10'!J211+'апрель 2014г. по 0,4'!J208 -> 0 | K211: ='апрель 2014г. по 6-10'!K211+'апрель 2014г. по 0,4'!K208 -> 0 | ... Q211: ='апрель 2014г. по 6-10'!Q211+'апрель 2014г. по 0,4'!Q208 -> 0
C212: Ташкапур-35 | D212: ='апрель 2014г. по 6-10'!D212+'апрель 2014г. по 0,4'!D209 -> 2 | E212: ='апрель 2014г. по 6-10'!E212+'апрель 2014г. по 0,4'!E209 -> 10.5 | F212: ='апрель 2014г. по 6-10'!F212+'апрель 2014г. по 0,4'!F209 -> 2 | G212: ='апрель 2014г. по 6-10'!G212+'апрель 2014г. по 0,4'!G209 -> 10.5 | H212: ='апрель 2014г. по 6-10'!H212+'апрель 2014г. по 0,4'!H209 -> 0 | I212: ='апрель 2014г. по 6-10'!I212+'апрель 2014г. по 0,4'!I209 -> 0 | J212: ='апрель 2014г. по 6-10'!J212+'апрель 2014г. по 0,4'!J209 -> 0 | K212: ='апрель 2014г. по 6-10'!K212+'апрель 2014г. по 0,4'!K209 -> 0 | ... Q212: ='апрель 2014г. по 6-10'!Q212+'апрель 2014г. по 0,4'!Q209 -> 0
C213: ПС Хунзах-110 | D213: ='апрель 2014г. по 6-10'!D213+'апрель 2014г. по 0,4'!D210 -> 2 | E213: ='апрель 2014г. по 6-10'!E213+'апрель 2014г. по 0,4'!E210 -> 28 | F213: ='апрель 2014г. по 6-10'!F213+'апрель 2014г. по 0,4'!F210 -> 2 | G213: ='апрель 2014г. по 6-10'!G213+'апрель 2014г. по 0,4'!G210 -> 28 | H213: ='апрель 2014г. по 6-10'!H213+'апрель 2014г. по 0,4'!H210 -> 0 | I213: ='апрель 2014г. по 6-10'!I213+'апрель 2014г. по 0,4'!I210 -> 0 | J213: ='апрель 2014г. по 6-10'!J213+'апрель 2014г. по 0,4'!J210 -> 0 | K213: ='апрель 2014г. по 6-10'!K213+'апрель 2014г. по 0,4'!K210 -> 0 | ... Q213: ='апрель 2014г. по 6-10'!Q213+'апрель 2014г. по 0,4'!Q210 -> 0
C214: ПС Тлох-110 | D214: ='апрель 2014г. по 6-10'!D214+'апрель 2014г. по 0,4'!D211 -> 1 | E214: ='апрель 2014г. по 6-10'!E214+'апрель 2014г. по 0,4'!E211 -> 10 | F214: ='апрель 2014г. по 6-10'!F214+'апрель 2014г. по 0,4'!F211 -> 1 | G214: ='апрель 2014г. по 6-10'!G214+'апрель 2014г. по 0,4'!G211 -> 10 | H214: ='апрель 2014г. по 6-10'!H214+'апрель 2014г. по 0,4'!H211 -> 0 | I214: ='апрель 2014г. по 6-10'!I214+'апрель 2014г. по 0,4'!I211 -> 0 | J214: ='апрель 2014г. по 6-10'!J214+'апрель 2014г. по 0,4'!J211 -> 0 | K214: ='апрель 2014г. по 6-10'!K214+'апрель 2014г. по 0,4'!K211 -> 0 | ... Q214: ='апрель 2014г. по 6-10'!Q214+'апрель 2014г. по 0,4'!Q211 -> 0
C215: Гуниб-110 | D215: ='апрель 2014г. по 6-10'!D215+'апрель 2014г. по 0,4'!D212 -> 2 | E215: ='апрель 2014г. по 6-10'!E215+'апрель 2014г. по 0,4'!E212 -> 55 | F215: ='апрель 2014г. по 6-10'!F215+'апрель 2014г. по 0,4'!F212 -> 2 | G215: ='апрель 2014г. по 6-10'!G215+'апрель 2014г. по 0,4'!G212 -> 55 | H215: ='апрель 2014г. по 6-10'!H215+'апрель 2014г. по 0,4'!H212 -> 0 | I215: ='апрель 2014г. по 6-10'!I215+'апрель 2014г. по 0,4'!I212 -> 0 | J215: ='апрель 2014г. по 6-10'!J215+'апрель 2014г. по 0,4'!J212 -> 0 | K215: ='апрель 2014г. по 6-10'!K215+'апрель 2014г. по 0,4'!K212 -> 0 | ... Q215: ='апрель 2014г. по 6-10'!Q215+'апрель 2014г. по 0,4'!Q212 -> 0
C216: Акуша | D216: ='апрель 2014г. по 6-10'!D216+'апрель 2014г. по 0,4'!D213 -> 6 | E216: ='апрель 2014г. по 6-10'!E216+'апрель 2014г. по 0,4'!E213 -> 58.8 | F216: ='апрель 2014г. по 6-10'!F216+'апрель 2014г. по 0,4'!F213 -> 6 | G216: ='апрель 2014г. по 6-10'!G216+'апрель 2014г. по 0,4'!G213 -> 58.8 | H216: ='апрель 2014г. по 6-10'!H216+'апрель 2014г. по 0,4'!H213 -> 0 | I216: ='апрель 2014г. по 6-10'!I216+'апрель 2014г. по 0,4'!I213 -> 0 | J216: ='апрель 2014г. по 6-10'!J216+'апрель 2014г. по 0,4'!J213 -> 0 | K216: ='апрель 2014г. по 6-10'!K216+'апрель 2014г. по 0,4'!K213 -> 0 | ... Q216: ='апрель 2014г. по 6-10'!Q216+'апрель 2014г. по 0,4'!Q213 -> 0
C217: Кумух-35 | D217: ='апрель 2014г. по 6-10'!D217+'апрель 2014г. по 0,4'!D214 -> 0 | E217: ='апрель 2014г. по 6-10'!E217+'апрель 2014г. по 0,4'!E214 -> 0 | F217: ='апрель 2014г. по 6-10'!F217+'апрель 2014г. по 0,4'!F214 -> 0 | G217: ='апрель 2014г. по 6-10'!G217+'апрель 2014г. по 0,4'!G214 -> 0 | H217: ='апрель 2014г. по 6-10'!H217+'апрель 2014г. по 0,4'!H214 -> 0 | I217: ='апрель 2014г. по 6-10'!I217+'апрель 2014г. по 0,4'!I214 -> 0 | J217: ='апрель 2014г. по 6-10'!J217+'апрель 2014г. по 0,4'!J214 -> 0 | K217: ='апрель 2014г. по 6-10'!K217+'апрель 2014г. по 0,4'!K214 -> 0 | ... Q217: ='апрель 2014г. по 6-10'!Q217+'апрель 2014г. по 0,4'!Q214 -> 0
... C245: Сагри | D245: ='апрель 2014г. по 6-10'!D245+'апрель 2014г. по 0,4'!D242 -> 1 | E245: ='апрель 2014г. по 6-10'!E245+'апрель 2014г. по 0,4'!E242 -> 8 | F245: ='апрель 2014г. по 6-10'!F245+'апрель 2014г. по 0,4'!F242 -> 1 | G245: ='апрель 2014г. по 6-10'!G245+'апрель 2014г. по 0,4'!G242 -> 8 | H245: ='апрель 2014г. по 6-10'!H245+'апрель 2014г. по 0,4'!H242 -> 0 | I245: ='апрель 2014г. по 6-10'!I245+'апрель 2014г. по 0,4'!I242 -> 0 | J245: ='апрель 2014г. по 6-10'!J245+'апрель 2014г. по 0,4'!J242 -> 0 | K245: ='апрель 2014г. по 6-10'!K245+'апрель 2014г. по 0,4'!K242 -> 0 | ... Q245: ='апрель 2014г. по 6-10'!Q245+'апрель 2014г. по 0,4'!Q242 -> 0
C246: итого: | D246: =SUM(D206:D245) -> 69 | E246: =SUM(E206:E245) -> 1030.7 | F246: =SUM(F206:F245) -> 68 | G246: =SUM(G206:G245) -> 985.7 | H246: =SUM(H206:H245) -> 0 | I246: =SUM(I206:I245) -> 0 | J246: =SUM(J206:J245) -> 5 | K246: =SUM(K206:K245) -> 55 | ... Q246: =SUM(Q206:Q245) -> 0
C247: ВСЕГО: | D247: =SUM(D246+D204+D196+D186+D154+D103+D65) -> 583 | E247: =SUM(E246+E204+E196+E186+E154+E103+E65) -> 17561.2 | F247: =SUM(F246+F204+F196+F186+F154+F103+F65) -> 598 | G247: =SUM(G246+G204+G196+G186+G154+G103+G65) -> 17486.2 | H247: =SUM(H246+H204+H196+H186+H154+H103+H65) -> 20 | I247: =SUM(I246+I204+I196+I186+I154+I103+I65) -> 0 | J247: =SUM(J246+J204+J196+J186+J154+J103+J65) -> 52 | K247: =SUM(K246+K204+K196+K186+K154+K103+K65) -> 476.5 | ... Q247: =SUM(Q246+Q204+Q196+Q186+Q154+Q103+Q65) -> 0
A248: ИТОГО: | B248: Филиал | D248: =SUM(D247:D247) -> 583 | E248: =SUM(E247:E247) -> 17561.2 | F248: =SUM(F247:F247) -> 598 | G248: =SUM(G247:G247) -> 17486.2 | H248: =SUM(H247:H247) -> 20 | I248: =SUM(I247:I247) -> 0 | J248: =SUM(J247:J247) -> 52 | K248: =SUM(K247:K247) -> 476.5 | ... Q248: =SUM(Q247:Q247) -> 0
B251: аннулированных заявок 0 шт. на 0 кВт.

Sheet апрель 2014г. по 6-10
M1: Приложение № 28
M2: к Положению о технологическом присоединении
M3: энергетических установок к электрическим сетям
M4: ОАО «МРСК Северного Кавказа», управляемых
M5: Обществ
B14: Информация о технологическом присоединении энергопринимающих устройств к сетям ОАО Дагэнергосеть филиалом ОАО "МРСК Северного Кавказа" за апрель 2014г.
A19: Наименование организации, осуществляющей технологическое присоединение | B19: Наименование субъекта РФ | C19: Наименование центра питания (ПС 35 кВ и выше) | D19: Количество поданных заявок на технологическое присоединение, на общую мощность энергопринимающих устройств, кВт | F19: Заключено договоров на технологическое присоединение, включающие технические условия на общую мощность энергопринимающих устройств, кВт | H19: Расторгнуто договоров на технологическое присоединение, включающие технические условия на общую мощность энергопринимающих устройств, кВт | J19: Суммарная мощность энегргопринимающих устройств, присоединенных к электрическим сетям в соответствии с договором на технологическое присоединение за отчетный период, кВт | L19: Заключено договоров на технологическое присоединение, включающие технические условия на общую мощность генерирущих установок, МВт | N19: Расторгнуто договоров на технологическое присоединение, включающие технические условия на общую мощность генерирущих установок, МВт | P19: Суммарная мощность генерирущих установок, присоединенных к электрическим сетям в соответствии с договором на технологическое присоединение за отчетный период, МВт
A20: 1 | B20: 2 | C20: 3 | D20: 4 | F20: 5 | H20: 6 | J20: 7 | L20: 8 | N20: 9 | P20: 10
D21: шт | E21: кВт | F21: шт | G21: кВт | H21: шт | I21: кВт | J21: шт | K21: кВт | L21: шт | M21: МВт | N21: шт | O21: МВт | P21: шт | Q21: МВт
A22: Кабардино- Балкарсикй филиал ОАО "МРСК Северного Кавказа" | B22: Республика Дагестан | C22: ЦЕНТРАЛЬНЫЕ СЕТИ
C23: ПС ГПП | H23: 0
C24: ПС Новая | D24: 1 | E24: 10 | F24: 1 | G24: 10 | H24: 0
C25: ПС ЦПП | H25: 0
C26: ПС М-110 | D26: 3 | E26: =80+100+200 -> 380 | F26: 3 | G26: =80+100+200 -> 380 | H26: 0
C27: ПС Очистные соор. | H27: 0
C28: ПС Ю-Восточная | H28: 0
C29: ПС Приморская | H29: 0
C30: ПС Насосная -1 | D30: 3 | E30: =30+4.4+15 -> 49.4 | F30: 3 | G30: 49.4 | H30: 0
C31: ПС Радиоцентр | D31: 1 | E31: 60 | F31: 1 | G31: 60 | H31: 0
C32: ПС Изберг- Сев. | D32: 4 | E32: =10+100+300+80 -> 490 | F32: 4 | G32: =10+100+300+80 -> 490 | H32: 0
C33: ПС Изберг- Южн. | D33: 1 | E33: 60 | F33: 1 | G33: 60 | H33: 0
C34: ПС Карабуд-т | D34: 2 | E34: =15+10 -> 25 | F34: 2 | G34: =15+10 -> 25 | H34: 0 | J34: 1 | K34: =15 -> 15
C35: ПС Рассвет | D35: 5 | E35: =15+100+25+20+20 -> 180 | F35: 5 | G35: 180 | H35: 0
C36: ПС Шамхал | D36: 6 | E36: =50+150+18+160+90+200 -> 668 | F36: 6 | G36: =50+150+18+160+90+200 -> 668 | H36: 0
C37: ПС Сергокала | D37: 1 | E37: 60 | F37: 1 | G37: 60 | H37: 0
C38: ПС Алмало | D38: 2 | E38: =155+15 -> 170 | F38: 2 | G38: =155+15 -> 170 | H38: 0
C39: ПС Буйнакск -1 | D39: 1 | E39: 14 | F39: 1 | G39: 14 | H39: 0
C40: ПС Буйнакск -2 | D40: 1 | E40: 60 | F40: 1 | G40: 60 | H40: 0
C41: ПС Казанище | D41: 4 | E41: =10+15+15+20 -> 60 | F41: 4 | G41: =10+15+15+20 -> 60 | H41: 0
C42: ПС Согратль | D42: 2 | E42: =20+170 -> 190 | F42: 2 | G42: =20+170 -> 190 | H42: 0
C43: ПС Дженгутай | H43: 0
C44: ПС Такалай | H44: 0
C45: ПС Параул | D45: 1 | E45: 50 | F45: 1 | G45: 50 | H45: 0
C46: ПС Восточная | H46: 0
C47: ПС Приозерная | H47: 0
C48: ПС Солнце | D48: 4 | E48: =100+170+100+60 -> 430 | F48: 4 | G48: 430 | H48: 0
C49: ПС Компас | H49: 0
C50: ПС Сулак | D50: 2 | E50: =162+6 -> 168 | F50: 2 | G50: =162+6 -> 168 | H50: 0
C51: ПС НИИСХА | D51: 5 | E51: =200+40+155+100+80 -> 575 | F51: 5 | G51: 575 | H51: 0
C52: ПС Тепл. Комбинат | H52: 0
C53: ПС Насосная - 2 | H53: 0
C54: ПС Ленинкент | D54: 1 | E54: =350 -> 350 | F54: 1 | G54: =350 -> 350 | H54: 0
C55: ПС Дурмаз | H55: 0
C56: ПС Эрпели | D56: 1 | E56: 15 | F56: 1 | G56: 15 | H56: 0
C57: ПС Гурбуки | H57: 0
C58: ПС Халимбекаул | D58: 4 | E58: =160+80+240+15 -> 495 | F58: 4 | G58: =160+80+240+15 -> 495 | H58: 0
C59: ПС Мулебки | H59: 0
C60: ПС Н. Чиркей | D60: 2 | E60: =15+160 -> 175 | F60: 2 | G60: 175 | H60: 0
C61: ПС КПФ | H61: 0
C62: ПС Аграханская | H62: 0
C63: ПС ЗТМ | D63: 1 | E63: 325 | F63: 1 | G63: 325 | H63: 0
C64: Точная механика | H64: 0
C65: итого: | D65: =SUM(D23:D64) -> 58 | E65: =SUM(E23:E64) -> 5059.4 | F65: =SUM(F23:F64) -> 58 | G65: =SUM(G23:G64) -> 5059.4 | H65: =SUM(H23:H64) -> 0 | I65: =SUM(I23:I64) -> 0 | J65: =SUM(J23:J64) -> 1 | K65: =SUM(K23:K64) -> 15 | ... Q65: =SUM(Q23:Q64) -> 0
C66: СЕВЕРНЫЕ СЕТИ | H66: 0
C67: Ярыксу | D67: 1 | E67: 414 | F67: 1 | G67: 414 | H67: 0
C68: Акташ | D68: 5 | E68: =41+15+15+155+50 -> 276 | F68: 5 | G68: =41+15+15+155+50 -> 276 | H68: 0
C69: Куруш | D69: 2 | E69: =65+155 -> 220 | F69: 2 | G69: =65+155 -> 220 | H69: 0
C70: Сулевкент | H70: 0
C71: Бабаюрт | D71: 1 | E71: 15 | F71: 1 | G71: 15 | H71: 0
C72: Чиркей | H72: 0
C73: Дылым | H73: 0
C74: Миатлы | H74: 0
C75: ГЩЗ | D75: 1 | E75: 15 | F75: 1 | G75: 15 | H75: 0
C76: Сулак | H76: 0
C77: Львовская | H77: 0
C78: Дагестан | D78: 2 | E78: =15+5 -> 20 | F78: 2 | G78: 20 | H78: 0
C79: Аксай | H79: 0
C80: Чагаротар | H80: 0
C81: Гертма | H81: 0
C82: Татаюрт | D82: 2 | E82: =8+10 -> 18 | F82: 2 | G82: =8+10 -> 18 | H82: 0 | J82: 1 | K82: 8
C83: Тамазатюбе | H83: 0
C84: Туршунай | H84: 0
C85: Хамам-юрт | H85: 0
C86: Костек | H86: 0
C87: Новокули | H87: 0
C88: Акбула-Тюрт | H88: 0
C89: Янгильбай | H89: 0
C90: Шава | H90: 0
C91: Новая коса | D91: 1 | E91: 10 | F91: 1 | G91: 10 | H91: 0
C92: Караузбек | H92: 0
C93: Свердлова | H93: 0
C94: Димитрова | H94: 0
C95: Казиюрт | H95: 0
C96: Аликазган | H96: 0
C97: Д Консер.з-д | H97: 0
C98: Сивух | D98: 1 | E98: 10 | F98: 1 | G98: 10 | H98: 0
C99: Андрейаул | H99: 0
C100: Дружба | H100: 0
C101: Дубки | H101: 0
C102: Карланюрт -(Тяговая) | D102: 2 | E102: =15+30 -> 45 | F102: 2 | G102: =15+30 -> 45 | H102: 0
C103: итого: | D103: =SUM(D67:D102) -> 18 | E103: =SUM(E67:E102) -> 1043 | F103: =SUM(F67:F102) -> 18 | G103: =SUM(G67:G102) -> 1043 | H103: =SUM(H67:H102) -> 0 | I103: =SUM(I67:I102) -> 0 | J103: =SUM(J67:J102) -> 1 | K103: =SUM(K67:K102) -> 8 | ... Q103: =SUM(Q67:Q102) -> 0
C104: ДЕРБЕНТСКИЕ СЕТИ | H104: 0
C105: Дербент-330 | D105: 7 | E105: =350+130+70+160+200+65+8 -> 983 | F105: 7 | G105: 983 | H105: 0
C106: Дербент-С | D106: 3 | E106: =100+15+25 -> 140 | F106: 3 | G106: =100+15+25 -> 140 | H106: 0
C107: Мамедкала | D107: 1 | E107: 15 | F107: 1 | G107: 15 | H107: 0
C108: Каякент | D108: 4 | E108: =15+630+12+45 -> 702 | F108: 4 | G108: =15+630+12+45 -> 702 | H108: 0
C109: Белиджи | D109: 3 | E109: =10+10+15 -> 35 | F109: 3 | G109: =10+10+15 -> 35 | H109: 0
C110: Касумкент | D110: 2 | E110: =30+60 -> 90 | F110: 2 | G110: 90 | H110: 0
C111: Советская | D111: 2 | E111: =15+25 -> 40 | F111: 2 | G111: =15+25 -> 40 | H111: 0
C112: Магарамкент | D112: 2 | E112: =40+7 -> 47 | F112: 2 | G112: 47 | H112: 0
...

Sheet апрель 2014г. по 0,4
M1: Приложение № 28
M2: к Положению о технологическом присоединении
M3: энергетических установок к электрическим сетям
M4: ОАО «МРСК Северного Кавказа», управляемых
M5: Обществ
B14: Информация о технологическом присоединении энергопринимающих устройств к сетям ОАО Дагэнергосеть филиалом ОАО "МРСК Северного Кавказа" за апрель 2014г.
A16: Наименование организации, осуществляющей технологическое присоединение | B16: Наименование субъекта РФ | C16: Наименование центра питания (ПС 35 кВ и выше) | D16: Количество поданных заявок на технологическое присоединение, на общую мощность энергопринимающих устройств, кВт | F16: Заключено договоров на технологическое присоединение, включающие технические условия на общую мощность энергопринимающих устройств, кВт | H16: Расторгнуто договоров на технологическое присоединение, включающие технические условия на общую мощность энергопринимающих устройств, кВт | J16: Суммарная мощность энегргопринимающих устройств, присоединенных к электрическим сетям в соответствии с договором на технологическое присоединение за отчетный период, кВт | L16: Заключено договоров на технологическое присоединение, включающие технические условия на общую мощность генерирущих установок, МВт | N16: Расторгнуто договоров на технологическое присоединение, включающие технические условия на общую мощность генерирущих установок, МВт | P16: Суммарная мощность генерирущих установок, присоединенных к электрическим сетям в соответствии с договором на технологическое присоединение за отчетный период, МВт
A17: 1 | B17: 2 | C17: 3 | D17: 4 | F17: 5 | H17: 6 | J17: 7 | L17: 8 | N17: 9 | P17: 10
D18: шт | E18: кВт | F18: шт | G18: кВт | H18: шт | I18: кВт | J18: шт | K18: кВт | L18: шт | M18: МВт | N18: шт | O18: МВт | P18: шт | Q18: МВт
A19: Кабардино- Балкарсикй филиал ОАО "МРСК Северного Кавказа" | B19: Республика Дагестан | C19: ЦЕНТРАЛЬНЫЕ СЕТИ
C20: ПС ГПП | H20: 0
C21: ПС Новая | H21: 0
C22: ПС ЦПП | H22: 0
C23: ПС М-110 | H23: 0
C24: ПС Очистные соор. | H24: 0
C25: ПС Ю-Восточная | H25: 0
C26: ПС Приморская | H26: 0
C27: ПС Насосная -1 | D27: 3 | E27: =15+10+50 -> 75 | F27: 3 | G27: =15+10+50 -> 75 | H27: 0 | J27: 1 | K27: =10 -> 10
C28: ПС Радиоцентр | D28: 1 | E28: 4 | F28: 1 | G28: 4 | H28: 0
C29: ПС Изберг- Сев. | D29: 8 | E29: =10+8+8+5+8+10+5+10 -> 64 | F29: 8 | G29: 64 | H29: 0
C30: ПС Изберг- Южн. | D30: 3 | E30: =8+8+8 -> 24 | F30: 3 | G30: 24 | H30: 0
C31: ПС Карабуд-т | D31: 4 | E31: =12+30+10+5 -> 57 | F31: 4 | G31: =12+30+10+5 -> 57 | H31: 0 | J31: 1 | K31: 12
C32: ПС Рассвет | H32: 0
C33: ПС Шамхал | D33: 17 | E33: =5.5+15+6+4+10+10+6+6+15+10+8+5+6+5+4+12+12 -> 139.5 | F33: 17 | G33: =5.5+15+6+4+10+10+6+6+15+10+8+5+6+5+4+12+12 -> 139.5 | H33: 0 | J33: 6 | K33: =6+6+10+10+4+6+5.5 -> 47.5
C34: ПС Сергокала | D34: 7 | E34: =5+15+3+8+5+3+5 -> 44 | F34: 7 | G34: =5+15+3+8+5+3+5 -> 44 | H34: 0
C35: ПС Алмало | D35: 6 | E35: =6+10+15+3+7+5 -> 46 | F35: 6 | G35: 46 | H35: 0
C36: ПС Буйнакск -1 | D36: 29 | E36: =5+6+5+2+5+10+3+5+2+14+5+6+2+6+5+3+2.5+10+1+2+3+2+1.5+14+2.5+2+3+3+5 -> 135.5 | F36: 29 | G36: =5+6+5+2+5+10+3+5+2+14+5+6+2+6+5+3+2.5+10+1+2+3+2+1.5+14+2.5+2+3+3+5 -> 135.5 | H36: 0
C37: ПС Буйнакск -2 | D37: 9 | E37: =10+10+15+6+2+4+3+2+2.5 -> 54.5 | F37: 9 | G37: =10+10+15+6+2+4+3+2+2.5 -> 54.5 | H37: 0 | J37: 1 | K37: =10 -> 10
C38: ПС Казанище | D38: 10 | E38: =7+12+15+13+13+12+7+5+35+15 -> 134 | F38: 10 | G38: =7+12+15+13+13+12+7+5+35+15 -> 134 | H38: 0 | J38: 2 | K38: =7+6 -> 13
C39: ПС Согратль | D39: 5 | E39: =10+10+15+8 -> 43 | F39: 4 | G39: =10+10+15+8 -> 43 | H39: 0 | J39: 2 | K39: =10+10 -> 20
C40: ПС Дженгутай | D40: 4 | E40: =10+10+5+11 -> 36 | F40: 4 | G40: =10+10+5+11 -> 36 | H40: 0 | J40: 1 | K40: =10 -> 10
C41: ПС Такалай | H41: 0
C42: ПС Параул | D42: 1 | E42: =12 -> 12 | F42: 1 | G42: =12 -> 12 | H42: 0 | J42: 1 | K42: 12
C43: ПС Восточная | H43: 0
C44: ПС Приозерная | H44: 0
C45: ПС Солнце | D45: 6 | E45: =15+10+10+13+6+10 -> 64 | F45: 6 | G45: 64 | H45: 0
C46: ПС Компас | H46: 0
C47: ПС Сулак | H47: 0
C48: ПС НИИСХА | D48: 1 | F48: 1 | H48: 0
C49: ПС Тепл. Комбинат | H49: 0
C50: ПС Насосная - 2 | H50: 0
C51: ПС Ленинкент | D51: 1 | E51: 13 | F51: 1 | G51: 13 | H51: 0
C52: ПС Дурмаз | D52: 1 | E52: 4 | F52: 1 | G52: 4 | H52: 0
C53: ПС Эрпели | D53: 1 | E53: =10 -> 10 | F53: 1 | G53: =10 -> 10 | H53: 0 | J53: 1 | K53: =10 -> 10
C54: ПС Гурбуки | H54: 0
C55: ПС Халимбекаул | D55: 6 | E55: =10+10+6+14+14+10 -> 64 | F55: 6 | G55: =10+10+6+14+14+10 -> 64 | H55: 0 | J55: 2 | K55: =10+10 -> 20
C56: ПС Мулебки | D56: 2 | E56: =5+5 -> 10 | F56: 2 | G56: =5+5 -> 10 | H56: 0 | J56: 1 | K56: 5
C57: ПС Н. Чиркей | H57: 0
C58: ПС КПФ | H58: 0
C59: ПС Аграханская | H59: 0
C60: ПС ЗТМ | H60: 0
C61: Точная механика | H61: 0
C62: итого: | D62: =SUM(D20:D61) -> 125 | E62: =SUM(E20:E61) -> 1033.5 | F62: =SUM(F20:F61) -> 124 | G62: =SUM(G20:G61) -> 1033.5 | H62: =SUM(H20:H61) -> 0 | I62: =SUM(I20:I61) -> 0 | J62: =SUM(J20:J61) -> 19 | K62: =SUM(K20:K61) -> 169.5 | ... Q62: =SUM(Q20:Q61) -> 0
C63: СЕВЕРНЫЕ СЕТИ | H63: 0
C64: Ярыксу | D64: 19 | E64: =10+7+12+8+15+15+4+12+8+8+7+12+7+15+6+6+8+7+5 -> 172 | F64: 19 | G64: =10+7+12+8+15+15+4+12+8+8+7+12+7+15+6+6+8+7+5 -> 172 | H64: 0 | J64: 5 | K64: =10+7+12+8+15 -> 52
C65: Акташ | D65: 19 | E65: =15+15+5+15+15+15+15+8+15+15+15+15+4.5+15+10+15+10+15+15 -> 247.5 | F65: 19 | G65: =15+15+5+15+15+15+15+8+15+15+15+15+4.5+15+10+15+10+15+15 -> 247.5 | H65: 0 | J65: 4 | K65: =15+15+5+15 -> 50
C66: Куруш | D66: 6 | E66: =5+350+5+30+5+4.5 -> 399.5 | F66: 6 | G66: 399.5 | H66: 0 | J66: 2 | K66: =5+5 -> 10
C67: Сулевкент | H67: 0
C68: Бабаюрт | D68: 4 | E68: =15+5+5+15 -> 40 | F68: 4 | G68: =15+5+5+15 -> 40 | H68: 0
C69: Чиркей | D69: 1 | E69: 10 | F69: 1 | G69: 10 | H69: 0
C70: Дылым | H70: 0
C71: Миатлы | H71: 0
C72: ГЩЗ | D72: 3 | E72: =5+10+10 -> 25 | F72: 3 | G72: =5+10+10 -> 25 | H72: 0
C73: Сулак | D73: 1 | E73: =6 -> 6 | F73: 1 | G73: =6 -> 6 | H73: 0
C74: Львовская | H74: 0
C75: Дагестан | D75: 7 | E75: =5+10+7+5+7+15+5 -> 54 | F75: 7 | G75: =5+10+7+5+7+15+5 -> 54 | H75: 0
C76: Аксай | D76: 1 | E76: 3.5 | F76: 1 | G76: 3.5 | H76: 0
C77: Чагаротар | H77: 0
C78: Гертма | H78: 0
C79: Татаюрт | D79: 2 | E79: =10+15 -> 25 | F79: 2 | G79: 25 | H79: 0
C80: Тамазатюбе | D80: 1 | E80: 5 | F80: 1 | G80: 5 | H80: 0
C81: Туршунай | D81: 2 | E81: =100+5 -> 105 | F81: 2 | G81: =100+5 -> 105 | H81: 0
C82: Хамам-юрт | D82: 3 | E82: =5+15+5 -> 25 | F82: 3 | G82: =5+15+5 -> 25 | H82: 0
C83: Костек | D83: 1 | E83: =4 -> 4 | F83: 1 | G83: =4 -> 4 | H83: 0 | J83: 1 | K83: 4
C84: Новокули | D84: 1 | E84: 8 | F84: 1 | G84: 8 | H84: 0
C85: Акбула-Тюрт | H85: 0
C86: Янгильбай | H86: 0
C87: Шава | H87: 0
C88: Новая коса | H88: 0
C89: Караузбек | D89: 1 | E89: 10 | F89: 1 | G89: 10 | H89: 0
C90: Свердлова | H90: 0
C91: Димитрова | D91: 8 | E91: =10+12+8+40+5+7+5+12 -> 99 | F91: 8 | G91: =10+12+8+40+5+7+5+12 -> 99 | H91: 0
C92: Казиюрт | H92: 0
C93: Аликазган | H93: 0
C94: Д Консер.з-д | D94: 1 | E94: 6 | F94: 1 | G94: 6 | H94: 0
C95: Сивух | D95: 1 | E95: 6 | F95: 1 | G95: 6 | H95: 0
C96: Андрейаул | H96: 0
C97: Дружба | D97: 3 | E97: =6+7+5 -> 18 | F97: 3 | G97: =6+7+5 -> 18 | H97: 0 | J97: 1 | K97: 6
C98: Дубки | H98: 0
C99: Карланюрт -(Тяговая) | H99: 0
C100: итого: | D100: =SUM(D64:D99) -> 85 | E100: =SUM(E64:E99) -> 1268.5 | F100: =SUM(F64:F99) -> 85 | G100: =SUM(G64:G99) -> 1268.5 | H100: =SUM(H64:H99) -> 0 | I100: =SUM(I64:I99) -> 0 | J100: =SUM(J64:J99) -> 13 | K100: =SUM(K64:K99) -> 122 | ... Q100: =SUM(Q64:Q99) -> 0
C101: ДЕРБЕНТСКИЕ СЕТИ | H101: 0
C102: Дербент-330 | D102: 8 | E102: =4+5+13+8+160+10+5+14 -> 219 | F102: 8 | G102: =4+5+13+8+160+10+5+14 -> 219 | H102: 0
C103: Дербент-С | D103: 11 | E103: =12+12+5+8+50+14+30+12+8+12+5 -> 168 | F103: 11 | G103: =12+12+5+8+50+14+30+12+8+12+5 -> 168 | H103: 0
C104: Мамедкала | D104: 1 | E104: 5 | F104: 1 | G104: 5 | H104: 0
C105: Каякент | D105: 6 | E105: =5+70+5+13+5+5 -> 103 | F105: 6 | G105: 103 | H105: 0 | J105: 2 | K105: =5+5 -> 10
C106: Белиджи | D106: 4 | E106: =45+10+5+10 -> 70 | F106: 4 | G106: =45+10+5+10 -> 70 | H106: 0 | J106: 1 | K106: =10 -> 10
C107: Касумкент | D107: 2 | E107: =7+14.5 -> 21.5 | F107: 2 | G107: =7+14.5 -> 21.5 | H107: 0
C108: Советская | D108: 2 | E108: =10+5 -> 15 | F108: 2 | G108: =10+5 -> 15 | H108: 0
C109: Магарамкент | D109: 16 | E109: =50+10+5+5+5+10+5+10+13+5+7+10+5+5+5+5 -> 155 | F109: 16 | G109: =50+10+5+5+5+10+5+10+13+5+7+10+5+5+5+5 -> 155 | H109: 0 | J109: 2 | K109: =5+10 -> 15
...

Sheet Лист2
