Workbook

Sheet Декабрь 2013г
M1: Приложение № 28
M2: к Положению о технологическом присоединении
M3: энергетических установок к электрическим сетям
M4: ОАО «МРСК Северного Кавказа», управляемых
M5: Обществ
B14: Информация о технологическом присоединении энергопринимающих устройств к сетям КБ филиалом ОАО "МРСК Северного Кавказа" за 2013г.
A19: Наименование организации, осуществляющей технологическое присоединение | B19: Наименование субъекта РФ | C19: Наименование центра питания (ПС 35 кВ и выше) | D19: Количество поданных заявок на технологическое присоединение, на общую мощность энергопринимающих устройств, кВт | F19: Заключено договоров на технологическое присоединение, включающие технические условия на общую мощность энергопринимающих устройств, кВт | H19: Расторгнуто договоров на технологическое присоединение, включающие технические условия на общую мощность энергопринимающих устройств, кВт | J19: Суммарная мощность энегргопринимающих устройств, присоединенных к электрическим сетям в соответствии с договором на технологическое присоединение за отчетный период, кВт | L19: Заключено договоров на технологическое присоединение, включающие технические условия на общую мощность генерирущих установок, МВт | N19: Расторгнуто договоров на технологическое присоединение, включающие технические условия на общую мощность генерирущих установок, МВт | P19: Суммарная мощность генерирущих установок, присоединенных к электрическим сетям в соответствии с договором на технологическое присоединение за отчетный период, МВт
A20: 1 | B20: 2 | C20: 3 | D20: 4 | F20: 5 | H20: 6 | J20: 7 | L20: 8 | N20: 9 | P20: 10
D21: шт | E21: кВт | F21: шт | G21: кВт | H21: шт | I21: кВт | J21: шт | K21: кВт | L21: шт | M21: МВт | N21: шт | O21: МВт | P21: шт | Q21: МВт
A22: Кабардино- Балкарсикй филиал ОАО "МРСК Северного Кавказа" | B22: Кабардино- Балкарская Республика | C22: Нальчикская группа ПС
C23: ПС «Нальчик» | D23: ='Декабрь 2013г. по 6-10'!D23+'Декабрь 2013г. по 0,4'!D23 -> 47 | E23: ='Декабрь 2013г. по 6-10'!E23+'Декабрь 2013г. по 0,4'!E23 -> 425.05 | F23: ='Декабрь 2013г. по 6-10'!F23+'Декабрь 2013г. по 0,4'!F23 -> 47 | G23: ='Декабрь 2013г. по 6-10'!G23+'Декабрь 2013г. по 0,4'!G23 -> 425.05 | H23: ='Декабрь 2013г. по 6-10'!H23+'Декабрь 2013г. по 0,4'!H23 -> 2 | I23: ='Декабрь 2013г. по 6-10'!I23+'Декабрь 2013г. по 0,4'!I23 -> 11.2 | J23: ='Декабрь 2013г. по 6-10'!J23+'Декабрь 2013г. по 0,4'!J23 -> 45 | K23: ='Декабрь 2013г. по 6-10'!K23+'Декабрь 2013г. по 0,4'!K23 -> 562.15 | L23: 0 | M23: 0 | N23: 0 | O23: 0 | P23: 0 | Q23: 0
C24: ПС «Телемеханика-1» | D24: ='Декабрь 2013г. по 6-10'!D24+'Декабрь 2013г. по 0,4'!D24 -> 0 | E24: ='Декабрь 2013г. по 6-10'!E24+'Декабрь 2013г. по 0,4'!E24 -> 0 | F24: ='Декабрь 2013г. по 6-10'!F24+'Декабрь 2013г. по 0,4'!F24 -> 0 | G24: ='Декабрь 2013г. по 6-10'!G24+'Декабрь 2013г. по 0,4'!G24 -> 0 | H24: ='Декабрь 2013г. по 6-10'!H24+'Декабрь 2013г. по 0,4'!H24 -> 0 | I24: ='Декабрь 2013г. по 6-10'!I24+'Декабрь 2013г. по 0,4'!I24 -> 0 | J24: ='Декабрь 2013г. по 6-10'!J24+'Декабрь 2013г. по 0,4'!J24 -> 0 | K24: ='Декабрь 2013г. по 6-10'!K24+'Декабрь 2013г. по 0,4'!K24 -> 0 | L24: 0 | M24: 0 | N24: 0 | O24: 0 | P24: 0 | Q24: 0
C25: ПС «Искож» | D25: ='Декабрь 2013г. по 6-10'!D25+'Декабрь 2013г. по 0,4'!D25 -> 1 | E25: ='Декабрь 2013г. по 6-10'!E25+'Декабрь 2013г. по 0,4'!E25 -> 450 | F25: ='Декабрь 2013г. по 6-10'!F25+'Декабрь 2013г. по 0,4'!F25 -> 1 | G25: ='Декабрь 2013г. по 6-10'!G25+'Декабрь 2013г. по 0,4'!G25 -> 450 | H25: ='Декабрь 2013г. по 6-10'!H25+'Декабрь 2013г. по 0,4'!H25 -> 0 | I25: ='Декабрь 2013г. по 6-10'!I25+'Декабрь 2013г. по 0,4'!I25 -> 0 | J25: ='Декабрь 2013г. по 6-10'!J25+'Декабрь 2013г. по 0,4'!J25 -> 0 | K25: ='Декабрь 2013г. по 6-10'!K25+'Декабрь 2013г. по 0,4'!K25 -> 0 | L25: 0 | M25: 0 | N25: 0 | O25: 0 | P25: 0 | Q25: 0
C26: ПС «СКЭП-Н» | D26: ='Декабрь 2013г. по 6-10'!D26+'Декабрь 2013г. по 0,4'!D26 -> 0 | E26: ='Декабрь 2013г. по 6-10'!E26+'Декабрь 2013г. по 0,4'!E26 -> 0 | F26: ='Декабрь 2013г. по 6-10'!F26+'Декабрь 2013г. по 0,4'!F26 -> 0 | G26: ='Декабрь 2013г. по 6-10'!G26+'Декабрь 2013г. по 0,4'!G26 -> 0 | H26: ='Декабрь 2013г. по 6-10'!H26+'Декабрь 2013г. по 0,4'!H26 -> 0 | I26: ='Декабрь 2013г. по 6-10'!I26+'Декабрь 2013г. по 0,4'!I26 -> 0 | J26: ='Декабрь 2013г. по 6-10'!J26+'Декабрь 2013г. по 0,4'!J26 -> 0 | K26: ='Декабрь 2013г. по 6-10'!K26+'Декабрь 2013г. по 0,4'!K26 -> 0 | L26: 0 | M26: 0 | N26: 0 | O26: 0 | P26: 0 | Q26: 0
C27: ПС «Долинск» | D27: ='Декабрь 2013г. по 6-10'!D27+'Декабрь 2013г. по 0,4'!D27 -> 0 | E27: ='Декабрь 2013г. по 6-10'!E27+'Декабрь 2013г. по 0,4'!E27 -> 0 | F27: ='Декабрь 2013г. по 6-10'!F27+'Декабрь 2013г. по 0,4'!F27 -> 0 | G27: ='Декабрь 2013г. по 6-10'!G27+'Декабрь 2013г. по 0,4'!G27 -> 0 | H27: ='Декабрь 2013г. по 6-10'!H27+'Декабрь 2013г. по 0,4'!H27 -> 0 | I27: ='Декабрь 2013г. по 6-10'!I27+'Декабрь 2013г. по 0,4'!I27 -> 0 | J27: ='Декабрь 2013г. по 6-10'!J27+'Декабрь 2013г. по 0,4'!J27 -> 0 | K27: ='Декабрь 2013г. по 6-10'!K27+'Декабрь 2013г. по 0,4'!K27 -> 0 | L27: 0 | M27: 0 | N27: 0 | O27: 0 | P27: 0 | Q27: 0
C28: ПС «Дубки» | D28: ='Декабрь 2013г. по 6-10'!D28+'Декабрь 2013г. по 0,4'!D28 -> 6 | E28: ='Декабрь 2013г. по 6-10'!E28+'Декабрь 2013г. по 0,4'!E28 -> 61 | F28: ='Декабрь 2013г. по 6-10'!F28+'Декабрь 2013г. по 0,4'!F28 -> 6 | G28: ='Декабрь 2013г. по 6-10'!G28+'Декабрь 2013г. по 0,4'!G28 -> 61 | H28: ='Декабрь 2013г. по 6-10'!H28+'Декабрь 2013г. по 0,4'!H28 -> 0 | I28: ='Декабрь 2013г. по 6-10'!I28+'Декабрь 2013г. по 0,4'!I28 -> 0 | J28: ='Декабрь 2013г. по 6-10'!J28+'Декабрь 2013г. по 0,4'!J28 -> 3 | K28: ='Декабрь 2013г. по 6-10'!K28+'Декабрь 2013г. по 0,4'!K28 -> 22 | L28: 0 | M28: 0 | N28: 0 | O28: 0 | P28: 0 | Q28: 0
C29: ПС «Птицефабрика» | D29: ='Декабрь 2013г. по 6-10'!D29+'Декабрь 2013г. по 0,4'!D29 -> 89 | E29: ='Декабрь 2013г. по 6-10'!E29+'Декабрь 2013г. по 0,4'!E29 -> 1184.63 | F29: ='Декабрь 2013г. по 6-10'!F29+'Декабрь 2013г. по 0,4'!F29 -> 89 | G29: ='Декабрь 2013г. по 6-10'!G29+'Декабрь 2013г. по 0,4'!G29 -> 1184.63 | H29: ='Декабрь 2013г. по 6-10'!H29+'Декабрь 2013г. по 0,4'!H29 -> 1 | I29: ='Декабрь 2013г. по 6-10'!I29+'Декабрь 2013г. по 0,4'!I29 -> 300 | J29: ='Декабрь 2013г. по 6-10'!J29+'Декабрь 2013г. по 0,4'!J29 -> 72 | K29: ='Декабрь 2013г. по 6-10'!K29+'Декабрь 2013г. по 0,4'!K29 -> 1163.58 | L29: 0 | M29: 0 | N29: 0 | O29: 0 | P29: 0 | Q29: 0
C30: итого: | D30: =D23+D24+D25+D26+D27+D28+D29 -> 143 | E30: =E23+E24+E25+E26+E27+E28+E29 -> 2120.68 | F30: =F23+F24+F25+F26+F27+F28+F29 -> 143 | G30: =G23+G24+G25+G26+G27+G28+G29 -> 2120.68 | H30: =H23+H24+H25+H26+H27+H28+H29 -> 3 | I30: =I23+I24+I25+I26+I27+I28+I29 -> 311.2 | J30: =J23+J24+J25+J26+J27+J28+J29 -> 120 | K30: =K23+K24+K25+K26+K27+K28+K29 -> 1747.73 | ... Q30: =Q23+Q24+Q25+Q26+Q27+Q28+Q29 -> 0
C31: Малкинская группа ПС
C32: ПС «Малка» | D32: ='Декабрь 2013г. по 6-10'!D32+'Декабрь 2013г. по 0,4'!D32 -> 21 | E32: ='Декабрь 2013г. по 6-10'!E32+'Декабрь 2013г. по 0,4'!E32 -> 1386.18 | F32: ='Декабрь 2013г. по 6-10'!F32+'Декабрь 2013г. по 0,4'!F32 -> 16 | G32: ='Декабрь 2013г. по 6-10'!G32+'Декабрь 2013г. по 0,4'!G32 -> 1352.1 | H32: ='Декабрь 2013г. по 6-10'!H32+'Декабрь 2013г. по 0,4'!H32 -> 0 | I32: ='Декабрь 2013г. по 6-10'!I32+'Декабрь 2013г. по 0,4'!I32 -> 0 | J32: ='Декабрь 2013г. по 6-10'!J32+'Декабрь 2013г. по 0,4'!J32 -> 20 | K32: ='Декабрь 2013г. по 6-10'!K32+'Декабрь 2013г. по 0,4'!K32 -> 621.48 | L32: 0 | M32: 0 | N32: 0 | O32: 0 | P32: 0 | Q32: 0
C33: ПС «Каменномостская» | D33: ='Декабрь 2013г. по 6-10'!D33+'Декабрь 2013г. по 0,4'!D33 -> 4 | E33: ='Декабрь 2013г. по 6-10'!E33+'Декабрь 2013г. по 0,4'!E33 -> 436.5 | F33: ='Декабрь 2013г. по 6-10'!F33+'Декабрь 2013г. по 0,4'!F33 -> 3 | G33: ='Декабрь 2013г. по 6-10'!G33+'Декабрь 2013г. по 0,4'!G33 -> 434.5 | H33: ='Декабрь 2013г. по 6-10'!H33+'Декабрь 2013г. по 0,4'!H33 -> 0 | I33: ='Декабрь 2013г. по 6-10'!I33+'Декабрь 2013г. по 0,4'!I33 -> 0 | J33: ='Декабрь 2013г. по 6-10'!J33+'Декабрь 2013г. по 0,4'!J33 -> 2 | K33: ='Декабрь 2013г. по 6-10'!K33+'Декабрь 2013г. по 0,4'!K33 -> 254.5 | L33: 0 | M33: 0 | N33: 0 | O33: 0 | P33: 0 | Q33: 0
C34: ПС «Залукокоаже» | D34: ='Декабрь 2013г. по 6-10'!D34+'Декабрь 2013г. по 0,4'!D34 -> 30 | E34: ='Декабрь 2013г. по 6-10'!E34+'Декабрь 2013г. по 0,4'!E34 -> 574.98 | F34: ='Декабрь 2013г. по 6-10'!F34+'Декабрь 2013г. по 0,4'!F34 -> 23 | G34: ='Декабрь 2013г. по 6-10'!G34+'Декабрь 2013г. по 0,4'!G34 -> 514.8 | H34: ='Декабрь 2013г. по 6-10'!H34+'Декабрь 2013г. по 0,4'!H34 -> 0 | I34: ='Декабрь 2013г. по 6-10'!I34+'Декабрь 2013г. по 0,4'!I34 -> 0 | J34: ='Декабрь 2013г. по 6-10'!J34+'Декабрь 2013г. по 0,4'!J34 -> 29 | K34: ='Декабрь 2013г. по 6-10'!K34+'Декабрь 2013г. по 0,4'!K34 -> 204.45 | L34: 0 | M34: 0 | N34: 0 | O34: 0 | P34: 0 | Q34: 0
C35: ПС «Залукодес» | D35: ='Декабрь 2013г. по 6-10'!D35+'Декабрь 2013г. по 0,4'!D35 -> 10 | E35: ='Декабрь 2013г. по 6-10'!E35+'Декабрь 2013г. по 0,4'!E35 -> 158.74 | F35: ='Декабрь 2013г. по 6-10'!F35+'Декабрь 2013г. по 0,4'!F35 -> 10 | G35: ='Декабрь 2013г. по 6-10'!G35+'Декабрь 2013г. по 0,4'!G35 -> 158.74 | H35: ='Декабрь 2013г. по 6-10'!H35+'Декабрь 2013г. по 0,4'!H35 -> 0 | I35: ='Декабрь 2013г. по 6-10'!I35+'Декабрь 2013г. по 0,4'!I35 -> 0 | J35: ='Декабрь 2013г. по 6-10'!J35+'Декабрь 2013г. по 0,4'!J35 -> 15 | K35: ='Декабрь 2013г. по 6-10'!K35+'Декабрь 2013г. по 0,4'!K35 -> 195.04 | L35: 0 | M35: 0 | N35: 0 | O35: 0 | P35: 0 | Q35: 0
C36: ПС «Сармаково» | D36: ='Декабрь 2013г. по 6-10'!D36+'Декабрь 2013г. по 0,4'!D36 -> 4 | E36: ='Декабрь 2013г. по 6-10'!E36+'Декабрь 2013г. по 0,4'!E36 -> 62.88 | F36: ='Декабрь 2013г. по 6-10'!F36+'Декабрь 2013г. по 0,4'!F36 -> 4 | G36: ='Декабрь 2013г. по 6-10'!G36+'Декабрь 2013г. по 0,4'!G36 -> 60.88 | H36: ='Декабрь 2013г. по 6-10'!H36+'Декабрь 2013г. по 0,4'!H36 -> 1 | I36: ='Декабрь 2013г. по 6-10'!I36+'Декабрь 2013г. по 0,4'!I36 -> 40 | J36: ='Декабрь 2013г. по 6-10'!J36+'Декабрь 2013г. по 0,4'!J36 -> 8 | K36: ='Декабрь 2013г. по 6-10'!K36+'Декабрь 2013г. по 0,4'!K36 -> 203.73 | L36: 0 | M36: 0 | N36: 0 | O36: 0 | P36: 0 | Q36: 0
C37: ПС «Аурсентх» | D37: ='Декабрь 2013г. по 6-10'!D37+'Декабрь 2013г. по 0,4'!D37 -> 0 | E37: ='Декабрь 2013г. по 6-10'!E37+'Декабрь 2013г. по 0,4'!E37 -> 0 | F37: ='Декабрь 2013г. по 6-10'!F37+'Декабрь 2013г. по 0,4'!F37 -> 0 | G37: ='Декабрь 2013г. по 6-10'!G37+'Декабрь 2013г. по 0,4'!G37 -> 0 | H37: ='Декабрь 2013г. по 6-10'!H37+'Декабрь 2013г. по 0,4'!H37 -> 0 | I37: ='Декабрь 2013г. по 6-10'!I37+'Декабрь 2013г. по 0,4'!I37 -> 0 | J37: ='Декабрь 2013г. по 6-10'!J37+'Декабрь 2013г. по 0,4'!J37 -> 0 | K37: ='Декабрь 2013г. по 6-10'!K37+'Декабрь 2013г. по 0,4'!K37 -> 0 | L37: 0 | M37: 0 | N37: 0 | O37: 0 | P37: 0 | Q37: 0
C38: итого: | D38: =D32+D33+D34+D35+D36+D37 -> 69 | E38: =E32+E33+E34+E35+E36+E37 -> 2619.28 | F38: =F32+F33+F34+F35+F36+F37 -> 56 | G38: =G32+G33+G34+G35+G36+G37 -> 2521.02 | H38: =H32+H33+H34+H35+H36+H37 -> 1 | I38: =I32+I33+I34+I35+I36+I37 -> 40 | J38: =J32+J33+J34+J35+J36+J37 -> 74 | K38: =K32+K33+K34+K35+K36+K37 -> 1479.2 | ... Q38: =Q32+Q33+Q34+Q35+Q36+Q37 -> 0
C39: Эльбрусская группа ПС
C40: ПС «ЦРУ» | D40: ='Декабрь 2013г. по 6-10'!D40+'Декабрь 2013г. по 0,4'!D40 -> 12 | E40: ='Декабрь 2013г. по 6-10'!E40+'Декабрь 2013г. по 0,4'!E40 -> 520.5 | F40: ='Декабрь 2013г. по 6-10'!F40+'Декабрь 2013г. по 0,4'!F40 -> 11 | G40: ='Декабрь 2013г. по 6-10'!G40+'Декабрь 2013г. по 0,4'!G40 -> 518 | H40: ='Декабрь 2013г. по 6-10'!H40+'Декабрь 2013г. по 0,4'!H40 -> 0 | I40: ='Декабрь 2013г. по 6-10'!I40+'Декабрь 2013г. по 0,4'!I40 -> 0 | J40: ='Декабрь 2013г. по 6-10'!J40+'Декабрь 2013г. по 0,4'!J40 -> 9 | K40: ='Декабрь 2013г. по 6-10'!K40+'Декабрь 2013г. по 0,4'!K40 -> 54.5 | L40: 0 | M40: 0 | N40: 0 | O40: 0 | P40: 0 | Q40: 0
C41: ПС «Адыл-Су» | D41: ='Декабрь 2013г. по 6-10'!D41+'Декабрь 2013г. по 0,4'!D41 -> 11 | E41: ='Декабрь 2013г. по 6-10'!E41+'Декабрь 2013г. по 0,4'!E41 -> 85.25 | F41: ='Декабрь 2013г. по 6-10'!F41+'Декабрь 2013г. по 0,4'!F41 -> 11 | G41: ='Декабрь 2013г. по 6-10'!G41+'Декабрь 2013г. по 0,4'!G41 -> 85.25 | H41: ='Декабрь 2013г. по 6-10'!H41+'Декабрь 2013г. по 0,4'!H41 -> 0 | I41: ='Декабрь 2013г. по 6-10'!I41+'Декабрь 2013г. по 0,4'!I41 -> 0 | J41: ='Декабрь 2013г. по 6-10'!J41+'Декабрь 2013г. по 0,4'!J41 -> 7 | K41: ='Декабрь 2013г. по 6-10'!K41+'Декабрь 2013г. по 0,4'!K41 -> 67.25 | L41: 0 | M41: 0 | N41: 0 | O41: 0 | P41: 0 | Q41: 0
C42: ПС «Нейтрино» | D42: ='Декабрь 2013г. по 6-10'!D42+'Декабрь 2013г. по 0,4'!D42 -> 0 | E42: ='Декабрь 2013г. по 6-10'!E42+'Декабрь 2013г. по 0,4'!E42 -> 0 | F42: ='Декабрь 2013г. по 6-10'!F42+'Декабрь 2013г. по 0,4'!F42 -> 0 | G42: ='Декабрь 2013г. по 6-10'!G42+'Декабрь 2013г. по 0,4'!G42 -> 0 | H42: ='Декабрь 2013г. по 6-10'!H42+'Декабрь 2013г. по 0,4'!H42 -> 0 | I42: ='Декабрь 2013г. по 6-10'!I42+'Декабрь 2013г. по 0,4'!I42 -> 0 | J42: ='Декабрь 2013г. по 6-10'!J42+'Декабрь 2013г. по 0,4'!J42 -> 0 | K42: ='Декабрь 2013г. по 6-10'!K42+'Декабрь 2013г. по 0,4'!K42 -> 0 | L42: 0 | M42: 0 | N42: 0 | O42: 0 | P42: 0 | Q42: 0
C43: ПС «Чегет» | D43: ='Декабрь 2013г. по 6-10'!D43+'Декабрь 2013г. по 0,4'!D43 -> 3 | E43: ='Декабрь 2013г. по 6-10'!E43+'Декабрь 2013г. по 0,4'!E43 -> 28 | F43: ='Декабрь 2013г. по 6-10'!F43+'Декабрь 2013г. по 0,4'!F43 -> 1 | G43: ='Декабрь 2013г. по 6-10'!G43+'Декабрь 2013г. по 0,4'!G43 -> 10 | H43: ='Декабрь 2013г. по 6-10'!H43+'Декабрь 2013г. по 0,4'!H43 -> 0 | I43: ='Декабрь 2013г. по 6-10'!I43+'Декабрь 2013г. по 0,4'!I43 -> 0 | J43: ='Декабрь 2013г. по 6-10'!J43+'Декабрь 2013г. по 0,4'!J43 -> 2 | K43: ='Декабрь 2013г. по 6-10'!K43+'Декабрь 2013г. по 0,4'!K43 -> 15 | L43: 0 | M43: 0 | N43: 0 | O43: 0 | P43: 0 | Q43: 0
C44: ПС «Терскол» | D44: ='Декабрь 2013г. по 6-10'!D44+'Декабрь 2013г. по 0,4'!D44 -> 12 | E44: ='Декабрь 2013г. по 6-10'!E44+'Декабрь 2013г. по 0,4'!E44 -> 227 | F44: ='Декабрь 2013г. по 6-10'!F44+'Декабрь 2013г. по 0,4'!F44 -> 12 | G44: ='Декабрь 2013г. по 6-10'!G44+'Декабрь 2013г. по 0,4'!G44 -> 227 | H44: ='Декабрь 2013г. по 6-10'!H44+'Декабрь 2013г. по 0,4'!H44 -> 0 | I44: ='Декабрь 2013г. по 6-10'!I44+'Декабрь 2013г. по 0,4'!I44 -> 0 | J44: ='Декабрь 2013г. по 6-10'!J44+'Декабрь 2013г. по 0,4'!J44 -> 13 | K44: ='Декабрь 2013г. по 6-10'!K44+'Декабрь 2013г. по 0,4'!K44 -> 430.5 | L44: 0 | M44: 0 | N44: 0 | O44: 0 | P44: 0 | Q44: 0
C45: ПС «Джайлык» | D45: ='Декабрь 2013г. по 6-10'!D45+'Декабрь 2013г. по 0,4'!D45 -> 1 | E45: ='Декабрь 2013г. по 6-10'!E45+'Декабрь 2013г. по 0,4'!E45 -> 4 | F45: ='Декабрь 2013г. по 6-10'!F45+'Декабрь 2013г. по 0,4'!F45 -> 1 | G45: ='Декабрь 2013г. по 6-10'!G45+'Декабрь 2013г. по 0,4'!G45 -> 4 | H45: ='Декабрь 2013г. по 6-10'!H45+'Декабрь 2013г. по 0,4'!H45 -> 0 | I45: ='Декабрь 2013г. по 6-10'!I45+'Декабрь 2013г. по 0,4'!I45 -> 0 | J45: ='Декабрь 2013г. по 6-10'!J45+'Декабрь 2013г. по 0,4'!J45 -> 2 | K45: ='Декабрь 2013г. по 6-10'!K45+'Декабрь 2013г. по 0,4'!K45 -> 12 | L45: 0 | M45: 0 | N45: 0 | O45: 0 | P45: 0 | Q45: 0
C46: ПС «Соц. городок» | D46: ='Декабрь 2013г. по 6-10'!D46+'Декабрь 2013г. по 0,4'!D46 -> 5 | E46: ='Декабрь 2013г. по 6-10'!E46+'Декабрь 2013г. по 0,4'!E46 -> 36 | F46: ='Декабрь 2013г. по 6-10'!F46+'Декабрь 2013г. по 0,4'!F46 -> 5 | G46: ='Декабрь 2013г. по 6-10'!G46+'Декабрь 2013г. по 0,4'!G46 -> 33 | H46: ='Декабрь 2013г. по 6-10'!H46+'Декабрь 2013г. по 0,4'!H46 -> 0 | I46: ='Декабрь 2013г. по 6-10'!I46+'Декабрь 2013г. по 0,4'!I46 -> 0 | J46: ='Декабрь 2013г. по 6-10'!J46+'Декабрь 2013г. по 0,4'!J46 -> 5 | K46: ='Декабрь 2013г. по 6-10'!K46+'Декабрь 2013г. по 0,4'!K46 -> 31.5 | L46: 0 | M46: 0 | N46: 0 | O46: 0 | P46: 0 | Q46: 0
C47: ПС «Чалмас» | D47: ='Декабрь 2013г. по 6-10'!D47+'Декабрь 2013г. по 0,4'!D47 -> 0 | E47: ='Декабрь 2013г. по 6-10'!E47+'Декабрь 2013г. по 0,4'!E47 -> 0 | F47: ='Декабрь 2013г. по 6-10'!F47+'Декабрь 2013г. по 0,4'!F47 -> 0 | G47: ='Декабрь 2013г. по 6-10'!G47+'Декабрь 2013г. по 0,4'!G47 -> 0 | H47: ='Декабрь 2013г. по 6-10'!H47+'Декабрь 2013г. по 0,4'!H47 -> 0 | I47: ='Декабрь 2013г. по 6-10'!I47+'Декабрь 2013г. по 0,4'!I47 -> 0 | J47: ='Декабрь 2013г. по 6-10'!J47+'Декабрь 2013г. по 0,4'!J47 -> 0 | K47: ='Декабрь 2013г. по 6-10'!K47+'Декабрь 2013г. по 0,4'!K47 -> 0 | L47: 0 | M47: 0 | N47: 0 | O47: 0 | P47: 0 | Q47: 0
C48: ПС «РМЗ» | D48: ='Декабрь 2013г. по 6-10'!D48+'Декабрь 2013г. по 0,4'!D48 -> 1 | E48: ='Декабрь 2013г. по 6-10'!E48+'Декабрь 2013г. по 0,4'!E48 -> 10 | F48: ='Декабрь 2013г. по 6-10'!F48+'Декабрь 2013г. по 0,4'!F48 -> 1 | G48: ='Декабрь 2013г. по 6-10'!G48+'Декабрь 2013г. по 0,4'!G48 -> 10 | H48: ='Декабрь 2013г. по 6-10'!H48+'Декабрь 2013г. по 0,4'!H48 -> 0 | I48: ='Декабрь 2013г. по 6-10'!I48+'Декабрь 2013г. по 0,4'!I48 -> 0 | J48: ='Декабрь 2013г. по 6-10'!J48+'Декабрь 2013г. по 0,4'!J48 -> 1 | K48: ='Декабрь 2013г. по 6-10'!K48+'Декабрь 2013г. по 0,4'!K48 -> 15 | L48: 0 | M48: 0 | N48: 0 | O48: 0 | P48: 0 | Q48: 0
C49: РП «Водогрейная» | D49: ='Декабрь 2013г. по 6-10'!D49+'Декабрь 2013г. по 0,4'!D49 -> 11 | E49: ='Декабрь 2013г. по 6-10'!E49+'Декабрь 2013г. по 0,4'!E49 -> 48.5 | F49: ='Декабрь 2013г. по 6-10'!F49+'Декабрь 2013г. по 0,4'!F49 -> 11 | G49: ='Декабрь 2013г. по 6-10'!G49+'Декабрь 2013г. по 0,4'!G49 -> 48.5 | H49: ='Декабрь 2013г. по 6-10'!H49+'Декабрь 2013г. по 0,4'!H49 -> 0 | I49: ='Декабрь 2013г. по 6-10'!I49+'Декабрь 2013г. по 0,4'!I49 -> 0 | J49: ='Декабрь 2013г. по 6-10'!J49+'Декабрь 2013г. по 0,4'!J49 -> 8 | K49: ='Декабрь 2013г. по 6-10'!K49+'Декабрь 2013г. по 0,4'!K49 -> 37 | L49: 0 | M49: 0 | N49: 0 | O49: 0 | P49: 0 | Q49: 0
C50: ПС «Былым» | D50: ='Декабрь 2013г. по 6-10'!D50+'Декабрь 2013г. по 0,4'!D50 -> 3 | E50: ='Декабрь 2013г. по 6-10'!E50+'Декабрь 2013г. по 0,4'!E50 -> 18 | F50: ='Декабрь 2013г. по 6-10'!F50+'Декабрь 2013г. по 0,4'!F50 -> 3 | G50: ='Декабрь 2013г. по 6-10'!G50+'Декабрь 2013г. по 0,4'!G50 -> 18 | H50: ='Декабрь 2013г. по 6-10'!H50+'Декабрь 2013г. по 0,4'!H50 -> 0 | I50: ='Декабрь 2013г. по 6-10'!I50+'Декабрь 2013г. по 0,4'!I50 -> 0 | J50: ='Декабрь 2013г. по 6-10'!J50+'Декабрь 2013г. по 0,4'!J50 -> 1 | K50: ='Декабрь 2013г. по 6-10'!K50+'Декабрь 2013г. по 0,4'!K50 -> 4.5 | L50: 0 | M50: 0 | N50: 0 | O50: 0 | P50: 0 | Q50: 0
C51: ПС "Гунделен" | D51: ='Декабрь 2013г. по 6-10'!D51+'Декабрь 2013г. по 0,4'!D51 -> 15 | E51: ='Декабрь 2013г. по 6-10'!E51+'Декабрь 2013г. по 0,4'!E51 -> 69 | F51: ='Декабрь 2013г. по 6-10'!F51+'Декабрь 2013г. по 0,4'!F51 -> 15 | G51: ='Декабрь 2013г. по 6-10'!G51+'Декабрь 2013г. по 0,4'!G51 -> 69 | H51: ='Декабрь 2013г. по 6-10'!H51+'Декабрь 2013г. по 0,4'!H51 -> 0 | I51: ='Декабрь 2013г. по 6-10'!I51+'Декабрь 2013г. по 0,4'!I51 -> 0 | J51: ='Декабрь 2013г. по 6-10'!J51+'Декабрь 2013г. по 0,4'!J51 -> 10 | K51: ='Декабрь 2013г. по 6-10'!K51+'Декабрь 2013г. по 0,4'!K51 -> 48.5 | L51: 0 | M51: 0 | N51: 0 | O51: 0 | P51: 0 | Q51: 0
C52: итого: | D52: =D40+D41+D42+D43+D44+D45+D46+D47+D48+D49+D50+D51 -> 74 | E52: =E40+E41+E42+E43+E44+E45+E46+E47+E48+E49+E50+E51 -> 1046.25 | F52: =F40+F41+F42+F43+F44+F45+F46+F47+F48+F49+F50+F51 -> 71 | G52: =G40+G41+G42+G43+G44+G45+G46+G47+G48+G49+G50+G51 -> 1022.75 | H52: =H40+H41+H42+H43+H44+H45+H46+H47+H48+H49+H50+H51 -> 0 | I52: =I40+I41+I42+I43+I44+I45+I46+I47+I48+I49+I50+I51 -> 0 | J52: =J40+J41+J42+J43+J44+J45+J46+J47+J48+J49+J50+J51 -> 58 | K52: =K40+K41+K42+K43+K44+K45+K46+K47+K48+K49+K50+K51 -> 715.75 | ... Q52: =Q40+Q41+Q42+Q43+Q44+Q45+Q46+Q47+Q48+Q49+Q50+Q51 -> 0
...

Sheet Декабрь 2013г. по 6-10
M1: Приложение № 28
M2: к Положению о технологическом присоединении
M3: энергетических установок к электрическим сетям
M4: ОАО «МРСК Северного Кавказа», управляемых
M5: Обществ
B14: Информация о технологическом присоединении энергопринимающих устройств
A19: Наименование организации, осуществляющей технологическое присоединение | B19: Наименование субъекта РФ | C19: Наименование центра питания (ПС 35 кВ и выше) | D19: Количество поданных заявок на технологическое присоединение, на общую мощность энергопринимающих устройств, кВт | F19: Заключено договоров на технологическое присоединение, включающие технические условия на общую мощность энергопринимающих устройств, кВт | H19: Расторгнуто договоров на технологическое присоединение, включающие технические условия на общую мощность энергопринимающих устройств, кВт | J19: Суммарная мощность энегргопринимающих устройств, присоединенных к электрическим сетям в соответствии с договором на технологическое присоединение за отчетный период, кВт | L19: Заключено договоров на технологическое присоединение, включающие технические условия на общую мощность генерирущих установок, МВт | N19: Расторгнуто договоров на технологическое присоединение, включающие технические условия на общую мощность генерирущих установок, МВт | P19: Суммарная мощность генерирущих установок, присоединенных к электрическим сетям в соответствии с договором на технологическое присоединение за отчетный период, МВт
A20: 1 | B20: 2 | C20: 3 | D20: 4 | F20: 5 | H20: 6 | J20: 7 | L20: 8 | N20: 9 | P20: 10
D21: шт | E21: кВт | F21: шт | G21: кВт | H21: шт | I21: кВт | J21: шт | K21: кВт | L21: шт | M21: МВт | N21: шт | O21: МВт | P21: шт | Q21: МВт
A22: Кабардино- Балкарсикй филиал ОАО "МРСК Северного Кавказа" | B22: Кабардино- Балкарская Республика | C22: Нальчикская группа ПС
C23: ПС «Нальчик» | D23: 3 | E23: 230 | F23: 3 | G23: 230 | H23: 2 | I23: 11.2 | J23: 6 | K23: 399
C24: ПС «Телемеханика-1» | D24: 0 | E24: 0 | F24: 0 | G24: 0 | J24: 0 | K24: 0
C25: ПС «Искож» | D25: 1 | E25: 450 | F25: 1 | G25: 450 | J25: 0 | K25: 0
C26: ПС «СКЭП-Н» | D26: 0 | E26: 0 | F26: 0 | G26: 0 | J26: 0 | K26: 0
C27: ПС «Долинск» | D27: 0 | E27: 0 | F27: 0 | G27: 0 | J27: 0 | K27: 0
C28: ПС «Дубки» | D28: 1 | E28: 15 | F28: 1 | G28: 15 | J28: 1 | K28: 15
C29: ПС «Птицефабрика» | D29: 6 | E29: 795 | F29: 6 | G29: 795 | H29: 1 | I29: 300 | J29: 9 | K29: 890.1
C30: итого: | D30: =D23+D24+D25+D26+D27+D28+D29 -> 11 | E30: =E23+E24+E25+E26+E27+E28+E29 -> 1490 | F30: =F23+F24+F25+F26+F27+F28+F29 -> 11 | G30: =G23+G24+G25+G26+G27+G28+G29 -> 1490 | H30: =H23+H24+H25+H26+H27+H28+H29 -> 3 | I30: =I23+I24+I25+I26+I27+I28+I29 -> 311.2 | J30: =J23+J24+J25+J26+J27+J28+J29 -> 16 | K30: =K23+K24+K25+K26+K27+K28+K29 -> 1304.1 | ... Q30: =Q23+Q24+Q25+Q26+Q27+Q28+Q29 -> 0
C31: Малкинская группа ПС
C32: ПС «Малка» | D32: 7 | E32: 1277.6 | F32: 7 | G32: 1277.6 | J32: 6 | K32: 545
C33: ПС «Каменномостская» | D33: 3 | E33: 434.5 | F33: 3 | G33: 434.5 | J33: 1 | K33: 250
C34: ПС «Залукокоаже» | D34: 4 | E34: 316.3 | F34: 4 | G34: 316.3 | J34: 3 | K34: 35
C35: ПС «Залукодес» | D35: 4 | E35: 130 | F35: 4 | G35: 130 | J35: 5 | K35: 145
C36: ПС «Сармаково» | D36: 1 | E36: 40 | F36: 1 | G36: 40 | H36: 1 | I36: 40 | J36: 3 | K36: 172
C37: ПС «Аурсентх» | D37: 0 | E37: 0 | F37: 0 | G37: 0 | J37: 0 | K37: 0
C38: итого: | D38: =D32+D33+D34+D35+D36+D37 -> 19 | E38: =E32+E33+E34+E35+E36+E37 -> 2198.4 | F38: =F32+F33+F34+F35+F36+F37 -> 19 | G38: =G32+G33+G34+G35+G36+G37 -> 2198.4 | H38: =H32+H33+H34+H35+H36+H37 -> 1 | I38: =I32+I33+I34+I35+I36+I37 -> 40 | J38: =J32+J33+J34+J35+J36+J37 -> 18 | K38: =K32+K33+K34+K35+K36+K37 -> 1147 | ... Q38: =Q32+Q33+Q34+Q35+Q36+Q37 -> 0
C39: Эльбрусская группа ПС
C40: ПС «ЦРУ» | D40: 2 | E40: 472 | F40: 2 | G40: 472 | J40: 0 | K40: 0
C41: ПС «Адыл-Су» | D41: 0 | E41: 0 | F41: 0 | G41: 0 | J41: 0 | K41: 0
C42: ПС «Нейтрино» | D42: 0 | E42: 0 | F42: 0 | G42: 0 | J42: 0 | K42: 0
C43: ПС «Чегет» | D43: 0 | E43: 0 | F43: 0 | G43: 0 | J43: 0 | K43: 0
C44: ПС «Терскол» | D44: 0 | E44: 0 | F44: 0 | G44: 0 | J44: 2 | K44: 275
C45: ПС «Джайлык» | D45: 0 | E45: 0 | F45: 0 | G45: 0 | J45: 0 | K45: 0
C46: ПС «Соц. городок» | D46: 0 | E46: 0 | F46: 0 | G46: 0 | J46: 0 | K46: 0
C47: ПС «Чалмас» | D47: 0 | E47: 0 | F47: 0 | G47: 0 | J47: 0 | K47: 0
C48: ПС «РМЗ» | D48: 0 | E48: 0 | F48: 0 | G48: 0 | J48: 1 | K48: 15
C49: РП «Водогрейная» | D49: 0 | E49: 0 | F49: 0 | G49: 0 | J49: 0 | K49: 0
C50: ПС «Былым» | D50: 0 | E50: 0 | F50: 0 | G50: 0 | J50: 0 | K50: 0
C51: ПС "Гунделен" | D51: 2 | E51: 10 | F51: 2 | G51: 10 | J51: 0 | K51: 0
C52: итого: | D52: =D40+D41+D42+D43+D44+D45+D46+D47+D48+D49+D50+D51 -> 4 | E52: =E40+E41+E42+E43+E44+E45+E46+E47+E48+E49+E50+E51 -> 482 | F52: =F40+F41+F42+F43+F44+F45+F46+F47+F48+F49+F50+F51 -> 4 | G52: =G40+G41+G42+G43+G44+G45+G46+G47+G48+G49+G50+G51 -> 482 | H52: =H40+H41+H42+H43+H44+H45+H46+H47+H48+H49+H50+H51 -> 0 | I52: =I40+I41+I42+I43+I44+I45+I46+I47+I48+I49+I50+I51 -> 0 | J52: =J40+J41+J42+J43+J44+J45+J46+J47+J48+J49+J50+J51 -> 3 | K52: =K40+K41+K42+K43+K44+K45+K46+K47+K48+K49+K50+K51 -> 290 | ... Q52: =Q40+Q41+Q42+Q43+Q44+Q45+Q46+Q47+Q48+Q49+Q50+Q51 -> 0
...

Sheet Декабрь 2013г. по 0,4
M1: Приложение № 28
M2: к Положению о технологическом присоединении
M3: энергетических установок к электрическим сетям
M4: ОАО «МРСК Северного Кавказа», управляемых
M5: Обществ
B14: Информация о технологическом присоединении энергопринимающих устройств
A19: Наименование организации, осуществляющей технологическое присоединение | B19: Наименование субъекта РФ | C19: Наименование центра питания (ПС 35 кВ и выше) | D19: Количество поданных заявок на технологическое присоединение, на общую мощность энергопринимающих устройств, кВт | F19: Заключено договоров на технологическое присоединение, включающие технические условия на общую мощность энергопринимающих устройств, кВт | H19: Расторгнуто договоров на технологическое присоединение, включающие технические условия на общую мощность энергопринимающих устройств, кВт | J19: Суммарная мощность энегргопринимающих устройств, присоединенных к электрическим сетям в соответствии с договором на технологическое присоединение за отчетный период, кВт | L19: Заключено договоров на технологическое присоединение, включающие технические условия на общую мощность генерирущих установок, МВт | N19: Расторгнуто договоров на технологическое присоединение, включающие технические условия на общую мощность генерирущих установок, МВт | P19: Суммарная мощность генерирущих установок, присоединенных к электрическим сетям в соответствии с договором на технологическое присоединение за отчетный период, МВт
A20: 1 | B20: 2 | C20: 3 | D20: 4 | F20: 5 | H20: 6 | J20: 7 | L20: 8 | N20: 9 | P20: 10
D21: шт | E21: кВт | F21: шт | G21: кВт | H21: шт | I21: кВт | J21: шт | K21: кВт | L21: шт | M21: МВт | N21: шт | O21: МВт | P21: шт | Q21: МВт
A22: Кабардино- Балкарсикй филиал ОАО "МРСК Северного Кавказа" | B22: Кабардино- Балкарская Республика | C22: Нальчикская группа ПС
C23: ПС «Нальчик» | D23: 44 | E23: 195.05 | F23: 44 | G23: 195.05 | J23: 39 | K23: 163.15
C24: ПС «Телемеханика-1»
C25: ПС «Искож»
C26: ПС «СКЭП-Н»
C27: ПС «Долинск»
C28: ПС «Дубки» | D28: 5 | E28: 46 | F28: 5 | G28: 46 | J28: 2 | K28: 7
C29: ПС «Птицефабрика» | D29: 83 | E29: 389.63 | F29: 83 | G29: 389.63 | J29: 63 | K29: 273.48
C30: итого: | D30: =D23+D24+D25+D26+D27+D28+D29 -> 132 | E30: =E23+E24+E25+E26+E27+E28+E29 -> 630.68 | F30: =F23+F24+F25+F26+F27+F28+F29 -> 132 | G30: =G23+G24+G25+G26+G27+G28+G29 -> 630.68 | H30: =H23+H24+H25+H26+H27+H28+H29 -> 0 | I30: =I23+I24+I25+I26+I27+I28+I29 -> 0 | J30: =J23+J24+J25+J26+J27+J28+J29 -> 104 | K30: =K23+K24+K25+K26+K27+K28+K29 -> 443.63 | ... Q30: =Q23+Q24+Q25+Q26+Q27+Q28+Q29 -> 0
C31: Малкинская группа ПС
C32: ПС «Малка» | D32: 14 | E32: 108.58 | F32: 9 | G32: 74.5 | J32: 14 | K32: 76.48
C33: ПС «Каменномостская» | D33: 1 | E33: 2 | J33: 1 | K33: 4.5
C34: ПС «Залукокоаже» | D34: 26 | E34: 258.68 | F34: 19 | G34: 198.5 | J34: 26 | K34: 169.45
C35: ПС «Залукодес» | D35: 6 | E35: 28.74 | F35: 6 | G35: 28.74 | J35: 10 | K35: 50.04
C36: ПС «Сармаково» | D36: 3 | E36: 22.88 | F36: 3 | G36: 20.88 | J36: 5 | K36: 31.73
C37: ПС «Аурсентх»
C38: итого: | D38: =D32+D33+D34+D35+D36+D37 -> 50 | E38: =E32+E33+E34+E35+E36+E37 -> 420.88 | F38: =F32+F33+F34+F35+F36+F37 -> 37 | G38: =G32+G33+G34+G35+G36+G37 -> 322.62 | H38: =H32+H33+H34+H35+H36+H37 -> 0 | I38: =I32+I33+I34+I35+I36+I37 -> 0 | J38: =J32+J33+J34+J35+J36+J37 -> 56 | K38: =K32+K33+K34+K35+K36+K37 -> 332.2 | ... Q38: =Q32+Q33+Q34+Q35+Q36+Q37 -> 0
C39: Эльбрусская группа ПС
C40: ПС «ЦРУ» | D40: 10 | E40: 48.5 | F40: 9 | G40: 46 | J40: 9 | K40: 54.5
C41: ПС «Адыл-Су» | D41: 11 | E41: 85.25 | F41: 11 | G41: 85.25 | J41: 7 | K41: 67.25
C42: ПС «Нейтрино»
C43: ПС «Чегет» | D43: 3 | E43: 28 | F43: 1 | G43: 10 | J43: 2 | K43: 15
C44: ПС «Терскол» | D44: 12 | E44: 227 | F44: 12 | G44: 227 | J44: 11 | K44: 155.5
C45: ПС «Джайлык» | D45: 1 | E45: 4 | F45: 1 | G45: 4 | J45: 2 | K45: 12
C46: ПС «Соц. городок» | D46: 5 | E46: 36 | F46: 5 | G46: 33 | J46: 5 | K46: 31.5
C47: ПС «Чалмас»
C48: ПС «РМЗ» | D48: 1 | E48: 10 | F48: 1 | G48: 10
C49: РП «Водогрейная» | D49: 11 | E49: 48.5 | F49: 11 | G49: 48.5 | J49: 8 | K49: 37
C50: ПС «Былым» | D50: 3 | E50: 18 | F50: 3 | G50: 18 | J50: 1 | K50: 4.5
C51: ПС "Гунделен" | D51: 13 | E51: 59 | F51: 13 | G51: 59 | J51: 10 | K51: 48.5
C52: итого: | D52: =D40+D41+D42+D43+D44+D45+D46+D47+D48+D49+D50+D51 -> 70 | E52: =E40+E41+E42+E43+E44+E45+E46+E47+E48+E49+E50+E51 -> 564.25 | F52: =F40+F41+F42+F43+F44+F45+F46+F47+F48+F49+F50+F51 -> 67 | G52: =G40+G41+G42+G43+G44+G45+G46+G47+G48+G49+G50+G51 -> 540.75 | H52: =H40+H41+H42+H43+H44+H45+H46+H47+H48+H49+H50+H51 -> 0 | I52: =I40+I41+I42+I43+I44+I45+I46+I47+I48+I49+I50+I51 -> 0 | J52: =J40+J41+J42+J43+J44+J45+J46+J47+J48+J49+J50+J51 -> 55 | K52: =K40+K41+K42+K43+K44+K45+K46+K47+K48+K49+K50+K51 -> 425.75 | ... Q52: =Q40+Q41+Q42+Q43+Q44+Q45+Q46+Q47+Q48+Q49+Q50+Q51 -> 0
...
