Workbook

Sheet Декабрь 2013г
M1: Приложение № 28
M2: к Положению о технологическом присоединении
M3: энергетических установок к электрическим сетям
M4: ОАО «МРСК Северного Кавказа», управляемых
M5: Обществ
B14: Информация о технологическом присоединении энергопринимающих устройств к сетям КБ филиалом ОАО "МРСК Северного Кавказа" за 2013г.
A19: Наименование организации, осуществляющей технологическое присоединение | B19: Наименование субъекта РФ | C19: Наименование центра питания (ПС 35 кВ и выше) | D19: Количество поданных заявок на технологическое присоединение, на общую мощность энергопринимающих устройств, кВт | F19: Заключено договоров на технологическое присоединение, включающие технические условия на общую мощность энергопринимающих устройств, кВт | H19: Расторгнуто договоров на технологическое присоединение, включающие технические условия на общую мощность энергопринимающих устройств, кВт | J19: Суммарная мощность энегргопринимающих устройств, присоединенных к электрическим сетям в соответствии с договором на технологическое присоединение за отчетный период, кВт | L19: Заключено договоров на технологическое присоединение, включающие технические условия на общую мощность генерирущих установок, МВт | N19: Расторгнуто договоров на технологическое присоединение, включающие технические условия на общую мощность генерирущих установок, МВт | P19: Суммарная мощность генерирущих установок, присоединенных к электрическим сетям в соответствии с договором на технологическое присоединение за отчетный период, МВт
A20: 1 | B20: 2 | C20: 3 | D20: 4 | F20: 5 | H20: 6 | J20: 7 | L20: 8 | N20: 9 | P20: 10
D21: шт | E21: кВт | F21: шт | G21: кВт | H21: шт | I21: кВт | J21: шт | K21: кВт | L21: шт | M21: МВт | N21: шт | O21: МВт | P21: шт | Q21: МВт
A22: Кабардино- Балкарсикй филиал ОАО "МРСК Северного Кавказа" | B22: Кабардино- Балкарская Республика | C22: Нальчикская группа ПС
C23: ПС «Нальчик» | D23: ='Декабрь 2013г. по 6-10'!D23+'Декабрь 2013г. по 0,4'!D23 -> 47 | E23: ='Декабрь 2013г. по 6-10'!E23+'Декабрь 2013г. по 0,4'!E23 -> 425.05 | F23: ='Декабрь 2013г. по 6-10'!F23+'Декабрь 2013г. по 0,4'!F23 -> 47 | G23: ='Декабрь 2013г. по 6-10'!G23+'Декабрь 2013г. по 0,4'!G23 -> 425.05 | H23: ='Декабрь 2013г. по 6-10'!H23+'Декабрь 2013г. по 0,4'!H23 -> 2 | I23: ='Декабрь 2013г. по 6-10'!I23+'Декабрь 2013г. по 0,4'!I23 -> 11.2 | J23: ='Декабрь 2013г. по 6-10'!J23+'Декабрь 2013г. по 0,4'!J23 -> 45 | K23: ='Декабрь 2013г. по 6-10'!K23+'Декабрь 2013г. по 0,4'!K23 -> 562.15 | L23: 0 | M23: 0 | N23: 0 | O23: 0 | P23: 0 | Q23: 0
C24: ПС «Телемеханика-1» | D24: ='Декабрь 2013г. по 6-10'!D24+'Декабрь 2013г. по 0,4'!D24 -> 0 | E24: ='Декабрь 2013г. по 6-10'!E24+'Декабрь 2013г. по 0,4'!E24 -> 0 | F24: ='Декабрь 2013г. по 6-10'!F24+'Декабрь 2013г. по 0,4'!F24 -> 0 | G24: ='Декабрь 2013г. по 6-10'!G24+'Декабрь 2013г. по 0,4'!G24 -> 0 | H24: ='Декабрь 2013г. по 6-10'!H24+'Декабрь 2013г. по 0,4'!H24 -> 0 | I24: ='Декабрь 2013г. по 6-10'!I24+'Декабрь 2013г. по 0,4'!I24 -> 0 | J24: ='Декабрь 2013г. по 6-10'!J24+'Декабрь 2013г. по 0,4'!J24 -> 0 | K24: ='Декабрь 2013г. по 6-10'!K24+'Декабрь 2013г. по 0,4'!K24 -> 0 | L24: 0 | M24: 0 | N24: 0 | O24: 0 | P24: 0 | Q24: 0
C25: ПС «Искож» | D25: ='Декабрь 2013г. по 6-10'!D25+'Декабрь 2013г. по 0,4'!D25 -> 1 | E25: ='Декабрь 2013г. по 6-10'!E25+'Декабрь 2013г. по 0,4'!E25 -> 450 | F25: ='Декабрь 2013г. по 6-10'!F25+'Декабрь 2013г. по 0,4'!F25 -> 1 | G25: ='Декабрь 2013г. по 6-10'!G25+'Декабрь 2013г. по 0,4'!G25 -> 450 | H25: ='Декабрь 2013г. по 6-10'!H25+'Декабрь 2013г. по 0,4'!H25 -> 0 | I25: ='Декабрь 2013г. по 6-10'!I25+'Декабрь 2013г. по 0,4'!I25 -> 0 | J25: ='Декабрь 2013г. по 6-10'!J25+'Декабрь 2013г. по 0,4'!J25 -> 0 | K25: ='Декабрь 2013г. по 6-10'!K25+'Декабрь 2013г. по 0,4'!K25 -> 0 | L25: 0 | M25: 0 | N25: 0 | O25: 0 | P25: 0 | Q25: 0
C26: ПС «СКЭП-Н» | D26: ='Декабрь 2013г. по 6-10'!D26+'Декабрь 2013г. по 0,4'!D26 -> 0 | E26: ='Декабрь 2013г. по 6-10'!E26+'Декабрь 2013г. по 0,4'!E26 -> 0 | F26: ='Декабрь 2013г. по 6-10'!F26+'Декабрь 2013г. по 0,4'!F26 -> 0 | G26: ='Декабрь 2013г. по 6-10'!G26+'Декабрь 2013г. по 0,4'!G26 -> 0 | H26: ='Декабрь 2013г. по 6-10'!H26+'Декабрь 2013г. по 0,4'!H26 -> 0 | I26: ='Декабрь 2013г. по 6-10'!I26+'Декабрь 2013г. по 0,4'!I26 -> 0 | J26: ='Декабрь 2013г. по 6-10'!J26+'Декабрь 2013г. по 0,4'!J26 -> 0 | K26: ='Декабрь 2013г. по 6-10'!K26+'Декабрь 2013г. по 0,4'!K26 -> 0 | L26: 0 | M26: 0 | N26: 0 | O26: 0 | P26: 0 | Q26: 0
C27: ПС «Долинск» | D27: ='Декабрь 2013г. по 6-10'!D27+'Декабрь 2013г. по 0,4'!D27 -> 0 | E27: ='Декабрь 2013г. по 6-10'!E27+'Декабрь 2013г. по 0,4'!E27 -> 0 | F27: ='Декабрь 2013г. по 6-10'!F27+'Декабрь 2013г. по 0,4'!F27 -> 0 | G27: ='Декабрь 2013г. по 6-10'!G27+'Декабрь 2013г. по 0,4'!G27 -> 0 | H27: ='Декабрь 2013г. по 6-10'!H27+'Декабрь 2013г. по 0,4'!H27 -> 0 | I27: ='Декабрь 2013г. по 6-10'!I27+'Декабрь 2013г. по 0,4'!I27 -> 0 | J27: ='Декабрь 2013г. по 6-10'!J27+'Декабрь 2013г. по 0,4'!J27 -> 0 | K27: ='Декабрь 2013г. по 6-10'!K27+'Декабрь 2013г. по 0,4'!K27 -> 0 | L27: 0 | M27: 0 | N27: 0 | O27: 0 | P27: 0 | Q27: 0
C28: ПС «Дубки» | D28: ='Декабрь 2013г. по 6-10'!D28+'Декабрь 2013г. по 0,4'!D28 -> 6 | E28: ='Декабрь 2013г. по 6-10'!E28+'Декабрь 2013г. по 0,4'!E28 -> 61 | F28: ='Декабрь 2013г. по 6-10'!F28+'Декабрь 2013г. по 0,4'!F28 -> 6 | G28: ='Декабрь 2013г. по 6-10'!G28+'Декабрь 2013г. по 0,4'!G28 -> 61 | H28: ='Декабрь 2013г. по 6-10'!H28+'Декабрь 2013г. по 0,4'!H28 -> 0 | I28: ='Декабрь 2013г. по 6-10'!I28+'Декабрь 2013г. по 0,4'!I28 -> 0 | J28: ='Декабрь 2013г. по 6-10'!J28+'Декабрь 2013г. по 0,4'!J28 -> 3 | K28: ='Декабрь 2013г. по 6-10'!K28+'Декабрь 2013г. по 0,4'!K28 -> 22 | L28: 0 | M28: 0 | N28: 0 | O28: 0 | P28: 0 | Q28: 0
C29: ПС «Птицефабрика» | D29: ='Декабрь 2013г. по 6-10'!D29+'Декабрь 2013г. по 0,4'!D29 -> 89 | E29: ='Декабрь 2013г. по 6-10'!E29+'Декабрь 2013г. по 0,4'!E29 -> 1184.63 | F29: ='Декабрь 2013г. по 6-10'!F29+'Декабрь 2013г. по 0,4'!F29 -> 89 | G29: ='Декабрь 2013г. по 6-10'!G29+'Декабрь 2013г. по 0,4'!G29 -> 1184.63 | H29: ='Декабрь 2013г. по 6-10'!H29+'Декабрь 2013г. по 0,4'!H29 -> 1 | I29: ='Декабрь 2013г. по 6-10'!I29+'Декабрь 2013г. по 0,4'!I29 -> 300 | J29: ='Декабрь 2013г. по 6-10'!J29+'Декабрь 2013г. по 0,4'!J29 -> 72 | K29: ='Декабрь 2013г. по 6-10'!K29+'Декабрь 2013г. по 0,4'!K29 -> 1163.58 | L29: 0 | M29: 0 | N29: 0 | O29: 0 | P29: 0 | Q29: 0
C30: итого: | D30: =D23+D24+D25+D26+D27+D28+D29 -> 143 | E30: =E23+E24+E25+E26+E27+E28+E29 -> 2120.68 | F30: =F23+F24+F25+F26+F27+F28+F29 -> 143 | G30: =G23+G24+G25+G26+G27+G28+G29 -> 2120.68 | H30: =H23+H24+H25+H26+H27+H28+H29 -> 3 | I30: =I23+I24+I25+I26+I27+I28+I29 -> 311.2 | J30: =J23+J24+J25+J26+J27+J28+J29 -> 120 | K30: =K23+K24+K25+K26+K27+K28+K29 -> 1747.73 | ... Q30: =Q23+Q24+Q25+Q26+Q27+Q28+Q29 -> 0
C31: Малкинская группа ПС
C32: ПС «Малка» | D32: ='Декабрь 2013г. по 6-10'!D32+'Декабрь 2013г. по 0,4'!D32 -> 21 | E32: ='Декабрь 2013г. по 6-10'!E32+'Декабрь 2013г. по 0,4'!E32 -> 1386.18 | F32: ='Декабрь 2013г. по 6-10'!F32+'Декабрь 2013г. по 0,4'!F32 -> 16 | G32: ='Декабрь 2013г. по 6-10'!G32+'Декабрь 2013г. по 0,4'!G32 -> 1352.1 | H32: ='Декабрь 2013г. по 6-10'!H32+'Декабрь 2013г. по 0,4'!H32 -> 0 | I32: ='Декабрь 2013г. по 6-10'!I32+'Декабрь 2013г. по 0,4'!I32 -> 0 | J32: ='Декабрь 2013г. по 6-10'!J32+'Декабрь 2013г. по 0,4'!J32 -> 20 | K32: ='Декабрь 2013г. по 6-10'!K32+'Декабрь 2013г. по 0,4'!K32 -> 621.48 | L32: 0 | M32: 0 | N32: 0 | O32: 0 | P32: 0 | Q32: 0
C33: ПС «Каменномостская» | D33: ='Декабрь 2013г. по 6-10'!D33+'Декабрь 2013г. по 0,4'!D33 -> 4 | E33: ='Декабрь 2013г. по 6-10'!E33+'Декабрь 2013г. по 0,4'!E33 -> 436.5 | F33: ='Декабрь 2013г. по 6-10'!F33+'Декабрь 2013г. по 0,4'!F33 -> 3 | G33: ='Декабрь 2013г. по 6-10'!G33+'Декабрь 2013г. по 0,4'!G33 -> 434.5 | H33: ='Декабрь 2013г. по 6-10'!H33+'Декабрь 2013г. по 0,4'!H33 -> 0 | I33: ='Декабрь 2013г. по 6-10'!I33+'Декабрь 2013г. по 0,4'!I33 -> 0 | J33: ='Декабрь 2013г. по 6-10'!J33+'Декабрь 2013г. по 0,4'!J33 -> 2 | K33: ='Декабрь 2013г. по 6-10'!K33+'Декабрь 2013г. по 0,4'!K33 -> 254.5 | L33: 0 | M33: 0 | N33: 0 | O33: 0 | P33: 0 | Q33: 0
C34: ПС «Залукокоаже» | D34: ='Декабрь 2013г. по 6-10'!D34+'Декабрь 2013г. по 0,4'!D34 -> 30 | E34: ='Декабрь 2013г. по 6-10'!E34+'Декабрь 2013г. по 0,4'!E34 -> 574.98 | F34: ='Декабрь 2013г. по 6-10'!F34+'Декабрь 2013г. по 0,4'!F34 -> 23 | G34: ='Декабрь 2013г. по 6-10'!G34+'Декабрь 2013г. по 0,4'!G34 -> 514.8 | H34: ='Декабрь 2013г. по 6-10'!H34+'Декабрь 2013г. по 0,4'!H34 -> 0 | I34: ='Декабрь 2013г. по 6-10'!I34+'Декабрь 2013г. по 0,4'!I34 -> 0 | J34: ='Декабрь 2013г. по 6-10'!J34+'Декабрь 2013г. по 0,4'!J34 -> 29 | K34: ='Декабрь 2013г. по 6-10'!K34+'Декабрь 2013г. по 0,4'!K34 -> 204.45 | L34: 0 | M34: 0 | N34: 0 | O34: 0 | P34: 0 | Q34: 0
C35: ПС «Залукодес» | D35: ='Декабрь 2013г. по 6-10'!D35+'Декабрь 2013г. по 0,4'!D35 -> 10 | E35: ='Декабрь 2013г. по 6-10'!E35+'Декабрь 2013г. по 0,4'!E35 -> 158.74 | F35: ='Декабрь 2013г. по 6-10'!F35+'Декабрь 2013г. по 0,4'!F35 -> 10 | G35: ='Декабрь 2013г. по 6-10'!G35+'Декабрь 2013г. по 0,4'!G35 -> 158.74 | H35: ='Декабрь 2013г. по 6-10'!H35+'Декабрь 2013г. по 0,4'!H35 -> 0 | I35: ='Декабрь 2013г. по 6-10'!I35+'Декабрь 2013г. по 0,4'!I35 -> 0 | J35: ='Декабрь 2013г. по 6-10'!J35+'Декабрь 2013г. по 0,4'!J35 -> 15 | K35: ='Декабрь 2013г. по 6-10'!K35+'Декабрь 2013г. по 0,4'!K35 -> 195.04 | L35: 0 | M35: 0 | N35: 0 | O35: 0 | P35: 0 | Q35: 0
C36: ПС «Сармаково» | D36: ='Декабрь 2013г. по 6-10'!D36+'Декабрь 2013г. по 0,4'!D36 -> 4 | E36: ='Декабрь 2013г. по 6-10'!E36+'Декабрь 2013г. по 0,4'!E36 -> 62.88 | F36: ='Декабрь 2013г. по 6-10'!F36+'Декабрь 2013г. по 0,4'!F36 -> 4 | G36: ='Декабрь 2013г. по 6-10'!G36+'Декабрь 2013г. по 0,4'!G36 -> 60.88 | H36: ='Декабрь 2013г. по 6-10'!H36+'Декабрь 2013г. по 0,4'!H36 -> 1 | I36: ='Декабрь 2013г. по 6-10'!I36+'Декабрь 2013г. по 0,4'!I36 -> 40 | J36: ='Декабрь 2013г. по 6-10'!J36+'Декабрь 2013г. по 0,4'!J36 -> 8 | K36: ='Декабрь 2013г. по 6-10'!K36+'Декабрь 2013г. по 0,4'!K36 -> 203.73 | L36: 0 | M36: 0 | N36: 0 | O36: 0 | P36: 0 | Q36: 0
C37: ПС «Аурсентх» | D37: ='Декабрь 2013г. по 6-10'!D37+'Декабрь 2013г. по 0,4'!D37 -> 0 | E37: ='Декабрь 2013г. по 6-10'!E37+'Декабрь 2013г. по 0,4'!E37 -> 0 | F37: ='Декабрь 2013г. по 6-10'!F37+'Декабрь 2013г. по 0,4'!F37 -> 0 | G37: ='Декабрь 2013г. по 6-10'!G37+'Декабрь 2013г. по 0,4'!G37 -> 0 | H37: ='Декабрь 2013г. по 6-10'!H37+'Декабрь 2013г. по 0,4'!H37 -> 0 | I37: ='Декабрь 2013г. по 6-10'!I37+'Декабрь 2013г. по 0,4'!I37 -> 0 | J37: ='Декабрь 2013г. по 6-10'!J37+'Декабрь 2013г. по 0,4'!J37 -> 0 | K37: ='Декабрь 2013г. по 6-10'!K37+'Декабрь 2013г. по 0,4'!K37 -> 0 | L37: 0 | M37: 0 | N37: 0 | O37: 0 | P37: 0 | Q37: 0
C38: итого: | D38: =D32+D33+D34+D35+D36+D37 -> 69 | E38: =E32+E33+E34+E35+E36+E37 -> 2619.28 | F38: =F32+F33+F34+F35+F36+F37 -> 56 | G38: =G32+G33+G34+G35+G36+G37 -> 2521.02 | H38: =H32+H33+H34+H35+H36+H37 -> 1 | I38: =I32+I33+I34+I35+I36+I37 -> 40 | J38: =J32+J33+J34+J35+J36+J37 -> 74 | K38: =K32+K33+K34+K35+K36+K37 -> 1479.2 | ... Q38: =Q32+Q33+Q34+Q35+Q36+Q37 -> 0
C39: Эльбрусская группа ПС
C40: ПС «ЦРУ» | D40: ='Декабрь 2013г. по 6-10'!D40+'Декабрь 2013г. по 0,4'!D40 -> 12 | E40: ='Декабрь 2013г. по 6-10'!E40+'Декабрь 2013г. по 0,4'!E40 -> 520.5 | F40: ='Декабрь 2013г. по 6-10'!F40+'Декабрь 2013г. по 0,4'!F40 -> 11 | G40: ='Декабрь 2013г. по 6-10'!G40+'Декабрь 2013г. по 0,4'!G40 -> 518 | H40: ='Декабрь 2013г. по 6-10'!H40+'Декабрь 2013г. по 0,4'!H40 -> 0 | I40: ='Декабрь 2013г. по 6-10'!I40+'Декабрь 2013г. по 0,4'!I40 -> 0 | J40: ='Декабрь 2013г. по 6-10'!J40+'Декабрь 2013г. по 0,4'!J40 -> 9 | K40: ='Декабрь 2013г. по 6-10'!K40+'Декабрь 2013г. по 0,4'!K40 -> 54.5 | L40: 0 | M40: 0 | N40: 0 | O40: 0 | P40: 0 | Q40: 0
C41: ПС «Адыл-Су» | D41: ='Декабрь 2013г. по 6-10'!D41+'Декабрь 2013г. по 0,4'!D41 -> 11 | E41: ='Декабрь 2013г. по 6-10'!E41+'Декабрь 2013г. по 0,4'!E41 -> 85.25 | F41: ='Декабрь 2013г. по 6-10'!F41+'Декабрь 2013г. по 0,4'!F41 -> 11 | G41: ='Декабрь 2013г. по 6-10'!G41+'Декабрь 2013г. по 0,4'!G41 -> 85.25 | H41: ='Декабрь 2013г. по 6-10'!H41+'Декабрь 2013г. по 0,4'!H41 -> 0 | I41: ='Декабрь 2013г. по 6-10'!I41+'Декабрь 2013г. по 0,4'!I41 -> 0 | J41: ='Декабрь 2013г. по 6-10'!J41+'Декабрь 2013г. по 0,4'!J41 -> 7 | K41: ='Декабрь 2013г. по 6-10'!K41+'Декабрь 2013г. по 0,4'!K41 -> 67.25 | L41: 0 | M41: 0 | N41: 0 | O41: 0 | P41: 0 | Q41: 0
C42: ПС «Нейтрино» | D42: ='Декабрь 2013г. по 6-10'!D42+'Декабрь 2013г. по 0,4'!D42 -> 0 | E42: ='Декабрь 2013г. по 6-10'!E42+'Декабрь 2013г. по 0,4'!E42 -> 0 | F42: ='Декабрь 2013г. по 6-10'!F42+'Декабрь 2013г. по 0,4'!F42 -> 0 | G42: ='Декабрь 2013г. по 6-10'!G42+'Декабрь 2013г. по 0,4'!G42 -> 0 | H42: ='Декабрь 2013г. по 6-10'!H42+'Декабрь 2013г. по 0,4'!H42 -> 0 | I42: ='Декабрь 2013г. по 6-10'!I42+'Декабрь 2013г. по 0,4'!I42 -> 0 | J42: ='Декабрь 2013г. по 6-10'!J42+'Декабрь 2013г. по 0,4'!J42 -> 0 | K42: ='Декабрь 2013г. по 6-10'!K42+'Декабрь 2013г. по 0,4'!K42 -> 0 | L42: 0 | M42: 0 | N42: 0 | O42: 0 | P42: 0 | Q42: 0
C43: ПС «Чегет» | D43: ='Декабрь 2013г. по 6-10'!D43+'Декабрь 2013г. по 0,4'!D43 -> 3 | E43: ='Декабрь 2013г. по 6-10'!E43+'Декабрь 2013г. по 0,4'!E43 -> 28 | F43: ='Декабрь 2013г. по 6-10'!F43+'Декабрь 2013г. по 0,4'!F43 -> 1 | G43: ='Декабрь 2013г. по 6-10'!G43+'Декабрь 2013г. по 0,4'!G43 -> 10 | H43: ='Декабрь 2013г. по 6-10'!H43+'Декабрь 2013г. по 0,4'!H43 -> 0 | I43: ='Декабрь 2013г. по 6-10'!I43+'Декабрь 2013г. по 0,4'!I43 -> 0 | J43: ='Декабрь 2013г. по 6-10'!J43+'Декабрь 2013г. по 0,4'!J43 -> 2 | K43: ='Декабрь 2013г. по 6-10'!K43+'Декабрь 2013г. по 0,4'!K43 -> 15 | L43: 0 | M43: 0 | N43: 0 | O43: 0 | P43: 0 | Q43: 0
C44: ПС «Терскол» | D44: ='Декабрь 2013г. по 6-10'!D44+'Декабрь 2013г. по 0,4'!D44 -> 12 | E44: ='Декабрь 2013г. по 6-10'!E44+'Декабрь 2013г. по 0,4'!E44 -> 227 | F44: ='Декабрь 2013г. по 6-10'!F44+'Декабрь 2013г. по 0,4'!F44 -> 12 | G44: ='Декабрь 2013г. по 6-10'!G44+'Декабрь 2013г. по 0,4'!G44 -> 227 | H44: ='Декабрь 2013г. по 6-10'!H44+'Декабрь 2013г. по 0,4'!H44 -> 0 | I44: ='Декабрь 2013г. по 6-10'!I44+'Декабрь 2013г. по 0,4'!I44 -> 0 | J44: ='Декабрь 2013г. по 6-10'!J44+'Декабрь 2013г. по 0,4'!J44 -> 13 | K44: ='Декабрь 2013г. по 6-10'!K44+'Декабрь 2013г. по 0,4'!K44 -> 430.5 | L44: 0 | M44: 0 | N44: 0 | O44: 0 | P44: 0 | Q44: 0
C45: ПС «Джайлык» | D45: ='Декабрь 2013г. по 6-10'!D45+'Декабрь 2013г. по 0,4'!D45 -> 1 | E45: ='Декабрь 2013г. по 6-10'!E45+'Декабрь 2013г. по 0,4'!E45 -> 4 | F45: ='Декабрь 2013г. по 6-10'!F45+'Декабрь 2013г. по 0,4'!F45 -> 1 | G45: ='Декабрь 2013г. по 6-10'!G45+'Декабрь 2013г. по 0,4'!G45 -> 4 | H45: ='Декабрь 2013г. по 6-10'!H45+'Декабрь 2013г. по 0,4'!H45 -> 0 | I45: ='Декабрь 2013г. по 6-10'!I45+'Декабрь 2013г. по 0,4'!I45 -> 0 | J45: ='Декабрь 2013г. по 6-10'!J45+'Декабрь 2013г. по 0,4'!J45 -> 2 | K45: ='Декабрь 2013г. по 6-10'!K45+'Декабрь 2013г. по 0,4'!K45 -> 12 | L45: 0 | M45: 0 | N45: 0 | O45: 0 | P45: 0 | Q45: 0
C46: ПС «Соц. городок» | D46: ='Декабрь 2013г. по 6-10'!D46+'Декабрь 2013г. по 0,4'!D46 -> 5 | E46: ='Декабрь 2013г. по 6-10'!E46+'Декабрь 2013г. по 0,4'!E46 -> 36 | F46: ='Декабрь 2013г. по 6-10'!F46+'Декабрь 2013г. по 0,4'!F46 -> 5 | G46: ='Декабрь 2013г. по 6-10'!G46+'Декабрь 2013г. по 0,4'!G46 -> 33 | H46: ='Декабрь 2013г. по 6-10'!H46+'Декабрь 2013г. по 0,4'!H46 -> 0 | I46: ='Декабрь 2013г. по 6-10'!I46+'Декабрь 2013г. по 0,4'!I46 -> 0 | J46: ='Декабрь 2013г. по 6-10'!J46+'Декабрь 2013г. по 0,4'!J46 -> 5 | K46: ='Декабрь 2013г. по 6-10'!K46+'Декабрь 2013г. по 0,4'!K46 -> 31.5 | L46: 0 | M46: 0 | N46: 0 | O46: 0 | P46: 0 | Q46: 0
C47: ПС «Чалмас» | D47: ='Декабрь 2013г. по 6-10'!D47+'Декабрь 2013г. по 0,4'!D47 -> 0 | E47: ='Декабрь 2013г. по 6-10'!E47+'Декабрь 2013г. по 0,4'!E47 -> 0 | F47: ='Декабрь 2013г. по 6-10'!F47+'Декабрь 2013г. по 0,4'!F47 -> 0 | G47: ='Декабрь 2013г. по 6-10'!G47+'Декабрь 2013г. по 0,4'!G47 -> 0 | H47: ='Декабрь 2013г. по 6-10'!H47+'Декабрь 2013г. по 0,4'!H47 -> 0 | I47: ='Декабрь 2013г. по 6-10'!I47+'Декабрь 2013г. по 0,4'!I47 -> 0 | J47: ='Декабрь 2013г. по 6-10'!J47+'Декабрь 2013г. по 0,4'!J47 -> 0 | K47: ='Декабрь 2013г. по 6-10'!K47+'Декабрь 2013г. по 0,4'!K47 -> 0 | L47: 0 | M47: 0 | N47: 0 | O47: 0 | P47: 0 | Q47: 0
C48: ПС «РМЗ» | D48: ='Декабрь 2013г. по 6-10'!D48+'Декабрь 2013г. по 0,4'!D48 -> 1 | E48: ='Декабрь 2013г. по 6-10'!E48+'Декабрь 2013г. по 0,4'!E48 -> 10 | F48: ='Декабрь 2013г. по 6-10'!F48+'Декабрь 2013г. по 0,4'!F48 -> 1 | G48: ='Декабрь 2013г. по 6-10'!G48+'Декабрь 2013г. по 0,4'!G48 -> 10 | H48: ='Декабрь 2013г. по 6-10'!H48+'Декабрь 2013г. по 0,4'!H48 -> 0 | I48: ='Декабрь 2013г. по 6-10'!I48+'Декабрь 2013г. по 0,4'!I48 -> 0 | J48: ='Декабрь 2013г. по 6-10'!J48+'Декабрь 2013г. по 0,4'!J48 -> 1 | K48: ='Декабрь 2013г. по 6-10'!K48+'Декабрь 2013г. по 0,4'!K48 -> 15 | L48: 0 | M48: 0 | N48: 0 | O48: 0 | P48: 0 | Q48: 0
C49: РП «Водогрейная» | D49: ='Декабрь 2013г. по 6-10'!D49+'Декабрь 2013г. по 0,4'!D49 -> 11 | E49: ='Декабрь 2013г. по 6-10'!E49+'Декабрь 2013г. по 0,4'!E49 -> 48.5 | F49: ='Декабрь 2013г. по 6-10'!F49+'Декабрь 2013г. по 0,4'!F49 -> 11 | G49: ='Декабрь 2013г. по 6-10'!G49+'Декабрь 2013г. по 0,4'!G49 -> 48.5 | H49: ='Декабрь 2013г. по 6-10'!H49+'Декабрь 2013г. по 0,4'!H49 -> 0 | I49: ='Декабрь 2013г. по 6-10'!I49+'Декабрь 2013г. по 0,4'!I49 -> 0 | J49: ='Декабрь 2013г. по 6-10'!J49+'Декабрь 2013г. по 0,4'!J49 -> 8 | K49: ='Декабрь 2013г. по 6-10'!K49+'Декабрь 2013г. по 0,4'!K49 -> 37 | L49: 0 | M49: 0 | N49: 0 | O49: 0 | P49: 0 | Q49: 0
C50: ПС «Былым» | D50: ='Декабрь 2013г. по 6-10'!D50+'Декабрь 2013г. по 0,4'!D50 -> 3 | E50: ='Декабрь 2013г. по 6-10'!E50+'Декабрь 2013г. по 0,4'!E50 -> 18 | F50: ='Декабрь 2013г. по 6-10'!F50+'Декабрь 2013г. по 0,4'!F50 -> 3 | G50: ='Декабрь 2013г. по 6-10'!G50+'Декабрь 2013г. по 0,4'!G50 -> 18 | H50: ='Декабрь 2013г. по 6-10'!H50+'Декабрь 2013г. по 0,4'!H50 -> 0 | I50: ='Декабрь 2013г. по 6-10'!I50+'Декабрь 2013г. по 0,4'!I50 -> 0 | J50: ='Декабрь 2013г. по 6-10'!J50+'Декабрь 2013г. по 0,4'!J50 -> 1 | K50: ='Декабрь 2013г. по 6-10'!K50+'Декабрь 2013г. по 0,4'!K50 -> 4.5 | L50: 0 | M50: 0 | N50: 0 | O50: 0 | P50: 0 | Q50: 0
C51: ПС "Гунделен" | D51: ='Декабрь 2013г. по 6-10'!D51+'Декабрь 2013г. по 0,4'!D51 -> 15 | E51: ='Декабрь 2013г. по 6-10'!E51+'Декабрь 2013г. по 0,4'!E51 -> 69 | F51: ='Декабрь 2013г. по 6-10'!F51+'Декабрь 2013г. по 0,4'!F51 -> 15 | G51: ='Декабрь 2013г. по 6-10'!G51+'Декабрь 2013г. по 0,4'!G51 -> 69 | H51: ='Декабрь 2013г. по 6-10'!H51+'Декабрь 2013г. по 0,4'!H51 -> 0 | I51: ='Декабрь 2013г. по 6-10'!I51+'Декабрь 2013г. по 0,4'!I51 -> 0 | J51: ='Декабрь 2013г. по 6-10'!J51+'Декабрь 2013г. по 0,4'!J51 -> 10 | K51: ='Декабрь 2013г. по 6-10'!K51+'Декабрь 2013г. по 0,4'!K51 -> 48.5 | L51: 0 | M51: 0 | N51: 0 | O51: 0 | P51: 0 | Q51: 0
C52: итого: | D52: =D40+D41+D42+D43+D44+D45+D46+D47+D48+D49+D50+D51 -> 74 | E52: =E40+E41+E42+E43+E44+E45+E46+E47+E48+E49+E50+E51 -> 1046.25 | F52: =F40+F41+F42+F43+F44+F45+F46+F47+F48+F49+F50+F51 -> 71 | G52: =G40+G41+G42+G43+G44+G45+G46+G47+G48+G49+G50+G51 -> 1022.75 | H52: =H40+H41+H42+H43+H44+H45+H46+H47+H48+H49+H50+H51 -> 0 | I52: =I40+I41+I42+I43+I44+I45+I46+I47+I48+I49+I50+I51 -> 0 | J52: =J40+J41+J42+J43+J44+J45+J46+J47+J48+J49+J50+J51 -> 58 | K52: =K40+K41+K42+K43+K44+K45+K46+K47+K48+K49+K50+K51 -> 715.75 | ... Q52: =Q40+Q41+Q42+Q43+Q44+Q45+Q46+Q47+Q48+Q49+Q50+Q51 -> 0
C53: Терская группа ПС
C54: ПС «Терек-II» | D54: ='Декабрь 2013г. по 6-10'!D54+'Декабрь 2013г. по 0,4'!D54 -> 70 | E54: ='Декабрь 2013г. по 6-10'!E54+'Декабрь 2013г. по 0,4'!E54 -> 1030.85 | F54: ='Декабрь 2013г. по 6-10'!F54+'Декабрь 2013г. по 0,4'!F54 -> 38 | G54: ='Декабрь 2013г. по 6-10'!G54+'Декабрь 2013г. по 0,4'!G54 -> 1001.65 | H54: ='Декабрь 2013г. по 6-10'!H54+'Декабрь 2013г. по 0,4'!H54 -> 2 | I54: ='Декабрь 2013г. по 6-10'!I54+'Декабрь 2013г. по 0,4'!I54 -> 350 | J54: ='Декабрь 2013г. по 6-10'!J54+'Декабрь 2013г. по 0,4'!J54 -> 36 | K54: ='Декабрь 2013г. по 6-10'!K54+'Декабрь 2013г. по 0,4'!K54 -> 1116.66 | L54: 0 | M54: 0 | N54: 0 | O54: 0 | P54: 0 | Q54: 0
C55: ПС «В.Акбаш» | D55: ='Декабрь 2013г. по 6-10'!D55+'Декабрь 2013г. по 0,4'!D55 -> 0 | E55: ='Декабрь 2013г. по 6-10'!E55+'Декабрь 2013г. по 0,4'!E55 -> 0 | F55: ='Декабрь 2013г. по 6-10'!F55+'Декабрь 2013г. по 0,4'!F55 -> 0 | G55: ='Декабрь 2013г. по 6-10'!G55+'Декабрь 2013г. по 0,4'!G55 -> 0 | H55: ='Декабрь 2013г. по 6-10'!H55+'Декабрь 2013г. по 0,4'!H55 -> 0 | I55: ='Декабрь 2013г. по 6-10'!I55+'Декабрь 2013г. по 0,4'!I55 -> 0 | J55: ='Декабрь 2013г. по 6-10'!J55+'Декабрь 2013г. по 0,4'!J55 -> 0 | K55: ='Декабрь 2013г. по 6-10'!K55+'Декабрь 2013г. по 0,4'!K55 -> 0 | L55: 0 | M55: 0 | N55: 0 | O55: 0 | P55: 0 | Q55: 0
C56: ПС «ЗАИ» | D56: ='Декабрь 2013г. по 6-10'!D56+'Декабрь 2013г. по 0,4'!D56 -> 2 | E56: ='Декабрь 2013г. по 6-10'!E56+'Декабрь 2013г. по 0,4'!E56 -> 8.5 | F56: ='Декабрь 2013г. по 6-10'!F56+'Декабрь 2013г. по 0,4'!F56 -> 1 | G56: ='Декабрь 2013г. по 6-10'!G56+'Декабрь 2013г. по 0,4'!G56 -> 4.5 | H56: ='Декабрь 2013г. по 6-10'!H56+'Декабрь 2013г. по 0,4'!H56 -> 0 | I56: ='Декабрь 2013г. по 6-10'!I56+'Декабрь 2013г. по 0,4'!I56 -> 0 | J56: ='Декабрь 2013г. по 6-10'!J56+'Декабрь 2013г. по 0,4'!J56 -> 2 | K56: ='Декабрь 2013г. по 6-10'!K56+'Декабрь 2013г. по 0,4'!K56 -> 6.5 | L56: 0 | M56: 0 | N56: 0 | O56: 0 | P56: 0 | Q56: 0
C57: ПС «Пенькозавод» | D57: ='Декабрь 2013г. по 6-10'!D57+'Декабрь 2013г. по 0,4'!D57 -> 2 | E57: ='Декабрь 2013г. по 6-10'!E57+'Декабрь 2013г. по 0,4'!E57 -> 19 | F57: ='Декабрь 2013г. по 6-10'!F57+'Декабрь 2013г. по 0,4'!F57 -> 2 | G57: ='Декабрь 2013г. по 6-10'!G57+'Декабрь 2013г. по 0,4'!G57 -> 19 | H57: ='Декабрь 2013г. по 6-10'!H57+'Декабрь 2013г. по 0,4'!H57 -> 0 | I57: ='Декабрь 2013г. по 6-10'!I57+'Декабрь 2013г. по 0,4'!I57 -> 0 | J57: ='Декабрь 2013г. по 6-10'!J57+'Декабрь 2013г. по 0,4'!J57 -> 3 | K57: ='Декабрь 2013г. по 6-10'!K57+'Декабрь 2013г. по 0,4'!K57 -> 23 | L57: 0 | M57: 0 | N57: 0 | O57: 0 | P57: 0 | Q57: 0
C58: ПС «Терекская» | D58: ='Декабрь 2013г. по 6-10'!D58+'Декабрь 2013г. по 0,4'!D58 -> 8 | E58: ='Декабрь 2013г. по 6-10'!E58+'Декабрь 2013г. по 0,4'!E58 -> 70 | F58: ='Декабрь 2013г. по 6-10'!F58+'Декабрь 2013г. по 0,4'!F58 -> 8 | G58: ='Декабрь 2013г. по 6-10'!G58+'Декабрь 2013г. по 0,4'!G58 -> 70 | H58: ='Декабрь 2013г. по 6-10'!H58+'Декабрь 2013г. по 0,4'!H58 -> 0 | I58: ='Декабрь 2013г. по 6-10'!I58+'Декабрь 2013г. по 0,4'!I58 -> 0 | J58: ='Декабрь 2013г. по 6-10'!J58+'Декабрь 2013г. по 0,4'!J58 -> 4 | K58: ='Декабрь 2013г. по 6-10'!K58+'Декабрь 2013г. по 0,4'!K58 -> 53 | L58: 0 | M58: 0 | N58: 0 | O58: 0 | P58: 0 | Q58: 0
C59: ПС «Терек-1» | D59: ='Декабрь 2013г. по 6-10'!D59+'Декабрь 2013г. по 0,4'!D59 -> 40 | E59: ='Декабрь 2013г. по 6-10'!E59+'Декабрь 2013г. по 0,4'!E59 -> 911.95 | F59: ='Декабрь 2013г. по 6-10'!F59+'Декабрь 2013г. по 0,4'!F59 -> 33 | G59: ='Декабрь 2013г. по 6-10'!G59+'Декабрь 2013г. по 0,4'!G59 -> 924.25 | H59: ='Декабрь 2013г. по 6-10'!H59+'Декабрь 2013г. по 0,4'!H59 -> 2 | I59: ='Декабрь 2013г. по 6-10'!I59+'Декабрь 2013г. по 0,4'!I59 -> 395 | J59: ='Декабрь 2013г. по 6-10'!J59+'Декабрь 2013г. по 0,4'!J59 -> 17 | K59: ='Декабрь 2013г. по 6-10'!K59+'Декабрь 2013г. по 0,4'!K59 -> 256.25 | L59: 0 | M59: 0 | N59: 0 | O59: 0 | P59: 0 | Q59: 0
C60: ПС «В.Курп» | D60: ='Декабрь 2013г. по 6-10'!D60+'Декабрь 2013г. по 0,4'!D60 -> 3 | E60: ='Декабрь 2013г. по 6-10'!E60+'Декабрь 2013г. по 0,4'!E60 -> 15 | F60: ='Декабрь 2013г. по 6-10'!F60+'Декабрь 2013г. по 0,4'!F60 -> 3 | G60: ='Декабрь 2013г. по 6-10'!G60+'Декабрь 2013г. по 0,4'!G60 -> 16 | H60: ='Декабрь 2013г. по 6-10'!H60+'Декабрь 2013г. по 0,4'!H60 -> 0 | I60: ='Декабрь 2013г. по 6-10'!I60+'Декабрь 2013г. по 0,4'!I60 -> 0 | J60: ='Декабрь 2013г. по 6-10'!J60+'Декабрь 2013г. по 0,4'!J60 -> 4 | K60: ='Декабрь 2013г. по 6-10'!K60+'Декабрь 2013г. по 0,4'!K60 -> 20 | L60: 0 | M60: 0 | N60: 0 | O60: 0 | P60: 0 | Q60: 0
C61: ПС «Н.Курп» | D61: ='Декабрь 2013г. по 6-10'!D61+'Декабрь 2013г. по 0,4'!D61 -> 2 | E61: ='Декабрь 2013г. по 6-10'!E61+'Декабрь 2013г. по 0,4'!E61 -> 28 | F61: ='Декабрь 2013г. по 6-10'!F61+'Декабрь 2013г. по 0,4'!F61 -> 1 | G61: ='Декабрь 2013г. по 6-10'!G61+'Декабрь 2013г. по 0,4'!G61 -> 14 | H61: ='Декабрь 2013г. по 6-10'!H61+'Декабрь 2013г. по 0,4'!H61 -> 0 | I61: ='Декабрь 2013г. по 6-10'!I61+'Декабрь 2013г. по 0,4'!I61 -> 0 | J61: ='Декабрь 2013г. по 6-10'!J61+'Декабрь 2013г. по 0,4'!J61 -> 1 | K61: ='Декабрь 2013г. по 6-10'!K61+'Декабрь 2013г. по 0,4'!K61 -> 6 | L61: 0 | M61: 0 | N61: 0 | O61: 0 | P61: 0 | Q61: 0
C62: ПС «Акбаш-35» | D62: ='Декабрь 2013г. по 6-10'!D62+'Декабрь 2013г. по 0,4'!D62 -> 4 | E62: ='Декабрь 2013г. по 6-10'!E62+'Декабрь 2013г. по 0,4'!E62 -> 174.8 | F62: ='Декабрь 2013г. по 6-10'!F62+'Декабрь 2013г. по 0,4'!F62 -> 4 | G62: ='Декабрь 2013г. по 6-10'!G62+'Декабрь 2013г. по 0,4'!G62 -> 174.8 | H62: ='Декабрь 2013г. по 6-10'!H62+'Декабрь 2013г. по 0,4'!H62 -> 0 | I62: ='Декабрь 2013г. по 6-10'!I62+'Декабрь 2013г. по 0,4'!I62 -> 0 | J62: ='Декабрь 2013г. по 6-10'!J62+'Декабрь 2013г. по 0,4'!J62 -> 1 | K62: ='Декабрь 2013г. по 6-10'!K62+'Декабрь 2013г. по 0,4'!K62 -> 4 | L62: 0 | M62: 0 | N62: 0 | O62: 0 | P62: 0 | Q62: 0
C63: итого: | D63: =D54+D55+D56+D57+D58+D59+D60+D61+D62 -> 131 | E63: =E54+E55+E56+E57+E58+E59+E60+E61+E62 -> 2258.1 | F63: =F54+F55+F56+F57+F58+F59+F60+F61+F62 -> 90 | G63: =G54+G55+G56+G57+G58+G59+G60+G61+G62 -> 2224.2 | H63: =H54+H55+H56+H57+H58+H59+H60+H61+H62 -> 4 | I63: =I54+I55+I56+I57+I58+I59+I60+I61+I62 -> 745 | J63: =J54+J55+J56+J57+J58+J59+J60+J61+J62 -> 68 | K63: =K54+K55+K56+K57+K58+K59+K60+K61+K62 -> 1485.41 | ... Q63: =Q54+Q55+Q56+Q57+Q58+Q59+Q60+Q61+Q62 -> 0
C64: Майская группа ПС
C65: ПС «Майская» | D65: ='Декабрь 2013г. по 6-10'!D65+'Декабрь 2013г. по 0,4'!D65 -> 51 | E65: ='Декабрь 2013г. по 6-10'!E65+'Декабрь 2013г. по 0,4'!E65 -> 516 | F65: ='Декабрь 2013г. по 6-10'!F65+'Декабрь 2013г. по 0,4'!F65 -> 51 | G65: ='Декабрь 2013г. по 6-10'!G65+'Декабрь 2013г. по 0,4'!G65 -> 516 | H65: ='Декабрь 2013г. по 6-10'!H65+'Декабрь 2013г. по 0,4'!H65 -> 0 | I65: ='Декабрь 2013г. по 6-10'!I65+'Декабрь 2013г. по 0,4'!I65 -> 0 | J65: ='Декабрь 2013г. по 6-10'!J65+'Декабрь 2013г. по 0,4'!J65 -> 53 | K65: ='Декабрь 2013г. по 6-10'!K65+'Декабрь 2013г. по 0,4'!K65 -> 569.8 | L65: 0 | M65: 0 | N65: 0 | O65: 0 | P65: 0 | Q65: 0
C66: ПС «Александровская» | D66: ='Декабрь 2013г. по 6-10'!D66+'Декабрь 2013г. по 0,4'!D66 -> 10 | E66: ='Декабрь 2013г. по 6-10'!E66+'Декабрь 2013г. по 0,4'!E66 -> 59.7 | F66: ='Декабрь 2013г. по 6-10'!F66+'Декабрь 2013г. по 0,4'!F66 -> 10 | G66: ='Декабрь 2013г. по 6-10'!G66+'Декабрь 2013г. по 0,4'!G66 -> 59.7 | H66: ='Декабрь 2013г. по 6-10'!H66+'Декабрь 2013г. по 0,4'!H66 -> 0 | I66: ='Декабрь 2013г. по 6-10'!I66+'Декабрь 2013г. по 0,4'!I66 -> 0 | J66: ='Декабрь 2013г. по 6-10'!J66+'Декабрь 2013г. по 0,4'!J66 -> 12 | K66: ='Декабрь 2013г. по 6-10'!K66+'Декабрь 2013г. по 0,4'!K66 -> 399.7 | L66: 0 | M66: 0 | N66: 0 | O66: 0 | P66: 0 | Q66: 0
C67: ПС «Котляревская» | D67: ='Декабрь 2013г. по 6-10'!D67+'Декабрь 2013г. по 0,4'!D67 -> 3 | E67: ='Декабрь 2013г. по 6-10'!E67+'Декабрь 2013г. по 0,4'!E67 -> 1137 | F67: ='Декабрь 2013г. по 6-10'!F67+'Декабрь 2013г. по 0,4'!F67 -> 3 | G67: ='Декабрь 2013г. по 6-10'!G67+'Декабрь 2013г. по 0,4'!G67 -> 1137 | H67: ='Декабрь 2013г. по 6-10'!H67+'Декабрь 2013г. по 0,4'!H67 -> 0 | I67: ='Декабрь 2013г. по 6-10'!I67+'Декабрь 2013г. по 0,4'!I67 -> 0 | J67: ='Декабрь 2013г. по 6-10'!J67+'Декабрь 2013г. по 0,4'!J67 -> 1 | K67: ='Декабрь 2013г. по 6-10'!K67+'Декабрь 2013г. по 0,4'!K67 -> 200 | L67: 0 | M67: 0 | N67: 0 | O67: 0 | P67: 0 | Q67: 0
C68: ПС «Ново-Ивановская» | D68: ='Декабрь 2013г. по 6-10'!D68+'Декабрь 2013г. по 0,4'!D68 -> 4 | E68: ='Декабрь 2013г. по 6-10'!E68+'Декабрь 2013г. по 0,4'!E68 -> 23.5 | F68: ='Декабрь 2013г. по 6-10'!F68+'Декабрь 2013г. по 0,4'!F68 -> 4 | G68: ='Декабрь 2013г. по 6-10'!G68+'Декабрь 2013г. по 0,4'!G68 -> 23.5 | H68: ='Декабрь 2013г. по 6-10'!H68+'Декабрь 2013г. по 0,4'!H68 -> 0 | I68: ='Декабрь 2013г. по 6-10'!I68+'Декабрь 2013г. по 0,4'!I68 -> 0 | J68: ='Декабрь 2013г. по 6-10'!J68+'Декабрь 2013г. по 0,4'!J68 -> 6 | K68: ='Декабрь 2013г. по 6-10'!K68+'Декабрь 2013г. по 0,4'!K68 -> 61.5 | L68: 0 | M68: 0 | N68: 0 | O68: 0 | P68: 0 | Q68: 0
C69: ПС «Красная Нива» | D69: ='Декабрь 2013г. по 6-10'!D69+'Декабрь 2013г. по 0,4'!D69 -> 2 | E69: ='Декабрь 2013г. по 6-10'!E69+'Декабрь 2013г. по 0,4'!E69 -> 15.5 | F69: ='Декабрь 2013г. по 6-10'!F69+'Декабрь 2013г. по 0,4'!F69 -> 2 | G69: ='Декабрь 2013г. по 6-10'!G69+'Декабрь 2013г. по 0,4'!G69 -> 15.5 | H69: ='Декабрь 2013г. по 6-10'!H69+'Декабрь 2013г. по 0,4'!H69 -> 0 | I69: ='Декабрь 2013г. по 6-10'!I69+'Декабрь 2013г. по 0,4'!I69 -> 0 | J69: ='Декабрь 2013г. по 6-10'!J69+'Декабрь 2013г. по 0,4'!J69 -> 2 | K69: ='Декабрь 2013г. по 6-10'!K69+'Декабрь 2013г. по 0,4'!K69 -> 15.5 | L69: 0 | M69: 0 | N69: 0 | O69: 0 | P69: 0 | Q69: 0
C70: итого: | D70: =D65+D66+D67+D68+D69 -> 70 | E70: =E65+E66+E67+E68+E69 -> 1751.7 | F70: =F65+F66+F67+F68+F69 -> 70 | G70: =G65+G66+G67+G68+G69 -> 1751.7 | H70: =H65+H66+H67+H68+H69 -> 0 | I70: =I65+I66+I67+I68+I69 -> 0 | J70: =J65+J66+J67+J68+J69 -> 74 | K70: =K65+K66+K67+K68+K69 -> 1246.5 | ... Q70: =Q65+Q66+Q67+Q68+Q69 -> 0
C71: Чегемская группа ПС
C72: ПС «Чегем-II» | D72: ='Декабрь 2013г. по 6-10'!D72+'Декабрь 2013г. по 0,4'!D72 -> 50 | E72: ='Декабрь 2013г. по 6-10'!E72+'Декабрь 2013г. по 0,4'!E72 -> 1191.62 | F72: ='Декабрь 2013г. по 6-10'!F72+'Декабрь 2013г. по 0,4'!F72 -> 50 | G72: ='Декабрь 2013г. по 6-10'!G72+'Декабрь 2013г. по 0,4'!G72 -> 1191.62 | H72: ='Декабрь 2013г. по 6-10'!H72+'Декабрь 2013г. по 0,4'!H72 -> 0 | I72: ='Декабрь 2013г. по 6-10'!I72+'Декабрь 2013г. по 0,4'!I72 -> 0 | J72: ='Декабрь 2013г. по 6-10'!J72+'Декабрь 2013г. по 0,4'!J72 -> 32 | K72: ='Декабрь 2013г. по 6-10'!K72+'Декабрь 2013г. по 0,4'!K72 -> 737.11 | L72: 0 | M72: 0 | N72: 0 | O72: 0 | P72: 0 | Q72: 0
C73: ПС «Водозабор» | D73: ='Декабрь 2013г. по 6-10'!D73+'Декабрь 2013г. по 0,4'!D73 -> 3 | E73: ='Декабрь 2013г. по 6-10'!E73+'Декабрь 2013г. по 0,4'!E73 -> 422 | F73: ='Декабрь 2013г. по 6-10'!F73+'Декабрь 2013г. по 0,4'!F73 -> 3 | G73: ='Декабрь 2013г. по 6-10'!G73+'Декабрь 2013г. по 0,4'!G73 -> 422 | H73: ='Декабрь 2013г. по 6-10'!H73+'Декабрь 2013г. по 0,4'!H73 -> 0 | I73: ='Декабрь 2013г. по 6-10'!I73+'Декабрь 2013г. по 0,4'!I73 -> 0 | J73: ='Декабрь 2013г. по 6-10'!J73+'Декабрь 2013г. по 0,4'!J73 -> 3 | K73: ='Декабрь 2013г. по 6-10'!K73+'Декабрь 2013г. по 0,4'!K73 -> 413 | L73: 0 | M73: 0 | N73: 0 | O73: 0 | P73: 0 | Q73: 0
C74: ПС «Чегем-1» | D74: ='Декабрь 2013г. по 6-10'!D74+'Декабрь 2013г. по 0,4'!D74 -> 6 | E74: ='Декабрь 2013г. по 6-10'!E74+'Декабрь 2013г. по 0,4'!E74 -> 37.5 | F74: ='Декабрь 2013г. по 6-10'!F74+'Декабрь 2013г. по 0,4'!F74 -> 6 | G74: ='Декабрь 2013г. по 6-10'!G74+'Декабрь 2013г. по 0,4'!G74 -> 37.5 | H74: ='Декабрь 2013г. по 6-10'!H74+'Декабрь 2013г. по 0,4'!H74 -> 1 | I74: ='Декабрь 2013г. по 6-10'!I74+'Декабрь 2013г. по 0,4'!I74 -> 5.6 | J74: ='Декабрь 2013г. по 6-10'!J74+'Декабрь 2013г. по 0,4'!J74 -> 3 | K74: ='Декабрь 2013г. по 6-10'!K74+'Декабрь 2013г. по 0,4'!K74 -> 13 | L74: 0 | M74: 0 | N74: 0 | O74: 0 | P74: 0 | Q74: 0
C75: ПС «Лечинкай» | D75: ='Декабрь 2013г. по 6-10'!D75+'Декабрь 2013г. по 0,4'!D75 -> 31 | E75: ='Декабрь 2013г. по 6-10'!E75+'Декабрь 2013г. по 0,4'!E75 -> 191.99 | F75: ='Декабрь 2013г. по 6-10'!F75+'Декабрь 2013г. по 0,4'!F75 -> 31 | G75: ='Декабрь 2013г. по 6-10'!G75+'Декабрь 2013г. по 0,4'!G75 -> 191.99 | H75: ='Декабрь 2013г. по 6-10'!H75+'Декабрь 2013г. по 0,4'!H75 -> 1 | I75: ='Декабрь 2013г. по 6-10'!I75+'Декабрь 2013г. по 0,4'!I75 -> 6 | J75: ='Декабрь 2013г. по 6-10'!J75+'Декабрь 2013г. по 0,4'!J75 -> 29 | K75: ='Декабрь 2013г. по 6-10'!K75+'Декабрь 2013г. по 0,4'!K75 -> 150.6 | L75: 0 | M75: 0 | N75: 0 | O75: 0 | P75: 0 | Q75: 0
C76: ПС «Н.Чегем» | D76: ='Декабрь 2013г. по 6-10'!D76+'Декабрь 2013г. по 0,4'!D76 -> 4 | E76: ='Декабрь 2013г. по 6-10'!E76+'Декабрь 2013г. по 0,4'!E76 -> 16 | F76: ='Декабрь 2013г. по 6-10'!F76+'Декабрь 2013г. по 0,4'!F76 -> 4 | G76: ='Декабрь 2013г. по 6-10'!G76+'Декабрь 2013г. по 0,4'!G76 -> 16 | H76: ='Декабрь 2013г. по 6-10'!H76+'Декабрь 2013г. по 0,4'!H76 -> 0 | I76: ='Декабрь 2013г. по 6-10'!I76+'Декабрь 2013г. по 0,4'!I76 -> 0 | J76: ='Декабрь 2013г. по 6-10'!J76+'Декабрь 2013г. по 0,4'!J76 -> 6 | K76: ='Декабрь 2013г. по 6-10'!K76+'Декабрь 2013г. по 0,4'!K76 -> 24 | L76: 0 | M76: 0 | N76: 0 | O76: 0 | P76: 0 | Q76: 0
C77: ПС «Кара-Су» | D77: ='Декабрь 2013г. по 6-10'!D77+'Декабрь 2013г. по 0,4'!D77 -> 0 | E77: ='Декабрь 2013г. по 6-10'!E77+'Декабрь 2013г. по 0,4'!E77 -> 0 | F77: ='Декабрь 2013г. по 6-10'!F77+'Декабрь 2013г. по 0,4'!F77 -> 0 | G77: ='Декабрь 2013г. по 6-10'!G77+'Декабрь 2013г. по 0,4'!G77 -> 0 | H77: ='Декабрь 2013г. по 6-10'!H77+'Декабрь 2013г. по 0,4'!H77 -> 0 | I77: ='Декабрь 2013г. по 6-10'!I77+'Декабрь 2013г. по 0,4'!I77 -> 0 | J77: ='Декабрь 2013г. по 6-10'!J77+'Декабрь 2013г. по 0,4'!J77 -> 1 | K77: ='Декабрь 2013г. по 6-10'!K77+'Декабрь 2013г. по 0,4'!K77 -> 3 | L77: 0 | M77: 0 | N77: 0 | O77: 0 | P77: 0 | Q77: 0
C78: итого: | D78: =D72+D73+D74+D75+D76+D77 -> 94 | E78: =E72+E73+E74+E75+E76+E77 -> 1859.11 | F78: =F72+F73+F74+F75+F76+F77 -> 94 | G78: =G72+G73+G74+G75+G76+G77 -> 1859.11 | H78: =H72+H73+H74+H75+H76+H77 -> 2 | I78: =I72+I73+I74+I75+I76+I77 -> 11.6 | J78: =J72+J73+J74+J75+J76+J77 -> 74 | K78: =K72+K73+K74+K75+K76+K77 -> 1340.71 | ... Q78: =Q72+Q73+Q74+Q75+Q76+Q77 -> 0
C79: Баксанская группа ПС
C80: ПС «Баксан-110» | D80: ='Декабрь 2013г. по 6-10'!D80+'Декабрь 2013г. по 0,4'!D80 -> 37 | E80: ='Декабрь 2013г. по 6-10'!E80+'Декабрь 2013г. по 0,4'!E80 -> 233 | F80: ='Декабрь 2013г. по 6-10'!F80+'Декабрь 2013г. по 0,4'!F80 -> 37 | G80: ='Декабрь 2013г. по 6-10'!G80+'Декабрь 2013г. по 0,4'!G80 -> 233 | H80: ='Декабрь 2013г. по 6-10'!H80+'Декабрь 2013г. по 0,4'!H80 -> 0 | I80: ='Декабрь 2013г. по 6-10'!I80+'Декабрь 2013г. по 0,4'!I80 -> 0 | J80: ='Декабрь 2013г. по 6-10'!J80+'Декабрь 2013г. по 0,4'!J80 -> 46 | K80: ='Декабрь 2013г. по 6-10'!K80+'Декабрь 2013г. по 0,4'!K80 -> 260.4 | L80: 0 | M80: 0 | N80: 0 | O80: 0 | P80: 0 | Q80: 0
C81: ПС «Кызбурун-110» | D81: ='Декабрь 2013г. по 6-10'!D81+'Декабрь 2013г. по 0,4'!D81 -> 57 | E81: ='Декабрь 2013г. по 6-10'!E81+'Декабрь 2013г. по 0,4'!E81 -> 1002.6 | F81: ='Декабрь 2013г. по 6-10'!F81+'Декабрь 2013г. по 0,4'!F81 -> 57 | G81: ='Декабрь 2013г. по 6-10'!G81+'Декабрь 2013г. по 0,4'!G81 -> 1002.6 | H81: ='Декабрь 2013г. по 6-10'!H81+'Декабрь 2013г. по 0,4'!H81 -> 1 | I81: ='Декабрь 2013г. по 6-10'!I81+'Декабрь 2013г. по 0,4'!I81 -> 5 | J81: ='Декабрь 2013г. по 6-10'!J81+'Декабрь 2013г. по 0,4'!J81 -> 66 | K81: ='Декабрь 2013г. по 6-10'!K81+'Декабрь 2013г. по 0,4'!K81 -> 580.9 | L81: 0 | M81: 0 | N81: 0 | O81: 0 | P81: 0 | Q81: 0
C82: ПС «Куркужин» | D82: ='Декабрь 2013г. по 6-10'!D82+'Декабрь 2013г. по 0,4'!D82 -> 17 | E82: ='Декабрь 2013г. по 6-10'!E82+'Декабрь 2013г. по 0,4'!E82 -> 104.3 | F82: ='Декабрь 2013г. по 6-10'!F82+'Декабрь 2013г. по 0,4'!F82 -> 17 | G82: ='Декабрь 2013г. по 6-10'!G82+'Декабрь 2013г. по 0,4'!G82 -> 104.3 | H82: ='Декабрь 2013г. по 6-10'!H82+'Декабрь 2013г. по 0,4'!H82 -> 0 | I82: ='Декабрь 2013г. по 6-10'!I82+'Декабрь 2013г. по 0,4'!I82 -> 0 | J82: ='Декабрь 2013г. по 6-10'!J82+'Декабрь 2013г. по 0,4'!J82 -> 17 | K82: ='Декабрь 2013г. по 6-10'!K82+'Декабрь 2013г. по 0,4'!K82 -> 95.3 | L82: 0 | M82: 0 | N82: 0 | O82: 0 | P82: 0 | Q82: 0
C83: ПС «Баксан-35» | D83: ='Декабрь 2013г. по 6-10'!D83+'Декабрь 2013г. по 0,4'!D83 -> 36 | E83: ='Декабрь 2013г. по 6-10'!E83+'Декабрь 2013г. по 0,4'!E83 -> 773.22 | F83: ='Декабрь 2013г. по 6-10'!F83+'Декабрь 2013г. по 0,4'!F83 -> 36 | G83: ='Декабрь 2013г. по 6-10'!G83+'Декабрь 2013г. по 0,4'!G83 -> 773.22 | H83: ='Декабрь 2013г. по 6-10'!H83+'Декабрь 2013г. по 0,4'!H83 -> 0 | I83: ='Декабрь 2013г. по 6-10'!I83+'Декабрь 2013г. по 0,4'!I83 -> 0 | J83: ='Декабрь 2013г. по 6-10'!J83+'Декабрь 2013г. по 0,4'!J83 -> 63 | K83: ='Декабрь 2013г. по 6-10'!K83+'Декабрь 2013г. по 0,4'!K83 -> 342.9 | L83: 0 | M83: 0 | N83: 0 | O83: 0 | P83: 0 | Q83: 0
C84: ПС «Кр.Константин.» | D84: ='Декабрь 2013г. по 6-10'!D84+'Декабрь 2013г. по 0,4'!D84 -> 3 | E84: ='Декабрь 2013г. по 6-10'!E84+'Декабрь 2013г. по 0,4'!E84 -> 12.5 | F84: ='Декабрь 2013г. по 6-10'!F84+'Декабрь 2013г. по 0,4'!F84 -> 3 | G84: ='Декабрь 2013г. по 6-10'!G84+'Декабрь 2013г. по 0,4'!G84 -> 12.5 | H84: ='Декабрь 2013г. по 6-10'!H84+'Декабрь 2013г. по 0,4'!H84 -> 0 | I84: ='Декабрь 2013г. по 6-10'!I84+'Декабрь 2013г. по 0,4'!I84 -> 0 | J84: ='Декабрь 2013г. по 6-10'!J84+'Декабрь 2013г. по 0,4'!J84 -> 3 | K84: ='Декабрь 2013г. по 6-10'!K84+'Декабрь 2013г. по 0,4'!K84 -> 12.5 | L84: 0 | M84: 0 | N84: 0 | O84: 0 | P84: 0 | Q84: 0
C85: ПС «Гунделен-110» | D85: ='Декабрь 2013г. по 6-10'!D85+'Декабрь 2013г. по 0,4'!D85 -> 10 | E85: ='Декабрь 2013г. по 6-10'!E85+'Декабрь 2013г. по 0,4'!E85 -> 49 | F85: ='Декабрь 2013г. по 6-10'!F85+'Декабрь 2013г. по 0,4'!F85 -> 10 | G85: ='Декабрь 2013г. по 6-10'!G85+'Декабрь 2013г. по 0,4'!G85 -> 49 | H85: ='Декабрь 2013г. по 6-10'!H85+'Декабрь 2013г. по 0,4'!H85 -> 0 | I85: ='Декабрь 2013г. по 6-10'!I85+'Декабрь 2013г. по 0,4'!I85 -> 0 | J85: ='Декабрь 2013г. по 6-10'!J85+'Декабрь 2013г. по 0,4'!J85 -> 12 | K85: ='Декабрь 2013г. по 6-10'!K85+'Декабрь 2013г. по 0,4'!K85 -> 70 | L85: 0 | M85: 0 | N85: 0 | O85: 0 | P85: 0 | Q85: 0
C86: ПС «Плотина» | D86: ='Декабрь 2013г. по 6-10'!D86+'Декабрь 2013г. по 0,4'!D86 -> 5 | E86: ='Декабрь 2013г. по 6-10'!E86+'Декабрь 2013г. по 0,4'!E86 -> 23.5 | F86: ='Декабрь 2013г. по 6-10'!F86+'Декабрь 2013г. по 0,4'!F86 -> 5 | G86: ='Декабрь 2013г. по 6-10'!G86+'Декабрь 2013г. по 0,4'!G86 -> 23.5 | H86: ='Декабрь 2013г. по 6-10'!H86+'Декабрь 2013г. по 0,4'!H86 -> 0 | I86: ='Декабрь 2013г. по 6-10'!I86+'Декабрь 2013г. по 0,4'!I86 -> 0 | J86: ='Декабрь 2013г. по 6-10'!J86+'Декабрь 2013г. по 0,4'!J86 -> 6 | K86: ='Декабрь 2013г. по 6-10'!K86+'Декабрь 2013г. по 0,4'!K86 -> 29.5 | L86: 0 | M86: 0 | N86: 0 | O86: 0 | P86: 0 | Q86: 0
C87: ПС «Баксаненок» | D87: ='Декабрь 2013г. по 6-10'!D87+'Декабрь 2013г. по 0,4'!D87 -> 20 | E87: ='Декабрь 2013г. по 6-10'!E87+'Декабрь 2013г. по 0,4'!E87 -> 104.1 | F87: ='Декабрь 2013г. по 6-10'!F87+'Декабрь 2013г. по 0,4'!F87 -> 20 | G87: ='Декабрь 2013г. по 6-10'!G87+'Декабрь 2013г. по 0,4'!G87 -> 104.1 | H87: ='Декабрь 2013г. по 6-10'!H87+'Декабрь 2013г. по 0,4'!H87 -> 0 | I87: ='Декабрь 2013г. по 6-10'!I87+'Декабрь 2013г. по 0,4'!I87 -> 0 | J87: ='Декабрь 2013г. по 6-10'!J87+'Декабрь 2013г. по 0,4'!J87 -> 22 | K87: ='Декабрь 2013г. по 6-10'!K87+'Декабрь 2013г. по 0,4'!K87 -> 134.1 | L87: 0 | M87: 0 | N87: 0 | O87: 0 | P87: 0 | Q87: 0
C88: ПС «Баксан-330» | D88: ='Декабрь 2013г. по 6-10'!D88+'Декабрь 2013г. по 0,4'!D88 -> 10 | E88: ='Декабрь 2013г. по 6-10'!E88+'Декабрь 2013г. по 0,4'!E88 -> 48.1 | F88: ='Декабрь 2013г. по 6-10'!F88+'Декабрь 2013г. по 0,4'!F88 -> 10 | G88: ='Декабрь 2013г. по 6-10'!G88+'Декабрь 2013г. по 0,4'!G88 -> 48.1 | H88: ='Декабрь 2013г. по 6-10'!H88+'Декабрь 2013г. по 0,4'!H88 -> 0 | I88: ='Декабрь 2013г. по 6-10'!I88+'Декабрь 2013г. по 0,4'!I88 -> 0 | J88: ='Декабрь 2013г. по 6-10'!J88+'Декабрь 2013г. по 0,4'!J88 -> 11 | K88: ='Декабрь 2013г. по 6-10'!K88+'Декабрь 2013г. по 0,4'!K88 -> 54.1 | L88: 0 | M88: 0 | N88: 0 | O88: 0 | P88: 0 | Q88: 0
C89: РП Заюково | D89: ='Декабрь 2013г. по 6-10'!D89+'Декабрь 2013г. по 0,4'!D89 -> 1 | E89: ='Декабрь 2013г. по 6-10'!E89+'Декабрь 2013г. по 0,4'!E89 -> 10 | F89: ='Декабрь 2013г. по 6-10'!F89+'Декабрь 2013г. по 0,4'!F89 -> 1 | G89: ='Декабрь 2013г. по 6-10'!G89+'Декабрь 2013г. по 0,4'!G89 -> 10 | H89: ='Декабрь 2013г. по 6-10'!H89+'Декабрь 2013г. по 0,4'!H89 -> 0 | I89: ='Декабрь 2013г. по 6-10'!I89+'Декабрь 2013г. по 0,4'!I89 -> 0 | J89: ='Декабрь 2013г. по 6-10'!J89+'Декабрь 2013г. по 0,4'!J89 -> 1 | K89: ='Декабрь 2013г. по 6-10'!K89+'Декабрь 2013г. по 0,4'!K89 -> 12 | L89: 0 | M89: 0 | N89: 0 | O89: 0 | P89: 0 | Q89: 0
C90: РП Куба | D90: ='Декабрь 2013г. по 6-10'!D90+'Декабрь 2013г. по 0,4'!D90 -> 9 | E90: ='Декабрь 2013г. по 6-10'!E90+'Декабрь 2013г. по 0,4'!E90 -> 57.5 | F90: ='Декабрь 2013г. по 6-10'!F90+'Декабрь 2013г. по 0,4'!F90 -> 9 | G90: ='Декабрь 2013г. по 6-10'!G90+'Декабрь 2013г. по 0,4'!G90 -> 57.5 | H90: ='Декабрь 2013г. по 6-10'!H90+'Декабрь 2013г. по 0,4'!H90 -> 0 | I90: ='Декабрь 2013г. по 6-10'!I90+'Декабрь 2013г. по 0,4'!I90 -> 0 | J90: ='Декабрь 2013г. по 6-10'!J90+'Декабрь 2013г. по 0,4'!J90 -> 10 | K90: ='Декабрь 2013г. по 6-10'!K90+'Декабрь 2013г. по 0,4'!K90 -> 63.5 | L90: 0 | M90: 0 | N90: 0 | O90: 0 | P90: 0 | Q90: 0
C91: итого: | D91: =D80+D81+D82+D83+D84+D85+D86+D87+D88+D89+D90 -> 205 | E91: =E80+E81+E82+E83+E84+E85+E86+E87+E88+E89+E90 -> 2417.82 | F91: =F80+F81+F82+F83+F84+F85+F86+F87+F88+F89+F90 -> 205 | G91: =G80+G81+G82+G83+G84+G85+G86+G87+G88+G89+G90 -> 2417.82 | H91: =H80+H81+H82+H83+H84+H85+H86+H87+H88+H89+H90 -> 1 | I91: =I80+I81+I82+I83+I84+I85+I86+I87+I88+I89+I90 -> 5 | J91: =J80+J81+J82+J83+J84+J85+J86+J87+J88+J89+J90 -> 257 | K91: =K80+K81+K82+K83+K84+K85+K86+K87+K88+K89+K90 -> 1655.2 | ... Q91: =Q80+Q81+Q82+Q83+Q84+Q85+Q86+Q87+Q88+Q89+Q90 -> 0
C92: Черекская группа ПС
C93: ПС «Кашхатау» | D93: ='Декабрь 2013г. по 6-10'!D93+'Декабрь 2013г. по 0,4'!D93 -> 15 | E93: ='Декабрь 2013г. по 6-10'!E93+'Декабрь 2013г. по 0,4'!E93 -> 571.2 | F93: ='Декабрь 2013г. по 6-10'!F93+'Декабрь 2013г. по 0,4'!F93 -> 15 | G93: ='Декабрь 2013г. по 6-10'!G93+'Декабрь 2013г. по 0,4'!G93 -> 571.2 | H93: ='Декабрь 2013г. по 6-10'!H93+'Декабрь 2013г. по 0,4'!H93 -> 4 | I93: ='Декабрь 2013г. по 6-10'!I93+'Декабрь 2013г. по 0,4'!I93 -> 29 | J93: ='Декабрь 2013г. по 6-10'!J93+'Декабрь 2013г. по 0,4'!J93 -> 21 | K93: ='Декабрь 2013г. по 6-10'!K93+'Декабрь 2013г. по 0,4'!K93 -> 176.6 | L93: 0 | M93: 0 | N93: 0 | O93: 0 | P93: 0 | Q93: 0
C94: ПС «Аушигер» | D94: ='Декабрь 2013г. по 6-10'!D94+'Декабрь 2013г. по 0,4'!D94 -> 20 | E94: ='Декабрь 2013г. по 6-10'!E94+'Декабрь 2013г. по 0,4'!E94 -> 161.4 | F94: ='Декабрь 2013г. по 6-10'!F94+'Декабрь 2013г. по 0,4'!F94 -> 20 | G94: ='Декабрь 2013г. по 6-10'!G94+'Декабрь 2013г. по 0,4'!G94 -> 161.4 | H94: ='Декабрь 2013г. по 6-10'!H94+'Декабрь 2013г. по 0,4'!H94 -> 1 | I94: ='Декабрь 2013г. по 6-10'!I94+'Декабрь 2013г. по 0,4'!I94 -> 5 | J94: ='Декабрь 2013г. по 6-10'!J94+'Декабрь 2013г. по 0,4'!J94 -> 39 | K94: ='Декабрь 2013г. по 6-10'!K94+'Декабрь 2013г. по 0,4'!K94 -> 261.3 | L94: 0 | M94: 0 | N94: 0 | O94: 0 | P94: 0 | Q94: 0
C95: ПС «Советская» | D95: ='Декабрь 2013г. по 6-10'!D95+'Декабрь 2013г. по 0,4'!D95 -> 30 | E95: ='Декабрь 2013г. по 6-10'!E95+'Декабрь 2013г. по 0,4'!E95 -> 176.3 | F95: ='Декабрь 2013г. по 6-10'!F95+'Декабрь 2013г. по 0,4'!F95 -> 30 | G95: ='Декабрь 2013г. по 6-10'!G95+'Декабрь 2013г. по 0,4'!G95 -> 176.3 | H95: ='Декабрь 2013г. по 6-10'!H95+'Декабрь 2013г. по 0,4'!H95 -> 1 | I95: ='Декабрь 2013г. по 6-10'!I95+'Декабрь 2013г. по 0,4'!I95 -> 6 | J95: ='Декабрь 2013г. по 6-10'!J95+'Декабрь 2013г. по 0,4'!J95 -> 35 | K95: ='Декабрь 2013г. по 6-10'!K95+'Декабрь 2013г. по 0,4'!K95 -> 203.3 | L95: 0 | M95: 0 | N95: 0 | O95: 0 | P95: 0 | Q95: 0
C96: ПС «Кара-Су» | D96: ='Декабрь 2013г. по 6-10'!D96+'Декабрь 2013г. по 0,4'!D96 -> 4 | E96: ='Декабрь 2013г. по 6-10'!E96+'Декабрь 2013г. по 0,4'!E96 -> 17 | F96: ='Декабрь 2013г. по 6-10'!F96+'Декабрь 2013г. по 0,4'!F96 -> 4 | G96: ='Декабрь 2013г. по 6-10'!G96+'Декабрь 2013г. по 0,4'!G96 -> 17 | H96: ='Декабрь 2013г. по 6-10'!H96+'Декабрь 2013г. по 0,4'!H96 -> 0 | I96: ='Декабрь 2013г. по 6-10'!I96+'Декабрь 2013г. по 0,4'!I96 -> 0 | J96: ='Декабрь 2013г. по 6-10'!J96+'Декабрь 2013г. по 0,4'!J96 -> 2 | K96: ='Декабрь 2013г. по 6-10'!K96+'Декабрь 2013г. по 0,4'!K96 -> 9 | L96: 0 | M96: 0 | N96: 0 | O96: 0 | P96: 0 | Q96: 0
C97: ПС «ЦСБ» | D97: ='Декабрь 2013г. по 6-10'!D97+'Декабрь 2013г. по 0,4'!D97 -> 1 | E97: ='Декабрь 2013г. по 6-10'!E97+'Декабрь 2013г. по 0,4'!E97 -> 14 | F97: ='Декабрь 2013г. по 6-10'!F97+'Декабрь 2013г. по 0,4'!F97 -> 1 | G97: ='Декабрь 2013г. по 6-10'!G97+'Декабрь 2013г. по 0,4'!G97 -> 14 | H97: ='Декабрь 2013г. по 6-10'!H97+'Декабрь 2013г. по 0,4'!H97 -> 0 | I97: ='Декабрь 2013г. по 6-10'!I97+'Декабрь 2013г. по 0,4'!I97 -> 0 | J97: ='Декабрь 2013г. по 6-10'!J97+'Декабрь 2013г. по 0,4'!J97 -> 1 | K97: ='Декабрь 2013г. по 6-10'!K97+'Декабрь 2013г. по 0,4'!K97 -> 14 | L97: 0 | M97: 0 | N97: 0 | O97: 0 | P97: 0 | Q97: 0
C98: ПС «Портал-2» | D98: ='Декабрь 2013г. по 6-10'!D98+'Декабрь 2013г. по 0,4'!D98 -> 0 | E98: ='Декабрь 2013г. по 6-10'!E98+'Декабрь 2013г. по 0,4'!E98 -> 0 | F98: ='Декабрь 2013г. по 6-10'!F98+'Декабрь 2013г. по 0,4'!F98 -> 0 | G98: ='Декабрь 2013г. по 6-10'!G98+'Декабрь 2013г. по 0,4'!G98 -> 0 | H98: ='Декабрь 2013г. по 6-10'!H98+'Декабрь 2013г. по 0,4'!H98 -> 0 | I98: ='Декабрь 2013г. по 6-10'!I98+'Декабрь 2013г. по 0,4'!I98 -> 0 | J98: ='Декабрь 2013г. по 6-10'!J98+'Декабрь 2013г. по 0,4'!J98 -> 0 | K98: ='Декабрь 2013г. по 6-10'!K98+'Декабрь 2013г. по 0,4'!K98 -> 0 | L98: 0 | M98: 0 | N98: 0 | O98: 0 | P98: 0 | Q98: 0
C99: ПС «Портал-1» | D99: ='Декабрь 2013г. по 6-10'!D99+'Декабрь 2013г. по 0,4'!D99 -> 0 | E99: ='Декабрь 2013г. по 6-10'!E99+'Декабрь 2013г. по 0,4'!E99 -> 0 | F99: ='Декабрь 2013г. по 6-10'!F99+'Декабрь 2013г. по 0,4'!F99 -> 0 | G99: ='Декабрь 2013г. по 6-10'!G99+'Декабрь 2013г. по 0,4'!G99 -> 0 | H99: ='Декабрь 2013г. по 6-10'!H99+'Декабрь 2013г. по 0,4'!H99 -> 0 | I99: ='Декабрь 2013г. по 6-10'!I99+'Декабрь 2013г. по 0,4'!I99 -> 0 | J99: ='Декабрь 2013г. по 6-10'!J99+'Декабрь 2013г. по 0,4'!J99 -> 0 | K99: ='Декабрь 2013г. по 6-10'!K99+'Декабрь 2013г. по 0,4'!K99 -> 0 | L99: 0 | M99: 0 | N99: 0 | O99: 0 | P99: 0 | Q99: 0
C100: ПС «Бабугент» | D100: ='Декабрь 2013г. по 6-10'!D100+'Декабрь 2013г. по 0,4'!D100 -> 16 | E100: ='Декабрь 2013г. по 6-10'!E100+'Декабрь 2013г. по 0,4'!E100 -> 180 | F100: ='Декабрь 2013г. по 6-10'!F100+'Декабрь 2013г. по 0,4'!F100 -> 16 | G100: ='Декабрь 2013г. по 6-10'!G100+'Декабрь 2013г. по 0,4'!G100 -> 180 | H100: ='Декабрь 2013г. по 6-10'!H100+'Декабрь 2013г. по 0,4'!H100 -> 1 | I100: ='Декабрь 2013г. по 6-10'!I100+'Декабрь 2013г. по 0,4'!I100 -> 4 | J100: ='Декабрь 2013г. по 6-10'!J100+'Декабрь 2013г. по 0,4'!J100 -> 19 | K100: ='Декабрь 2013г. по 6-10'!K100+'Декабрь 2013г. по 0,4'!K100 -> 603 | L100: 0 | M100: 0 | N100: 0 | O100: 0 | P100: 0 | Q100: 0
C101: ПС «Мухольская ГЭС» | D101: ='Декабрь 2013г. по 6-10'!D101+'Декабрь 2013г. по 0,4'!D101 -> 3 | E101: ='Декабрь 2013г. по 6-10'!E101+'Декабрь 2013г. по 0,4'!E101 -> 25 | F101: ='Декабрь 2013г. по 6-10'!F101+'Декабрь 2013г. по 0,4'!F101 -> 3 | G101: ='Декабрь 2013г. по 6-10'!G101+'Декабрь 2013г. по 0,4'!G101 -> 25 | H101: ='Декабрь 2013г. по 6-10'!H101+'Декабрь 2013г. по 0,4'!H101 -> 2 | I101: ='Декабрь 2013г. по 6-10'!I101+'Декабрь 2013г. по 0,4'!I101 -> 10.2 | J101: ='Декабрь 2013г. по 6-10'!J101+'Декабрь 2013г. по 0,4'!J101 -> 4 | K101: ='Декабрь 2013г. по 6-10'!K101+'Декабрь 2013г. по 0,4'!K101 -> 219 | L101: 0 | M101: 0 | N101: 0 | O101: 0 | P101: 0 | Q101: 0
C102: итого: | D102: =D93+D94+D95+D96+D97+D98+D99+D100+D101 -> 89 | E102: =E93+E94+E95+E96+E97+E98+E99+E100+E101 -> 1144.9 | F102: =F93+F94+F95+F96+F97+F98+F99+F100+F101 -> 89 | G102: =G93+G94+G95+G96+G97+G98+G99+G100+G101 -> 1144.9 | H102: =H93+H94+H95+H96+H97+H98+H99+H100+H101 -> 9 | I102: =I93+I94+I95+I96+I97+I98+I99+I100+I101 -> 54.2 | J102: =J93+J94+J95+J96+J97+J98+J99+J100+J101 -> 121 | K102: =K93+K94+K95+K96+K97+K98+K99+K100+K101 -> 1486.2 | ... Q102: =Q93+Q94+Q95+Q96+Q97+Q98+Q99+Q100+Q101 -> 0
C103: Нарткалинская группа ПС
C104: ПС «Нарткала» | D104: ='Декабрь 2013г. по 6-10'!D104+'Декабрь 2013г. по 0,4'!D104 -> 43 | E104: ='Декабрь 2013г. по 6-10'!E104+'Декабрь 2013г. по 0,4'!E104 -> 290 | F104: ='Декабрь 2013г. по 6-10'!F104+'Декабрь 2013г. по 0,4'!F104 -> 43 | G104: ='Декабрь 2013г. по 6-10'!G104+'Декабрь 2013г. по 0,4'!G104 -> 290 | H104: ='Декабрь 2013г. по 6-10'!H104+'Декабрь 2013г. по 0,4'!H104 -> 1 | I104: ='Декабрь 2013г. по 6-10'!I104+'Декабрь 2013г. по 0,4'!I104 -> 15 | J104: ='Декабрь 2013г. по 6-10'!J104+'Декабрь 2013г. по 0,4'!J104 -> 42 | K104: ='Декабрь 2013г. по 6-10'!K104+'Декабрь 2013г. по 0,4'!K104 -> 380 | L104: 0 | M104: 0 | N104: 0 | O104: 0 | P104: 0 | Q104: 0
C105: ПС «Псыгансу» | D105: ='Декабрь 2013г. по 6-10'!D105+'Декабрь 2013г. по 0,4'!D105 -> 8 | E105: ='Декабрь 2013г. по 6-10'!E105+'Декабрь 2013г. по 0,4'!E105 -> 138.5 | F105: ='Декабрь 2013г. по 6-10'!F105+'Декабрь 2013г. по 0,4'!F105 -> 8 | G105: ='Декабрь 2013г. по 6-10'!G105+'Декабрь 2013г. по 0,4'!G105 -> 138.5 | H105: ='Декабрь 2013г. по 6-10'!H105+'Декабрь 2013г. по 0,4'!H105 -> 0 | I105: ='Декабрь 2013г. по 6-10'!I105+'Декабрь 2013г. по 0,4'!I105 -> 0 | J105: ='Декабрь 2013г. по 6-10'!J105+'Декабрь 2013г. по 0,4'!J105 -> 13 | K105: ='Декабрь 2013г. по 6-10'!K105+'Декабрь 2013г. по 0,4'!K105 -> 153.01 | L105: 0 | M105: 0 | N105: 0 | O105: 0 | P105: 0 | Q105: 0
C106: ПС «Ст.Лескен» | D106: ='Декабрь 2013г. по 6-10'!D106+'Декабрь 2013г. по 0,4'!D106 -> 18 | E106: ='Декабрь 2013г. по 6-10'!E106+'Декабрь 2013г. по 0,4'!E106 -> 131 | F106: ='Декабрь 2013г. по 6-10'!F106+'Декабрь 2013г. по 0,4'!F106 -> 18 | G106: ='Декабрь 2013г. по 6-10'!G106+'Декабрь 2013г. по 0,4'!G106 -> 131 | H106: ='Декабрь 2013г. по 6-10'!H106+'Декабрь 2013г. по 0,4'!H106 -> 0 | I106: ='Декабрь 2013г. по 6-10'!I106+'Декабрь 2013г. по 0,4'!I106 -> 0 | J106: ='Декабрь 2013г. по 6-10'!J106+'Декабрь 2013г. по 0,4'!J106 -> 23 | K106: ='Декабрь 2013г. по 6-10'!K106+'Декабрь 2013г. по 0,4'!K106 -> 148 | L106: 0 | M106: 0 | N106: 0 | O106: 0 | P106: 0 | Q106: 0
C107: ПС «Кахун» | D107: ='Декабрь 2013г. по 6-10'!D107+'Декабрь 2013г. по 0,4'!D107 -> 24 | E107: ='Декабрь 2013г. по 6-10'!E107+'Декабрь 2013г. по 0,4'!E107 -> 340 | F107: ='Декабрь 2013г. по 6-10'!F107+'Декабрь 2013г. по 0,4'!F107 -> 24 | G107: ='Декабрь 2013г. по 6-10'!G107+'Декабрь 2013г. по 0,4'!G107 -> 340 | H107: ='Декабрь 2013г. по 6-10'!H107+'Декабрь 2013г. по 0,4'!H107 -> 1 | I107: ='Декабрь 2013г. по 6-10'!I107+'Декабрь 2013г. по 0,4'!I107 -> 25 | J107: ='Декабрь 2013г. по 6-10'!J107+'Декабрь 2013г. по 0,4'!J107 -> 23 | K107: ='Декабрь 2013г. по 6-10'!K107+'Декабрь 2013г. по 0,4'!K107 -> 141 | L107: 0 | M107: 0 | N107: 0 | O107: 0 | P107: 0 | Q107: 0
C108: ПС «Заводская» | D108: ='Декабрь 2013г. по 6-10'!D108+'Декабрь 2013г. по 0,4'!D108 -> 13 | E108: ='Декабрь 2013г. по 6-10'!E108+'Декабрь 2013г. по 0,4'!E108 -> 83.6 | F108: ='Декабрь 2013г. по 6-10'!F108+'Декабрь 2013г. по 0,4'!F108 -> 13 | G108: ='Декабрь 2013г. по 6-10'!G108+'Декабрь 2013г. по 0,4'!G108 -> 83.6 | H108: ='Декабрь 2013г. по 6-10'!H108+'Декабрь 2013г. по 0,4'!H108 -> 0 | I108: ='Декабрь 2013г. по 6-10'!I108+'Декабрь 2013г. по 0,4'!I108 -> 0 | J108: ='Декабрь 2013г. по 6-10'!J108+'Декабрь 2013г. по 0,4'!J108 -> 23 | K108: ='Декабрь 2013г. по 6-10'!K108+'Декабрь 2013г. по 0,4'!K108 -> 124.5 | L108: 0 | M108: 0 | N108: 0 | O108: 0 | P108: 0 | Q108: 0
C109: ПС «Герменчик» | D109: ='Декабрь 2013г. по 6-10'!D109+'Декабрь 2013г. по 0,4'!D109 -> 12 | E109: ='Декабрь 2013г. по 6-10'!E109+'Декабрь 2013г. по 0,4'!E109 -> 91 | F109: ='Декабрь 2013г. по 6-10'!F109+'Декабрь 2013г. по 0,4'!F109 -> 12 | G109: ='Декабрь 2013г. по 6-10'!G109+'Декабрь 2013г. по 0,4'!G109 -> 91 | H109: ='Декабрь 2013г. по 6-10'!H109+'Декабрь 2013г. по 0,4'!H109 -> 0 | I109: ='Декабрь 2013г. по 6-10'!I109+'Декабрь 2013г. по 0,4'!I109 -> 0 | J109: ='Декабрь 2013г. по 6-10'!J109+'Декабрь 2013г. по 0,4'!J109 -> 8 | K109: ='Декабрь 2013г. по 6-10'!K109+'Декабрь 2013г. по 0,4'!K109 -> 1402 | L109: 0 | M109: 0 | N109: 0 | O109: 0 | P109: 0 | Q109: 0
C110: ПС «Ст.Урух» | D110: ='Декабрь 2013г. по 6-10'!D110+'Декабрь 2013г. по 0,4'!D110 -> 12 | E110: ='Декабрь 2013г. по 6-10'!E110+'Декабрь 2013г. по 0,4'!E110 -> 232 | F110: ='Декабрь 2013г. по 6-10'!F110+'Декабрь 2013г. по 0,4'!F110 -> 12 | G110: ='Декабрь 2013г. по 6-10'!G110+'Декабрь 2013г. по 0,4'!G110 -> 232 | H110: ='Декабрь 2013г. по 6-10'!H110+'Декабрь 2013г. по 0,4'!H110 -> 0 | I110: ='Декабрь 2013г. по 6-10'!I110+'Декабрь 2013г. по 0,4'!I110 -> 0 | J110: ='Декабрь 2013г. по 6-10'!J110+'Декабрь 2013г. по 0,4'!J110 -> 9 | K110: ='Декабрь 2013г. по 6-10'!K110+'Декабрь 2013г. по 0,4'!K110 -> 52 | L110: 0 | M110: 0 | N110: 0 | O110: 0 | P110: 0 | Q110: 0
C111: ПС «Аргудан» | D111: ='Декабрь 2013г. по 6-10'!D111+'Декабрь 2013г. по 0,4'!D111 -> 12 | E111: ='Декабрь 2013г. по 6-10'!E111+'Декабрь 2013г. по 0,4'!E111 -> 63.9 | F111: ='Декабрь 2013г. по 6-10'!F111+'Декабрь 2013г. по 0,4'!F111 -> 12 | G111: ='Декабрь 2013г. по 6-10'!G111+'Декабрь 2013г. по 0,4'!G111 -> 63.9 | H111: ='Декабрь 2013г. по 6-10'!H111+'Декабрь 2013г. по 0,4'!H111 -> 0 | I111: ='Декабрь 2013г. по 6-10'!I111+'Декабрь 2013г. по 0,4'!I111 -> 0 | J111: ='Декабрь 2013г. по 6-10'!J111+'Декабрь 2013г. по 0,4'!J111 -> 7 | K111: ='Декабрь 2013г. по 6-10'!K111+'Декабрь 2013г. по 0,4'!K111 -> 35 | L111: 0 | M111: 0 | N111: 0 | O111: 0 | P111: 0 | Q111: 0
C112: ПС «Лескен-1» | D112: ='Декабрь 2013г. по 6-10'!D112+'Декабрь 2013г. по 0,4'!D112 -> 4 | E112: ='Декабрь 2013г. по 6-10'!E112+'Декабрь 2013г. по 0,4'!E112 -> 34.6 | F112: ='Декабрь 2013г. по 6-10'!F112+'Декабрь 2013г. по 0,4'!F112 -> 4 | G112: ='Декабрь 2013г. по 6-10'!G112+'Декабрь 2013г. по 0,4'!G112 -> 34.6 | H112: ='Декабрь 2013г. по 6-10'!H112+'Декабрь 2013г. по 0,4'!H112 -> 2 | I112: ='Декабрь 2013г. по 6-10'!I112+'Декабрь 2013г. по 0,4'!I112 -> 45 | J112: ='Декабрь 2013г. по 6-10'!J112+'Декабрь 2013г. по 0,4'!J112 -> 5 | K112: ='Декабрь 2013г. по 6-10'!K112+'Декабрь 2013г. по 0,4'!K112 -> 40 | L112: 0 | M112: 0 | N112: 0 | O112: 0 | P112: 0 | Q112: 0
...

Sheet Декабрь 2013г. по 6-10
M1: Приложение № 28
M2: к Положению о технологическом присоединении
M3: энергетических установок к электрическим сетям
M4: ОАО «МРСК Северного Кавказа», управляемых
M5: Обществ
B14: Информация о технологическом присоединении энергопринимающих устройств
A19: Наименование организации, осуществляющей технологическое присоединение | B19: Наименование субъекта РФ | C19: Наименование центра питания (ПС 35 кВ и выше) | D19: Количество поданных заявок на технологическое присоединение, на общую мощность энергопринимающих устройств, кВт | F19: Заключено договоров на технологическое присоединение, включающие технические условия на общую мощность энергопринимающих устройств, кВт | H19: Расторгнуто договоров на технологическое присоединение, включающие технические условия на общую мощность энергопринимающих устройств, кВт | J19: Суммарная мощность энегргопринимающих устройств, присоединенных к электрическим сетям в соответствии с договором на технологическое присоединение за отчетный период, кВт | L19: Заключено договоров на технологическое присоединение, включающие технические условия на общую мощность генерирущих установок, МВт | N19: Расторгнуто договоров на технологическое присоединение, включающие технические условия на общую мощность генерирущих установок, МВт | P19: Суммарная мощность генерирущих установок, присоединенных к электрическим сетям в соответствии с договором на технологическое присоединение за отчетный период, МВт
A20: 1 | B20: 2 | C20: 3 | D20: 4 | F20: 5 | H20: 6 | J20: 7 | L20: 8 | N20: 9 | P20: 10
D21: шт | E21: кВт | F21: шт | G21: кВт | H21: шт | I21: кВт | J21: шт | K21: кВт | L21: шт | M21: МВт | N21: шт | O21: МВт | P21: шт | Q21: МВт
A22: Кабардино- Балкарсикй филиал ОАО "МРСК Северного Кавказа" | B22: Кабардино- Балкарская Республика | C22: Нальчикская группа ПС
C23: ПС «Нальчик» | D23: 3 | E23: 230 | F23: 3 | G23: 230 | H23: 2 | I23: 11.2 | J23: 6 | K23: 399
C24: ПС «Телемеханика-1» | D24: 0 | E24: 0 | F24: 0 | G24: 0 | J24: 0 | K24: 0
C25: ПС «Искож» | D25: 1 | E25: 450 | F25: 1 | G25: 450 | J25: 0 | K25: 0
C26: ПС «СКЭП-Н» | D26: 0 | E26: 0 | F26: 0 | G26: 0 | J26: 0 | K26: 0
C27: ПС «Долинск» | D27: 0 | E27: 0 | F27: 0 | G27: 0 | J27: 0 | K27: 0
C28: ПС «Дубки» | D28: 1 | E28: 15 | F28: 1 | G28: 15 | J28: 1 | K28: 15
C29: ПС «Птицефабрика» | D29: 6 | E29: 795 | F29: 6 | G29: 795 | H29: 1 | I29: 300 | J29: 9 | K29: 890.1
C30: итого: | D30: =D23+D24+D25+D26+D27+D28+D29 -> 11 | E30: =E23+E24+E25+E26+E27+E28+E29 -> 1490 | F30: =F23+F24+F25+F26+F27+F28+F29 -> 11 | G30: =G23+G24+G25+G26+G27+G28+G29 -> 1490 | H30: =H23+H24+H25+H26+H27+H28+H29 -> 3 | I30: =I23+I24+I25+I26+I27+I28+I29 -> 311.2 | J30: =J23+J24+J25+J26+J27+J28+J29 -> 16 | K30: =K23+K24+K25+K26+K27+K28+K29 -> 1304.1 | ... Q30: =Q23+Q24+Q25+Q26+Q27+Q28+Q29 -> 0
C31: Малкинская группа ПС
C32: ПС «Малка» | D32: 7 | E32: 1277.6 | F32: 7 | G32: 1277.6 | J32: 6 | K32: 545
C33: ПС «Каменномостская» | D33: 3 | E33: 434.5 | F33: 3 | G33: 434.5 | J33: 1 | K33: 250
C34: ПС «Залукокоаже» | D34: 4 | E34: 316.3 | F34: 4 | G34: 316.3 | J34: 3 | K34: 35
C35: ПС «Залукодес» | D35: 4 | E35: 130 | F35: 4 | G35: 130 | J35: 5 | K35: 145
C36: ПС «Сармаково» | D36: 1 | E36: 40 | F36: 1 | G36: 40 | H36: 1 | I36: 40 | J36: 3 | K36: 172
C37: ПС «Аурсентх» | D37: 0 | E37: 0 | F37: 0 | G37: 0 | J37: 0 | K37: 0
C38: итого: | D38: =D32+D33+D34+D35+D36+D37 -> 19 | E38: =E32+E33+E34+E35+E36+E37 -> 2198.4 | F38: =F32+F33+F34+F35+F36+F37 -> 19 | G38: =G32+G33+G34+G35+G36+G37 -> 2198.4 | H38: =H32+H33+H34+H35+H36+H37 -> 1 | I38: =I32+I33+I34+I35+I36+I37 -> 40 | J38: =J32+J33+J34+J35+J36+J37 -> 18 | K38: =K32+K33+K34+K35+K36+K37 -> 1147 | ... Q38: =Q32+Q33+Q34+Q35+Q36+Q37 -> 0
C39: Эльбрусская группа ПС
C40: ПС «ЦРУ» | D40: 2 | E40: 472 | F40: 2 | G40: 472 | J40: 0 | K40: 0
C41: ПС «Адыл-Су» | D41: 0 | E41: 0 | F41: 0 | G41: 0 | J41: 0 | K41: 0
C42: ПС «Нейтрино» | D42: 0 | E42: 0 | F42: 0 | G42: 0 | J42: 0 | K42: 0
C43: ПС «Чегет» | D43: 0 | E43: 0 | F43: 0 | G43: 0 | J43: 0 | K43: 0
C44: ПС «Терскол» | D44: 0 | E44: 0 | F44: 0 | G44: 0 | J44: 2 | K44: 275
C45: ПС «Джайлык» | D45: 0 | E45: 0 | F45: 0 | G45: 0 | J45: 0 | K45: 0
C46: ПС «Соц. городок» | D46: 0 | E46: 0 | F46: 0 | G46: 0 | J46: 0 | K46: 0
C47: ПС «Чалмас» | D47: 0 | E47: 0 | F47: 0 | G47: 0 | J47: 0 | K47: 0
C48: ПС «РМЗ» | D48: 0 | E48: 0 | F48: 0 | G48: 0 | J48: 1 | K48: 15
C49: РП «Водогрейная» | D49: 0 | E49: 0 | F49: 0 | G49: 0 | J49: 0 | K49: 0
C50: ПС «Былым» | D50: 0 | E50: 0 | F50: 0 | G50: 0 | J50: 0 | K50: 0
C51: ПС "Гунделен" | D51: 2 | E51: 10 | F51: 2 | G51: 10 | J51: 0 | K51: 0
C52: итого: | D52: =D40+D41+D42+D43+D44+D45+D46+D47+D48+D49+D50+D51 -> 4 | E52: =E40+E41+E42+E43+E44+E45+E46+E47+E48+E49+E50+E51 -> 482 | F52: =F40+F41+F42+F43+F44+F45+F46+F47+F48+F49+F50+F51 -> 4 | G52: =G40+G41+G42+G43+G44+G45+G46+G47+G48+G49+G50+G51 -> 482 | H52: =H40+H41+H42+H43+H44+H45+H46+H47+H48+H49+H50+H51 -> 0 | I52: =I40+I41+I42+I43+I44+I45+I46+I47+I48+I49+I50+I51 -> 0 | J52: =J40+J41+J42+J43+J44+J45+J46+J47+J48+J49+J50+J51 -> 3 | K52: =K40+K41+K42+K43+K44+K45+K46+K47+K48+K49+K50+K51 -> 290 | ... Q52: =Q40+Q41+Q42+Q43+Q44+Q45+Q46+Q47+Q48+Q49+Q50+Q51 -> 0
C53: Терская группа ПС
C54: ПС «Терек-II» | D54: 10 | E54: 868.15 | F54: 10 | G54: 868.15 | H54: 2 | I54: 350 | J54: 6 | K54: 946.26
C55: ПС «В.Акбаш» | D55: 0 | E55: 0 | F55: 0 | G55: 0 | J55: 0 | K55: 0
C56: ПС «ЗАИ» | D56: 0 | E56: 0 | F56: 0 | G56: 0 | J56: 0 | K56: 0
C57: ПС «Пенькозавод» | D57: 1 | E57: 15 | F57: 1 | G57: 15 | J57: 1 | K57: 15
C58: ПС «Терекская» | D58: 2 | E58: 37 | F58: 2 | G58: 37 | J58: 2 | K58: 37
C59: ПС «Терек-1» | D59: 6 | E59: 774.25 | F59: 6 | G59: 774.25 | H59: 2 | I59: 395 | J59: 3 | K59: 189.25
C60: ПС «В.Курп» | D60: 1 | E60: 7 | F60: 1 | G60: 7 | J60: 0 | K60: 0
C61: ПС «Н.Курп» | D61: 0 | E61: 0 | F61: 0 | G61: 0 | J61: 1 | K61: 6
C62: ПС «Акбаш-35» | D62: 1 | E62: 162.8 | F62: 1 | G62: 162.8 | J62: 0 | K62: 0
C63: итого: | D63: =D54+D55+D56+D57+D58+D59+D60+D61+D62 -> 21 | E63: =E54+E55+E56+E57+E58+E59+E60+E61+E62 -> 1864.2 | F63: =F54+F55+F56+F57+F58+F59+F60+F61+F62 -> 21 | G63: =G54+G55+G56+G57+G58+G59+G60+G61+G62 -> 1864.2 | H63: =H54+H55+H56+H57+H58+H59+H60+H61+H62 -> 4 | I63: =I54+I55+I56+I57+I58+I59+I60+I61+I62 -> 745 | J63: =J54+J55+J56+J57+J58+J59+J60+J61+J62 -> 13 | K63: =K54+K55+K56+K57+K58+K59+K60+K61+K62 -> 1193.51 | ... Q63: =Q54+Q55+Q56+Q57+Q58+Q59+Q60+Q61+Q62 -> 0
C64: Майская группа ПС
C65: ПС «Майская» | D65: 2 | E65: 195 | F65: 2 | G65: 195 | J65: 3 | K65: 275
C66: ПС «Александровская» | D66: 0 | E66: 0 | F66: 0 | G66: 0 | J66: 1 | K66: 335
C67: ПС «Котляревская» | D67: 3 | E67: 1137 | F67: 3 | G67: 1137 | J67: 1 | K67: 200
C68: ПС «Ново-Ивановская» | D68: 0 | E68: 0 | F68: 0 | G68: 0 | J68: 1 | K68: 35
C69: ПС «Красная Нива» | D69: 0 | E69: 0 | F69: 0 | G69: 0 | J69: 0 | K69: 0
C70: итого: | D70: =D65+D66+D67+D68+D69 -> 5 | E70: =E65+E66+E67+E68+E69 -> 1332 | F70: =F65+F66+F67+F68+F69 -> 5 | G70: =G65+G66+G67+G68+G69 -> 1332 | H70: =H65+H66+H67+H68+H69 -> 0 | I70: =I65+I66+I67+I68+I69 -> 0 | J70: =J65+J66+J67+J68+J69 -> 6 | K70: =K65+K66+K67+K68+K69 -> 845 | ... Q70: =Q65+Q66+Q67+Q68+Q69 -> 0
C71: Чегемская группа ПС
C72: ПС «Чегем-II» | D72: 5 | E72: 960 | F72: 5 | G72: 960 | J72: 6 | K72: 604
C73: ПС «Водозабор» | D73: 2 | E73: 407 | F73: 2 | G73: 407 | J73: 3 | K73: 413
C74: ПС «Чегем-1» | D74: 1 | E74: 6 | F74: 1 | G74: 6 | H74: 1 | I74: 5.6 | J74: 1 | K74: 6
C75: ПС «Лечинкай» | D75: 3 | E75: 37 | F75: 3 | G75: 37 | H75: 1 | I75: 6 | J75: 3 | K75: 45
C76: ПС «Н.Чегем» | D76: 1 | E76: 3 | F76: 1 | G76: 3 | J76: 1 | K76: 3
C77: ПС «Кара-Су» | D77: 0 | E77: 0 | F77: 0 | G77: 0 | J77: 0 | K77: 0
C78: итого: | D78: =D72+D73+D74+D75+D76+D77 -> 12 | E78: =E72+E73+E74+E75+E76+E77 -> 1413 | F78: =F72+F73+F74+F75+F76+F77 -> 12 | G78: =G72+G73+G74+G75+G76+G77 -> 1413 | H78: =H72+H73+H74+H75+H76+H77 -> 2 | I78: =I72+I73+I74+I75+I76+I77 -> 11.6 | J78: =J72+J73+J74+J75+J76+J77 -> 14 | K78: =K72+K73+K74+K75+K76+K77 -> 1071 | ... Q78: =Q72+Q73+Q74+Q75+Q76+Q77 -> 0
C79: Баксанская группа ПС
C80: ПС «Баксан-110» | D80: 2 | E80: 17.6 | F80: 2 | G80: 17.6 | J80: 3 | K80: 32.6
C81: ПС «Кызбурун-110» | D81: 5 | E81: 681 | F81: 5 | G81: 681 | H81: 1 | I81: 5 | J81: 4 | K81: 239
C82: ПС «Куркужин» | D82: 1 | E82: 15 | F82: 1 | G82: 15 | J82: 1 | K82: 6
C83: ПС «Баксан-35» | D83: 1 | E83: 450 | F83: 1 | G83: 450 | J83: 2 | K83: 26.5
C84: ПС «Кр.Константин.» | D84: 0 | E84: 0 | F84: 0 | G84: 0 | J84: 0 | K84: 0
C85: ПС «Гунделен-110» | D85: 0 | E85: 0 | F85: 0 | G85: 0 | J85: 1 | K85: 15
C86: ПС «Плотина» | D86: 0 | E86: 0 | F86: 0 | G86: 0 | J86: 0 | K86: 0
C87: ПС «Баксаненок» | D87: 1 | E87: 7 | F87: 1 | G87: 7 | J87: 2 | K87: 22
C88: ПС «Баксан-330» | D88: 0 | E88: 0 | F88: 0 | G88: 0 | J88: 0 | K88: 0
C89: РП Заюково | D89: 1 | E89: 10 | F89: 1 | G89: 10 | J89: 1 | K89: 12
C90: РП Куба | D90: 0 | E90: 0 | F90: 0 | G90: 0 | J90: 0 | K90: 0
C91: итого: | D91: =D80+D81+D82+D83+D84+D85+D86+D87+D88+D89+D90 -> 11 | E91: =E80+E81+E82+E83+E84+E85+E86+E87+E88+E89+E90 -> 1180.6 | F91: =F80+F81+F82+F83+F84+F85+F86+F87+F88+F89+F90 -> 11 | G91: =G80+G81+G82+G83+G84+G85+G86+G87+G88+G89+G90 -> 1180.6 | H91: =H80+H81+H82+H83+H84+H85+H86+H87+H88+H89+H90 -> 1 | I91: =I80+I81+I82+I83+I84+I85+I86+I87+I88+I89+I90 -> 5 | J91: =J80+J81+J82+J83+J84+J85+J86+J87+J88+J89+J90 -> 14 | K91: =K80+K81+K82+K83+K84+K85+K86+K87+K88+K89+K90 -> 353.1 | ... Q91: =Q80+Q81+Q82+Q83+Q84+Q85+Q86+Q87+Q88+Q89+Q90 -> 0
C92: Черекская группа ПС
C93: ПС «Кашхатау» | D93: 2 | E93: 484.2 | F93: 2 | G93: 484.2 | H93: 1 | I93: 15 | J93: 1 | K93: 52
C94: ПС «Аушигер» | D94: 2 | E94: 63 | F94: 2 | G94: 63 | J94: 2 | K94: 54
C95: ПС «Советская» | D95: 0 | E95: 0 | F95: 0 | G95: 0 | J95: 0 | K95: 0
C96: ПС «Кара-Су» | D96: 1 | E96: 4 | F96: 1 | G96: 4 | J96: 0 | K96: 0
C97: ПС «ЦСБ» | D97: 0 | E97: 0 | F97: 0 | G97: 0 | J97: 0 | K97: 0
C98: ПС «Портал-2» | D98: 0 | E98: 0 | F98: 0 | G98: 0 | J98: 0 | K98: 0
C99: ПС «Портал-1» | D99: 0 | E99: 0 | F99: 0 | G99: 0 | J99: 0 | K99: 0
C100: ПС «Бабугент» | D100: 2 | E100: 92 | F100: 2 | G100: 92 | J100: 2 | K100: 500
C101: ПС «Мухольская ГЭС» | D101: 1 | E101: 14 | F101: 1 | G101: 14 | J101: 1 | K101: 200
C102: итого: | D102: =D93+D94+D95+D96+D97+D98+D99+D100+D101 -> 8 | E102: =E93+E94+E95+E96+E97+E98+E99+E100+E101 -> 657.2 | F102: =F93+F94+F95+F96+F97+F98+F99+F100+F101 -> 8 | G102: =G93+G94+G95+G96+G97+G98+G99+G100+G101 -> 657.2 | H102: =H93+H94+H95+H96+H97+H98+H99+H100+H101 -> 1 | I102: =I93+I94+I95+I96+I97+I98+I99+I100+I101 -> 15 | J102: =J93+J94+J95+J96+J97+J98+J99+J100+J101 -> 6 | K102: =K93+K94+K95+K96+K97+K98+K99+K100+K101 -> 806 | ... Q102: =Q93+Q94+Q95+Q96+Q97+Q98+Q99+Q100+Q101 -> 0
C103: Нарткалинская группа ПС
C104: ПС «Нарткала» | D104: 1 | E104: 45 | F104: 1 | G104: 45 | H104: 1 | I104: 15 | J104: 4 | K104: 125
C105: ПС «Псыгансу» | D105: 4 | E105: 114.5 | F105: 4 | G105: 114.5 | J105: 4 | K105: 114.5
C106: ПС «Ст.Лескен» | D106: 0 | E106: 0 | F106: 0 | G106: 0 | J106: 1 | K106: 5.5
C107: ПС «Кахун» | D107: 3 | E107: 200 | F107: 3 | G107: 200 | H107: 1 | I107: 25 | J107: 2 | K107: 20
C108: ПС «Заводская» | D108: 1 | E108: 15 | F108: 1 | G108: 15 | J108: 2 | K108: 30
C109: ПС «Герменчик» | D109: 1 | E109: 58 | F109: 1 | G109: 58 | J109: 2 | K109: 1400
C110: ПС «Ст.Урух» | D110: 2 | E110: 175 | F110: 2 | G110: 175 | J110: 0 | K110: 0
C111: ПС «Аргудан» | D111: 0 | E111: 0 | F111: 0 | G111: 0 | J111: 0 | K111: 0
C112: ПС «Лескен-1» | D112: 1 | E112: 15 | F112: 1 | G112: 15 | H112: 2 | I112: 45 | J112: 0 | K112: 0
...

Sheet Декабрь 2013г. по 0,4
M1: Приложение № 28
M2: к Положению о технологическом присоединении
M3: энергетических установок к электрическим сетям
M4: ОАО «МРСК Северного Кавказа», управляемых
M5: Обществ
B14: Информация о технологическом присоединении энергопринимающих устройств
A19: Наименование организации, осуществляющей технологическое присоединение | B19: Наименование субъекта РФ | C19: Наименование центра питания (ПС 35 кВ и выше) | D19: Количество поданных заявок на технологическое присоединение, на общую мощность энергопринимающих устройств, кВт | F19: Заключено договоров на технологическое присоединение, включающие технические условия на общую мощность энергопринимающих устройств, кВт | H19: Расторгнуто договоров на технологическое присоединение, включающие технические условия на общую мощность энергопринимающих устройств, кВт | J19: Суммарная мощность энегргопринимающих устройств, присоединенных к электрическим сетям в соответствии с договором на технологическое присоединение за отчетный период, кВт | L19: Заключено договоров на технологическое присоединение, включающие технические условия на общую мощность генерирущих установок, МВт | N19: Расторгнуто договоров на технологическое присоединение, включающие технические условия на общую мощность генерирущих установок, МВт | P19: Суммарная мощность генерирущих установок, присоединенных к электрическим сетям в соответствии с договором на технологическое присоединение за отчетный период, МВт
A20: 1 | B20: 2 | C20: 3 | D20: 4 | F20: 5 | H20: 6 | J20: 7 | L20: 8 | N20: 9 | P20: 10
D21: шт | E21: кВт | F21: шт | G21: кВт | H21: шт | I21: кВт | J21: шт | K21: кВт | L21: шт | M21: МВт | N21: шт | O21: МВт | P21: шт | Q21: МВт
A22: Кабардино- Балкарсикй филиал ОАО "МРСК Северного Кавказа" | B22: Кабардино- Балкарская Республика | C22: Нальчикская группа ПС
C23: ПС «Нальчик» | D23: 44 | E23: 195.05 | F23: 44 | G23: 195.05 | J23: 39 | K23: 163.15
C24: ПС «Телемеханика-1»
C25: ПС «Искож»
C26: ПС «СКЭП-Н»
C27: ПС «Долинск»
C28: ПС «Дубки» | D28: 5 | E28: 46 | F28: 5 | G28: 46 | J28: 2 | K28: 7
C29: ПС «Птицефабрика» | D29: 83 | E29: 389.63 | F29: 83 | G29: 389.63 | J29: 63 | K29: 273.48
C30: итого: | D30: =D23+D24+D25+D26+D27+D28+D29 -> 132 | E30: =E23+E24+E25+E26+E27+E28+E29 -> 630.68 | F30: =F23+F24+F25+F26+F27+F28+F29 -> 132 | G30: =G23+G24+G25+G26+G27+G28+G29 -> 630.68 | H30: =H23+H24+H25+H26+H27+H28+H29 -> 0 | I30: =I23+I24+I25+I26+I27+I28+I29 -> 0 | J30: =J23+J24+J25+J26+J27+J28+J29 -> 104 | K30: =K23+K24+K25+K26+K27+K28+K29 -> 443.63 | ... Q30: =Q23+Q24+Q25+Q26+Q27+Q28+Q29 -> 0
C31: Малкинская группа ПС
C32: ПС «Малка» | D32: 14 | E32: 108.58 | F32: 9 | G32: 74.5 | J32: 14 | K32: 76.48
C33: ПС «Каменномостская» | D33: 1 | E33: 2 | J33: 1 | K33: 4.5
C34: ПС «Залукокоаже» | D34: 26 | E34: 258.68 | F34: 19 | G34: 198.5 | J34: 26 | K34: 169.45
C35: ПС «Залукодес» | D35: 6 | E35: 28.74 | F35: 6 | G35: 28.74 | J35: 10 | K35: 50.04
C36: ПС «Сармаково» | D36: 3 | E36: 22.88 | F36: 3 | G36: 20.88 | J36: 5 | K36: 31.73
C37: ПС «Аурсентх»
C38: итого: | D38: =D32+D33+D34+D35+D36+D37 -> 50 | E38: =E32+E33+E34+E35+E36+E37 -> 420.88 | F38: =F32+F33+F34+F35+F36+F37 -> 37 | G38: =G32+G33+G34+G35+G36+G37 -> 322.62 | H38: =H32+H33+H34+H35+H36+H37 -> 0 | I38: =I32+I33+I34+I35+I36+I37 -> 0 | J38: =J32+J33+J34+J35+J36+J37 -> 56 | K38: =K32+K33+K34+K35+K36+K37 -> 332.2 | ... Q38: =Q32+Q33+Q34+Q35+Q36+Q37 -> 0
C39: Эльбрусская группа ПС
C40: ПС «ЦРУ» | D40: 10 | E40: 48.5 | F40: 9 | G40: 46 | J40: 9 | K40: 54.5
C41: ПС «Адыл-Су» | D41: 11 | E41: 85.25 | F41: 11 | G41: 85.25 | J41: 7 | K41: 67.25
C42: ПС «Нейтрино»
C43: ПС «Чегет» | D43: 3 | E43: 28 | F43: 1 | G43: 10 | J43: 2 | K43: 15
C44: ПС «Терскол» | D44: 12 | E44: 227 | F44: 12 | G44: 227 | J44: 11 | K44: 155.5
C45: ПС «Джайлык» | D45: 1 | E45: 4 | F45: 1 | G45: 4 | J45: 2 | K45: 12
C46: ПС «Соц. городок» | D46: 5 | E46: 36 | F46: 5 | G46: 33 | J46: 5 | K46: 31.5
C47: ПС «Чалмас»
C48: ПС «РМЗ» | D48: 1 | E48: 10 | F48: 1 | G48: 10
C49: РП «Водогрейная» | D49: 11 | E49: 48.5 | F49: 11 | G49: 48.5 | J49: 8 | K49: 37
C50: ПС «Былым» | D50: 3 | E50: 18 | F50: 3 | G50: 18 | J50: 1 | K50: 4.5
C51: ПС "Гунделен" | D51: 13 | E51: 59 | F51: 13 | G51: 59 | J51: 10 | K51: 48.5
C52: итого: | D52: =D40+D41+D42+D43+D44+D45+D46+D47+D48+D49+D50+D51 -> 70 | E52: =E40+E41+E42+E43+E44+E45+E46+E47+E48+E49+E50+E51 -> 564.25 | F52: =F40+F41+F42+F43+F44+F45+F46+F47+F48+F49+F50+F51 -> 67 | G52: =G40+G41+G42+G43+G44+G45+G46+G47+G48+G49+G50+G51 -> 540.75 | H52: =H40+H41+H42+H43+H44+H45+H46+H47+H48+H49+H50+H51 -> 0 | I52: =I40+I41+I42+I43+I44+I45+I46+I47+I48+I49+I50+I51 -> 0 | J52: =J40+J41+J42+J43+J44+J45+J46+J47+J48+J49+J50+J51 -> 55 | K52: =K40+K41+K42+K43+K44+K45+K46+K47+K48+K49+K50+K51 -> 425.75 | ... Q52: =Q40+Q41+Q42+Q43+Q44+Q45+Q46+Q47+Q48+Q49+Q50+Q51 -> 0
C53: Терская группа ПС
C54: ПС «Терек-II» | D54: 60 | E54: 162.7 | F54: 28 | G54: 133.5 | J54: 30 | K54: 170.4
C55: ПС «В.Акбаш»
C56: ПС «ЗАИ» | D56: 2 | E56: 8.5 | F56: 1 | G56: 4.5 | J56: 2 | K56: 6.5
C57: ПС «Пенькозавод» | D57: 1 | E57: 4 | F57: 1 | G57: 4 | J57: 2 | K57: 8
C58: ПС «Терекская» | D58: 6 | E58: 33 | F58: 6 | G58: 33 | J58: 2 | K58: 16
C59: ПС «Терек-1» | D59: 34 | E59: 137.7 | F59: 27 | G59: 150 | J59: 14 | K59: 67
C60: ПС «В.Курп» | D60: 2 | E60: 8 | F60: 2 | G60: 9 | J60: 4 | K60: 20
C61: ПС «Н.Курп» | D61: 2 | E61: 28 | F61: 1 | G61: 14
C62: ПС «Акбаш-35» | D62: 3 | E62: 12 | F62: 3 | G62: 12 | J62: 1 | K62: 4
C63: итого: | D63: =D54+D55+D56+D57+D58+D59+D60+D61+D62 -> 110 | E63: =E54+E55+E56+E57+E58+E59+E60+E61+E62 -> 393.9 | F63: =F54+F55+F56+F57+F58+F59+F60+F61+F62 -> 69 | G63: =G54+G55+G56+G57+G58+G59+G60+G61+G62 -> 360 | H63: =H54+H55+H56+H57+H58+H59+H60+H61+H62 -> 0 | I63: =I54+I55+I56+I57+I58+I59+I60+I61+I62 -> 0 | J63: =J54+J55+J56+J57+J58+J59+J60+J61+J62 -> 55 | K63: =K54+K55+K56+K57+K58+K59+K60+K61+K62 -> 291.9 | ... Q63: =Q54+Q55+Q56+Q57+Q58+Q59+Q60+Q61+Q62 -> 0
C64: Майская группа ПС
C65: ПС «Майская» | D65: 49 | E65: 321 | F65: 49 | G65: 321 | J65: 50 | K65: 294.8
C66: ПС «Александровская» | D66: 10 | E66: 59.7 | F66: 10 | G66: 59.7 | J66: 11 | K66: 64.7
C67: ПС «Котляревская»
C68: ПС «Ново-Ивановская» | D68: 4 | E68: 23.5 | F68: 4 | G68: 23.5 | J68: 5 | K68: 26.5
C69: ПС «Красная Нива» | D69: 2 | E69: 15.5 | F69: 2 | G69: 15.5 | J69: 2 | K69: 15.5
C70: итого: | D70: =D65+D66+D67+D68+D69 -> 65 | E70: =E65+E66+E67+E68+E69 -> 419.7 | F70: =F65+F66+F67+F68+F69 -> 65 | G70: =G65+G66+G67+G68+G69 -> 419.7 | H70: =H65+H66+H67+H68+H69 -> 0 | I70: =I65+I66+I67+I68+I69 -> 0 | J70: =J65+J66+J67+J68+J69 -> 68 | K70: =K65+K66+K67+K68+K69 -> 401.5 | ... Q70: =Q65+Q66+Q67+Q68+Q69 -> 0
C71: Чегемская группа ПС
C72: ПС «Чегем-II» | D72: 45 | E72: 231.62 | F72: 45 | G72: 231.62 | J72: 26 | K72: 133.11
C73: ПС «Водозабор» | D73: 1 | E73: 15 | F73: 1 | G73: 15
C74: ПС «Чегем-1» | D74: 5 | E74: 31.5 | F74: 5 | G74: 31.5 | J74: 2 | K74: 7
C75: ПС «Лечинкай» | D75: 28 | E75: 154.99 | F75: 28 | G75: 154.99 | J75: 26 | K75: 105.6
C76: ПС «Н.Чегем» | D76: 3 | E76: 13 | F76: 3 | G76: 13 | J76: 5 | K76: 21
C77: ПС «Кара-Су» | J77: 1 | K77: 3
C78: итого: | D78: =D72+D73+D74+D75+D76+D77 -> 82 | E78: =E72+E73+E74+E75+E76+E77 -> 446.11 | F78: =F72+F73+F74+F75+F76+F77 -> 82 | G78: =G72+G73+G74+G75+G76+G77 -> 446.11 | H78: =H72+H73+H74+H75+H76+H77 -> 0 | I78: =I72+I73+I74+I75+I76+I77 -> 0 | J78: =J72+J73+J74+J75+J76+J77 -> 60 | K78: =K72+K73+K74+K75+K76+K77 -> 269.71 | ... Q78: =Q72+Q73+Q74+Q75+Q76+Q77 -> 0
C79: Баксанская группа ПС
C80: ПС «Баксан-110» | D80: 35 | E80: 215.4 | F80: 35 | G80: 215.4 | J80: 43 | K80: 227.8
C81: ПС «Кызбурун-110» | D81: 52 | E81: 321.6 | F81: 52 | G81: 321.6 | J81: 62 | K81: 341.9
C82: ПС «Куркужин» | D82: 16 | E82: 89.3 | F82: 16 | G82: 89.3 | J82: 16 | K82: 89.3
C83: ПС «Баксан-35» | D83: 35 | E83: 323.22 | F83: 35 | G83: 323.22 | J83: 61 | K83: 316.4
C84: ПС «Кр.Константин.» | D84: 3 | E84: 12.5 | F84: 3 | G84: 12.5 | J84: 3 | K84: 12.5
C85: ПС «Гунделен-110» | D85: 10 | E85: 49 | F85: 10 | G85: 49 | J85: 11 | K85: 55
C86: ПС «Плотина» | D86: 5 | E86: 23.5 | F86: 5 | G86: 23.5 | J86: 6 | K86: 29.5
C87: ПС «Баксаненок» | D87: 19 | E87: 97.1 | F87: 19 | G87: 97.1 | J87: 20 | K87: 112.1
C88: ПС «Баксан-330» | D88: 10 | E88: 48.1 | F88: 10 | G88: 48.1 | J88: 11 | K88: 54.1
C89: РП Заюково
C90: РП Куба | D90: 9 | E90: 57.5 | F90: 9 | G90: 57.5 | J90: 10 | K90: 63.5
C91: итого: | D91: =D80+D81+D82+D83+D84+D85+D86+D87+D88+D89+D90 -> 194 | E91: =E80+E81+E82+E83+E84+E85+E86+E87+E88+E89+E90 -> 1237.22 | F91: =F80+F81+F82+F83+F84+F85+F86+F87+F88+F89+F90 -> 194 | G91: =G80+G81+G82+G83+G84+G85+G86+G87+G88+G89+G90 -> 1237.22 | H91: =H80+H81+H82+H83+H84+H85+H86+H87+H88+H89+H90 -> 0 | I91: =I80+I81+I82+I83+I84+I85+I86+I87+I88+I89+I90 -> 0 | J91: =J80+J81+J82+J83+J84+J85+J86+J87+J88+J89+J90 -> 243 | K91: =K80+K81+K82+K83+K84+K85+K86+K87+K88+K89+K90 -> 1302.1 | ... Q91: =Q80+Q81+Q82+Q83+Q84+Q85+Q86+Q87+Q88+Q89+Q90 -> 0
C92: Черекская группа ПС
C93: ПС «Кашхатау» | D93: 13 | E93: 87 | F93: 13 | G93: 87 | H93: 3 | I93: 14 | J93: 20 | K93: 124.6
C94: ПС «Аушигер» | D94: 18 | E94: 98.4 | F94: 18 | G94: 98.4 | H94: 1 | I94: 5 | J94: 37 | K94: 207.3
C95: ПС «Советская» | D95: 30 | E95: 176.3 | F95: 30 | G95: 176.3 | H95: 1 | I95: 6 | J95: 35 | K95: 203.3
C96: ПС «Кара-Су» | D96: 3 | E96: 13 | F96: 3 | G96: 13 | J96: 2 | K96: 9
C97: ПС «ЦСБ» | D97: 1 | E97: 14 | F97: 1 | G97: 14 | J97: 1 | K97: 14
C98: ПС «Портал-2»
C99: ПС «Портал-1»
C100: ПС «Бабугент» | D100: 14 | E100: 88 | F100: 14 | G100: 88 | H100: 1 | I100: 4 | J100: 17 | K100: 103
C101: ПС «Мухольская ГЭС» | D101: 2 | E101: 11 | F101: 2 | G101: 11 | H101: 2 | I101: 10.2 | J101: 3 | K101: 19
C102: итого: | D102: =D93+D94+D95+D96+D97+D98+D99+D100+D101 -> 81 | E102: =E93+E94+E95+E96+E97+E98+E99+E100+E101 -> 487.7 | F102: =F93+F94+F95+F96+F97+F98+F99+F100+F101 -> 81 | G102: =G93+G94+G95+G96+G97+G98+G99+G100+G101 -> 487.7 | H102: =H93+H94+H95+H96+H97+H98+H99+H100+H101 -> 8 | I102: =I93+I94+I95+I96+I97+I98+I99+I100+I101 -> 39.2 | J102: =J93+J94+J95+J96+J97+J98+J99+J100+J101 -> 115 | K102: =K93+K94+K95+K96+K97+K98+K99+K100+K101 -> 680.2 | ... Q102: =Q93+Q94+Q95+Q96+Q97+Q98+Q99+Q100+Q101 -> 0
C103: Нарткалинская группа ПС
C104: ПС «Нарткала» | D104: 42 | E104: 245 | F104: 42 | G104: 245 | J104: 38 | K104: 255
C105: ПС «Псыгансу» | D105: 4 | E105: 24 | F105: 4 | G105: 24 | J105: 9 | K105: 38.51
C106: ПС «Ст.Лескен» | D106: 18 | E106: 131 | F106: 18 | G106: 131 | J106: 22 | K106: 142.5
C107: ПС «Кахун» | D107: 21 | E107: 140 | F107: 21 | G107: 140 | J107: 21 | K107: 121
C108: ПС «Заводская» | D108: 12 | E108: 68.6 | F108: 12 | G108: 68.6 | J108: 21 | K108: 94.5
C109: ПС «Герменчик» | D109: 11 | E109: 33 | F109: 11 | G109: 33 | J109: 6 | K109: 2
C110: ПС «Ст.Урух» | D110: 10 | E110: 57 | F110: 10 | G110: 57 | J110: 9 | K110: 52
C111: ПС «Аргудан» | D111: 12 | E111: 63.9 | F111: 12 | G111: 63.9 | J111: 7 | K111: 35
C112: ПС «Лескен-1» | D112: 3 | E112: 19.6 | F112: 3 | G112: 19.6 | J112: 5 | K112: 40
...
