Workbook

Sheet Лист1

Sheet Ноябрь 2013г
M1: Приложение № 28
M2: к Положению о технологическом присоединении
M3: энергетических установок к электрическим сетям
M4: ОАО «МРСК Северного Кавказа», управляемых
M5: Обществ
B14: Информация о технологическом присоединении энергопринимающих устройств к сетям КБ филиалом ОАО "МРСК Северного Кавказа" за Ноябрь 2013г.
A19: Наименование организации, осуществляющей технологическое присоединение | B19: Наименование субъекта РФ | C19: Наименование центра питания (ПС 35 кВ и выше) | D19: Количество поданных заявок на технологическое присоединение, на общую мощность энергопринимающих устройств, кВт | F19: Заключено договоров на технологическое присоединение, включающие технические условия на общую мощность энергопринимающих устройств, кВт | H19: Расторгнуто договоров на технологическое присоединение, включающие технические условия на общую мощность энергопринимающих устройств, кВт | J19: Суммарная мощность энегргопринимающих устройств, присоединенных к электрическим сетям в соответствии с договором на технологическое присоединение за отчетный период, кВт | L19: Заключено договоров на технологическое присоединение, включающие технические условия на общую мощность генерирущих установок, МВт | N19: Расторгнуто договоров на технологическое присоединение, включающие технические условия на общую мощность генерирущих установок, МВт | P19: Суммарная мощность генерирущих установок, присоединенных к электрическим сетям в соответствии с договором на технологическое присоединение за отчетный период, МВт
A20: 1 | B20: 2 | C20: 3 | D20: 4 | F20: 5 | H20: 6 | J20: 7 | L20: 8 | N20: 9 | P20: 10
D21: шт | E21: кВт | F21: шт | G21: кВт | H21: шт | I21: кВт | J21: шт | K21: кВт | L21: шт | M21: МВт | N21: шт | O21: МВт | P21: шт | Q21: МВт
A22: Кабардино- Балкарсикй филиал ОАО "МРСК Северного Кавказа" | B22: Кабардино- Балкарская Республика | C22: Нальчикская группа ПС
C23: ПС «Нальчик» | D23: ='по 6-10'!D23+'по 0,4'!D20 -> 0 | E23: ='по 6-10'!E23+'по 0,4'!E20 -> 0 | F23: ='по 6-10'!F23+'по 0,4'!F20 -> 0 | G23: ='по 6-10'!G23+'по 0,4'!G20 -> 0 | H23: 2 | I23: 11.2 | J23: ='по 6-10'!J23+'по 0,4'!J20 -> 0 | K23: ='по 6-10'!K23+'по 0,4'!K20 -> 0 | L23: 0 | M23: 0 | N23: 0 | O23: 0 | P23: 0 | Q23: 0
C24: ПС «Телемеханика-1» | D24: ='по 6-10'!D24+'по 0,4'!D21 -> 0 | E24: ='по 6-10'!E24+'по 0,4'!E21 -> 0 | F24: ='по 6-10'!F24+'по 0,4'!F21 -> 0 | G24: ='по 6-10'!G24+'по 0,4'!G21 -> 0 | H24: 0 | I24: 0 | J24: ='по 6-10'!J24+'по 0,4'!J21 -> 0 | K24: ='по 6-10'!K24+'по 0,4'!K21 -> 0 | L24: 0 | M24: 0 | N24: 0 | O24: 0 | P24: 0 | Q24: 0
C25: ПС «Искож» | D25: ='по 6-10'!D25+'по 0,4'!D22 -> 0 | E25: ='по 6-10'!E25+'по 0,4'!E22 -> 0 | F25: ='по 6-10'!F25+'по 0,4'!F22 -> 0 | G25: ='по 6-10'!G25+'по 0,4'!G22 -> 0 | H25: 0 | I25: 0 | J25: ='по 6-10'!J25+'по 0,4'!J22 -> 0 | K25: ='по 6-10'!K25+'по 0,4'!K22 -> 0 | L25: 0 | M25: 0 | N25: 0 | O25: 0 | P25: 0 | Q25: 0
C26: ПС «СКЭП-Н» | D26: ='по 6-10'!D26+'по 0,4'!D23 -> 0 | E26: ='по 6-10'!E26+'по 0,4'!E23 -> 0 | F26: ='по 6-10'!F26+'по 0,4'!F23 -> 0 | G26: ='по 6-10'!G26+'по 0,4'!G23 -> 0 | H26: 0 | I26: 0 | J26: ='по 6-10'!J26+'по 0,4'!J23 -> 0 | K26: ='по 6-10'!K26+'по 0,4'!K23 -> 0 | L26: 0 | M26: 0 | N26: 0 | O26: 0 | P26: 0 | Q26: 0
C27: ПС «Долинск» | D27: ='по 6-10'!D27+'по 0,4'!D24 -> 0 | E27: ='по 6-10'!E27+'по 0,4'!E24 -> 0 | F27: ='по 6-10'!F27+'по 0,4'!F24 -> 0 | G27: ='по 6-10'!G27+'по 0,4'!G24 -> 0 | H27: 0 | I27: 0 | J27: ='по 6-10'!J27+'по 0,4'!J24 -> 0 | K27: ='по 6-10'!K27+'по 0,4'!K24 -> 0 | L27: 0 | M27: 0 | N27: 0 | O27: 0 | P27: 0 | Q27: 0
C28: ПС «Дубки» | D28: ='по 6-10'!D28+'по 0,4'!D25 -> 0 | E28: ='по 6-10'!E28+'по 0,4'!E25 -> 0 | F28: ='по 6-10'!F28+'по 0,4'!F25 -> 0 | G28: ='по 6-10'!G28+'по 0,4'!G25 -> 0 | H28: 0 | I28: 0 | J28: ='по 6-10'!J28+'по 0,4'!J25 -> 0 | K28: ='по 6-10'!K28+'по 0,4'!K25 -> 0 | L28: 0 | M28: 0 | N28: 0 | O28: 0 | P28: 0 | Q28: 0
C29: ПС «Птицефабрика» | D29: ='по 6-10'!D29+'по 0,4'!D26 -> 3 | E29: ='по 6-10'!E29+'по 0,4'!E26 -> 409 | F29: ='по 6-10'!F29+'по 0,4'!F26 -> 2 | G29: ='по 6-10'!G29+'по 0,4'!G26 -> 5 | H29: 1 | I29: 300 | J29: ='по 6-10'!J29+'по 0,4'!J26 -> 0 | K29: ='по 6-10'!K29+'по 0,4'!K26 -> 0 | L29: 0 | M29: 0 | N29: 0 | O29: 0 | P29: 0 | Q29: 0
C30: итого: | D30: =D23+D24+D25+D26+D27+D28+D29 -> 3 | E30: =E23+E24+E25+E26+E27+E28+E29 -> 409 | F30: =F23+F24+F25+F26+F27+F28+F29 -> 2 | G30: =G23+G24+G25+G26+G27+G28+G29 -> 5 | H30: =H23+H24+H25+H26+H27+H28+H29 -> 3 | I30: =I23+I24+I25+I26+I27+I28+I29 -> 311.2 | J30: =J23+J24+J25+J26+J27+J28+J29 -> 0 | K30: =K23+K24+K25+K26+K27+K28+K29 -> 0 | ... Q30: =Q23+Q24+Q25+Q26+Q27+Q28+Q29 -> 0
C31: Малкинская группа ПС
C32: ПС «Малка» | D32: ='по 6-10'!D32+'по 0,4'!D29 -> 19 | E32: ='по 6-10'!E32+'по 0,4'!E29 -> 678 | F32: ='по 6-10'!F32+'по 0,4'!F29 -> 19 | G32: ='по 6-10'!G32+'по 0,4'!G29 -> 678 | H32: 0 | I32: 0 | J32: ='по 6-10'!J32+'по 0,4'!J29 -> 0 | K32: ='по 6-10'!K32+'по 0,4'!K29 -> 0 | L32: 0 | M32: 0 | N32: 0 | O32: 0 | P32: 0 | Q32: 0
C33: ПС «Каменномостская» | D33: ='по 6-10'!D33+'по 0,4'!D30 -> 9 | E33: ='по 6-10'!E33+'по 0,4'!E30 -> 292 | F33: ='по 6-10'!F33+'по 0,4'!F30 -> 7 | G33: ='по 6-10'!G33+'по 0,4'!G30 -> 62 | H33: 0 | I33: 0 | J33: ='по 6-10'!J33+'по 0,4'!J30 -> 0 | K33: ='по 6-10'!K33+'по 0,4'!K30 -> 0 | L33: 0 | M33: 0 | N33: 0 | O33: 0 | P33: 0 | Q33: 0
C34: ПС «Залукокоаже» | D34: ='по 6-10'!D34+'по 0,4'!D31 -> 6 | E34: ='по 6-10'!E34+'по 0,4'!E31 -> 151 | F34: ='по 6-10'!F34+'по 0,4'!F31 -> 6 | G34: ='по 6-10'!G34+'по 0,4'!G31 -> 151 | H34: 0 | I34: 0 | J34: ='по 6-10'!J34+'по 0,4'!J31 -> 0 | K34: ='по 6-10'!K34+'по 0,4'!K31 -> 0 | L34: 0 | M34: 0 | N34: 0 | O34: 0 | P34: 0 | Q34: 0
C35: ПС «Залукодес» | D35: ='по 6-10'!D35+'по 0,4'!D32 -> 5 | E35: ='по 6-10'!E35+'по 0,4'!E32 -> 510 | F35: ='по 6-10'!F35+'по 0,4'!F32 -> 3 | G35: ='по 6-10'!G35+'по 0,4'!G32 -> 100 | H35: 0 | I35: 0 | J35: ='по 6-10'!J35+'по 0,4'!J32 -> 0 | K35: ='по 6-10'!K35+'по 0,4'!K32 -> 0 | L35: 0 | M35: 0 | N35: 0 | O35: 0 | P35: 0 | Q35: 0
C36: ПС «Сармаково» | D36: ='по 6-10'!D36+'по 0,4'!D33 -> 44 | E36: ='по 6-10'!E36+'по 0,4'!E33 -> 1039.5 | F36: ='по 6-10'!F36+'по 0,4'!F33 -> 43 | G36: ='по 6-10'!G36+'по 0,4'!G33 -> 919.5 | H36: 0 | I36: 0 | J36: ='по 6-10'!J36+'по 0,4'!J33 -> 0 | K36: ='по 6-10'!K36+'по 0,4'!K33 -> 0 | L36: 0 | M36: 0 | N36: 0 | O36: 0 | P36: 0 | Q36: 0
C37: ПС «Аурсентх» | D37: ='по 6-10'!D37+'по 0,4'!D34 -> 13 | E37: ='по 6-10'!E37+'по 0,4'!E34 -> 73 | F37: ='по 6-10'!F37+'по 0,4'!F34 -> 13 | G37: ='по 6-10'!G37+'по 0,4'!G34 -> 73 | H37: 0 | I37: 0 | J37: ='по 6-10'!J37+'по 0,4'!J34 -> 0 | K37: ='по 6-10'!K37+'по 0,4'!K34 -> 0 | L37: 0 | M37: 0 | N37: 0 | O37: 0 | P37: 0 | Q37: 0
C38: итого: | D38: =D32+D33+D34+D35+D36+D37 -> 96 | E38: =E32+E33+E34+E35+E36+E37 -> 2743.5 | F38: =F32+F33+F34+F35+F36+F37 -> 91 | G38: =G32+G33+G34+G35+G36+G37 -> 1983.5 | H38: =H32+H33+H34+H35+H36+H37 -> 0 | I38: =I32+I33+I34+I35+I36+I37 -> 0 | J38: =J32+J33+J34+J35+J36+J37 -> 0 | K38: =K32+K33+K34+K35+K36+K37 -> 0 | ... Q38: =Q32+Q33+Q34+Q35+Q36+Q37 -> 0
C39: Эльбрусская группа ПС
C40: ПС «ЦРУ» | D40: ='по 6-10'!D40+'по 0,4'!D37 -> 5 | E40: ='по 6-10'!E40+'по 0,4'!E37 -> 46 | F40: ='по 6-10'!F40+'по 0,4'!F37 -> 5 | G40: ='по 6-10'!G40+'по 0,4'!G37 -> 46 | H40: 0 | I40: 0 | J40: ='по 6-10'!J40+'по 0,4'!J37 -> 0 | K40: ='по 6-10'!K40+'по 0,4'!K37 -> 0 | L40: 0 | M40: 0 | N40: 0 | O40: 0 | P40: 0 | Q40: 0
C41: ПС «Адыл-Су» | D41: ='по 6-10'!D41+'по 0,4'!D38 -> 26 | E41: ='по 6-10'!E41+'по 0,4'!E38 -> 244 | F41: ='по 6-10'!F41+'по 0,4'!F38 -> 26 | G41: ='по 6-10'!G41+'по 0,4'!G38 -> 244 | H41: 0 | I41: 0 | J41: ='по 6-10'!J41+'по 0,4'!J38 -> 0 | K41: ='по 6-10'!K41+'по 0,4'!K38 -> 0 | L41: 0 | M41: 0 | N41: 0 | O41: 0 | P41: 0 | Q41: 0
C42: ПС «Нейтрино» | D42: ='по 6-10'!D42+'по 0,4'!D39 -> 2 | E42: ='по 6-10'!E42+'по 0,4'!E39 -> 25 | F42: ='по 6-10'!F42+'по 0,4'!F39 -> 2 | G42: ='по 6-10'!G42+'по 0,4'!G39 -> 25 | H42: 0 | I42: 0 | J42: ='по 6-10'!J42+'по 0,4'!J39 -> 0 | K42: ='по 6-10'!K42+'по 0,4'!K39 -> 0 | L42: 0 | M42: 0 | N42: 0 | O42: 0 | P42: 0 | Q42: 0
C43: ПС «Чегет» | D43: ='по 6-10'!D43+'по 0,4'!D40 -> 18 | E43: ='по 6-10'!E43+'по 0,4'!E40 -> 365 | F43: ='по 6-10'!F43+'по 0,4'!F40 -> 18 | G43: ='по 6-10'!G43+'по 0,4'!G40 -> 365 | H43: 0 | I43: 0 | J43: ='по 6-10'!J43+'по 0,4'!J40 -> 0 | K43: ='по 6-10'!K43+'по 0,4'!K40 -> 0 | L43: 0 | M43: 0 | N43: 0 | O43: 0 | P43: 0 | Q43: 0
C44: ПС «Терскол» | D44: ='по 6-10'!D44+'по 0,4'!D41 -> 2 | E44: ='по 6-10'!E44+'по 0,4'!E41 -> 20 | F44: ='по 6-10'!F44+'по 0,4'!F41 -> 2 | G44: ='по 6-10'!G44+'по 0,4'!G41 -> 20 | H44: 0 | I44: 0 | J44: ='по 6-10'!J44+'по 0,4'!J41 -> 0 | K44: ='по 6-10'!K44+'по 0,4'!K41 -> 0 | L44: 0 | M44: 0 | N44: 0 | O44: 0 | P44: 0 | Q44: 0
C45: ПС «Джайлык» | D45: ='по 6-10'!D45+'по 0,4'!D42 -> 2 | E45: ='по 6-10'!E45+'по 0,4'!E42 -> 65 | F45: ='по 6-10'!F45+'по 0,4'!F42 -> 2 | G45: ='по 6-10'!G45+'по 0,4'!G42 -> 65 | H45: 0 | I45: 0 | J45: ='по 6-10'!J45+'по 0,4'!J42 -> 0 | K45: ='по 6-10'!K45+'по 0,4'!K42 -> 0 | L45: 0 | M45: 0 | N45: 0 | O45: 0 | P45: 0 | Q45: 0
C46: ПС «Соц. городок» | D46: ='по 6-10'!D46+'по 0,4'!D43 -> 0 | E46: ='по 6-10'!E46+'по 0,4'!E43 -> 0 | F46: ='по 6-10'!F46+'по 0,4'!F43 -> 0 | G46: ='по 6-10'!G46+'по 0,4'!G43 -> 0 | H46: 0 | I46: 0 | J46: ='по 6-10'!J46+'по 0,4'!J43 -> 0 | K46: ='по 6-10'!K46+'по 0,4'!K43 -> 0 | L46: 0 | M46: 0 | N46: 0 | O46: 0 | P46: 0 | Q46: 0
C47: ПС «Чалмас» | D47: ='по 6-10'!D47+'по 0,4'!D44 -> 0 | E47: ='по 6-10'!E47+'по 0,4'!E44 -> 0 | F47: ='по 6-10'!F47+'по 0,4'!F44 -> 0 | G47: ='по 6-10'!G47+'по 0,4'!G44 -> 0 | H47: 0 | I47: 0 | J47: ='по 6-10'!J47+'по 0,4'!J44 -> 0 | K47: ='по 6-10'!K47+'по 0,4'!K44 -> 0 | L47: 0 | M47: 0 | N47: 0 | O47: 0 | P47: 0 | Q47: 0
C48: ПС «РМЗ» | D48: ='по 6-10'!D48+'по 0,4'!D45 -> 12 | E48: ='по 6-10'!E48+'по 0,4'!E45 -> 548 | F48: ='по 6-10'!F48+'по 0,4'!F45 -> 10 | G48: ='по 6-10'!G48+'по 0,4'!G45 -> 118 | H48: 0 | I48: 0 | J48: ='по 6-10'!J48+'по 0,4'!J45 -> 0 | K48: ='по 6-10'!K48+'по 0,4'!K45 -> 0 | L48: 0 | M48: 0 | N48: 0 | O48: 0 | P48: 0 | Q48: 0
C49: РП «Водогрейная» | D49: ='по 6-10'!D49+'по 0,4'!D46 -> 2 | E49: ='по 6-10'!E49+'по 0,4'!E46 -> 20 | F49: ='по 6-10'!F49+'по 0,4'!F46 -> 2 | G49: ='по 6-10'!G49+'по 0,4'!G46 -> 20 | H49: 0 | I49: 0 | J49: ='по 6-10'!J49+'по 0,4'!J46 -> 0 | K49: ='по 6-10'!K49+'по 0,4'!K46 -> 0 | L49: 0 | M49: 0 | N49: 0 | O49: 0 | P49: 0 | Q49: 0
C50: ПС «Былым» | D50: ='по 6-10'!D50+'по 0,4'!D47 -> 1 | E50: ='по 6-10'!E50+'по 0,4'!E47 -> 15 | F50: ='по 6-10'!F50+'по 0,4'!F47 -> 1 | G50: ='по 6-10'!G50+'по 0,4'!G47 -> 15 | H50: 0 | I50: 0 | J50: ='по 6-10'!J50+'по 0,4'!J47 -> 0 | K50: ='по 6-10'!K50+'по 0,4'!K47 -> 0 | L50: 0 | M50: 0 | N50: 0 | O50: 0 | P50: 0 | Q50: 0
C51: ПС "Гунделен" | D51: ='по 6-10'!D51+'по 0,4'!D48 -> 4 | E51: ='по 6-10'!E51+'по 0,4'!E48 -> 488 | F51: ='по 6-10'!F51+'по 0,4'!F48 -> 4 | G51: ='по 6-10'!G51+'по 0,4'!G48 -> 488 | H51: 0 | I51: 0 | J51: ='по 6-10'!J51+'по 0,4'!J48 -> 0 | K51: ='по 6-10'!K51+'по 0,4'!K48 -> 0 | L51: 0 | M51: 0 | N51: 0 | O51: 0 | P51: 0 | Q51: 0
C52: итого: | D52: =D40+D41+D42+D43+D44+D45+D46+D47+D48+D49+D50+D51 -> 74 | E52: =E40+E41+E42+E43+E44+E45+E46+E47+E48+E49+E50+E51 -> 1836 | F52: =F40+F41+F42+F43+F44+F45+F46+F47+F48+F49+F50+F51 -> 72 | G52: =G40+G41+G42+G43+G44+G45+G46+G47+G48+G49+G50+G51 -> 1406 | H52: =H40+H41+H42+H43+H44+H45+H46+H47+H48+H49+H50+H51 -> 0 | I52: =I40+I41+I42+I43+I44+I45+I46+I47+I48+I49+I50+I51 -> 0 | J52: =J40+J41+J42+J43+J44+J45+J46+J47+J48+J49+J50+J51 -> 0 | K52: =K40+K41+K42+K43+K44+K45+K46+K47+K48+K49+K50+K51 -> 0 | ... Q52: =Q40+Q41+Q42+Q43+Q44+Q45+Q46+Q47+Q48+Q49+Q50+Q51 -> 0
C53: Терская группа ПС
C54: ПС «Терек-II» | D54: ='по 6-10'!D54+'по 0,4'!D51 -> 2 | E54: ='по 6-10'!E54+'по 0,4'!E51 -> 280 | F54: ='по 6-10'!F54+'по 0,4'!F51 -> 2 | G54: ='по 6-10'!G54+'по 0,4'!G51 -> 280 | H54: 2 | I54: 350 | J54: ='по 6-10'!J54+'по 0,4'!J51 -> 0 | K54: ='по 6-10'!K54+'по 0,4'!K51 -> 0 | L54: 0 | M54: 0 | N54: 0 | O54: 0 | P54: 0 | Q54: 0
C55: ПС «В.Акбаш» | D55: ='по 6-10'!D55+'по 0,4'!D52 -> 1 | E55: ='по 6-10'!E55+'по 0,4'!E52 -> 5 | F55: ='по 6-10'!F55+'по 0,4'!F52 -> 1 | G55: ='по 6-10'!G55+'по 0,4'!G52 -> 5 | H55: 0 | I55: 0 | J55: ='по 6-10'!J55+'по 0,4'!J52 -> 0 | K55: ='по 6-10'!K55+'по 0,4'!K52 -> 0 | L55: 0 | M55: 0 | N55: 0 | O55: 0 | P55: 0 | Q55: 0
C56: ПС «ЗАИ» | D56: ='по 6-10'!D56+'по 0,4'!D53 -> 0 | E56: ='по 6-10'!E56+'по 0,4'!E53 -> 0 | F56: ='по 6-10'!F56+'по 0,4'!F53 -> 0 | G56: ='по 6-10'!G56+'по 0,4'!G53 -> 0 | H56: 0 | I56: 0 | J56: ='по 6-10'!J56+'по 0,4'!J53 -> 0 | K56: ='по 6-10'!K56+'по 0,4'!K53 -> 0 | L56: 0 | M56: 0 | N56: 0 | O56: 0 | P56: 0 | Q56: 0
C57: ПС «Пенькозавод» | D57: ='по 6-10'!D57+'по 0,4'!D54 -> 3 | E57: ='по 6-10'!E57+'по 0,4'!E54 -> 23 | F57: ='по 6-10'!F57+'по 0,4'!F54 -> 3 | G57: ='по 6-10'!G57+'по 0,4'!G54 -> 23 | H57: 0 | I57: 0 | J57: ='по 6-10'!J57+'по 0,4'!J54 -> 0 | K57: ='по 6-10'!K57+'по 0,4'!K54 -> 0 | L57: 0 | M57: 0 | N57: 0 | O57: 0 | P57: 0 | Q57: 0
C58: ПС «Терекская» | D58: ='по 6-10'!D58+'по 0,4'!D55 -> 10 | E58: ='по 6-10'!E58+'по 0,4'!E55 -> 69 | F58: ='по 6-10'!F58+'по 0,4'!F55 -> 10 | G58: ='по 6-10'!G58+'по 0,4'!G55 -> 69 | H58: 0 | I58: 0 | J58: ='по 6-10'!J58+'по 0,4'!J55 -> 0 | K58: ='по 6-10'!K58+'по 0,4'!K55 -> 0 | L58: 0 | M58: 0 | N58: 0 | O58: 0 | P58: 0 | Q58: 0
C59: ПС «Терек-1» | D59: ='по 6-10'!D59+'по 0,4'!D56 -> 3 | E59: ='по 6-10'!E59+'по 0,4'!E56 -> 24 | F59: ='по 6-10'!F59+'по 0,4'!F56 -> 3 | G59: ='по 6-10'!G59+'по 0,4'!G56 -> 24 | H59: 2 | I59: 395 | J59: ='по 6-10'!J59+'по 0,4'!J56 -> 0 | K59: ='по 6-10'!K59+'по 0,4'!K56 -> 0 | L59: 0 | M59: 0 | N59: 0 | O59: 0 | P59: 0 | Q59: 0
C60: ПС «В.Курп» | D60: ='по 6-10'!D60+'по 0,4'!D57 -> 3 | E60: ='по 6-10'!E60+'по 0,4'!E57 -> 35 | F60: ='по 6-10'!F60+'по 0,4'!F57 -> 3 | G60: ='по 6-10'!G60+'по 0,4'!G57 -> 35 | H60: 0 | I60: 0 | J60: ='по 6-10'!J60+'по 0,4'!J57 -> 0 | K60: ='по 6-10'!K60+'по 0,4'!K57 -> 0 | L60: 0 | M60: 0 | N60: 0 | O60: 0 | P60: 0 | Q60: 0
C61: ПС «Н.Курп» | D61: ='по 6-10'!D61+'по 0,4'!D58 -> 0 | E61: ='по 6-10'!E61+'по 0,4'!E58 -> 0 | F61: ='по 6-10'!F61+'по 0,4'!F58 -> 0 | G61: ='по 6-10'!G61+'по 0,4'!G58 -> 0 | H61: 0 | I61: 0 | J61: ='по 6-10'!J61+'по 0,4'!J58 -> 0 | K61: ='по 6-10'!K61+'по 0,4'!K58 -> 0 | L61: 0 | M61: 0 | N61: 0 | O61: 0 | P61: 0 | Q61: 0
C62: ПС «Акбаш-35» | D62: ='по 6-10'!D62+'по 0,4'!D59 -> 1 | E62: ='по 6-10'!E62+'по 0,4'!E59 -> 7 | F62: ='по 6-10'!F62+'по 0,4'!F59 -> 1 | G62: ='по 6-10'!G62+'по 0,4'!G59 -> 7 | H62: 0 | I62: 0 | J62: ='по 6-10'!J62+'по 0,4'!J59 -> 0 | K62: ='по 6-10'!K62+'по 0,4'!K59 -> 0 | L62: 0 | M62: 0 | N62: 0 | O62: 0 | P62: 0 | Q62: 0
C63: итого: | D63: =D54+D55+D56+D57+D58+D59+D60+D61+D62 -> 23 | E63: =E54+E55+E56+E57+E58+E59+E60+E61+E62 -> 443 | F63: =F54+F55+F56+F57+F58+F59+F60+F61+F62 -> 23 | G63: =G54+G55+G56+G57+G58+G59+G60+G61+G62 -> 443 | H63: =H54+H55+H56+H57+H58+H59+H60+H61+H62 -> 4 | I63: =I54+I55+I56+I57+I58+I59+I60+I61+I62 -> 745 | J63: =J54+J55+J56+J57+J58+J59+J60+J61+J62 -> 0 | K63: =K54+K55+K56+K57+K58+K59+K60+K61+K62 -> 0 | ... Q63: =Q54+Q55+Q56+Q57+Q58+Q59+Q60+Q61+Q62 -> 0
C64: Майская группа ПС
C65: ПС «Майская» | D65: ='по 6-10'!D64+'по 0,4'!D61 -> 233 | E65: ='по 6-10'!E64+'по 0,4'!E61 -> 6959.5 | F65: ='по 6-10'!F64+'по 0,4'!F61 -> 224 | G65: ='по 6-10'!G64+'по 0,4'!G61 -> 5265.5 | H65: 0 | I65: 0 | J65: ='по 6-10'!J64+'по 0,4'!J61 -> 0 | K65: ='по 6-10'!K64+'по 0,4'!K61 -> 0 | L65: 0 | M65: 0 | N65: 0 | O65: 0 | P65: 0 | Q65: 0
C66: ПС «Александровская» | D66: ='по 6-10'!D65+'по 0,4'!D62 -> 0 | E66: ='по 6-10'!E65+'по 0,4'!E62 -> 0 | F66: ='по 6-10'!F65+'по 0,4'!F62 -> 0 | G66: ='по 6-10'!G65+'по 0,4'!G62 -> 0 | H66: 0 | I66: 0 | J66: ='по 6-10'!J65+'по 0,4'!J62 -> 0 | K66: ='по 6-10'!K65+'по 0,4'!K62 -> 0 | L66: 0 | M66: 0 | N66: 0 | O66: 0 | P66: 0 | Q66: 0
C67: ПС «Котляревская» | D67: ='по 6-10'!D66+'по 0,4'!D63 -> 41 | E67: ='по 6-10'!E66+'по 0,4'!E63 -> 956 | F67: ='по 6-10'!F66+'по 0,4'!F63 -> 40 | G67: ='по 6-10'!G66+'по 0,4'!G63 -> 436 | H67: 0 | I67: 0 | J67: ='по 6-10'!J66+'по 0,4'!J63 -> 0 | K67: ='по 6-10'!K66+'по 0,4'!K63 -> 0 | L67: 0 | M67: 0 | N67: 0 | O67: 0 | P67: 0 | Q67: 0
C68: ПС «Ново-Ивановская» | D68: ='по 6-10'!D67+'по 0,4'!D64 -> 24 | E68: ='по 6-10'!E67+'по 0,4'!E64 -> 482 | F68: ='по 6-10'!F67+'по 0,4'!F64 -> 24 | G68: ='по 6-10'!G67+'по 0,4'!G64 -> 482 | H68: 0 | I68: 0 | J68: ='по 6-10'!J67+'по 0,4'!J64 -> 0 | K68: ='по 6-10'!K67+'по 0,4'!K64 -> 0 | L68: 0 | M68: 0 | N68: 0 | O68: 0 | P68: 0 | Q68: 0
C69: ПС «Красная Нива» | D69: ='по 6-10'!D68+'по 0,4'!D65 -> 3 | E69: ='по 6-10'!E68+'по 0,4'!E65 -> 30 | F69: ='по 6-10'!F68+'по 0,4'!F65 -> 3 | G69: ='по 6-10'!G68+'по 0,4'!G65 -> 30 | H69: 0 | I69: 0 | J69: ='по 6-10'!J68+'по 0,4'!J65 -> 0 | K69: ='по 6-10'!K68+'по 0,4'!K65 -> 0 | L69: 0 | M69: 0 | N69: 0 | O69: 0 | P69: 0 | Q69: 0
C70: итого: | D70: =D65+D66+D67+D68+D69 -> 301 | E70: =E65+E66+E67+E68+E69 -> 8427.5 | F70: =F65+F66+F67+F68+F69 -> 291 | G70: =G65+G66+G67+G68+G69 -> 6213.5 | H70: =H65+H66+H67+H68+H69 -> 0 | I70: =I65+I66+I67+I68+I69 -> 0 | J70: =J65+J66+J67+J68+J69 -> 0 | K70: =K65+K66+K67+K68+K69 -> 0 | ... Q70: =Q65+Q66+Q67+Q68+Q69 -> 0
C71: Чегемская группа ПС
C72: ПС «Чегем-II» | D72: ='по 6-10'!D71+'по 0,4'!D68 -> 2 | E72: ='по 6-10'!E71+'по 0,4'!E68 -> 400 | F72: ='по 6-10'!F71+'по 0,4'!F68 -> 2 | G72: ='по 6-10'!G71+'по 0,4'!G68 -> 400 | H72: 0 | I72: 0 | J72: ='по 6-10'!J71+'по 0,4'!J68 -> 0 | K72: ='по 6-10'!K71+'по 0,4'!K68 -> 0 | L72: 0 | M72: 0 | N72: 0 | O72: 0 | P72: 0 | Q72: 0
C73: ПС «Водозабор» | D73: ='по 6-10'!D72+'по 0,4'!D69 -> 4 | E73: ='по 6-10'!E72+'по 0,4'!E69 -> 28 | F73: ='по 6-10'!F72+'по 0,4'!F69 -> 4 | G73: ='по 6-10'!G72+'по 0,4'!G69 -> 28 | H73: 0 | I73: 0 | J73: ='по 6-10'!J72+'по 0,4'!J69 -> 0 | K73: ='по 6-10'!K72+'по 0,4'!K69 -> 0 | L73: 0 | M73: 0 | N73: 0 | O73: 0 | P73: 0 | Q73: 0
C74: ПС «Чегем-1» | D74: ='по 6-10'!D73+'по 0,4'!D70 -> 1 | E74: ='по 6-10'!E73+'по 0,4'!E70 -> 14 | F74: ='по 6-10'!F73+'по 0,4'!F70 -> 1 | G74: ='по 6-10'!G73+'по 0,4'!G70 -> 14 | H74: 1 | I74: 5.6 | J74: ='по 6-10'!J73+'по 0,4'!J70 -> 0 | K74: ='по 6-10'!K73+'по 0,4'!K70 -> 0 | L74: 0 | M74: 0 | N74: 0 | O74: 0 | P74: 0 | Q74: 0
C75: ПС «Лечинкай» | D75: ='по 6-10'!#REF!+'по 0,4'!#REF! -> #REF! | E75: ='по 6-10'!#REF!+'по 0,4'!#REF! -> #REF! | F75: ='по 6-10'!#REF!+'по 0,4'!#REF! -> #REF! | G75: ='по 6-10'!#REF!+'по 0,4'!#REF! -> #REF! | H75: 1 | I75: 6 | J75: ='по 6-10'!#REF!+'по 0,4'!#REF! -> #REF! | K75: ='по 6-10'!#REF!+'по 0,4'!#REF! -> #REF! | L75: 0 | M75: 0 | N75: 0 | O75: 0 | P75: 0 | Q75: 0
C76: ПС «Н.Чегем» | D76: ='по 6-10'!D74+'по 0,4'!D71 -> 0 | E76: ='по 6-10'!E74+'по 0,4'!E71 -> 0 | F76: ='по 6-10'!F74+'по 0,4'!F71 -> 0 | G76: ='по 6-10'!G74+'по 0,4'!G71 -> 0 | H76: 0 | I76: 0 | J76: ='по 6-10'!J74+'по 0,4'!J71 -> 0 | K76: ='по 6-10'!K74+'по 0,4'!K71 -> 0 | L76: 0 | M76: 0 | N76: 0 | O76: 0 | P76: 0 | Q76: 0
C77: ПС «Кара-Су» | D77: ='по 6-10'!D75+'по 0,4'!D72 -> 3 | E77: ='по 6-10'!E75+'по 0,4'!E72 -> 28 | F77: ='по 6-10'!F75+'по 0,4'!F72 -> 3 | G77: ='по 6-10'!G75+'по 0,4'!G72 -> 28 | H77: 0 | I77: 0 | J77: ='по 6-10'!J75+'по 0,4'!J72 -> 0 | K77: ='по 6-10'!K75+'по 0,4'!K72 -> 0 | L77: 0 | M77: 0 | N77: 0 | O77: 0 | P77: 0 | Q77: 0
C78: итого: | D78: =D72+D73+D74+D75+D76+D77 -> #REF! | E78: =E72+E73+E74+E75+E76+E77 -> #REF! | F78: =F72+F73+F74+F75+F76+F77 -> #REF! | G78: =G72+G73+G74+G75+G76+G77 -> #REF! | H78: =H72+H73+H74+H75+H76+H77 -> 2 | I78: =I72+I73+I74+I75+I76+I77 -> 11.6 | J78: =J72+J73+J74+J75+J76+J77 -> #REF! | K78: =K72+K73+K74+K75+K76+K77 -> #REF! | ... Q78: =Q72+Q73+Q74+Q75+Q76+Q77 -> 0
C79: Баксанская группа ПС
C80: ПС «Баксан-110» | D80: ='по 6-10'!D78+'по 0,4'!D75 -> 2 | E80: ='по 6-10'!E78+'по 0,4'!E75 -> 23 | F80: ='по 6-10'!F78+'по 0,4'!F75 -> 2 | G80: ='по 6-10'!G78+'по 0,4'!G75 -> 23 | H80: 0 | I80: 0 | J80: ='по 6-10'!J78+'по 0,4'!J75 -> 0 | K80: ='по 6-10'!K78+'по 0,4'!K75 -> 0 | L80: 0 | M80: 0 | N80: 0 | O80: 0 | P80: 0 | Q80: 0
C81: ПС «Кызбурун-110» | D81: ='по 6-10'!D79+'по 0,4'!D76 -> 0 | E81: ='по 6-10'!E79+'по 0,4'!E76 -> 0 | F81: ='по 6-10'!F79+'по 0,4'!F76 -> 0 | G81: ='по 6-10'!G79+'по 0,4'!G76 -> 0 | H81: 1 | I81: 5 | J81: ='по 6-10'!J79+'по 0,4'!J76 -> 0 | K81: ='по 6-10'!K79+'по 0,4'!K76 -> 0 | L81: 0 | M81: 0 | N81: 0 | O81: 0 | P81: 0 | Q81: 0
C82: ПС «Куркужин» | D82: ='по 6-10'!D80+'по 0,4'!D77 -> 7 | E82: ='по 6-10'!E80+'по 0,4'!E77 -> 88.5 | F82: ='по 6-10'!F80+'по 0,4'!F77 -> 7 | G82: ='по 6-10'!G80+'по 0,4'!G77 -> 88.5 | H82: 0 | I82: 0 | J82: ='по 6-10'!J80+'по 0,4'!J77 -> 0 | K82: ='по 6-10'!K80+'по 0,4'!K77 -> 0 | L82: 0 | M82: 0 | N82: 0 | O82: 0 | P82: 0 | Q82: 0
C83: ПС «Баксан-35» | D83: ='по 6-10'!D81+'по 0,4'!D78 -> 0 | E83: ='по 6-10'!E81+'по 0,4'!E78 -> 0 | F83: ='по 6-10'!F81+'по 0,4'!F78 -> 0 | G83: ='по 6-10'!G81+'по 0,4'!G78 -> 0 | H83: 0 | I83: 0 | J83: ='по 6-10'!J81+'по 0,4'!J78 -> 0 | K83: ='по 6-10'!K81+'по 0,4'!K78 -> 0 | L83: 0 | M83: 0 | N83: 0 | O83: 0 | P83: 0 | Q83: 0
C84: ПС «Кр.Константин.» | D84: ='по 6-10'!D82+'по 0,4'!D79 -> 1 | E84: ='по 6-10'!E82+'по 0,4'!E79 -> 10 | F84: ='по 6-10'!F82+'по 0,4'!F79 -> 0 | G84: ='по 6-10'!G82+'по 0,4'!G79 -> 0 | H84: 0 | I84: 0 | J84: ='по 6-10'!J82+'по 0,4'!J79 -> 0 | K84: ='по 6-10'!K82+'по 0,4'!K79 -> 0 | L84: 0 | M84: 0 | N84: 0 | O84: 0 | P84: 0 | Q84: 0
C85: ПС «Гунделен-110» | D85: ='по 6-10'!D83+'по 0,4'!D80 -> 1 | E85: ='по 6-10'!E83+'по 0,4'!E80 -> 5 | F85: ='по 6-10'!F83+'по 0,4'!F80 -> 1 | G85: ='по 6-10'!G83+'по 0,4'!G80 -> 5 | H85: 0 | I85: 0 | J85: ='по 6-10'!J83+'по 0,4'!J80 -> 0 | K85: ='по 6-10'!K83+'по 0,4'!K80 -> 0 | L85: 0 | M85: 0 | N85: 0 | O85: 0 | P85: 0 | Q85: 0
C86: ПС «Плотина» | D86: ='по 6-10'!D84+'по 0,4'!D81 -> 3 | E86: ='по 6-10'!E84+'по 0,4'!E81 -> 235 | F86: ='по 6-10'!F84+'по 0,4'!F81 -> 1 | G86: ='по 6-10'!G84+'по 0,4'!G81 -> 15 | H86: 0 | I86: 0 | J86: ='по 6-10'!J84+'по 0,4'!J81 -> 0 | K86: ='по 6-10'!K84+'по 0,4'!K81 -> 0 | L86: 0 | M86: 0 | N86: 0 | O86: 0 | P86: 0 | Q86: 0
C87: ПС «Баксаненок» | D87: ='по 6-10'!D85+'по 0,4'!D82 -> 6 | E87: ='по 6-10'!E85+'по 0,4'!E82 -> 65 | F87: ='по 6-10'!F85+'по 0,4'!F82 -> 6 | G87: ='по 6-10'!G85+'по 0,4'!G82 -> 65 | H87: 0 | I87: 0 | J87: ='по 6-10'!J85+'по 0,4'!J82 -> 0 | K87: ='по 6-10'!K85+'по 0,4'!K82 -> 0 | L87: 0 | M87: 0 | N87: 0 | O87: 0 | P87: 0 | Q87: 0
C88: ПС «Баксан-330» | D88: ='по 6-10'!D86+'по 0,4'!D83 -> 0 | E88: ='по 6-10'!E86+'по 0,4'!E83 -> 0 | F88: ='по 6-10'!F86+'по 0,4'!F83 -> 0 | G88: ='по 6-10'!G86+'по 0,4'!G83 -> 0 | H88: 0 | I88: 0 | J88: ='по 6-10'!J86+'по 0,4'!J83 -> 0 | K88: ='по 6-10'!K86+'по 0,4'!K83 -> 0 | L88: 0 | M88: 0 | N88: 0 | O88: 0 | P88: 0 | Q88: 0
C89: РП Заюково | D89: ='по 6-10'!D87+'по 0,4'!D84 -> 1 | E89: ='по 6-10'!E87+'по 0,4'!E84 -> 5 | F89: ='по 6-10'!F87+'по 0,4'!F84 -> 1 | G89: ='по 6-10'!G87+'по 0,4'!G84 -> 5 | H89: 0 | I89: 0 | J89: ='по 6-10'!J87+'по 0,4'!J84 -> 0 | K89: ='по 6-10'!K87+'по 0,4'!K84 -> 0 | L89: 0 | M89: 0 | N89: 0 | O89: 0 | P89: 0 | Q89: 0
C90: РП Куба | D90: ='по 6-10'!D88+'по 0,4'!D85 -> 2 | E90: ='по 6-10'!E88+'по 0,4'!E85 -> 11 | F90: ='по 6-10'!F88+'по 0,4'!F85 -> 2 | G90: ='по 6-10'!G88+'по 0,4'!G85 -> 11 | H90: 0 | I90: 0 | J90: ='по 6-10'!J88+'по 0,4'!J85 -> 0 | K90: ='по 6-10'!K88+'по 0,4'!K85 -> 0 | L90: 0 | M90: 0 | N90: 0 | O90: 0 | P90: 0 | Q90: 0
C91: итого: | D91: =D80+D81+D82+D83+D84+D85+D86+D87+D88+D89+D90 -> 23 | E91: =E80+E81+E82+E83+E84+E85+E86+E87+E88+E89+E90 -> 442.5 | F91: =F80+F81+F82+F83+F84+F85+F86+F87+F88+F89+F90 -> 20 | G91: =G80+G81+G82+G83+G84+G85+G86+G87+G88+G89+G90 -> 212.5 | H91: =H80+H81+H82+H83+H84+H85+H86+H87+H88+H89+H90 -> 1 | I91: =I80+I81+I82+I83+I84+I85+I86+I87+I88+I89+I90 -> 5 | J91: =J80+J81+J82+J83+J84+J85+J86+J87+J88+J89+J90 -> 0 | K91: =K80+K81+K82+K83+K84+K85+K86+K87+K88+K89+K90 -> 0 | ... Q91: =Q80+Q81+Q82+Q83+Q84+Q85+Q86+Q87+Q88+Q89+Q90 -> 0
C92: Черекская группа ПС
C93: ПС «Кашхатау» | D93: ='по 6-10'!D91+'по 0,4'!D88 -> 0 | E93: ='по 6-10'!E91+'по 0,4'!E88 -> 0 | F93: ='по 6-10'!F91+'по 0,4'!F88 -> 0 | G93: ='по 6-10'!G91+'по 0,4'!G88 -> 0 | H93: 1 | I93: 15 | J93: ='по 6-10'!J91+'по 0,4'!J88 -> 0 | K93: ='по 6-10'!K91+'по 0,4'!K88 -> 0 | L93: 0 | M93: 0 | N93: 0 | O93: 0 | P93: 0 | Q93: 0
C94: ПС «Аушигер» | D94: ='по 6-10'!D92+'по 0,4'!D89 -> 9 | E94: ='по 6-10'!E92+'по 0,4'!E89 -> 322 | F94: ='по 6-10'!F92+'по 0,4'!F89 -> 8 | G94: ='по 6-10'!G92+'по 0,4'!G89 -> 72 | H94: 0 | I94: 0 | J94: ='по 6-10'!J92+'по 0,4'!J89 -> 0 | K94: ='по 6-10'!K92+'по 0,4'!K89 -> 0 | L94: 0 | M94: 0 | N94: 0 | O94: 0 | P94: 0 | Q94: 0
C95: ПС «Советская» | D95: ='по 6-10'!D93+'по 0,4'!D90 -> 2 | E95: ='по 6-10'!E93+'по 0,4'!E90 -> 10 | F95: ='по 6-10'!F93+'по 0,4'!F90 -> 2 | G95: ='по 6-10'!G93+'по 0,4'!G90 -> 10 | H95: 0 | I95: 0 | J95: ='по 6-10'!J93+'по 0,4'!J90 -> 0 | K95: ='по 6-10'!K93+'по 0,4'!K90 -> 0 | L95: 0 | M95: 0 | N95: 0 | O95: 0 | P95: 0 | Q95: 0
C96: ПС «Кара-Су» | D96: ='по 6-10'!D94+'по 0,4'!D91 -> 0 | E96: ='по 6-10'!E94+'по 0,4'!E91 -> 0 | F96: ='по 6-10'!F94+'по 0,4'!F91 -> 0 | G96: ='по 6-10'!G94+'по 0,4'!G91 -> 0 | H96: 0 | I96: 0 | J96: ='по 6-10'!J94+'по 0,4'!J91 -> 0 | K96: ='по 6-10'!K94+'по 0,4'!K91 -> 0 | L96: 0 | M96: 0 | N96: 0 | O96: 0 | P96: 0 | Q96: 0
C97: ПС «ЦСБ» | D97: ='по 6-10'!D95+'по 0,4'!D92 -> 0 | E97: ='по 6-10'!E95+'по 0,4'!E92 -> 0 | F97: ='по 6-10'!F95+'по 0,4'!F92 -> 0 | G97: ='по 6-10'!G95+'по 0,4'!G92 -> 0 | H97: 0 | I97: 0 | J97: ='по 6-10'!J95+'по 0,4'!J92 -> 0 | K97: ='по 6-10'!K95+'по 0,4'!K92 -> 0 | L97: 0 | M97: 0 | N97: 0 | O97: 0 | P97: 0 | Q97: 0
C98: ПС «Портал-2» | D98: ='по 6-10'!D96+'по 0,4'!D93 -> 0 | E98: ='по 6-10'!E96+'по 0,4'!E93 -> 0 | F98: ='по 6-10'!F96+'по 0,4'!F93 -> 0 | G98: ='по 6-10'!G96+'по 0,4'!G93 -> 0 | H98: 0 | I98: 0 | J98: ='по 6-10'!J96+'по 0,4'!J93 -> 0 | K98: ='по 6-10'!K96+'по 0,4'!K93 -> 0 | L98: 0 | M98: 0 | N98: 0 | O98: 0 | P98: 0 | Q98: 0
C99: ПС «Портал-1» | D99: ='по 6-10'!D97+'по 0,4'!D94 -> 0 | E99: ='по 6-10'!E97+'по 0,4'!E94 -> 0 | F99: ='по 6-10'!F97+'по 0,4'!F94 -> 0 | G99: ='по 6-10'!G97+'по 0,4'!G94 -> 0 | H99: 0 | I99: 0 | J99: ='по 6-10'!J97+'по 0,4'!J94 -> 0 | K99: ='по 6-10'!K97+'по 0,4'!K94 -> 0 | L99: 0 | M99: 0 | N99: 0 | O99: 0 | P99: 0 | Q99: 0
C100: ПС «Бабугент» | D100: ='по 6-10'!D98+'по 0,4'!D95 -> 2 | E100: ='по 6-10'!E98+'по 0,4'!E95 -> 10 | F100: ='по 6-10'!F98+'по 0,4'!F95 -> 2 | G100: ='по 6-10'!G98+'по 0,4'!G95 -> 10 | H100: 0 | I100: 0 | J100: ='по 6-10'!J98+'по 0,4'!J95 -> 0 | K100: ='по 6-10'!K98+'по 0,4'!K95 -> 0 | L100: 0 | M100: 0 | N100: 0 | O100: 0 | P100: 0 | Q100: 0
C101: ПС «Мухольская ГЭС» | D101: ='по 6-10'!D99+'по 0,4'!D96 -> 1 | E101: ='по 6-10'!E99+'по 0,4'!E96 -> 10 | F101: ='по 6-10'!F99+'по 0,4'!F96 -> 1 | G101: ='по 6-10'!G99+'по 0,4'!G96 -> 10 | H101: 0 | I101: 0 | J101: ='по 6-10'!J99+'по 0,4'!J96 -> 0 | K101: ='по 6-10'!K99+'по 0,4'!K96 -> 0 | L101: 0 | M101: 0 | N101: 0 | O101: 0 | P101: 0 | Q101: 0
C102: итого: | D102: =D93+D94+D95+D96+D97+D98+D99+D100+D101 -> 14 | E102: =E93+E94+E95+E96+E97+E98+E99+E100+E101 -> 352 | F102: =F93+F94+F95+F96+F97+F98+F99+F100+F101 -> 13 | G102: =G93+G94+G95+G96+G97+G98+G99+G100+G101 -> 102 | H102: =H93+H94+H95+H96+H97+H98+H99+H100+H101 -> 1 | I102: =I93+I94+I95+I96+I97+I98+I99+I100+I101 -> 15 | J102: =J93+J94+J95+J96+J97+J98+J99+J100+J101 -> 0 | K102: =K93+K94+K95+K96+K97+K98+K99+K100+K101 -> 0 | ... Q102: =Q93+Q94+Q95+Q96+Q97+Q98+Q99+Q100+Q101 -> 0
C103: Нарткалинская группа ПС
C104: ПС «Нарткала» | D104: ='по 6-10'!D102+'по 0,4'!D99 -> 0 | E104: ='по 6-10'!E102+'по 0,4'!E99 -> 0 | F104: ='по 6-10'!F102+'по 0,4'!F99 -> 0 | G104: ='по 6-10'!G102+'по 0,4'!G99 -> 0 | H104: 1 | I104: 15 | J104: ='по 6-10'!J102+'по 0,4'!J99 -> 0 | K104: ='по 6-10'!K102+'по 0,4'!K99 -> 0 | L104: 0 | M104: 0 | N104: 0 | O104: 0 | P104: 0 | Q104: 0
C105: ПС «Псыгансу» | D105: ='по 6-10'!D103+'по 0,4'!D100 -> 22 | E105: ='по 6-10'!E103+'по 0,4'!E100 -> 608 | F105: ='по 6-10'!F103+'по 0,4'!F100 -> 19 | G105: ='по 6-10'!G103+'по 0,4'!G100 -> 411 | H105: 0 | I105: 0 | J105: ='по 6-10'!J103+'по 0,4'!J100 -> 0 | K105: ='по 6-10'!K103+'по 0,4'!K100 -> 0 | L105: 0 | M105: 0 | N105: 0 | O105: 0 | P105: 0 | Q105: 0
C106: ПС «Ст.Лескен» | D106: ='по 6-10'!D104+'по 0,4'!D101 -> 19 | E106: ='по 6-10'!E104+'по 0,4'!E101 -> 200.5 | F106: ='по 6-10'!F104+'по 0,4'!F101 -> 19 | G106: ='по 6-10'!G104+'по 0,4'!G101 -> 200.5 | H106: 0 | I106: 0 | J106: ='по 6-10'!J104+'по 0,4'!J101 -> 0 | K106: ='по 6-10'!K104+'по 0,4'!K101 -> 0 | L106: 0 | M106: 0 | N106: 0 | O106: 0 | P106: 0 | Q106: 0
C107: ПС «Кахун» | D107: ='по 6-10'!D105+'по 0,4'!D102 -> 6 | E107: ='по 6-10'!E105+'по 0,4'!E102 -> 34.2 | F107: ='по 6-10'!F105+'по 0,4'!F102 -> 6 | G107: ='по 6-10'!G105+'по 0,4'!G102 -> 34.2 | H107: 0 | I107: 0 | J107: ='по 6-10'!J105+'по 0,4'!J102 -> 0 | K107: ='по 6-10'!K105+'по 0,4'!K102 -> 0 | L107: 0 | M107: 0 | N107: 0 | O107: 0 | P107: 0 | Q107: 0
C108: ПС «Заводская» | D108: ='по 6-10'!D106+'по 0,4'!D103 -> 10 | E108: ='по 6-10'!E106+'по 0,4'!E103 -> 97.5 | F108: ='по 6-10'!F106+'по 0,4'!F103 -> 10 | G108: ='по 6-10'!G106+'по 0,4'!G103 -> 97.5 | H108: 0 | I108: 0 | J108: ='по 6-10'!J106+'по 0,4'!J103 -> 0 | K108: ='по 6-10'!K106+'по 0,4'!K103 -> 0 | L108: 0 | M108: 0 | N108: 0 | O108: 0 | P108: 0 | Q108: 0
C109: ПС «Герменчик» | D109: ='по 6-10'!D107+'по 0,4'!D104 -> 11 | E109: ='по 6-10'!E107+'по 0,4'!E104 -> 297 | F109: ='по 6-10'!F107+'по 0,4'!F104 -> 11 | G109: ='по 6-10'!G107+'по 0,4'!G104 -> 297 | H109: 0 | I109: 0 | J109: ='по 6-10'!J107+'по 0,4'!J104 -> 0 | K109: ='по 6-10'!K107+'по 0,4'!K104 -> 0 | L109: 0 | M109: 0 | N109: 0 | O109: 0 | P109: 0 | Q109: 0
C110: ПС «Ст.Урух» | D110: ='по 6-10'!D108+'по 0,4'!D105 -> 8 | E110: ='по 6-10'!E108+'по 0,4'!E105 -> 108.54 | F110: ='по 6-10'!F108+'по 0,4'!F105 -> 8 | G110: ='по 6-10'!G108+'по 0,4'!G105 -> 108.54 | H110: 0 | I110: 0 | J110: ='по 6-10'!J108+'по 0,4'!J105 -> 0 | K110: ='по 6-10'!K108+'по 0,4'!K105 -> 0 | L110: 0 | M110: 0 | N110: 0 | O110: 0 | P110: 0 | Q110: 0
C111: ПС «Аргудан» | D111: ='по 6-10'!D109+'по 0,4'!D106 -> 7 | E111: ='по 6-10'!E109+'по 0,4'!E106 -> 42 | F111: ='по 6-10'!F109+'по 0,4'!F106 -> 7 | G111: ='по 6-10'!G109+'по 0,4'!G106 -> 42 | H111: 0 | I111: 0 | J111: ='по 6-10'!J109+'по 0,4'!J106 -> 0 | K111: ='по 6-10'!K109+'по 0,4'!K106 -> 0 | L111: 0 | M111: 0 | N111: 0 | O111: 0 | P111: 0 | Q111: 0
C112: ПС «Лескен-1» | D112: ='по 6-10'!D110+'по 0,4'!D107 -> 18 | E112: ='по 6-10'!E110+'по 0,4'!E107 -> 277.3 | F112: ='по 6-10'!F110+'по 0,4'!F107 -> 18 | G112: ='по 6-10'!G110+'по 0,4'!G107 -> 277.3 | H112: 2 | I112: 45 | J112: ='по 6-10'!J110+'по 0,4'!J107 -> 0 | K112: ='по 6-10'!K110+'по 0,4'!K107 -> 0 | L112: 0 | M112: 0 | N112: 0 | O112: 0 | P112: 0 | Q112: 0
...

Sheet май 2015г
B2: Информация о технологическом присоединении энергопринимающих устройств к сетям ОАО Дагэнергосеть филиалом ОАО "МРСК Северного Кавказа" за май 2015г.
A7: Наименование организации, осуществляющей технологическое присоединение | B7: Наименование субъекта РФ | C7: Наименование центра питания (ПС 35 кВ и выше) | D7: Количество поданных заявок на технологическое присоединение, на общую мощность энергопринимающих устройств, кВт | F7: Заключено договоров на технологическое присоединение, включающие технические условия на общую мощность энергопринимающих устройств, кВт | H7: Расторгнуто договоров на технологическое присоединение, включающие технические условия на общую мощность энергопринимающих устройств, кВт | J7: Суммарная мощность энегргопринимающих устройств, присоединенных к электрическим сетям в соответствии с договором на технологическое присоединение за отчетный период, кВт | L7: Заключено договоров на технологическое присоединение, включающие технические условия на общую мощность генерирущих установок, МВт | N7: Расторгнуто договоров на технологическое присоединение, включающие технические условия на общую мощность генерирущих установок, МВт | P7: Суммарная мощность генерирущих установок, присоединенных к электрическим сетям в соответствии с договором на технологическое присоединение за отчетный период, МВт
A8: 1 | B8: 2 | C8: 3 | D8: 4 | F8: 5 | H8: 6 | J8: 7 | L8: 8 | N8: 9 | P8: 10
D9: шт | E9: кВт | F9: шт | G9: кВт | H9: шт | I9: кВт | J9: шт | K9: кВт | L9: шт | M9: МВт | N9: шт | O9: МВт | P9: шт | Q9: МВт
A10: Кабардино- Балкарсикй филиал ОАО "МРСК Северного Кавказа" | B10: Республика Дагестан | C10: ЦЕНТРАЛЬНЫЕ СЕТИ
C11: ПС ГПП | D11: ='по 6-10'!D23+'по 0,4'!D20 -> 0 | E11: ='по 6-10'!E23+'по 0,4'!E20 -> 0 | F11: ='по 6-10'!F23+'по 0,4'!F20 -> 0 | G11: ='по 6-10'!G23+'по 0,4'!G20 -> 0 | H11: ='по 6-10'!H23+'по 0,4'!H20 -> 0 | I11: ='по 6-10'!I23+'по 0,4'!I20 -> 0 | J11: ='по 6-10'!J23+'по 0,4'!J20 -> 0 | K11: ='по 6-10'!K23+'по 0,4'!K20 -> 0 | ... Q11: ='по 6-10'!Q23+'по 0,4'!Q20 -> 0
C12: ПС Новая | D12: ='по 6-10'!D24+'по 0,4'!D21 -> 0 | E12: ='по 6-10'!E24+'по 0,4'!E21 -> 0 | F12: ='по 6-10'!F24+'по 0,4'!F21 -> 0 | G12: ='по 6-10'!G24+'по 0,4'!G21 -> 0 | H12: ='по 6-10'!H24+'по 0,4'!H21 -> 0 | I12: ='по 6-10'!I24+'по 0,4'!I21 -> 0 | J12: ='по 6-10'!J24+'по 0,4'!J21 -> 0 | K12: ='по 6-10'!K24+'по 0,4'!K21 -> 0 | ... Q12: ='по 6-10'!Q24+'по 0,4'!Q21 -> 0
C13: ПС ЦПП | D13: ='по 6-10'!D25+'по 0,4'!D22 -> 0 | E13: ='по 6-10'!E25+'по 0,4'!E22 -> 0 | F13: ='по 6-10'!F25+'по 0,4'!F22 -> 0 | G13: ='по 6-10'!G25+'по 0,4'!G22 -> 0 | H13: ='по 6-10'!H25+'по 0,4'!H22 -> 0 | I13: ='по 6-10'!I25+'по 0,4'!I22 -> 0 | J13: ='по 6-10'!J25+'по 0,4'!J22 -> 0 | K13: ='по 6-10'!K25+'по 0,4'!K22 -> 0 | ... Q13: ='по 6-10'!Q25+'по 0,4'!Q22 -> 0
C14: ПС М-110 | D14: ='по 6-10'!D26+'по 0,4'!D23 -> 0 | E14: ='по 6-10'!E26+'по 0,4'!E23 -> 0 | F14: ='по 6-10'!F26+'по 0,4'!F23 -> 0 | G14: ='по 6-10'!G26+'по 0,4'!G23 -> 0 | H14: ='по 6-10'!H26+'по 0,4'!H23 -> 0 | I14: ='по 6-10'!I26+'по 0,4'!I23 -> 0 | J14: ='по 6-10'!J26+'по 0,4'!J23 -> 0 | K14: ='по 6-10'!K26+'по 0,4'!K23 -> 0 | ... Q14: ='по 6-10'!Q26+'по 0,4'!Q23 -> 0
C15: ПС Очистные соор. | D15: ='по 6-10'!D27+'по 0,4'!D24 -> 0 | E15: ='по 6-10'!E27+'по 0,4'!E24 -> 0 | F15: ='по 6-10'!F27+'по 0,4'!F24 -> 0 | G15: ='по 6-10'!G27+'по 0,4'!G24 -> 0 | H15: ='по 6-10'!H27+'по 0,4'!H24 -> 0 | I15: ='по 6-10'!I27+'по 0,4'!I24 -> 0 | J15: ='по 6-10'!J27+'по 0,4'!J24 -> 0 | K15: ='по 6-10'!K27+'по 0,4'!K24 -> 0 | ... Q15: ='по 6-10'!Q27+'по 0,4'!Q24 -> 0
C16: ПС Ю-Восточная | D16: ='по 6-10'!D28+'по 0,4'!D25 -> 0 | E16: ='по 6-10'!E28+'по 0,4'!E25 -> 0 | F16: ='по 6-10'!F28+'по 0,4'!F25 -> 0 | G16: ='по 6-10'!G28+'по 0,4'!G25 -> 0 | H16: ='по 6-10'!H28+'по 0,4'!H25 -> 0 | I16: ='по 6-10'!I28+'по 0,4'!I25 -> 0 | J16: ='по 6-10'!J28+'по 0,4'!J25 -> 0 | K16: ='по 6-10'!K28+'по 0,4'!K25 -> 0 | ... Q16: ='по 6-10'!Q28+'по 0,4'!Q25 -> 0
C17: ПС Приморская | D17: ='по 6-10'!D29+'по 0,4'!D26 -> 3 | E17: ='по 6-10'!E29+'по 0,4'!E26 -> 409 | F17: ='по 6-10'!F29+'по 0,4'!F26 -> 2 | G17: ='по 6-10'!G29+'по 0,4'!G26 -> 5 | H17: ='по 6-10'!H29+'по 0,4'!H26 -> 0 | I17: ='по 6-10'!I29+'по 0,4'!I26 -> 0 | J17: ='по 6-10'!J29+'по 0,4'!J26 -> 0 | K17: ='по 6-10'!K29+'по 0,4'!K26 -> 0 | ... Q17: ='по 6-10'!Q29+'по 0,4'!Q26 -> 0
C18: ПС Насосная -1 | D18: ='по 6-10'!D30+'по 0,4'!D27 -> 5 | E18: ='по 6-10'!E30+'по 0,4'!E27 -> 792 | F18: ='по 6-10'!F30+'по 0,4'!F27 -> 5 | G18: ='по 6-10'!G30+'по 0,4'!G27 -> 792 | H18: ='по 6-10'!H30+'по 0,4'!H27 -> 0 | I18: ='по 6-10'!I30+'по 0,4'!I27 -> 0 | J18: ='по 6-10'!J30+'по 0,4'!J27 -> 0 | K18: ='по 6-10'!K30+'по 0,4'!K27 -> 0 | ... Q18: ='по 6-10'!Q30+'по 0,4'!Q27 -> 0
C19: ПС Радиоцентр | D19: ='по 6-10'!D31+'по 0,4'!D28 -> 3 | E19: ='по 6-10'!E31+'по 0,4'!E28 -> 22 | F19: ='по 6-10'!F31+'по 0,4'!F28 -> 3 | G19: ='по 6-10'!G31+'по 0,4'!G28 -> 22 | H19: ='по 6-10'!H31+'по 0,4'!H28 -> 0 | I19: ='по 6-10'!I31+'по 0,4'!I28 -> 0 | J19: ='по 6-10'!J31+'по 0,4'!J28 -> 0 | K19: ='по 6-10'!K31+'по 0,4'!K28 -> 0 | ... Q19: ='по 6-10'!Q31+'по 0,4'!Q28 -> 0
C20: ПС Изберг- Сев. | D20: ='по 6-10'!D32+'по 0,4'!D29 -> 19 | E20: ='по 6-10'!E32+'по 0,4'!E29 -> 678 | F20: ='по 6-10'!F32+'по 0,4'!F29 -> 19 | G20: ='по 6-10'!G32+'по 0,4'!G29 -> 678 | H20: ='по 6-10'!H32+'по 0,4'!H29 -> 0 | I20: ='по 6-10'!I32+'по 0,4'!I29 -> 0 | J20: ='по 6-10'!J32+'по 0,4'!J29 -> 0 | K20: ='по 6-10'!K32+'по 0,4'!K29 -> 0 | ... Q20: ='по 6-10'!Q32+'по 0,4'!Q29 -> 0
C21: ПС Изберг- Южн. | D21: ='по 6-10'!D33+'по 0,4'!D30 -> 9 | E21: ='по 6-10'!E33+'по 0,4'!E30 -> 292 | F21: ='по 6-10'!F33+'по 0,4'!F30 -> 7 | G21: ='по 6-10'!G33+'по 0,4'!G30 -> 62 | H21: ='по 6-10'!H33+'по 0,4'!H30 -> 0 | I21: ='по 6-10'!I33+'по 0,4'!I30 -> 0 | J21: ='по 6-10'!J33+'по 0,4'!J30 -> 0 | K21: ='по 6-10'!K33+'по 0,4'!K30 -> 0 | ... Q21: ='по 6-10'!Q33+'по 0,4'!Q30 -> 0
C22: ПС Карабуд-т | D22: ='по 6-10'!D34+'по 0,4'!D31 -> 6 | E22: ='по 6-10'!E34+'по 0,4'!E31 -> 151 | F22: ='по 6-10'!F34+'по 0,4'!F31 -> 6 | G22: ='по 6-10'!G34+'по 0,4'!G31 -> 151 | H22: ='по 6-10'!H34+'по 0,4'!H31 -> 0 | I22: ='по 6-10'!I34+'по 0,4'!I31 -> 0 | J22: ='по 6-10'!J34+'по 0,4'!J31 -> 0 | K22: ='по 6-10'!K34+'по 0,4'!K31 -> 0 | ... Q22: ='по 6-10'!Q34+'по 0,4'!Q31 -> 0
... C51: ПС ЗТМ | D51: ='по 6-10'!D63+'по 0,4'!D60 -> 1 | E51: ='по 6-10'!E63+'по 0,4'!E60 -> 100 | F51: ='по 6-10'!F63+'по 0,4'!F60 -> 0 | G51: ='по 6-10'!G63+'по 0,4'!G60 -> 0 | H51: ='по 6-10'!H63+'по 0,4'!H60 -> 0 | I51: ='по 6-10'!I63+'по 0,4'!I60 -> 0 | J51: ='по 6-10'!J63+'по 0,4'!J60 -> 0 | K51: ='по 6-10'!K63+'по 0,4'!K60 -> 0 | ... Q51: ='по 6-10'!Q63+'по 0,4'!Q60 -> 0
C52: итого: | D52: =SUM(D11:D51) -> 233 | E52: =SUM(E11:E51) -> 6959.5 | F52: =SUM(F11:F51) -> 224 | G52: =SUM(G11:G51) -> 5265.5 | H52: =SUM(H11:H51) -> 0 | I52: =SUM(I11:I51) -> 0 | J52: =SUM(J11:J51) -> 0 | K52: =SUM(K11:K51) -> 0 | ... Q52: =SUM(Q11:Q51) -> 0
C53: СЕВЕРНЫЕ СЕТИ
C54: Ярыксу | D54: ='по 6-10'!D66+'по 0,4'!D63 -> 41 | E54: ='по 6-10'!E66+'по 0,4'!E63 -> 956 | F54: ='по 6-10'!F66+'по 0,4'!F63 -> 40 | G54: ='по 6-10'!G66+'по 0,4'!G63 -> 436 | H54: ='по 6-10'!H66+'по 0,4'!H63 -> 0 | I54: ='по 6-10'!I66+'по 0,4'!I63 -> 0 | J54: ='по 6-10'!J66+'по 0,4'!J63 -> 0 | K54: ='по 6-10'!K66+'по 0,4'!K63 -> 0 | ... Q54: ='по 6-10'!Q66+'по 0,4'!Q63 -> 0
C55: Акташ | D55: ='по 6-10'!D67+'по 0,4'!D64 -> 24 | E55: ='по 6-10'!E67+'по 0,4'!E64 -> 482 | F55: ='по 6-10'!F67+'по 0,4'!F64 -> 24 | G55: ='по 6-10'!G67+'по 0,4'!G64 -> 482 | H55: ='по 6-10'!H67+'по 0,4'!H64 -> 0 | I55: ='по 6-10'!I67+'по 0,4'!I64 -> 0 | J55: ='по 6-10'!J67+'по 0,4'!J64 -> 0 | K55: ='по 6-10'!K67+'по 0,4'!K64 -> 0 | ... Q55: ='по 6-10'!Q67+'по 0,4'!Q64 -> 0
C56: Куруш | D56: ='по 6-10'!D68+'по 0,4'!D65 -> 3 | E56: ='по 6-10'!E68+'по 0,4'!E65 -> 30 | F56: ='по 6-10'!F68+'по 0,4'!F65 -> 3 | G56: ='по 6-10'!G68+'по 0,4'!G65 -> 30 | H56: ='по 6-10'!H68+'по 0,4'!H65 -> 0 | I56: ='по 6-10'!I68+'по 0,4'!I65 -> 0 | J56: ='по 6-10'!J68+'по 0,4'!J65 -> 0 | K56: ='по 6-10'!K68+'по 0,4'!K65 -> 0 | ... Q56: ='по 6-10'!Q68+'по 0,4'!Q65 -> 0
C57: Сулевкент | D57: ='по 6-10'!D69+'по 0,4'!D66 -> 0 | E57: ='по 6-10'!E69+'по 0,4'!E66 -> 0 | F57: ='по 6-10'!F69+'по 0,4'!F66 -> 0 | G57: ='по 6-10'!G69+'по 0,4'!G66 -> 0 | H57: ='по 6-10'!H69+'по 0,4'!H66 -> 0 | I57: ='по 6-10'!I69+'по 0,4'!I66 -> 0 | J57: ='по 6-10'!J69+'по 0,4'!J66 -> 0 | K57: ='по 6-10'!K69+'по 0,4'!K66 -> 0 | ... Q57: ='по 6-10'!Q69+'по 0,4'!Q66 -> 0
C58: Бабаюрт | D58: ='по 6-10'!D70+'по 0,4'!D67 -> 1 | E58: ='по 6-10'!E70+'по 0,4'!E67 -> 100 | F58: ='по 6-10'!F70+'по 0,4'!F67 -> 1 | G58: ='по 6-10'!G70+'по 0,4'!G67 -> 100 | H58: ='по 6-10'!H70+'по 0,4'!H67 -> 0 | I58: ='по 6-10'!I70+'по 0,4'!I67 -> 0 | J58: ='по 6-10'!J70+'по 0,4'!J67 -> 0 | K58: ='по 6-10'!K70+'по 0,4'!K67 -> 0 | ... Q58: ='по 6-10'!Q70+'по 0,4'!Q67 -> 0
C59: Чиркей ГПП | D59: ='по 6-10'!D71+'по 0,4'!D68 -> 2 | E59: ='по 6-10'!E71+'по 0,4'!E68 -> 400 | F59: ='по 6-10'!F71+'по 0,4'!F68 -> 2 | G59: ='по 6-10'!G71+'по 0,4'!G68 -> 400 | H59: ='по 6-10'!H71+'по 0,4'!H68 -> 0 | I59: ='по 6-10'!I71+'по 0,4'!I68 -> 0 | J59: ='по 6-10'!J71+'по 0,4'!J68 -> 0 | K59: ='по 6-10'!K71+'по 0,4'!K68 -> 0 | ... Q59: ='по 6-10'!Q71+'по 0,4'!Q68 -> 0
C60: Дылым | D60: ='по 6-10'!D72+'по 0,4'!D69 -> 4 | E60: ='по 6-10'!E72+'по 0,4'!E69 -> 28 | F60: ='по 6-10'!F72+'по 0,4'!F69 -> 4 | G60: ='по 6-10'!G72+'по 0,4'!G69 -> 28 | H60: ='по 6-10'!H72+'по 0,4'!H69 -> 0 | I60: ='по 6-10'!I72+'по 0,4'!I69 -> 0 | J60: ='по 6-10'!J72+'по 0,4'!J69 -> 0 | K60: ='по 6-10'!K72+'по 0,4'!K69 -> 0 | ... Q60: ='по 6-10'!Q72+'по 0,4'!Q69 -> 0
C61: Миатлы | D61: ='по 6-10'!D73+'по 0,4'!D70 -> 1 | E61: ='по 6-10'!E73+'по 0,4'!E70 -> 14 | F61: ='по 6-10'!F73+'по 0,4'!F70 -> 1 | G61: ='по 6-10'!G73+'по 0,4'!G70 -> 14 | H61: ='по 6-10'!H73+'по 0,4'!H70 -> 0 | I61: ='по 6-10'!I73+'по 0,4'!I70 -> 0 | J61: ='по 6-10'!J73+'по 0,4'!J70 -> 0 | K61: ='по 6-10'!K73+'по 0,4'!K70 -> 0 | ... Q61: ='по 6-10'!Q73+'по 0,4'!Q70 -> 0
C62: Сулак | D62: ='по 6-10'!D74+'по 0,4'!D71 -> 0 | E62: ='по 6-10'!E74+'по 0,4'!E71 -> 0 | F62: ='по 6-10'!F74+'по 0,4'!F71 -> 0 | G62: ='по 6-10'!G74+'по 0,4'!G71 -> 0 | H62: ='по 6-10'!H74+'по 0,4'!H71 -> 0 | I62: ='по 6-10'!I74+'по 0,4'!I71 -> 0 | J62: ='по 6-10'!J74+'по 0,4'!J71 -> 0 | K62: ='по 6-10'!K74+'по 0,4'!K71 -> 0 | ... Q62: ='по 6-10'!Q74+'по 0,4'!Q71 -> 0
C63: Львовская | D63: ='по 6-10'!D75+'по 0,4'!D72 -> 3 | E63: ='по 6-10'!E75+'по 0,4'!E72 -> 28 | F63: ='по 6-10'!F75+'по 0,4'!F72 -> 3 | G63: ='по 6-10'!G75+'по 0,4'!G72 -> 28 | H63: ='по 6-10'!H75+'по 0,4'!H72 -> 0 | I63: ='по 6-10'!I75+'по 0,4'!I72 -> 0 | J63: ='по 6-10'!J75+'по 0,4'!J72 -> 0 | K63: ='по 6-10'!K75+'по 0,4'!K72 -> 0 | ... Q63: ='по 6-10'!Q75+'по 0,4'!Q72 -> 0
C64: Дагестан | D64: ='по 6-10'!D76+'по 0,4'!D73 -> 1 | E64: ='по 6-10'!E76+'по 0,4'!E73 -> 10 | F64: ='по 6-10'!F76+'по 0,4'!F73 -> 1 | G64: ='по 6-10'!G76+'по 0,4'!G73 -> 10 | H64: ='по 6-10'!H76+'по 0,4'!H73 -> 0 | I64: ='по 6-10'!I76+'по 0,4'!I73 -> 0 | J64: ='по 6-10'!J76+'по 0,4'!J73 -> 0 | K64: ='по 6-10'!K76+'по 0,4'!K73 -> 0 | ... Q64: ='по 6-10'!Q76+'по 0,4'!Q73 -> 0
C65: Аксай | D65: ='по 6-10'!D77+'по 0,4'!D74 -> 4 | E65: ='по 6-10'!E77+'по 0,4'!E74 -> 179 | F65: ='по 6-10'!F77+'по 0,4'!F74 -> 3 | G65: ='по 6-10'!G77+'по 0,4'!G74 -> 104 | H65: ='по 6-10'!H77+'по 0,4'!H74 -> 0 | I65: ='по 6-10'!I77+'по 0,4'!I74 -> 0 | J65: ='по 6-10'!J77+'по 0,4'!J74 -> 0 | K65: ='по 6-10'!K77+'по 0,4'!K74 -> 0 | ... Q65: ='по 6-10'!Q77+'по 0,4'!Q74 -> 0
... C88: Карланюрт -(Тяговая) | D88: ='по 6-10'!D100+'по 0,4'!D97 -> 0 | E88: ='по 6-10'!E100+'по 0,4'!E97 -> 0 | F88: ='по 6-10'!F100+'по 0,4'!F97 -> 0 | G88: ='по 6-10'!G100+'по 0,4'!G97 -> 0 | H88: ='по 6-10'!H100+'по 0,4'!H97 -> 0 | I88: ='по 6-10'!I100+'по 0,4'!I97 -> 0 | J88: ='по 6-10'!J100+'по 0,4'!J97 -> 0 | K88: ='по 6-10'!K100+'по 0,4'!K97 -> 0 | ... Q88: ='по 6-10'!Q100+'по 0,4'!Q97 -> 0
C89: итого: | D89: =SUM(D54:D88) -> 121 | E89: =SUM(E54:E88) -> 3021.5 | F89: =SUM(F54:F88) -> 115 | G89: =SUM(G54:G88) -> 1946.5 | H89: =SUM(H54:H88) -> 0 | I89: =SUM(I54:I88) -> 0 | J89: =SUM(J54:J88) -> 0 | K89: =SUM(K54:K88) -> 0 | ... Q89: =SUM(Q54:Q88) -> 0
C90: ДЕРБЕНТСКИЕ СЕТИ
C91: Дербент-330 | D91: ='по 6-10'!D103+'по 0,4'!D100 -> 22 | E91: ='по 6-10'!E103+'по 0,4'!E100 -> 608 | F91: ='по 6-10'!F103+'по 0,4'!F100 -> 19 | G91: ='по 6-10'!G103+'по 0,4'!G100 -> 411 | H91: ='по 6-10'!H103+'по 0,4'!H100 -> 0 | I91: ='по 6-10'!I103+'по 0,4'!I100 -> 0 | J91: ='по 6-10'!J103+'по 0,4'!J100 -> 0 | K91: ='по 6-10'!K103+'по 0,4'!K100 -> 0 | ... Q91: ='по 6-10'!Q103+'по 0,4'!Q100 -> 0
C92: Дербент-С | D92: ='по 6-10'!D104+'по 0,4'!D101 -> 19 | E92: ='по 6-10'!E104+'по 0,4'!E101 -> 200.5 | F92: ='по 6-10'!F104+'по 0,4'!F101 -> 19 | G92: ='по 6-10'!G104+'по 0,4'!G101 -> 200.5 | H92: ='по 6-10'!H104+'по 0,4'!H101 -> 0 | I92: ='по 6-10'!I104+'по 0,4'!I101 -> 0 | J92: ='по 6-10'!J104+'по 0,4'!J101 -> 0 | K92: ='по 6-10'!K104+'по 0,4'!K101 -> 0 | ... Q92: ='по 6-10'!Q104+'по 0,4'!Q101 -> 0
C93: Мамедкала | D93: ='по 6-10'!D105+'по 0,4'!D102 -> 6 | E93: ='по 6-10'!E105+'по 0,4'!E102 -> 34.2 | F93: ='по 6-10'!F105+'по 0,4'!F102 -> 6 | G93: ='по 6-10'!G105+'по 0,4'!G102 -> 34.2 | H93: ='по 6-10'!H105+'по 0,4'!H102 -> 0 | I93: ='по 6-10'!I105+'по 0,4'!I102 -> 0 | J93: ='по 6-10'!J105+'по 0,4'!J102 -> 0 | K93: ='по 6-10'!K105+'по 0,4'!K102 -> 0 | ... Q93: ='по 6-10'!Q105+'по 0,4'!Q102 -> 0
C94: Каякент | D94: ='по 6-10'!D106+'по 0,4'!D103 -> 10 | E94: ='по 6-10'!E106+'по 0,4'!E103 -> 97.5 | F94: ='по 6-10'!F106+'по 0,4'!F103 -> 10 | G94: ='по 6-10'!G106+'по 0,4'!G103 -> 97.5 | H94: ='по 6-10'!H106+'по 0,4'!H103 -> 0 | I94: ='по 6-10'!I106+'по 0,4'!I103 -> 0 | J94: ='по 6-10'!J106+'по 0,4'!J103 -> 0 | K94: ='по 6-10'!K106+'по 0,4'!K103 -> 0 | ... Q94: ='по 6-10'!Q106+'по 0,4'!Q103 -> 0
C95: Белиджи | D95: ='по 6-10'!D107+'по 0,4'!D104 -> 11 | E95: ='по 6-10'!E107+'по 0,4'!E104 -> 297 | F95: ='по 6-10'!F107+'по 0,4'!F104 -> 11 | G95: ='по 6-10'!G107+'по 0,4'!G104 -> 297 | H95: ='по 6-10'!H107+'по 0,4'!H104 -> 0 | I95: ='по 6-10'!I107+'по 0,4'!I104 -> 0 | J95: ='по 6-10'!J107+'по 0,4'!J104 -> 0 | K95: ='по 6-10'!K107+'по 0,4'!K104 -> 0 | ... Q95: ='по 6-10'!Q107+'по 0,4'!Q104 -> 0
C96: Касумкент | D96: ='по 6-10'!D108+'по 0,4'!D105 -> 8 | E96: ='по 6-10'!E108+'по 0,4'!E105 -> 108.54 | F96: ='по 6-10'!F108+'по 0,4'!F105 -> 8 | G96: ='по 6-10'!G108+'по 0,4'!G105 -> 108.54 | H96: ='по 6-10'!H108+'по 0,4'!H105 -> 0 | I96: ='по 6-10'!I108+'по 0,4'!I105 -> 0 | J96: ='по 6-10'!J108+'по 0,4'!J105 -> 0 | K96: ='по 6-10'!K108+'по 0,4'!K105 -> 0 | ... Q96: ='по 6-10'!Q108+'по 0,4'!Q105 -> 0
C97: Советская | D97: ='по 6-10'!D109+'по 0,4'!D106 -> 7 | E97: ='по 6-10'!E109+'по 0,4'!E106 -> 42 | F97: ='по 6-10'!F109+'по 0,4'!F106 -> 7 | G97: ='по 6-10'!G109+'по 0,4'!G106 -> 42 | H97: ='по 6-10'!H109+'по 0,4'!H106 -> 0 | I97: ='по 6-10'!I109+'по 0,4'!I106 -> 0 | J97: ='по 6-10'!J109+'по 0,4'!J106 -> 0 | K97: ='по 6-10'!K109+'по 0,4'!K106 -> 0 | ... Q97: ='по 6-10'!Q109+'по 0,4'!Q106 -> 0
C98: Магарамкент | D98: ='по 6-10'!D110+'по 0,4'!D107 -> 18 | E98: ='по 6-10'!E110+'по 0,4'!E107 -> 277.3 | F98: ='по 6-10'!F110+'по 0,4'!F107 -> 18 | G98: ='по 6-10'!G110+'по 0,4'!G107 -> 277.3 | H98: ='по 6-10'!H110+'по 0,4'!H107 -> 0 | I98: ='по 6-10'!I110+'по 0,4'!I107 -> 0 | J98: ='по 6-10'!J110+'по 0,4'!J107 -> 0 | K98: ='по 6-10'!K110+'по 0,4'!K107 -> 0 | ... Q98: ='по 6-10'!Q110+'по 0,4'!Q107 -> 0
C99: Тагиркент | D99: ='по 6-10'!D111+'по 0,4'!D108 -> 7 | E99: ='по 6-10'!E111+'по 0,4'!E108 -> 92.5 | F99: ='по 6-10'!F111+'по 0,4'!F108 -> 7 | G99: ='по 6-10'!G111+'по 0,4'!G108 -> 92.5 | H99: ='по 6-10'!H111+'по 0,4'!H108 -> 0 | I99: ='по 6-10'!I111+'по 0,4'!I108 -> 0 | J99: ='по 6-10'!J111+'по 0,4'!J108 -> 0 | K99: ='по 6-10'!K111+'по 0,4'!K108 -> 0 | ... Q99: ='по 6-10'!Q111+'по 0,4'!Q108 -> 0
C100: Ахты | D100: ='по 6-10'!D112+'по 0,4'!D109 -> 3 | E100: ='по 6-10'!E112+'по 0,4'!E109 -> 19 | F100: ='по 6-10'!F112+'по 0,4'!F109 -> 3 | G100: ='по 6-10'!G112+'по 0,4'!G109 -> 19 | H100: ='по 6-10'!H112+'по 0,4'!H109 -> 0 | I100: ='по 6-10'!I112+'по 0,4'!I109 -> 0 | J100: ='по 6-10'!J112+'по 0,4'!J109 -> 0 | K100: ='по 6-10'!K112+'по 0,4'!K109 -> 0 | ... Q100: ='по 6-10'!Q112+'по 0,4'!Q109 -> 0
C101: Огни | D101: ='по 6-10'!D113+'по 0,4'!D110 -> 8 | E101: ='по 6-10'!E113+'по 0,4'!E110 -> 186 | F101: ='по 6-10'!F113+'по 0,4'!F110 -> 8 | G101: ='по 6-10'!G113+'по 0,4'!G110 -> 186 | H101: ='по 6-10'!H113+'по 0,4'!H110 -> 0 | I101: ='по 6-10'!I113+'по 0,4'!I110 -> 0 | J101: ='по 6-10'!J113+'по 0,4'!J110 -> 0 | K101: ='по 6-10'!K113+'по 0,4'!K110 -> 0 | ... Q101: ='по 6-10'!Q113+'по 0,4'!Q110 -> 0
C102: Заречная | D102: ='по 6-10'!D114+'по 0,4'!D111 -> 0 | E102: ='по 6-10'!E114+'по 0,4'!E111 -> 0 | F102: ='по 6-10'!F114+'по 0,4'!F111 -> 0 | G102: ='по 6-10'!G114+'по 0,4'!G111 -> 0 | H102: ='по 6-10'!H114+'по 0,4'!H111 -> 0 | I102: ='по 6-10'!I114+'по 0,4'!I111 -> 0 | J102: ='по 6-10'!J114+'по 0,4'!J111 -> 0 | K102: ='по 6-10'!K114+'по 0,4'!K111 -> 0 | ... Q102: ='по 6-10'!Q114+'по 0,4'!Q111 -> 0
... C138: Морская | D138: ='по 6-10'!D150+'по 0,4'!D147 -> 0 | E138: ='по 6-10'!E150+'по 0,4'!E147 -> 0 | F138: ='по 6-10'!F150+'по 0,4'!F147 -> 0 | G138: ='по 6-10'!G150+'по 0,4'!G147 -> 0 | H138: ='по 6-10'!H150+'по 0,4'!H147 -> 0 | I138: ='по 6-10'!I150+'по 0,4'!I147 -> 0 | J138: ='по 6-10'!J150+'по 0,4'!J147 -> 0 | K138: ='по 6-10'!K150+'по 0,4'!K147 -> 0 | ... Q138: ='по 6-10'!Q150+'по 0,4'!Q147 -> 0
C139: итого: | D139: =SUM(D91:D138) -> 232 | E139: =SUM(E91:E138) -> 3286.04 | F139: =SUM(F91:F138) -> 228 | G139: =SUM(G91:G138) -> 2924.04 | H139: =SUM(H91:H138) -> 0 | I139: =SUM(I91:I138) -> 0 | J139: =SUM(J91:J138) -> 0 | K139: =SUM(K91:K138) -> 0 | ... Q139: =SUM(Q91:Q138) -> 0
C140: ЗАТЕРЕЧНЫЕ СЕТИ
C141: Кизляр-1 | D141: ='по 6-10'!D153+'по 0,4'!D150 -> 20 | E141: ='по 6-10'!E153+'по 0,4'!E150 -> 392 | F141: ='по 6-10'!F153+'по 0,4'!F150 -> 20 | G141: ='по 6-10'!G153+'по 0,4'!G150 -> 392 | H141: ='по 6-10'!H153+'по 0,4'!H150 -> 0 | I141: ='по 6-10'!I153+'по 0,4'!I150 -> 0 | J141: ='по 6-10'!J153+'по 0,4'!J150 -> 0 | K141: ='по 6-10'!K153+'по 0,4'!K150 -> 0 | ... Q141: ='по 6-10'!Q153+'по 0,4'!Q150 -> 0
C142: Кизляр-2 | D142: ='по 6-10'!D154+'по 0,4'!D151 -> 21 | E142: ='по 6-10'!E154+'по 0,4'!E151 -> 256 | F142: ='по 6-10'!F154+'по 0,4'!F151 -> 21 | G142: ='по 6-10'!G154+'по 0,4'!G151 -> 256 | H142: ='по 6-10'!H154+'по 0,4'!H151 -> 0 | I142: ='по 6-10'!I154+'по 0,4'!I151 -> 0 | J142: ='по 6-10'!J154+'по 0,4'!J151 -> 0 | K142: ='по 6-10'!K154+'по 0,4'!K151 -> 0 | ... Q142: ='по 6-10'!Q154+'по 0,4'!Q151 -> 0
C143: Михеевка | D143: ='по 6-10'!D155+'по 0,4'!D152 -> 3 | E143: ='по 6-10'!E155+'по 0,4'!E152 -> 15 | F143: ='по 6-10'!F155+'по 0,4'!F152 -> 3 | G143: ='по 6-10'!G155+'по 0,4'!G152 -> 15 | H143: ='по 6-10'!H155+'по 0,4'!H152 -> 0 | I143: ='по 6-10'!I155+'по 0,4'!I152 -> 0 | J143: ='по 6-10'!J155+'по 0,4'!J152 -> 0 | K143: ='по 6-10'!K155+'по 0,4'!K152 -> 0 | ... Q143: ='по 6-10'!Q155+'по 0,4'!Q152 -> 0
C144: Хуцеевка | D144: ='по 6-10'!D156+'по 0,4'!D153 -> 1 | E144: ='по 6-10'!E156+'по 0,4'!E153 -> 5 | F144: ='по 6-10'!F156+'по 0,4'!F153 -> 1 | G144: ='по 6-10'!G156+'по 0,4'!G153 -> 5 | H144: ='по 6-10'!H156+'по 0,4'!H153 -> 0 | I144: ='по 6-10'!I156+'по 0,4'!I153 -> 0 | J144: ='по 6-10'!J156+'по 0,4'!J153 -> 0 | K144: ='по 6-10'!K156+'по 0,4'!K153 -> 0 | ... Q144: ='по 6-10'!Q156+'по 0,4'!Q153 -> 0
C145: Серебряковка | D145: ='по 6-10'!D157+'по 0,4'!D154 -> 0 | E145: ='по 6-10'!E157+'по 0,4'!E154 -> 0 | F145: ='по 6-10'!F157+'по 0,4'!F154 -> 0 | G145: ='по 6-10'!G157+'по 0,4'!G154 -> 0 | H145: ='по 6-10'!H157+'по 0,4'!H154 -> 0 | I145: ='по 6-10'!I157+'по 0,4'!I154 -> 0 | J145: ='по 6-10'!J157+'по 0,4'!J154 -> 0 | K145: ='по 6-10'!K157+'по 0,4'!K154 -> 0 | ... Q145: ='по 6-10'!Q157+'по 0,4'!Q154 -> 0
C146: Октябрьская | D146: ='по 6-10'!D158+'по 0,4'!D155 -> 3 | E146: ='по 6-10'!E158+'по 0,4'!E155 -> 20 | F146: ='по 6-10'!F158+'по 0,4'!F155 -> 3 | G146: ='по 6-10'!G158+'по 0,4'!G155 -> 20 | H146: ='по 6-10'!H158+'по 0,4'!H155 -> 0 | I146: ='по 6-10'!I158+'по 0,4'!I155 -> 0 | J146: ='по 6-10'!J158+'по 0,4'!J155 -> 0 | K146: ='по 6-10'!K158+'по 0,4'!K155 -> 0 | ... Q146: ='по 6-10'!Q158+'по 0,4'!Q155 -> 0
C147: Некрасовка | D147: ='по 6-10'!D159+'по 0,4'!D156 -> 0 | E147: ='по 6-10'!E159+'по 0,4'!E156 -> 0 | F147: ='по 6-10'!F159+'по 0,4'!F156 -> 0 | G147: ='по 6-10'!G159+'по 0,4'!G156 -> 0 | H147: ='по 6-10'!H159+'по 0,4'!H156 -> 0 | I147: ='по 6-10'!I159+'по 0,4'!I156 -> 0 | J147: ='по 6-10'!J159+'по 0,4'!J156 -> 0 | K147: ='по 6-10'!K159+'по 0,4'!K156 -> 0 | ... Q147: ='по 6-10'!Q159+'по 0,4'!Q156 -> 0
C148: Б-Арешевка | D148: ='по 6-10'!D160+'по 0,4'!D157 -> 0 | E148: ='по 6-10'!E160+'по 0,4'!E157 -> 0 | F148: ='по 6-10'!F160+'по 0,4'!F157 -> 0 | G148: ='по 6-10'!G160+'по 0,4'!G157 -> 0 | H148: ='по 6-10'!H160+'по 0,4'!H157 -> 0 | I148: ='по 6-10'!I160+'по 0,4'!I157 -> 0 | J148: ='по 6-10'!J160+'по 0,4'!J157 -> 0 | K148: ='по 6-10'!K160+'по 0,4'!K157 -> 0 | ... Q148: ='по 6-10'!Q160+'по 0,4'!Q157 -> 0
C149: Александрия | D149: ='по 6-10'!D161+'по 0,4'!D158 -> 0 | E149: ='по 6-10'!E161+'по 0,4'!E158 -> 0 | F149: ='по 6-10'!F161+'по 0,4'!F158 -> 0 | G149: ='по 6-10'!G161+'по 0,4'!G158 -> 0 | H149: ='по 6-10'!H161+'по 0,4'!H158 -> 0 | I149: ='по 6-10'!I161+'по 0,4'!I158 -> 0 | J149: ='по 6-10'!J161+'по 0,4'!J158 -> 0 | K149: ='по 6-10'!K161+'по 0,4'!K158 -> 0 | ... Q149: ='по 6-10'!Q161+'по 0,4'!Q158 -> 0
C150: Крайновка | D150: ='по 6-10'!D162+'по 0,4'!D159 -> 5 | E150: ='по 6-10'!E162+'по 0,4'!E159 -> 50 | F150: ='по 6-10'!F162+'по 0,4'!F159 -> 5 | G150: ='по 6-10'!G162+'по 0,4'!G159 -> 50 | H150: ='по 6-10'!H162+'по 0,4'!H159 -> 0 | I150: ='по 6-10'!I162+'по 0,4'!I159 -> 0 | J150: ='по 6-10'!J162+'по 0,4'!J159 -> 0 | K150: ='по 6-10'!K162+'по 0,4'!K159 -> 0 | ... Q150: ='по 6-10'!Q162+'по 0,4'!Q159 -> 0
C151: Огузер | D151: ='по 6-10'!D163+'по 0,4'!D160 -> 1 | E151: ='по 6-10'!E163+'по 0,4'!E160 -> 3 | F151: ='по 6-10'!F163+'по 0,4'!F160 -> 1 | G151: ='по 6-10'!G163+'по 0,4'!G160 -> 3 | H151: ='по 6-10'!H163+'по 0,4'!H160 -> 0 | I151: ='по 6-10'!I163+'по 0,4'!I160 -> 0 | J151: ='по 6-10'!J163+'по 0,4'!J160 -> 0 | K151: ='по 6-10'!K163+'по 0,4'!K160 -> 0 | ... Q151: ='по 6-10'!Q163+'по 0,4'!Q160 -> 0
C152: Черняевка | D152: ='по 6-10'!D164+'по 0,4'!D161 -> 0 | E152: ='по 6-10'!E164+'по 0,4'!E161 -> 0 | F152: ='по 6-10'!F164+'по 0,4'!F161 -> 0 | G152: ='по 6-10'!G164+'по 0,4'!G161 -> 0 | H152: ='по 6-10'!H164+'по 0,4'!H161 -> 0 | I152: ='по 6-10'!I164+'по 0,4'!I161 -> 0 | J152: ='по 6-10'!J164+'по 0,4'!J161 -> 0 | K152: ='по 6-10'!K164+'по 0,4'!K161 -> 0 | ... Q152: ='по 6-10'!Q164+'по 0,4'!Q161 -> 0
... C170: КЭМЗ | D170: ='по 6-10'!D182+'по 0,4'!D179 -> 5 | E170: ='по 6-10'!E182+'по 0,4'!E179 -> 145 | F170: ='по 6-10'!F182+'по 0,4'!F179 -> 5 | G170: ='по 6-10'!G182+'по 0,4'!G179 -> 145 | H170: ='по 6-10'!H182+'по 0,4'!H179 -> 0 | I170: ='по 6-10'!I182+'по 0,4'!I179 -> 0 | J170: ='по 6-10'!J182+'по 0,4'!J179 -> 0 | K170: ='по 6-10'!K182+'по 0,4'!K179 -> 0 | ... Q170: ='по 6-10'!Q182+'по 0,4'!Q179 -> 0
C171: итого: | D171: =SUM(D141:D170) -> 95 | E171: =SUM(E141:E170) -> 1499 | F171: =SUM(F141:F170) -> 96 | G171: =SUM(G141:G170) -> 1499 | H171: =SUM(H141:H170) -> 0 | I171: =SUM(I141:I170) -> 0 | J171: =SUM(J141:J170) -> 0 | K171: =SUM(K141:K170) -> 0 | ... Q171: =SUM(Q141:Q170) -> 0
C172: ЮЖНО-СУХОКУМСКИЕ СЕТИ
C173: Юж-Сухокумск | D173: ='по 6-10'!D185+'по 0,4'!D182 -> 2 | E173: ='по 6-10'!E185+'по 0,4'!E182 -> 32 | F173: ='по 6-10'!F185+'по 0,4'!F182 -> 2 | G173: ='по 6-10'!G185+'по 0,4'!G182 -> 32 | H173: ='по 6-10'!H185+'по 0,4'!H182 -> 0 | I173: ='по 6-10'!I185+'по 0,4'!I182 -> 0 | J173: ='по 6-10'!J185+'по 0,4'!J182 -> 0 | K173: ='по 6-10'!K185+'по 0,4'!K182 -> 0 | ... Q173: ='по 6-10'!Q185+'по 0,4'!Q182 -> 0
C174: Кр.партизан | D174: ='по 6-10'!D186+'по 0,4'!D183 -> 0 | E174: ='по 6-10'!E186+'по 0,4'!E183 -> 0 | F174: ='по 6-10'!F186+'по 0,4'!F183 -> 0 | G174: ='по 6-10'!G186+'по 0,4'!G183 -> 0 | H174: ='по 6-10'!H186+'по 0,4'!H183 -> 0 | I174: ='по 6-10'!I186+'по 0,4'!I183 -> 0 | J174: ='по 6-10'!J186+'по 0,4'!J183 -> 0 | K174: ='по 6-10'!K186+'по 0,4'!K183 -> 0 | ... Q174: ='по 6-10'!Q186+'по 0,4'!Q183 -> 0
C175: 3-я ферма | D175: ='по 6-10'!D187+'по 0,4'!D184 -> 1 | E175: ='по 6-10'!E187+'по 0,4'!E184 -> 4 | F175: ='по 6-10'!F187+'по 0,4'!F184 -> 1 | G175: ='по 6-10'!G187+'по 0,4'!G184 -> 4 | H175: ='по 6-10'!H187+'по 0,4'!H184 -> 0 | I175: ='по 6-10'!I187+'по 0,4'!I184 -> 0 | J175: ='по 6-10'!J187+'по 0,4'!J184 -> 0 | K175: ='по 6-10'!K187+'по 0,4'!K184 -> 0 | ... Q175: ='по 6-10'!Q187+'по 0,4'!Q184 -> 0
C176: Солончаковая | D176: ='по 6-10'!D188+'по 0,4'!D185 -> 0 | E176: ='по 6-10'!E188+'по 0,4'!E185 -> 0 | F176: ='по 6-10'!F188+'по 0,4'!F185 -> 0 | G176: ='по 6-10'!G188+'по 0,4'!G185 -> 0 | H176: ='по 6-10'!H188+'по 0,4'!H185 -> 0 | I176: ='по 6-10'!I188+'по 0,4'!I185 -> 0 | J176: ='по 6-10'!J188+'по 0,4'!J185 -> 0 | K176: ='по 6-10'!K188+'по 0,4'!K185 -> 0 | ... Q176: ='по 6-10'!Q188+'по 0,4'!Q185 -> 0
C177: Ногайская | D177: ='по 6-10'!D189+'по 0,4'!D186 -> 1 | E177: ='по 6-10'!E189+'по 0,4'!E186 -> 8 | F177: ='по 6-10'!F189+'по 0,4'!F186 -> 1 | G177: ='по 6-10'!G189+'по 0,4'!G186 -> 8 | H177: ='по 6-10'!H189+'по 0,4'!H186 -> 0 | I177: ='по 6-10'!I189+'по 0,4'!I186 -> 0 | J177: ='по 6-10'!J189+'по 0,4'!J186 -> 0 | K177: ='по 6-10'!K189+'по 0,4'!K186 -> 0 | ... Q177: ='по 6-10'!Q189+'по 0,4'!Q186 -> 0
C178: Степная | D178: ='по 6-10'!D190+'по 0,4'!D187 -> 0 | E178: ='по 6-10'!E190+'по 0,4'!E187 -> 0 | F178: ='по 6-10'!F190+'по 0,4'!F187 -> 0 | G178: ='по 6-10'!G190+'по 0,4'!G187 -> 0 | H178: ='по 6-10'!H190+'по 0,4'!H187 -> 0 | I178: ='по 6-10'!I190+'по 0,4'!I187 -> 0 | J178: ='по 6-10'!J190+'по 0,4'!J187 -> 0 | K178: ='по 6-10'!K190+'по 0,4'!K187 -> 0 | ... Q178: ='по 6-10'!Q190+'по 0,4'!Q187 -> 0
C179: Бажиган | D179: ='по 6-10'!D191+'по 0,4'!D188 -> 0 | E179: ='по 6-10'!E191+'по 0,4'!E188 -> 0 | F179: ='по 6-10'!F191+'по 0,4'!F188 -> 0 | G179: ='по 6-10'!G191+'по 0,4'!G188 -> 0 | H179: ='по 6-10'!H191+'по 0,4'!H188 -> 0 | I179: ='по 6-10'!I191+'по 0,4'!I188 -> 0 | J179: ='по 6-10'!J191+'по 0,4'!J188 -> 0 | K179: ='по 6-10'!K191+'по 0,4'!K188 -> 0 | ... Q179: ='по 6-10'!Q191+'по 0,4'!Q188 -> 0
C180: Грузинская | D180: ='по 6-10'!D192+'по 0,4'!D189 -> 0 | E180: ='по 6-10'!E192+'по 0,4'!E189 -> 0 | F180: ='по 6-10'!F192+'по 0,4'!F189 -> 0 | G180: ='по 6-10'!G192+'по 0,4'!G189 -> 0 | H180: ='по 6-10'!H192+'по 0,4'!H189 -> 0 | I180: ='по 6-10'!I192+'по 0,4'!I189 -> 0 | J180: ='по 6-10'!J192+'по 0,4'!J189 -> 0 | K180: ='по 6-10'!K192+'по 0,4'!K189 -> 0 | ... Q180: ='по 6-10'!Q192+'по 0,4'!Q189 -> 0
C181: итого: | D181: =SUM(D173:D180) -> 4 | E181: =SUM(E173:E180) -> 44 | F181: =SUM(F173:F180) -> 4 | G181: =SUM(G173:G180) -> 44 | H181: =SUM(H173:H180) -> 0 | I181: =SUM(I173:I180) -> 0 | J181: =SUM(J173:J180) -> 0 | K181: =SUM(K173:K180) -> 0 | ... Q181: =SUM(Q173:Q180) -> 0
C182: КИЗИЛЮРТОВСКИЕ СЕТИ
C183: п\с 110\35\6 "ЗФС" | D183: ='по 6-10'!D195+'по 0,4'!D192 -> 6 | E183: ='по 6-10'!E195+'по 0,4'!E192 -> 193 | F183: ='по 6-10'!F195+'по 0,4'!F192 -> 6 | G183: ='по 6-10'!G195+'по 0,4'!G192 -> 193 | H183: ='по 6-10'!H195+'по 0,4'!H192 -> 0 | I183: ='по 6-10'!I195+'по 0,4'!I192 -> 0 | J183: ='по 6-10'!J195+'по 0,4'!J192 -> 0 | K183: ='по 6-10'!K195+'по 0,4'!K192 -> 0 | ... Q183: ='по 6-10'!Q195+'по 0,4'!Q192 -> 0
C184: п\с 35\10 Нечаевка | D184: ='по 6-10'!D196+'по 0,4'!D193 -> 0 | E184: ='по 6-10'!E196+'по 0,4'!E193 -> 0 | F184: ='по 6-10'!F196+'по 0,4'!F193 -> 0 | G184: ='по 6-10'!G196+'по 0,4'!G193 -> 0 | H184: ='по 6-10'!H196+'по 0,4'!H193 -> 0 | I184: ='по 6-10'!I196+'по 0,4'!I193 -> 0 | J184: ='по 6-10'!J196+'по 0,4'!J193 -> 0 | K184: ='по 6-10'!K196+'по 0,4'!K193 -> 0 | ... Q184: ='по 6-10'!Q196+'по 0,4'!Q193 -> 0
C185: п\с Гулькутан | D185: ='по 6-10'!D197+'по 0,4'!D194 -> 1 | E185: ='по 6-10'!E197+'по 0,4'!E194 -> 14 | F185: ='по 6-10'!F197+'по 0,4'!F194 -> 1 | G185: ='по 6-10'!G197+'по 0,4'!G194 -> 14 | H185: ='по 6-10'!H197+'по 0,4'!H194 -> 0 | I185: ='по 6-10'!I197+'по 0,4'!I194 -> 0 | J185: ='по 6-10'!J197+'по 0,4'!J194 -> 0 | K185: ='по 6-10'!K197+'по 0,4'!K194 -> 0 | ... Q185: ='по 6-10'!Q197+'по 0,4'!Q194 -> 0
C186: Шамхалянгиюрт | D186: ='по 6-10'!D198+'по 0,4'!D195 -> 0 | E186: ='по 6-10'!E198+'по 0,4'!E195 -> 0 | F186: ='по 6-10'!F198+'по 0,4'!F195 -> 0 | G186: ='по 6-10'!G198+'по 0,4'!G195 -> 0 | H186: ='по 6-10'!H198+'по 0,4'!H195 -> 0 | I186: ='по 6-10'!I198+'по 0,4'!I195 -> 0 | J186: ='по 6-10'!J198+'по 0,4'!J195 -> 0 | K186: ='по 6-10'!K198+'по 0,4'!K195 -> 0 | ... Q186: ='по 6-10'!Q198+'по 0,4'!Q195 -> 0
C187: ГЩЗ | D187: ='по 6-10'!D199+'по 0,4'!D196 -> 4 | E187: ='по 6-10'!E199+'по 0,4'!E196 -> 36 | F187: ='по 6-10'!F199+'по 0,4'!F196 -> 4 | G187: ='по 6-10'!G199+'по 0,4'!G196 -> 36 | H187: ='по 6-10'!H199+'по 0,4'!H196 -> 0 | I187: ='по 6-10'!I199+'по 0,4'!I196 -> 0 | J187: ='по 6-10'!J199+'по 0,4'!J196 -> 0 | K187: ='по 6-10'!K199+'по 0,4'!K196 -> 0 | ... Q187: ='по 6-10'!Q199+'по 0,4'!Q196 -> 0
C188: Стальск | D188: ='по 6-10'!D200+'по 0,4'!D197 -> 1 | E188: ='по 6-10'!E200+'по 0,4'!E197 -> 60 | F188: ='по 6-10'!F200+'по 0,4'!F197 -> 0 | G188: ='по 6-10'!G200+'по 0,4'!G197 -> 0 | H188: ='по 6-10'!H200+'по 0,4'!H197 -> 0 | I188: ='по 6-10'!I200+'по 0,4'!I197 -> 0 | J188: ='по 6-10'!J200+'по 0,4'!J197 -> 0 | K188: ='по 6-10'!K200+'по 0,4'!K197 -> 0 | ... Q188: ='по 6-10'!Q200+'по 0,4'!Q197 -> 0
C189: итого: | D189: =SUM(D183:D188) -> 12 | E189: =SUM(E183:E188) -> 303 | F189: =SUM(F183:F188) -> 11 | G189: =SUM(G183:G188) -> 243 | H189: =SUM(H183:H188) -> 0 | I189: =SUM(I183:I188) -> 0 | J189: =SUM(J183:J188) -> 0 | K189: =SUM(K183:K188) -> 0 | ... Q189: =SUM(Q183:Q188) -> 0
C190: ГЕРГЕБИЛЬСКИЕ СЕТИ
C191: ПС Гергебиль-110 | D191: ='по 6-10'!D203+'по 0,4'!D200 -> 4 | E191: ='по 6-10'!E203+'по 0,4'!E200 -> 63 | F191: ='по 6-10'!F203+'по 0,4'!F200 -> 4 | G191: ='по 6-10'!G203+'по 0,4'!G200 -> 63 | H191: ='по 6-10'!H203+'по 0,4'!H200 -> 0 | I191: ='по 6-10'!I203+'по 0,4'!I200 -> 0 | J191: ='по 6-10'!J203+'по 0,4'!J200 -> 0 | K191: ='по 6-10'!K203+'по 0,4'!K200 -> 0 | ... Q191: ='по 6-10'!Q203+'по 0,4'!Q200 -> 0
C192: ГГЭС | D192: ='по 6-10'!D204+'по 0,4'!D201 -> 0 | E192: ='по 6-10'!E204+'по 0,4'!E201 -> 0 | F192: ='по 6-10'!F204+'по 0,4'!F201 -> 0 | G192: ='по 6-10'!G204+'по 0,4'!G201 -> 0 | H192: ='по 6-10'!H204+'по 0,4'!H201 -> 0 | I192: ='по 6-10'!I204+'по 0,4'!I201 -> 0 | J192: ='по 6-10'!J204+'по 0,4'!J201 -> 0 | K192: ='по 6-10'!K204+'по 0,4'!K201 -> 0 | ... Q192: ='по 6-10'!Q204+'по 0,4'!Q201 -> 0
C193: Карадах-110 | D193: ='по 6-10'!D205+'по 0,4'!D202 -> 2 | E193: ='по 6-10'!E205+'по 0,4'!E202 -> 18 | F193: ='по 6-10'!F205+'по 0,4'!F202 -> 2 | G193: ='по 6-10'!G205+'по 0,4'!G202 -> 18 | H193: ='по 6-10'!H205+'по 0,4'!H202 -> 0 | I193: ='по 6-10'!I205+'по 0,4'!I202 -> 0 | J193: ='по 6-10'!J205+'по 0,4'!J202 -> 0 | K193: ='по 6-10'!K205+'по 0,4'!K202 -> 0 | ... Q193: ='по 6-10'!Q205+'по 0,4'!Q202 -> 0
C194: Тлайлух-110 | D194: ='по 6-10'!D206+'по 0,4'!D203 -> 1 | E194: ='по 6-10'!E206+'по 0,4'!E203 -> 10 | F194: ='по 6-10'!F206+'по 0,4'!F203 -> 1 | G194: ='по 6-10'!G206+'по 0,4'!G203 -> 10 | H194: ='по 6-10'!H206+'по 0,4'!H203 -> 0 | I194: ='по 6-10'!I206+'по 0,4'!I203 -> 0 | J194: ='по 6-10'!J206+'по 0,4'!J203 -> 0 | K194: ='по 6-10'!K206+'по 0,4'!K203 -> 0 | ... Q194: ='по 6-10'!Q206+'по 0,4'!Q203 -> 0
C195: Леваши-110 | D195: ='по 6-10'!D207+'по 0,4'!D204 -> 37 | E195: ='по 6-10'!E207+'по 0,4'!E204 -> 965.5 | F195: ='по 6-10'!F207+'по 0,4'!F204 -> 37 | G195: ='по 6-10'!G207+'по 0,4'!G204 -> 965.5 | H195: ='по 6-10'!H207+'по 0,4'!H204 -> 0 | I195: ='по 6-10'!I207+'по 0,4'!I204 -> 0 | J195: ='по 6-10'!J207+'по 0,4'!J204 -> 0 | K195: ='по 6-10'!K207+'по 0,4'!K204 -> 0 | ... Q195: ='по 6-10'!Q207+'по 0,4'!Q204 -> 0
C196: Цудахар-110 | D196: ='по 6-10'!D208+'по 0,4'!D205 -> 3 | E196: ='по 6-10'!E208+'по 0,4'!E205 -> 21 | F196: ='по 6-10'!F208+'по 0,4'!F205 -> 3 | G196: ='по 6-10'!G208+'по 0,4'!G205 -> 21 | H196: ='по 6-10'!H208+'по 0,4'!H205 -> 0 | I196: ='по 6-10'!I208+'по 0,4'!I205 -> 0 | J196: ='по 6-10'!J208+'по 0,4'!J205 -> 0 | K196: ='по 6-10'!K208+'по 0,4'!K205 -> 0 | ... Q196: ='по 6-10'!Q208+'по 0,4'!Q205 -> 0
C197: Ташкапур-35 | D197: ='по 6-10'!D209+'по 0,4'!D206 -> 2 | E197: ='по 6-10'!E209+'по 0,4'!E206 -> 160 | F197: ='по 6-10'!F209+'по 0,4'!F206 -> 2 | G197: ='по 6-10'!G209+'по 0,4'!G206 -> 160 | H197: ='по 6-10'!H209+'по 0,4'!H206 -> 0 | I197: ='по 6-10'!I209+'по 0,4'!I206 -> 0 | J197: ='по 6-10'!J209+'по 0,4'!J206 -> 0 | K197: ='по 6-10'!K209+'по 0,4'!K206 -> 0 | ... Q197: ='по 6-10'!Q209+'по 0,4'!Q206 -> 0
C198: Хунзах-110 | D198: ='по 6-10'!D210+'по 0,4'!D207 -> 4 | E198: ='по 6-10'!E210+'по 0,4'!E207 -> 37 | F198: ='по 6-10'!F210+'по 0,4'!F207 -> 4 | G198: ='по 6-10'!G210+'по 0,4'!G207 -> 37 | H198: ='по 6-10'!H210+'по 0,4'!H207 -> 0 | I198: ='по 6-10'!I210+'по 0,4'!I207 -> 0 | J198: ='по 6-10'!J210+'по 0,4'!J207 -> 0 | K198: ='по 6-10'!K210+'по 0,4'!K207 -> 0 | ... Q198: ='по 6-10'!Q210+'по 0,4'!Q207 -> 0
C199: Тлох-110 | D199: ='по 6-10'!D211+'по 0,4'!D208 -> 4 | E199: ='по 6-10'!E211+'по 0,4'!E208 -> 106 | F199: ='по 6-10'!F211+'по 0,4'!F208 -> 4 | G199: ='по 6-10'!G211+'по 0,4'!G208 -> 106 | H199: ='по 6-10'!H211+'по 0,4'!H208 -> 0 | I199: ='по 6-10'!I211+'по 0,4'!I208 -> 0 | J199: ='по 6-10'!J211+'по 0,4'!J208 -> 0 | K199: ='по 6-10'!K211+'по 0,4'!K208 -> 0 | ... Q199: ='по 6-10'!Q211+'по 0,4'!Q208 -> 0
C200: Гуниб-110 | D200: ='по 6-10'!D212+'по 0,4'!D209 -> 4 | E200: ='по 6-10'!E212+'по 0,4'!E209 -> 20 | F200: ='по 6-10'!F212+'по 0,4'!F209 -> 4 | G200: ='по 6-10'!G212+'по 0,4'!G209 -> 20 | H200: ='по 6-10'!H212+'по 0,4'!H209 -> 0 | I200: ='по 6-10'!I212+'по 0,4'!I209 -> 0 | J200: ='по 6-10'!J212+'по 0,4'!J209 -> 0 | K200: ='по 6-10'!K212+'по 0,4'!K209 -> 0 | ... Q200: ='по 6-10'!Q212+'по 0,4'!Q209 -> 0
C201: Акуша | D201: ='по 6-10'!D213+'по 0,4'!D210 -> 4 | E201: ='по 6-10'!E213+'по 0,4'!E210 -> 30 | F201: ='по 6-10'!F213+'по 0,4'!F210 -> 4 | G201: ='по 6-10'!G213+'по 0,4'!G210 -> 30 | H201: ='по 6-10'!H213+'по 0,4'!H210 -> 0 | I201: ='по 6-10'!I213+'по 0,4'!I210 -> 0 | J201: ='по 6-10'!J213+'по 0,4'!J210 -> 0 | K201: ='по 6-10'!K213+'по 0,4'!K210 -> 0 | ... Q201: ='по 6-10'!Q213+'по 0,4'!Q210 -> 0
C202: Кумух-35 | D202: ='по 6-10'!D214+'по 0,4'!D211 -> 7 | E202: ='по 6-10'!E214+'по 0,4'!E211 -> 70.5 | F202: ='по 6-10'!F214+'по 0,4'!F211 -> 7 | G202: ='по 6-10'!G214+'по 0,4'!G211 -> 70.5 | H202: ='по 6-10'!H214+'по 0,4'!H211 -> 0 | I202: ='по 6-10'!I214+'по 0,4'!I211 -> 0 | J202: ='по 6-10'!J214+'по 0,4'!J211 -> 0 | K202: ='по 6-10'!K214+'по 0,4'!K211 -> 0 | ... Q202: ='по 6-10'!Q214+'по 0,4'!Q211 -> 0
... C229: Сагри | D229: ='по 6-10'!D241+'по 0,4'!D238 -> 5 | E229: ='по 6-10'!E241+'по 0,4'!E238 -> 68 | F229: ='по 6-10'!F241+'по 0,4'!F238 -> 5 | G229: ='по 6-10'!G241+'по 0,4'!G238 -> 68 | H229: ='по 6-10'!H241+'по 0,4'!H238 -> 0 | I229: ='по 6-10'!I241+'по 0,4'!I238 -> 0 | J229: ='по 6-10'!J241+'по 0,4'!J238 -> 0 | K229: ='по 6-10'!K241+'по 0,4'!K238 -> 0 | ... Q229: ='по 6-10'!Q241+'по 0,4'!Q238 -> 0
C230: итого: | D230: =SUM(D191:D229) -> 177 | E230: =SUM(E191:E229) -> 3435 | F230: =SUM(F191:F229) -> 174 | G230: =SUM(G191:G229) -> 2685 | H230: =SUM(H191:H229) -> 0 | I230: =SUM(I191:I229) -> 0 | J230: =SUM(J191:J229) -> 0 | K230: =SUM(K191:K229) -> 0 | ... Q230: =SUM(Q191:Q229) -> 0
C231: ВСЕГО: | D231: =SUM(D230+D189+D181+D171+D139+D89+D52) -> 874 | E231: =SUM(E230+E189+E181+E171+E139+E89+E52) -> 18548.04 | F231: =SUM(F230+F189+F181+F171+F139+F89+F52) -> 852 | G231: =SUM(G230+G189+G181+G171+G139+G89+G52) -> 14607.04 | H231: =SUM(H230+H189+H181+H171+H139+H89+H52) -> 0 | I231: =SUM(I230+I189+I181+I171+I139+I89+I52) -> 0 | J231: =SUM(J230+J189+J181+J171+J139+J89+J52) -> 0 | K231: =SUM(K230+K189+K181+K171+K139+K89+K52) -> 0 | ... Q231: =SUM(Q230+Q189+Q181+Q171+Q139+Q89+Q52) -> 0
A232: ИТОГО: | B232: Филиал | D232: =SUM(D231:D231) -> 874 | E232: =SUM(E231:E231) -> 18548.04 | F232: =SUM(F231:F231) -> 852 | G232: =SUM(G231:G231) -> 14607.04 | H232: =SUM(H231:H231) -> 0 | I232: =SUM(I231:I231) -> 0 | J232: =SUM(J231:J231) -> 0 | K232: =SUM(K231:K231) -> 0 | ... Q232: =SUM(Q231:Q231) -> 0
B234: * в ОАО "Дагэнергосеть" аннулированных заявок 0 шт. на 0 кВт.

Sheet по 6-10
M1: Приложение № 28
M2: к Положению о технологическом присоединении
M3: энергетических установок к электрическим сетям
M4: ОАО «МРСК Северного Кавказа», управляемых
M5: Обществ
B14: Информация о технологическом присоединении энергопринимающих устройств к сетям ОАО Дагэнергосеть филиалом ОАО "МРСК Северного Кавказа" за май 2015г.
A19: Наименование организации, осуществляющей технологическое присоединение | B19: Наименование субъекта РФ | C19: Наименование центра питания (ПС 35 кВ и выше) | D19: Количество поданных заявок на технологическое присоединение, на общую мощность энергопринимающих устройств, кВт | F19: Заключено договоров на технологическое присоединение, включающие технические условия на общую мощность энергопринимающих устройств, кВт | H19: Расторгнуто договоров на технологическое присоединение, включающие технические условия на общую мощность энергопринимающих устройств, кВт | J19: Суммарная мощность энегргопринимающих устройств, присоединенных к электрическим сетям в соответствии с договором на технологическое присоединение за отчетный период, кВт | L19: Заключено договоров на технологическое присоединение, включающие технические условия на общую мощность генерирущих установок, МВт | N19: Расторгнуто договоров на технологическое присоединение, включающие технические условия на общую мощность генерирущих установок, МВт | P19: Суммарная мощность генерирущих установок, присоединенных к электрическим сетям в соответствии с договором на технологическое присоединение за отчетный период, МВт
A20: 1 | B20: 2 | C20: 3 | D20: 4 | F20: 5 | H20: 6 | J20: 7 | L20: 8 | N20: 9 | P20: 10
D21: шт | E21: кВт | F21: шт | G21: кВт | H21: шт | I21: кВт | J21: шт | K21: кВт | L21: шт | M21: МВт | N21: шт | O21: МВт | P21: шт | Q21: МВт
A22: Кабардино- Балкарсикй филиал ОАО "МРСК Северного Кавказа" | B22: Республика Дагестан | C22: ЦЕНТРАЛЬНЫЕ СЕТИ
C23: ПС ГПП
C24: ПС Новая
C25: ПС ЦПП
C26: ПС М-110
C27: ПС Очистные соор.
C28: ПС Ю-Восточная
C29: ПС Приморская | D29: 3 | E29: 409 | F29: 2 | G29: 5
C30: ПС Насосная -1 | D30: 4 | E30: =710+80 -> 790 | F30: 4 | G30: 790
C31: ПС Радиоцентр
C32: ПС Изберг- Сев. | D32: 4 | E32: =210+140+120+90 -> 560 | F32: 4 | G32: 560
C33: ПС Изберг- Южн. | D33: 4 | E33: =90+150+10 -> 250 | F33: 2 | G33: 20
C34: ПС Карабуд-т | D34: 2 | E34: 114 | F34: 2 | G34: 114
C35: ПС Рассвет | D35: 4 | E35: =250+160+60+25 -> 495 | F35: 2 | G35: 85
C36: ПС Шамхал | D36: 6 | E36: =600+60+5+120 -> 785 | F36: 5 | G36: 665
C37: ПС Сергокала | D37: 1 | E37: 15 | F37: 1 | G37: 15
C38: ПС Алмало | D38: 4 | E38: 80 | F38: 4 | G38: 80
C39: ПС Буйнакск -1 | D39: 2 | E39: 400 | F39: 2 | G39: 400
C40: ПС Буйнакск -2 | D40: 3 | E40: =20+15 -> 35 | F40: 3 | G40: =20+15 -> 35
C41: ПС Казанище | D41: 4 | E41: 42 | F41: 4 | G41: 42
C42: ПС Согратль | D42: 1 | E42: 15 | F42: 1 | G42: 15
C43: ПС Дженгутай | D43: 11 | E43: 305 | F43: 11 | G43: 305
C44: ПС Такалай
C45: ПС Параул | D45: 2 | E45: 65 | F45: 2 | G45: 65
C46: ПС Восточная
C47: ПС Приозерная
C48: ПС Солнце | D48: 3 | E48: 445 | F48: 1 | G48: 15
C49: ПС Компас
C50: ПС Сулак
C51: ПС НИИСХА | D51: 4 | E51: =88+400 -> 488 | F51: 4 | G51: 488
C52: ПС Тепл. Комбинат
C53: ПС Насосная - 2
C54: ПС Ленинкент | D54: 1 | E54: 260 | F54: 1 | G54: 260
C55: ПС Дурмаз
C56: ПС Эрпели
C57: ПС Гурбуки
C58: ПС Халимбекаул
C59: ПС Мулебки
C60: ПС Н. Чиркей | D60: 1 | E60: 15 | F60: 1 | G60: 15
C61: ПС КПФ
C62: ПС Аграханская
C63: ПС ЗТМ | D63: 1 | E63: 100
C64: итого: | D64: =SUM(D23:D63) -> 65 | E64: =SUM(E23:E63) -> 5668 | F64: =SUM(F23:F63) -> 56 | G64: =SUM(G23:G63) -> 3974 | H64: =SUM(H23:H63) -> 0 | I64: =SUM(I23:I63) -> 0 | J64: =SUM(J23:J63) -> 0 | K64: =SUM(K23:K63) -> 0 | ... Q64: =SUM(Q23:Q63) -> 0
C65: СЕВЕРНЫЕ СЕТИ | H65: 0
C66: Ярыксу | D66: 3 | E66: =18+520 -> 538 | F66: 2 | G66: 18
C67: Акташ | D67: 1 | E67: 90 | F67: 1 | G67: 90
C68: Куруш
C69: Сулевкент
C70: Бабаюрт | D70: 1 | E70: 100 | F70: 1 | G70: 100
C71: Чиркей ГПП | D71: 2 | E71: 400 | F71: 2 | G71: 400
C72: Дылым
C73: Миатлы | D73: 1 | E73: 14 | F73: 1 | G73: 14
C74: Сулак
C75: Львовская | D75: 1 | E75: 8 | F75: 1 | G75: 8
C76: Дагестан | D76: 1 | E76: 10 | F76: 1 | G76: 10
C77: Аксай | D77: 2 | E77: 155 | F77: 1 | G77: 80
C78: Чагаротар | D78: 2 | E78: 23 | F78: 2 | G78: 23
C79: Гертма
C80: Татаюрт | D80: 3 | E80: 45 | F80: 3 | G80: 45
C81: Тамазатюбе
C82: Туршунай | D82: 1 | E82: 10
C83: Хамам-юрт
C84: Костек | D84: 3 | E84: 235 | F84: 1 | G84: 15
C85: Новокули | D85: 3 | E85: 33 | F85: 3 | G85: 33
C86: Акбула-Тюрт
C87: Янгильбай
C88: Шава
C89: Новая коса
C90: Караузбек
C91: Свердлова
C92: Димитрова | D92: 2 | E92: 262 | F92: 1 | G92: 12
C93: Казиюрт
C94: Аликазган
C95: Д Консер.з-д
C96: Сивух
C97: Андрейаул
C98: Дружба
C99: Дубки | D99: 1 | E99: 10 | F99: 1 | G99: 10
C100: Карланюрт -(Тяговая) | H100: 0
C101: итого: | D101: =SUM(D66:D100) -> 27 | E101: =SUM(E66:E100) -> 1933 | F101: =SUM(F66:F100) -> 21 | G101: =SUM(G66:G100) -> 858 | H101: =SUM(H66:H100) -> 0 | I101: =SUM(I66:I100) -> 0 | J101: =SUM(J66:J100) -> 0 | K101: =SUM(K66:K100) -> 0 | ... Q101: =SUM(Q66:Q100) -> 0
C102: ДЕРБЕНТСКИЕ СЕТИ | H102: 0
C103: Дербент-330 | D103: 9 | E103: =270+60 -> 330 | F103: 6 | G103: =73+60 -> 133
C104: Дербент-С | D104: 2 | E104: 57 | F104: 2 | G104: 57
C105: Мамедкала | D105: 4 | E105: 19.1 | F105: 4 | G105: 19.1
C106: Каякент | D106: 1 | E106: 15 | F106: 1 | G106: 15
C107: Белиджи | D107: 1 | E107: 180 | F107: 1 | G107: 180
C108: Касумкент | D108: 3 | E108: =35+36.54 -> 71.54 | F108: 3 | G108: 71.54
C109: Советская | D109: 2 | E109: 20 | F109: 2 | G109: 20
C110: Магарамкент | D110: 16 | E110: 267.3 | F110: 16 | G110: 267.3
C111: Тагиркент | D111: 1 | E111: 50 | F111: 1 | G111: 50
C112: Ахты | D112: 1 | E112: 12 | F112: 1 | G112: 12
...

Sheet по 0,4
M1: Приложение № 28
M2: к Положению о технологическом присоединении
M3: энергетических установок к электрическим сетям
M4: ОАО «МРСК Северного Кавказа», управляемых
M5: Обществ
B14: Информация о технологическом присоединении энергопринимающих устройств к сетям ОАО Дагэнергосеть филиалом ОАО "МРСК Северного Кавказа" за май 2015г.
A16: Наименование организации, осуществляющей технологическое присоединение | B16: Наименование субъекта РФ | C16: Наименование центра питания (ПС 35 кВ и выше) | D16: Количество поданных заявок на технологическое присоединение, на общую мощность энергопринимающих устройств, кВт | F16: Заключено договоров на технологическое присоединение, включающие технические условия на общую мощность энергопринимающих устройств, кВт | H16: Расторгнуто договоров на технологическое присоединение, включающие технические условия на общую мощность энергопринимающих устройств, кВт | J16: Суммарная мощность энегргопринимающих устройств, присоединенных к электрическим сетям в соответствии с договором на технологическое присоединение за отчетный период, кВт | L16: Заключено договоров на технологическое присоединение, включающие технические условия на общую мощность генерирущих установок, МВт | N16: Расторгнуто договоров на технологическое присоединение, включающие технические условия на общую мощность генерирущих установок, МВт | P16: Суммарная мощность генерирущих установок, присоединенных к электрическим сетям в соответствии с договором на технологическое присоединение за отчетный период, МВт
A17: 1 | B17: 2 | C17: 3 | D17: 4 | F17: 5 | H17: 6 | J17: 7 | L17: 8 | N17: 9 | P17: 10
D18: шт | E18: кВт | F18: шт | G18: кВт | H18: шт | I18: кВт | J18: шт | K18: кВт | L18: шт | M18: МВт | N18: шт | O18: МВт | P18: шт | Q18: МВт
A19: Кабардино- Балкарсикй филиал ОАО "МРСК Северного Кавказа" | B19: Республика Дагестан | C19: ЦЕНТРАЛЬНЫЕ СЕТИ
C20: ПС ГПП
C21: ПС Новая
C22: ПС ЦПП
C23: ПС М-110
C24: ПС Очистные соор.
C25: ПС Ю-Восточная
C26: ПС Приморская
C27: ПС Насосная -1 | D27: 1 | E27: 2 | F27: 1 | G27: 2
C28: ПС Радиоцентр | D28: 3 | E28: 22 | F28: 3 | G28: 22
C29: ПС Изберг- Сев. | D29: 15 | E29: =84+34 -> 118 | F29: 15 | G29: 118
C30: ПС Изберг- Южн. | D30: 5 | E30: 42 | F30: 5 | G30: 42
C31: ПС Карабуд-т | D31: 4 | E31: 37 | F31: 4 | G31: 37
C32: ПС Рассвет | D32: 1 | E32: 15 | F32: 1 | G32: 15
C33: ПС Шамхал | D33: 38 | E33: =149+17.5+22+20+9+13+24 -> 254.5 | F33: 38 | G33: 254.5
C34: ПС Сергокала | D34: 12 | E34: 58 | F34: 12 | G34: 58
C35: ПС Алмало | D35: 6 | E35: 36 | F35: 6 | G35: 36
C36: ПС Буйнакск -1 | D36: 16 | E36: 98 | F36: 16 | G36: 98
C37: ПС Буйнакск -2 | D37: 2 | E37: 11 | F37: 2 | G37: 11
C38: ПС Казанище | D38: 22 | E38: 202 | F38: 22 | G38: 202
C39: ПС Согратль | D39: 1 | E39: 10 | F39: 1 | G39: 10
C40: ПС Дженгутай | D40: 7 | E40: 60 | F40: 7 | G40: 60
C41: ПС Такалай | D41: 2 | E41: 20 | F41: 2 | G41: 20
C42: ПС Параул
C43: ПС Восточная
C44: ПС Приозерная
C45: ПС Солнце | D45: 9 | E45: 103 | F45: 9 | G45: 103
C46: ПС Компас | D46: 2 | E46: 20 | F46: 2 | G46: 20
C47: ПС Сулак | D47: 1 | E47: 15 | F47: 1 | G47: 15
C48: ПС НИИСХА
C49: ПС Тепл. Комбинат
C50: ПС Насосная - 2
C51: ПС Ленинкент | D51: 1 | E51: 20 | F51: 1 | G51: 20
C52: ПС Дурмаз | D52: 1 | E52: 5 | F52: 1 | G52: 5
C53: ПС Эрпели
C54: ПС Гурбуки | D54: 3 | E54: 23 | F54: 3 | G54: 23
C55: ПС Халимбекаул | D55: 10 | E55: 69 | F55: 10 | G55: 69
C56: ПС Мулебки | D56: 3 | E56: 24 | F56: 3 | G56: 24
C57: ПС Н. Чиркей | D57: 2 | E57: 20 | F57: 2 | G57: 20
C58: ПС КПФ
C59: ПС Аграханская | D59: 1 | E59: 7 | F59: 1 | G59: 7
C60: ПС ЗТМ
C61: итого: | D61: =SUM(D20:D60) -> 168 | E61: =SUM(E20:E60) -> 1291.5 | F61: =SUM(F20:F60) -> 168 | G61: =SUM(G20:G60) -> 1291.5 | I61: =SUM(I20:I60) -> 0 | J61: =SUM(J20:J60) -> 0 | K61: =SUM(K20:K60) -> 0 | L61: =SUM(L20:L60) -> 0 | M61: =SUM(M20:M60) -> 0 | N61: =SUM(N20:N60) -> 0 | O61: =SUM(O20:O60) -> 0 | P61: =SUM(P20:P60) -> 0 | Q61: =SUM(Q20:Q60) -> 0
C62: СЕВЕРНЫЕ СЕТИ
C63: Ярыксу | D63: 38 | E63: 418 | F63: 38 | G63: 418
C64: Акташ | D64: 23 | E64: =243+25+15+64+20+10+15 -> 392 | F64: 23 | G64: 392
C65: Куруш | D65: 3 | E65: 30 | F65: 3 | G65: 30
C66: Сулевкент
C67: Бабаюрт
C68: Чиркей ГПП
C69: Дылым | D69: 4 | E69: 28 | F69: 4 | G69: 28
C70: Миатлы
C71: Сулак
C72: Львовская | D72: 2 | E72: 20 | F72: 2 | G72: 20
C73: Дагестан
C74: Аксай | D74: 2 | E74: 24 | F74: 2 | G74: 24
C75: Чагаротар
C76: Гертма
C77: Татаюрт | D77: 4 | E77: 43.5 | F77: 4 | G77: 43.5
C78: Тамазатюбе
C79: Туршунай
C80: Хамам-юрт | D80: 1 | E80: 5 | F80: 1 | G80: 5
C81: Костек
C82: Новокули | D82: 3 | E82: 32 | F82: 3 | G82: 32
C83: Акбула-Тюрт
C84: Янгильбай | D84: 1 | E84: 5 | F84: 1 | G84: 5
C85: Шава | D85: 2 | E85: 11 | F85: 2 | G85: 11
C86: Новая коса
C87: Караузбек
C88: Свердлова
C89: Димитрова | D89: 7 | E89: 60 | F89: 7 | G89: 60
C90: Казиюрт | D90: 2 | E90: 10 | F90: 2 | G90: 10
C91: Аликазган
C92: Д Консер.з-д
C93: Сивух
C94: Андрейаул
C95: Дружба | D95: 2 | E95: 10 | F95: 2 | G95: 10
C96: Дубки
C97: Карланюрт -(Тяговая)
C98: итого: | D98: =SUM(D63:D97) -> 94 | E98: =SUM(E63:E97) -> 1088.5 | F98: =SUM(F63:F97) -> 94 | G98: =SUM(G63:G97) -> 1088.5 | I98: =SUM(I63:I97) -> 0 | J98: =SUM(J63:J97) -> 0 | K98: =SUM(K63:K97) -> 0 | L98: =SUM(L63:L97) -> 0 | M98: =SUM(M63:M97) -> 0 | N98: =SUM(N63:N97) -> 0 | O98: =SUM(O63:O97) -> 0 | P98: =SUM(P63:P97) -> 0 | Q98: =SUM(Q63:Q97) -> 0
C99: ДЕРБЕНТСКИЕ СЕТИ
C100: Дербент-330 | D100: 13 | E100: 278 | F100: 13 | G100: 278
C101: Дербент-С | D101: 17 | E101: =92+13.5+10+28 -> 143.5 | F101: 17 | G101: 143.5
C102: Мамедкала | D102: 2 | E102: 15.1 | F102: 2 | G102: 15.1
C103: Каякент | D103: 9 | E103: =47.5+35 -> 82.5 | F103: 9 | G103: 82.5
C104: Белиджи | D104: 10 | E104: 117 | F104: 10 | G104: 117
C105: Касумкент | D105: 5 | E105: 37 | F105: 5 | G105: 37
C106: Советская | D106: 5 | E106: 22 | F106: 5 | G106: 22
C107: Магарамкент | D107: 2 | E107: 10 | F107: 2 | G107: 10
C108: Тагиркент | D108: 6 | E108: 42.5 | F108: 6 | G108: 42.5
C109: Ахты | D109: 2 | E109: 7 | F109: 2 | G109: 7
...

Sheet Лист2

Sheet Лист3

Sheet Лист4

Sheet Лист5
A1: исполненные | B1: дек | C1: ноя | D1: окт | E1: сент | F1: авг | G1: июл | H1: июн | I1: май | J1: апр | K1: март | L1: фев
B2: квт 6-10
A3: 0.4 | B3: 1810.5 | C3: 1725 | D3: 1737 | E3: 2135.3 | F3: 1101.5 | G3: 1362.5 | H3: 1234 | I3: 1118.7 | J3: 825 | K3: 772 | L3: 399.5 | M3: 16105 | N3: =M3-#REF! -> #REF!
B4: квт 6-10
A5: 2577.8 | B5: 2577.8 | C5: 6097 | D5: 231 | E5: 6532 | F5: 356 | G5: 65 | H5: 1155.7 | I5: 279.5 | J5: 74 | K5: 56 | L5: 338
A7: итого | B7: =B5+B3 -> 4388.3 | C7: =C5+C3 -> 7822 | D7: =D5+D3 -> 1968 | E7: =E5+E3 -> 8667.3 | F7: =F5+F3 -> 1457.5 | G7: =G5+G3 -> 1427.5 | H7: =H5+H3 -> 2389.7 | I7: =I5+I3 -> 1398.2 | ... L7: =L5+L3 -> 737.5 | M7: 34006 | N7: =M7-#REF! -> #REF!
B9: 360 | C9: 260 | D9: 272 | E9: 370 | F9: 164 | G9: 242 | H9: 197 | I9: 198 | J9: 155 | K9: 93 | L9: 82
A11: 6-10. | B11: 70 | C11: 65 | D11: 15 | E11: 97 | F11: 12 | G11: 6 | H11: 26 | I11: 22 | J11: 7 | K11: 6 | L11: 4
A12: 0.4 | B12: =B9-B11 -> 290 | C12: =C9-C11 -> 195 | D12: =D9-D11 -> 257 | E12: =E9-E11 -> 273 | F12: =F9-F11 -> 152 | G12: =G9-G11 -> 236 | H12: =H9-H11 -> 171 | I12: =I9-I11 -> 176 | ... L12: =L9-L11 -> 78
L15: крайновка | M15: 1500
L16: шамхал | M16: 700
L17: махачкала | M17: 2000
