Workbook

Sheet Лист1

Sheet Ноябрь 2013г
M1: Приложение № 28
M2: к Положению о технологическом присоединении
M3: энергетических установок к электрическим сетям
M4: ОАО «МРСК Северного Кавказа», управляемых
M5: Обществ
B14: Информация о технологическом присоединении энергопринимающих устройств к сетям КБ филиалом ОАО "МРСК Северного Кавказа" за Ноябрь 2013г.
A19: Наименование организации, осуществляющей технологическое присоединение | B19: Наименование субъекта РФ | C19: Наименование центра питания (ПС 35 кВ и выше) | D19: Количество поданных заявок на технологическое присоединение, на общую мощность энергопринимающих устройств, кВт | F19: Заключено договоров на технологическое присоединение, включающие технические условия на общую мощность энергопринимающих устройств, кВт | H19: Расторгнуто договоров на технологическое присоединение, включающие технические условия на общую мощность энергопринимающих устройств, кВт | J19: Суммарная мощность энегргопринимающих устройств, присоединенных к электрическим сетям в соответствии с договором на технологическое присоединение за отчетный период, кВт | L19: Заключено договоров на технологическое присоединение, включающие технические условия на общую мощность генерирущих установок, МВт | N19: Расторгнуто договоров на технологическое присоединение, включающие технические условия на общую мощность генерирущих установок, МВт | P19: Суммарная мощность генерирущих установок, присоединенных к электрическим сетям в соответствии с договором на технологическое присоединение за отчетный период, МВт
A20: 1 | B20: 2 | C20: 3 | D20: 4 | F20: 5 | H20: 6 | J20: 7 | L20: 8 | N20: 9 | P20: 10
D21: шт | E21: кВт | F21: шт | G21: кВт | H21: шт | I21: кВт | J21: шт | K21: кВт | L21: шт | M21: МВт | N21: шт | O21: МВт | P21: шт | Q21: МВт
A22: Кабардино- Балкарсикй филиал ОАО "МРСК Северного Кавказа" | B22: Кабардино- Балкарская Республика | C22: Нальчикская группа ПС
C23: ПС «Нальчик» | D23: ='по 6-10'!D23+'по 0,4'!D20 -> 0 | E23: ='по 6-10'!E23+'по 0,4'!E20 -> 0 | F23: ='по 6-10'!F23+'по 0,4'!F20 -> 0 | G23: ='по 6-10'!G23+'по 0,4'!G20 -> 0 | H23: 2 | I23: 11.2 | J23: ='по 6-10'!J23+'по 0,4'!J20 -> 0 | K23: ='по 6-10'!K23+'по 0,4'!K20 -> 0 | L23: 0 | M23: 0 | N23: 0 | O23: 0 | P23: 0 | Q23: 0
C24: ПС «Телемеханика-1» | D24: ='по 6-10'!D24+'по 0,4'!D21 -> 0 | E24: ='по 6-10'!E24+'по 0,4'!E21 -> 0 | F24: ='по 6-10'!F24+'по 0,4'!F21 -> 0 | G24: ='по 6-10'!G24+'по 0,4'!G21 -> 0 | H24: 0 | I24: 0 | J24: ='по 6-10'!J24+'по 0,4'!J21 -> 0 | K24: ='по 6-10'!K24+'по 0,4'!K21 -> 0 | L24: 0 | M24: 0 | N24: 0 | O24: 0 | P24: 0 | Q24: 0
C25: ПС «Искож» | D25: ='по 6-10'!D25+'по 0,4'!D22 -> 0 | E25: ='по 6-10'!E25+'по 0,4'!E22 -> 0 | F25: ='по 6-10'!F25+'по 0,4'!F22 -> 0 | G25: ='по 6-10'!G25+'по 0,4'!G22 -> 0 | H25: 0 | I25: 0 | J25: ='по 6-10'!J25+'по 0,4'!J22 -> 0 | K25: ='по 6-10'!K25+'по 0,4'!K22 -> 0 | L25: 0 | M25: 0 | N25: 0 | O25: 0 | P25: 0 | Q25: 0
C26: ПС «СКЭП-Н» | D26: ='по 6-10'!D26+'по 0,4'!D23 -> 0 | E26: ='по 6-10'!E26+'по 0,4'!E23 -> 0 | F26: ='по 6-10'!F26+'по 0,4'!F23 -> 0 | G26: ='по 6-10'!G26+'по 0,4'!G23 -> 0 | H26: 0 | I26: 0 | J26: ='по 6-10'!J26+'по 0,4'!J23 -> 0 | K26: ='по 6-10'!K26+'по 0,4'!K23 -> 0 | L26: 0 | M26: 0 | N26: 0 | O26: 0 | P26: 0 | Q26: 0
C27: ПС «Долинск» | D27: ='по 6-10'!D27+'по 0,4'!D24 -> 0 | E27: ='по 6-10'!E27+'по 0,4'!E24 -> 0 | F27: ='по 6-10'!F27+'по 0,4'!F24 -> 0 | G27: ='по 6-10'!G27+'по 0,4'!G24 -> 0 | H27: 0 | I27: 0 | J27: ='по 6-10'!J27+'по 0,4'!J24 -> 0 | K27: ='по 6-10'!K27+'по 0,4'!K24 -> 0 | L27: 0 | M27: 0 | N27: 0 | O27: 0 | P27: 0 | Q27: 0
C28: ПС «Дубки» | D28: ='по 6-10'!D28+'по 0,4'!D25 -> 0 | E28: ='по 6-10'!E28+'по 0,4'!E25 -> 0 | F28: ='по 6-10'!F28+'по 0,4'!F25 -> 0 | G28: ='по 6-10'!G28+'по 0,4'!G25 -> 0 | H28: 0 | I28: 0 | J28: ='по 6-10'!J28+'по 0,4'!J25 -> 0 | K28: ='по 6-10'!K28+'по 0,4'!K25 -> 0 | L28: 0 | M28: 0 | N28: 0 | O28: 0 | P28: 0 | Q28: 0
C29: ПС «Птицефабрика» | D29: ='по 6-10'!D29+'по 0,4'!D26 -> 3 | E29: ='по 6-10'!E29+'по 0,4'!E26 -> 409 | F29: ='по 6-10'!F29+'по 0,4'!F26 -> 2 | G29: ='по 6-10'!G29+'по 0,4'!G26 -> 5 | H29: 1 | I29: 300 | J29: ='по 6-10'!J29+'по 0,4'!J26 -> 0 | K29: ='по 6-10'!K29+'по 0,4'!K26 -> 0 | L29: 0 | M29: 0 | N29: 0 | O29: 0 | P29: 0 | Q29: 0
C30: итого: | D30: =D23+D24+D25+D26+D27+D28+D29 -> 3 | E30: =E23+E24+E25+E26+E27+E28+E29 -> 409 | F30: =F23+F24+F25+F26+F27+F28+F29 -> 2 | G30: =G23+G24+G25+G26+G27+G28+G29 -> 5 | H30: =H23+H24+H25+H26+H27+H28+H29 -> 3 | I30: =I23+I24+I25+I26+I27+I28+I29 -> 311.2 | J30: =J23+J24+J25+J26+J27+J28+J29 -> 0 | K30: =K23+K24+K25+K26+K27+K28+K29 -> 0 | ... Q30: =Q23+Q24+Q25+Q26+Q27+Q28+Q29 -> 0
C31: Малкинская группа ПС
C32: ПС «Малка» | D32: ='по 6-10'!D32+'по 0,4'!D29 -> 19 | E32: ='по 6-10'!E32+'по 0,4'!E29 -> 678 | F32: ='по 6-10'!F32+'по 0,4'!F29 -> 19 | G32: ='по 6-10'!G32+'по 0,4'!G29 -> 678 | H32: 0 | I32: 0 | J32: ='по 6-10'!J32+'по 0,4'!J29 -> 0 | K32: ='по 6-10'!K32+'по 0,4'!K29 -> 0 | L32: 0 | M32: 0 | N32: 0 | O32: 0 | P32: 0 | Q32: 0
C33: ПС «Каменномостская» | D33: ='по 6-10'!D33+'по 0,4'!D30 -> 9 | E33: ='по 6-10'!E33+'по 0,4'!E30 -> 292 | F33: ='по 6-10'!F33+'по 0,4'!F30 -> 7 | G33: ='по 6-10'!G33+'по 0,4'!G30 -> 62 | H33: 0 | I33: 0 | J33: ='по 6-10'!J33+'по 0,4'!J30 -> 0 | K33: ='по 6-10'!K33+'по 0,4'!K30 -> 0 | L33: 0 | M33: 0 | N33: 0 | O33: 0 | P33: 0 | Q33: 0
C34: ПС «Залукокоаже» | D34: ='по 6-10'!D34+'по 0,4'!D31 -> 6 | E34: ='по 6-10'!E34+'по 0,4'!E31 -> 151 | F34: ='по 6-10'!F34+'по 0,4'!F31 -> 6 | G34: ='по 6-10'!G34+'по 0,4'!G31 -> 151 | H34: 0 | I34: 0 | J34: ='по 6-10'!J34+'по 0,4'!J31 -> 0 | K34: ='по 6-10'!K34+'по 0,4'!K31 -> 0 | L34: 0 | M34: 0 | N34: 0 | O34: 0 | P34: 0 | Q34: 0
C35: ПС «Залукодес» | D35: ='по 6-10'!D35+'по 0,4'!D32 -> 5 | E35: ='по 6-10'!E35+'по 0,4'!E32 -> 510 | F35: ='по 6-10'!F35+'по 0,4'!F32 -> 3 | G35: ='по 6-10'!G35+'по 0,4'!G32 -> 100 | H35: 0 | I35: 0 | J35: ='по 6-10'!J35+'по 0,4'!J32 -> 0 | K35: ='по 6-10'!K35+'по 0,4'!K32 -> 0 | L35: 0 | M35: 0 | N35: 0 | O35: 0 | P35: 0 | Q35: 0
C36: ПС «Сармаково» | D36: ='по 6-10'!D36+'по 0,4'!D33 -> 44 | E36: ='по 6-10'!E36+'по 0,4'!E33 -> 1039.5 | F36: ='по 6-10'!F36+'по 0,4'!F33 -> 43 | G36: ='по 6-10'!G36+'по 0,4'!G33 -> 919.5 | H36: 0 | I36: 0 | J36: ='по 6-10'!J36+'по 0,4'!J33 -> 0 | K36: ='по 6-10'!K36+'по 0,4'!K33 -> 0 | L36: 0 | M36: 0 | N36: 0 | O36: 0 | P36: 0 | Q36: 0
C37: ПС «Аурсентх» | D37: ='по 6-10'!D37+'по 0,4'!D34 -> 13 | E37: ='по 6-10'!E37+'по 0,4'!E34 -> 73 | F37: ='по 6-10'!F37+'по 0,4'!F34 -> 13 | G37: ='по 6-10'!G37+'по 0,4'!G34 -> 73 | H37: 0 | I37: 0 | J37: ='по 6-10'!J37+'по 0,4'!J34 -> 0 | K37: ='по 6-10'!K37+'по 0,4'!K34 -> 0 | L37: 0 | M37: 0 | N37: 0 | O37: 0 | P37: 0 | Q37: 0
C38: итого: | D38: =D32+D33+D34+D35+D36+D37 -> 96 | E38: =E32+E33+E34+E35+E36+E37 -> 2743.5 | F38: =F32+F33+F34+F35+F36+F37 -> 91 | G38: =G32+G33+G34+G35+G36+G37 -> 1983.5 | H38: =H32+H33+H34+H35+H36+H37 -> 0 | I38: =I32+I33+I34+I35+I36+I37 -> 0 | J38: =J32+J33+J34+J35+J36+J37 -> 0 | K38: =K32+K33+K34+K35+K36+K37 -> 0 | ... Q38: =Q32+Q33+Q34+Q35+Q36+Q37 -> 0
C39: Эльбрусская группа ПС
C40: ПС «ЦРУ» | D40: ='по 6-10'!D40+'по 0,4'!D37 -> 5 | E40: ='по 6-10'!E40+'по 0,4'!E37 -> 46 | F40: ='по 6-10'!F40+'по 0,4'!F37 -> 5 | G40: ='по 6-10'!G40+'по 0,4'!G37 -> 46 | H40: 0 | I40: 0 | J40: ='по 6-10'!J40+'по 0,4'!J37 -> 0 | K40: ='по 6-10'!K40+'по 0,4'!K37 -> 0 | L40: 0 | M40: 0 | N40: 0 | O40: 0 | P40: 0 | Q40: 0
C41: ПС «Адыл-Су» | D41: ='по 6-10'!D41+'по 0,4'!D38 -> 26 | E41: ='по 6-10'!E41+'по 0,4'!E38 -> 244 | F41: ='по 6-10'!F41+'по 0,4'!F38 -> 26 | G41: ='по 6-10'!G41+'по 0,4'!G38 -> 244 | H41: 0 | I41: 0 | J41: ='по 6-10'!J41+'по 0,4'!J38 -> 0 | K41: ='по 6-10'!K41+'по 0,4'!K38 -> 0 | L41: 0 | M41: 0 | N41: 0 | O41: 0 | P41: 0 | Q41: 0
C42: ПС «Нейтрино» | D42: ='по 6-10'!D42+'по 0,4'!D39 -> 2 | E42: ='по 6-10'!E42+'по 0,4'!E39 -> 25 | F42: ='по 6-10'!F42+'по 0,4'!F39 -> 2 | G42: ='по 6-10'!G42+'по 0,4'!G39 -> 25 | H42: 0 | I42: 0 | J42: ='по 6-10'!J42+'по 0,4'!J39 -> 0 | K42: ='по 6-10'!K42+'по 0,4'!K39 -> 0 | L42: 0 | M42: 0 | N42: 0 | O42: 0 | P42: 0 | Q42: 0
C43: ПС «Чегет» | D43: ='по 6-10'!D43+'по 0,4'!D40 -> 18 | E43: ='по 6-10'!E43+'по 0,4'!E40 -> 365 | F43: ='по 6-10'!F43+'по 0,4'!F40 -> 18 | G43: ='по 6-10'!G43+'по 0,4'!G40 -> 365 | H43: 0 | I43: 0 | J43: ='по 6-10'!J43+'по 0,4'!J40 -> 0 | K43: ='по 6-10'!K43+'по 0,4'!K40 -> 0 | L43: 0 | M43: 0 | N43: 0 | O43: 0 | P43: 0 | Q43: 0
C44: ПС «Терскол» | D44: ='по 6-10'!D44+'по 0,4'!D41 -> 2 | E44: ='по 6-10'!E44+'по 0,4'!E41 -> 20 | F44: ='по 6-10'!F44+'по 0,4'!F41 -> 2 | G44: ='по 6-10'!G44+'по 0,4'!G41 -> 20 | H44: 0 | I44: 0 | J44: ='по 6-10'!J44+'по 0,4'!J41 -> 0 | K44: ='по 6-10'!K44+'по 0,4'!K41 -> 0 | L44: 0 | M44: 0 | N44: 0 | O44: 0 | P44: 0 | Q44: 0
C45: ПС «Джайлык» | D45: ='по 6-10'!D45+'по 0,4'!D42 -> 2 | E45: ='по 6-10'!E45+'по 0,4'!E42 -> 65 | F45: ='по 6-10'!F45+'по 0,4'!F42 -> 2 | G45: ='по 6-10'!G45+'по 0,4'!G42 -> 65 | H45: 0 | I45: 0 | J45: ='по 6-10'!J45+'по 0,4'!J42 -> 0 | K45: ='по 6-10'!K45+'по 0,4'!K42 -> 0 | L45: 0 | M45: 0 | N45: 0 | O45: 0 | P45: 0 | Q45: 0
C46: ПС «Соц. городок» | D46: ='по 6-10'!D46+'по 0,4'!D43 -> 0 | E46: ='по 6-10'!E46+'по 0,4'!E43 -> 0 | F46: ='по 6-10'!F46+'по 0,4'!F43 -> 0 | G46: ='по 6-10'!G46+'по 0,4'!G43 -> 0 | H46: 0 | I46: 0 | J46: ='по 6-10'!J46+'по 0,4'!J43 -> 0 | K46: ='по 6-10'!K46+'по 0,4'!K43 -> 0 | L46: 0 | M46: 0 | N46: 0 | O46: 0 | P46: 0 | Q46: 0
C47: ПС «Чалмас» | D47: ='по 6-10'!D47+'по 0,4'!D44 -> 0 | E47: ='по 6-10'!E47+'по 0,4'!E44 -> 0 | F47: ='по 6-10'!F47+'по 0,4'!F44 -> 0 | G47: ='по 6-10'!G47+'по 0,4'!G44 -> 0 | H47: 0 | I47: 0 | J47: ='по 6-10'!J47+'по 0,4'!J44 -> 0 | K47: ='по 6-10'!K47+'по 0,4'!K44 -> 0 | L47: 0 | M47: 0 | N47: 0 | O47: 0 | P47: 0 | Q47: 0
C48: ПС «РМЗ» | D48: ='по 6-10'!D48+'по 0,4'!D45 -> 12 | E48: ='по 6-10'!E48+'по 0,4'!E45 -> 548 | F48: ='по 6-10'!F48+'по 0,4'!F45 -> 10 | G48: ='по 6-10'!G48+'по 0,4'!G45 -> 118 | H48: 0 | I48: 0 | J48: ='по 6-10'!J48+'по 0,4'!J45 -> 0 | K48: ='по 6-10'!K48+'по 0,4'!K45 -> 0 | L48: 0 | M48: 0 | N48: 0 | O48: 0 | P48: 0 | Q48: 0
C49: РП «Водогрейная» | D49: ='по 6-10'!D49+'по 0,4'!D46 -> 2 | E49: ='по 6-10'!E49+'по 0,4'!E46 -> 20 | F49: ='по 6-10'!F49+'по 0,4'!F46 -> 2 | G49: ='по 6-10'!G49+'по 0,4'!G46 -> 20 | H49: 0 | I49: 0 | J49: ='по 6-10'!J49+'по 0,4'!J46 -> 0 | K49: ='по 6-10'!K49+'по 0,4'!K46 -> 0 | L49: 0 | M49: 0 | N49: 0 | O49: 0 | P49: 0 | Q49: 0
C50: ПС «Былым» | D50: ='по 6-10'!D50+'по 0,4'!D47 -> 1 | E50: ='по 6-10'!E50+'по 0,4'!E47 -> 15 | F50: ='по 6-10'!F50+'по 0,4'!F47 -> 1 | G50: ='по 6-10'!G50+'по 0,4'!G47 -> 15 | H50: 0 | I50: 0 | J50: ='по 6-10'!J50+'по 0,4'!J47 -> 0 | K50: ='по 6-10'!K50+'по 0,4'!K47 -> 0 | L50: 0 | M50: 0 | N50: 0 | O50: 0 | P50: 0 | Q50: 0
C51: ПС "Гунделен" | D51: ='по 6-10'!D51+'по 0,4'!D48 -> 4 | E51: ='по 6-10'!E51+'по 0,4'!E48 -> 488 | F51: ='по 6-10'!F51+'по 0,4'!F48 -> 4 | G51: ='по 6-10'!G51+'по 0,4'!G48 -> 488 | H51: 0 | I51: 0 | J51: ='по 6-10'!J51+'по 0,4'!J48 -> 0 | K51: ='по 6-10'!K51+'по 0,4'!K48 -> 0 | L51: 0 | M51: 0 | N51: 0 | O51: 0 | P51: 0 | Q51: 0
C52: итого: | D52: =D40+D41+D42+D43+D44+D45+D46+D47+D48+D49+D50+D51 -> 74 | E52: =E40+E41+E42+E43+E44+E45+E46+E47+E48+E49+E50+E51 -> 1836 | F52: =F40+F41+F42+F43+F44+F45+F46+F47+F48+F49+F50+F51 -> 72 | G52: =G40+G41+G42+G43+G44+G45+G46+G47+G48+G49+G50+G51 -> 1406 | H52: =H40+H41+H42+H43+H44+H45+H46+H47+H48+H49+H50+H51 -> 0 | I52: =I40+I41+I42+I43+I44+I45+I46+I47+I48+I49+I50+I51 -> 0 | J52: =J40+J41+J42+J43+J44+J45+J46+J47+J48+J49+J50+J51 -> 0 | K52: =K40+K41+K42+K43+K44+K45+K46+K47+K48+K49+K50+K51 -> 0 | ... Q52: =Q40+Q41+Q42+Q43+Q44+Q45+Q46+Q47+Q48+Q49+Q50+Q51 -> 0
...

Sheet май 2015г
B2: Информация о технологическом присоединении энергопринимающих устройств к сетям ОАО Дагэнергосеть филиалом ОАО "МРСК Северного Кавказа" за май 2015г.
A7: Наименование организации, осуществляющей технологическое присоединение | B7: Наименование субъекта РФ | C7: Наименование центра питания (ПС 35 кВ и выше) | D7: Количество поданных заявок на технологическое присоединение, на общую мощность энергопринимающих устройств, кВт | F7: Заключено договоров на технологическое присоединение, включающие технические условия на общую мощность энергопринимающих устройств, кВт | H7: Расторгнуто договоров на технологическое присоединение, включающие технические условия на общую мощность энергопринимающих устройств, кВт | J7: Суммарная мощность энегргопринимающих устройств, присоединенных к электрическим сетям в соответствии с договором на технологическое присоединение за отчетный период, кВт | L7: Заключено договоров на технологическое присоединение, включающие технические условия на общую мощность генерирущих установок, МВт | N7: Расторгнуто договоров на технологическое присоединение, включающие технические условия на общую мощность генерирущих установок, МВт | P7: Суммарная мощность генерирущих установок, присоединенных к электрическим сетям в соответствии с договором на технологическое присоединение за отчетный период, МВт
A8: 1 | B8: 2 | C8: 3 | D8: 4 | F8: 5 | H8: 6 | J8: 7 | L8: 8 | N8: 9 | P8: 10
D9: шт | E9: кВт | F9: шт | G9: кВт | H9: шт | I9: кВт | J9: шт | K9: кВт | L9: шт | M9: МВт | N9: шт | O9: МВт | P9: шт | Q9: МВт
A10: Кабардино- Балкарсикй филиал ОАО "МРСК Северного Кавказа" | B10: Республика Дагестан | C10: ЦЕНТРАЛЬНЫЕ СЕТИ
C11: ПС ГПП | D11: ='по 6-10'!D23+'по 0,4'!D20 -> 0 | E11: ='по 6-10'!E23+'по 0,4'!E20 -> 0 | F11: ='по 6-10'!F23+'по 0,4'!F20 -> 0 | G11: ='по 6-10'!G23+'по 0,4'!G20 -> 0 | H11: ='по 6-10'!H23+'по 0,4'!H20 -> 0 | I11: ='по 6-10'!I23+'по 0,4'!I20 -> 0 | J11: ='по 6-10'!J23+'по 0,4'!J20 -> 0 | K11: ='по 6-10'!K23+'по 0,4'!K20 -> 0 | ... Q11: ='по 6-10'!Q23+'по 0,4'!Q20 -> 0
C12: ПС Новая | D12: ='по 6-10'!D24+'по 0,4'!D21 -> 0 | E12: ='по 6-10'!E24+'по 0,4'!E21 -> 0 | F12: ='по 6-10'!F24+'по 0,4'!F21 -> 0 | G12: ='по 6-10'!G24+'по 0,4'!G21 -> 0 | H12: ='по 6-10'!H24+'по 0,4'!H21 -> 0 | I12: ='по 6-10'!I24+'по 0,4'!I21 -> 0 | J12: ='по 6-10'!J24+'по 0,4'!J21 -> 0 | K12: ='по 6-10'!K24+'по 0,4'!K21 -> 0 | ... Q12: ='по 6-10'!Q24+'по 0,4'!Q21 -> 0
C13: ПС ЦПП | D13: ='по 6-10'!D25+'по 0,4'!D22 -> 0 | E13: ='по 6-10'!E25+'по 0,4'!E22 -> 0 | F13: ='по 6-10'!F25+'по 0,4'!F22 -> 0 | G13: ='по 6-10'!G25+'по 0,4'!G22 -> 0 | H13: ='по 6-10'!H25+'по 0,4'!H22 -> 0 | I13: ='по 6-10'!I25+'по 0,4'!I22 -> 0 | J13: ='по 6-10'!J25+'по 0,4'!J22 -> 0 | K13: ='по 6-10'!K25+'по 0,4'!K22 -> 0 | ... Q13: ='по 6-10'!Q25+'по 0,4'!Q22 -> 0
C14: ПС М-110 | D14: ='по 6-10'!D26+'по 0,4'!D23 -> 0 | E14: ='по 6-10'!E26+'по 0,4'!E23 -> 0 | F14: ='по 6-10'!F26+'по 0,4'!F23 -> 0 | G14: ='по 6-10'!G26+'по 0,4'!G23 -> 0 | H14: ='по 6-10'!H26+'по 0,4'!H23 -> 0 | I14: ='по 6-10'!I26+'по 0,4'!I23 -> 0 | J14: ='по 6-10'!J26+'по 0,4'!J23 -> 0 | K14: ='по 6-10'!K26+'по 0,4'!K23 -> 0 | ... Q14: ='по 6-10'!Q26+'по 0,4'!Q23 -> 0
C15: ПС Очистные соор. | D15: ='по 6-10'!D27+'по 0,4'!D24 -> 0 | E15: ='по 6-10'!E27+'по 0,4'!E24 -> 0 | F15: ='по 6-10'!F27+'по 0,4'!F24 -> 0 | G15: ='по 6-10'!G27+'по 0,4'!G24 -> 0 | H15: ='по 6-10'!H27+'по 0,4'!H24 -> 0 | I15: ='по 6-10'!I27+'по 0,4'!I24 -> 0 | J15: ='по 6-10'!J27+'по 0,4'!J24 -> 0 | K15: ='по 6-10'!K27+'по 0,4'!K24 -> 0 | ... Q15: ='по 6-10'!Q27+'по 0,4'!Q24 -> 0
C16: ПС Ю-Восточная | D16: ='по 6-10'!D28+'по 0,4'!D25 -> 0 | E16: ='по 6-10'!E28+'по 0,4'!E25 -> 0 | F16: ='по 6-10'!F28+'по 0,4'!F25 -> 0 | G16: ='по 6-10'!G28+'по 0,4'!G25 -> 0 | H16: ='по 6-10'!H28+'по 0,4'!H25 -> 0 | I16: ='по 6-10'!I28+'по 0,4'!I25 -> 0 | J16: ='по 6-10'!J28+'по 0,4'!J25 -> 0 | K16: ='по 6-10'!K28+'по 0,4'!K25 -> 0 | ... Q16: ='по 6-10'!Q28+'по 0,4'!Q25 -> 0
C17: ПС Приморская | D17: ='по 6-10'!D29+'по 0,4'!D26 -> 3 | E17: ='по 6-10'!E29+'по 0,4'!E26 -> 409 | F17: ='по 6-10'!F29+'по 0,4'!F26 -> 2 | G17: ='по 6-10'!G29+'по 0,4'!G26 -> 5 | H17: ='по 6-10'!H29+'по 0,4'!H26 -> 0 | I17: ='по 6-10'!I29+'по 0,4'!I26 -> 0 | J17: ='по 6-10'!J29+'по 0,4'!J26 -> 0 | K17: ='по 6-10'!K29+'по 0,4'!K26 -> 0 | ... Q17: ='по 6-10'!Q29+'по 0,4'!Q26 -> 0
C18: ПС Насосная -1 | D18: ='по 6-10'!D30+'по 0,4'!D27 -> 5 | E18: ='по 6-10'!E30+'по 0,4'!E27 -> 792 | F18: ='по 6-10'!F30+'по 0,4'!F27 -> 5 | G18: ='по 6-10'!G30+'по 0,4'!G27 -> 792 | H18: ='по 6-10'!H30+'по 0,4'!H27 -> 0 | I18: ='по 6-10'!I30+'по 0,4'!I27 -> 0 | J18: ='по 6-10'!J30+'по 0,4'!J27 -> 0 | K18: ='по 6-10'!K30+'по 0,4'!K27 -> 0 | ... Q18: ='по 6-10'!Q30+'по 0,4'!Q27 -> 0
C19: ПС Радиоцентр | D19: ='по 6-10'!D31+'по 0,4'!D28 -> 3 | E19: ='по 6-10'!E31+'по 0,4'!E28 -> 22 | F19: ='по 6-10'!F31+'по 0,4'!F28 -> 3 | G19: ='по 6-10'!G31+'по 0,4'!G28 -> 22 | H19: ='по 6-10'!H31+'по 0,4'!H28 -> 0 | I19: ='по 6-10'!I31+'по 0,4'!I28 -> 0 | J19: ='по 6-10'!J31+'по 0,4'!J28 -> 0 | K19: ='по 6-10'!K31+'по 0,4'!K28 -> 0 | ... Q19: ='по 6-10'!Q31+'по 0,4'!Q28 -> 0
C20: ПС Изберг- Сев. | D20: ='по 6-10'!D32+'по 0,4'!D29 -> 19 | E20: ='по 6-10'!E32+'по 0,4'!E29 -> 678 | F20: ='по 6-10'!F32+'по 0,4'!F29 -> 19 | G20: ='по 6-10'!G32+'по 0,4'!G29 -> 678 | H20: ='по 6-10'!H32+'по 0,4'!H29 -> 0 | I20: ='по 6-10'!I32+'по 0,4'!I29 -> 0 | J20: ='по 6-10'!J32+'по 0,4'!J29 -> 0 | K20: ='по 6-10'!K32+'по 0,4'!K29 -> 0 | ... Q20: ='по 6-10'!Q32+'по 0,4'!Q29 -> 0
C21: ПС Изберг- Южн. | D21: ='по 6-10'!D33+'по 0,4'!D30 -> 9 | E21: ='по 6-10'!E33+'по 0,4'!E30 -> 292 | F21: ='по 6-10'!F33+'по 0,4'!F30 -> 7 | G21: ='по 6-10'!G33+'по 0,4'!G30 -> 62 | H21: ='по 6-10'!H33+'по 0,4'!H30 -> 0 | I21: ='по 6-10'!I33+'по 0,4'!I30 -> 0 | J21: ='по 6-10'!J33+'по 0,4'!J30 -> 0 | K21: ='по 6-10'!K33+'по 0,4'!K30 -> 0 | ... Q21: ='по 6-10'!Q33+'по 0,4'!Q30 -> 0
C22: ПС Карабуд-т | D22: ='по 6-10'!D34+'по 0,4'!D31 -> 6 | E22: ='по 6-10'!E34+'по 0,4'!E31 -> 151 | F22: ='по 6-10'!F34+'по 0,4'!F31 -> 6 | G22: ='по 6-10'!G34+'по 0,4'!G31 -> 151 | H22: ='по 6-10'!H34+'по 0,4'!H31 -> 0 | I22: ='по 6-10'!I34+'по 0,4'!I31 -> 0 | J22: ='по 6-10'!J34+'по 0,4'!J31 -> 0 | K22: ='по 6-10'!K34+'по 0,4'!K31 -> 0 | ... Q22: ='по 6-10'!Q34+'по 0,4'!Q31 -> 0
... C51: ПС ЗТМ | D51: ='по 6-10'!D63+'по 0,4'!D60 -> 1 | E51: ='по 6-10'!E63+'по 0,4'!E60 -> 100 | F51: ='по 6-10'!F63+'по 0,4'!F60 -> 0 | G51: ='по 6-10'!G63+'по 0,4'!G60 -> 0 | H51: ='по 6-10'!H63+'по 0,4'!H60 -> 0 | I51: ='по 6-10'!I63+'по 0,4'!I60 -> 0 | J51: ='по 6-10'!J63+'по 0,4'!J60 -> 0 | K51: ='по 6-10'!K63+'по 0,4'!K60 -> 0 | ... Q51: ='по 6-10'!Q63+'по 0,4'!Q60 -> 0
C52: итого: | D52: =SUM(D11:D51) -> 233 | E52: =SUM(E11:E51) -> 6959.5 | F52: =SUM(F11:F51) -> 224 | G52: =SUM(G11:G51) -> 5265.5 | H52: =SUM(H11:H51) -> 0 | I52: =SUM(I11:I51) -> 0 | J52: =SUM(J11:J51) -> 0 | K52: =SUM(K11:K51) -> 0 | ... Q52: =SUM(Q11:Q51) -> 0
C53: СЕВЕРНЫЕ СЕТИ
C54: Ярыксу | D54: ='по 6-10'!D66+'по 0,4'!D63 -> 41 | E54: ='по 6-10'!E66+'по 0,4'!E63 -> 956 | F54: ='по 6-10'!F66+'по 0,4'!F63 -> 40 | G54: ='по 6-10'!G66+'по 0,4'!G63 -> 436 | H54: ='по 6-10'!H66+'по 0,4'!H63 -> 0 | I54: ='по 6-10'!I66+'по 0,4'!I63 -> 0 | J54: ='по 6-10'!J66+'по 0,4'!J63 -> 0 | K54: ='по 6-10'!K66+'по 0,4'!K63 -> 0 | ... Q54: ='по 6-10'!Q66+'по 0,4'!Q63 -> 0
C55: Акташ | D55: ='по 6-10'!D67+'по 0,4'!D64 -> 24 | E55: ='по 6-10'!E67+'по 0,4'!E64 -> 482 | F55: ='по 6-10'!F67+'по 0,4'!F64 -> 24 | G55: ='по 6-10'!G67+'по 0,4'!G64 -> 482 | H55: ='по 6-10'!H67+'по 0,4'!H64 -> 0 | I55: ='по 6-10'!I67+'по 0,4'!I64 -> 0 | J55: ='по 6-10'!J67+'по 0,4'!J64 -> 0 | K55: ='по 6-10'!K67+'по 0,4'!K64 -> 0 | ... Q55: ='по 6-10'!Q67+'по 0,4'!Q64 -> 0
C56: Куруш | D56: ='по 6-10'!D68+'по 0,4'!D65 -> 3 | E56: ='по 6-10'!E68+'по 0,4'!E65 -> 30 | F56: ='по 6-10'!F68+'по 0,4'!F65 -> 3 | G56: ='по 6-10'!G68+'по 0,4'!G65 -> 30 | H56: ='по 6-10'!H68+'по 0,4'!H65 -> 0 | I56: ='по 6-10'!I68+'по 0,4'!I65 -> 0 | J56: ='по 6-10'!J68+'по 0,4'!J65 -> 0 | K56: ='по 6-10'!K68+'по 0,4'!K65 -> 0 | ... Q56: ='по 6-10'!Q68+'по 0,4'!Q65 -> 0
C57: Сулевкент | D57: ='по 6-10'!D69+'по 0,4'!D66 -> 0 | E57: ='по 6-10'!E69+'по 0,4'!E66 -> 0 | F57: ='по 6-10'!F69+'по 0,4'!F66 -> 0 | G57: ='по 6-10'!G69+'по 0,4'!G66 -> 0 | H57: ='по 6-10'!H69+'по 0,4'!H66 -> 0 | I57: ='по 6-10'!I69+'по 0,4'!I66 -> 0 | J57: ='по 6-10'!J69+'по 0,4'!J66 -> 0 | K57: ='по 6-10'!K69+'по 0,4'!K66 -> 0 | ... Q57: ='по 6-10'!Q69+'по 0,4'!Q66 -> 0
C58: Бабаюрт | D58: ='по 6-10'!D70+'по 0,4'!D67 -> 1 | E58: ='по 6-10'!E70+'по 0,4'!E67 -> 100 | F58: ='по 6-10'!F70+'по 0,4'!F67 -> 1 | G58: ='по 6-10'!G70+'по 0,4'!G67 -> 100 | H58: ='по 6-10'!H70+'по 0,4'!H67 -> 0 | I58: ='по 6-10'!I70+'по 0,4'!I67 -> 0 | J58: ='по 6-10'!J70+'по 0,4'!J67 -> 0 | K58: ='по 6-10'!K70+'по 0,4'!K67 -> 0 | ... Q58: ='по 6-10'!Q70+'по 0,4'!Q67 -> 0
C59: Чиркей ГПП | D59: ='по 6-10'!D71+'по 0,4'!D68 -> 2 | E59: ='по 6-10'!E71+'по 0,4'!E68 -> 400 | F59: ='по 6-10'!F71+'по 0,4'!F68 -> 2 | G59: ='по 6-10'!G71+'по 0,4'!G68 -> 400 | H59: ='по 6-10'!H71+'по 0,4'!H68 -> 0 | I59: ='по 6-10'!I71+'по 0,4'!I68 -> 0 | J59: ='по 6-10'!J71+'по 0,4'!J68 -> 0 | K59: ='по 6-10'!K71+'по 0,4'!K68 -> 0 | ... Q59: ='по 6-10'!Q71+'по 0,4'!Q68 -> 0
C60: Дылым | D60: ='по 6-10'!D72+'по 0,4'!D69 -> 4 | E60: ='по 6-10'!E72+'по 0,4'!E69 -> 28 | F60: ='по 6-10'!F72+'по 0,4'!F69 -> 4 | G60: ='по 6-10'!G72+'по 0,4'!G69 -> 28 | H60: ='по 6-10'!H72+'по 0,4'!H69 -> 0 | I60: ='по 6-10'!I72+'по 0,4'!I69 -> 0 | J60: ='по 6-10'!J72+'по 0,4'!J69 -> 0 | K60: ='по 6-10'!K72+'по 0,4'!K69 -> 0 | ... Q60: ='по 6-10'!Q72+'по 0,4'!Q69 -> 0
C61: Миатлы | D61: ='по 6-10'!D73+'по 0,4'!D70 -> 1 | E61: ='по 6-10'!E73+'по 0,4'!E70 -> 14 | F61: ='по 6-10'!F73+'по 0,4'!F70 -> 1 | G61: ='по 6-10'!G73+'по 0,4'!G70 -> 14 | H61: ='по 6-10'!H73+'по 0,4'!H70 -> 0 | I61: ='по 6-10'!I73+'по 0,4'!I70 -> 0 | J61: ='по 6-10'!J73+'по 0,4'!J70 -> 0 | K61: ='по 6-10'!K73+'по 0,4'!K70 -> 0 | ... Q61: ='по 6-10'!Q73+'по 0,4'!Q70 -> 0
C62: Сулак | D62: ='по 6-10'!D74+'по 0,4'!D71 -> 0 | E62: ='по 6-10'!E74+'по 0,4'!E71 -> 0 | F62: ='по 6-10'!F74+'по 0,4'!F71 -> 0 | G62: ='по 6-10'!G74+'по 0,4'!G71 -> 0 | H62: ='по 6-10'!H74+'по 0,4'!H71 -> 0 | I62: ='по 6-10'!I74+'по 0,4'!I71 -> 0 | J62: ='по 6-10'!J74+'по 0,4'!J71 -> 0 | K62: ='по 6-10'!K74+'по 0,4'!K71 -> 0 | ... Q62: ='по 6-10'!Q74+'по 0,4'!Q71 -> 0
C63: Львовская | D63: ='по 6-10'!D75+'по 0,4'!D72 -> 3 | E63: ='по 6-10'!E75+'по 0,4'!E72 -> 28 | F63: ='по 6-10'!F75+'по 0,4'!F72 -> 3 | G63: ='по 6-10'!G75+'по 0,4'!G72 -> 28 | H63: ='по 6-10'!H75+'по 0,4'!H72 -> 0 | I63: ='по 6-10'!I75+'по 0,4'!I72 -> 0 | J63: ='по 6-10'!J75+'по 0,4'!J72 -> 0 | K63: ='по 6-10'!K75+'по 0,4'!K72 -> 0 | ... Q63: ='по 6-10'!Q75+'по 0,4'!Q72 -> 0
C64: Дагестан | D64: ='по 6-10'!D76+'по 0,4'!D73 -> 1 | E64: ='по 6-10'!E76+'по 0,4'!E73 -> 10 | F64: ='по 6-10'!F76+'по 0,4'!F73 -> 1 | G64: ='по 6-10'!G76+'по 0,4'!G73 -> 10 | H64: ='по 6-10'!H76+'по 0,4'!H73 -> 0 | I64: ='по 6-10'!I76+'по 0,4'!I73 -> 0 | J64: ='по 6-10'!J76+'по 0,4'!J73 -> 0 | K64: ='по 6-10'!K76+'по 0,4'!K73 -> 0 | ... Q64: ='по 6-10'!Q76+'по 0,4'!Q73 -> 0
C65: Аксай | D65: ='по 6-10'!D77+'по 0,4'!D74 -> 4 | E65: ='по 6-10'!E77+'по 0,4'!E74 -> 179 | F65: ='по 6-10'!F77+'по 0,4'!F74 -> 3 | G65: ='по 6-10'!G77+'по 0,4'!G74 -> 104 | H65: ='по 6-10'!H77+'по 0,4'!H74 -> 0 | I65: ='по 6-10'!I77+'по 0,4'!I74 -> 0 | J65: ='по 6-10'!J77+'по 0,4'!J74 -> 0 | K65: ='по 6-10'!K77+'по 0,4'!K74 -> 0 | ... Q65: ='по 6-10'!Q77+'по 0,4'!Q74 -> 0
... C88: Карланюрт -(Тяговая) | D88: ='по 6-10'!D100+'по 0,4'!D97 -> 0 | E88: ='по 6-10'!E100+'по 0,4'!E97 -> 0 | F88: ='по 6-10'!F100+'по 0,4'!F97 -> 0 | G88: ='по 6-10'!G100+'по 0,4'!G97 -> 0 | H88: ='по 6-10'!H100+'по 0,4'!H97 -> 0 | I88: ='по 6-10'!I100+'по 0,4'!I97 -> 0 | J88: ='по 6-10'!J100+'по 0,4'!J97 -> 0 | K88: ='по 6-10'!K100+'по 0,4'!K97 -> 0 | ... Q88: ='по 6-10'!Q100+'по 0,4'!Q97 -> 0
C89: итого: | D89: =SUM(D54:D88) -> 121 | E89: =SUM(E54:E88) -> 3021.5 | F89: =SUM(F54:F88) -> 115 | G89: =SUM(G54:G88) -> 1946.5 | H89: =SUM(H54:H88) -> 0 | I89: =SUM(I54:I88) -> 0 | J89: =SUM(J54:J88) -> 0 | K89: =SUM(K54:K88) -> 0 | ... Q89: =SUM(Q54:Q88) -> 0
C90: ДЕРБЕНТСКИЕ СЕТИ
C91: Дербент-330 | D91: ='по 6-10'!D103+'по 0,4'!D100 -> 22 | E91: ='по 6-10'!E103+'по 0,4'!E100 -> 608 | F91: ='по 6-10'!F103+'по 0,4'!F100 -> 19 | G91: ='по 6-10'!G103+'по 0,4'!G100 -> 411 | H91: ='по 6-10'!H103+'по 0,4'!H100 -> 0 | I91: ='по 6-10'!I103+'по 0,4'!I100 -> 0 | J91: ='по 6-10'!J103+'по 0,4'!J100 -> 0 | K91: ='по 6-10'!K103+'по 0,4'!K100 -> 0 | ... Q91: ='по 6-10'!Q103+'по 0,4'!Q100 -> 0
C92: Дербент-С | D92: ='по 6-10'!D104+'по 0,4'!D101 -> 19 | E92: ='по 6-10'!E104+'по 0,4'!E101 -> 200.5 | F92: ='по 6-10'!F104+'по 0,4'!F101 -> 19 | G92: ='по 6-10'!G104+'по 0,4'!G101 -> 200.5 | H92: ='по 6-10'!H104+'по 0,4'!H101 -> 0 | I92: ='по 6-10'!I104+'по 0,4'!I101 -> 0 | J92: ='по 6-10'!J104+'по 0,4'!J101 -> 0 | K92: ='по 6-10'!K104+'по 0,4'!K101 -> 0 | ... Q92: ='по 6-10'!Q104+'по 0,4'!Q101 -> 0
C93: Мамедкала | D93: ='по 6-10'!D105+'по 0,4'!D102 -> 6 | E93: ='по 6-10'!E105+'по 0,4'!E102 -> 34.2 | F93: ='по 6-10'!F105+'по 0,4'!F102 -> 6 | G93: ='по 6-10'!G105+'по 0,4'!G102 -> 34.2 | H93: ='по 6-10'!H105+'по 0,4'!H102 -> 0 | I93: ='по 6-10'!I105+'по 0,4'!I102 -> 0 | J93: ='по 6-10'!J105+'по 0,4'!J102 -> 0 | K93: ='по 6-10'!K105+'по 0,4'!K102 -> 0 | ... Q93: ='по 6-10'!Q105+'по 0,4'!Q102 -> 0
C94: Каякент | D94: ='по 6-10'!D106+'по 0,4'!D103 -> 10 | E94: ='по 6-10'!E106+'по 0,4'!E103 -> 97.5 | F94: ='по 6-10'!F106+'по 0,4'!F103 -> 10 | G94: ='по 6-10'!G106+'по 0,4'!G103 -> 97.5 | H94: ='по 6-10'!H106+'по 0,4'!H103 -> 0 | I94: ='по 6-10'!I106+'по 0,4'!I103 -> 0 | J94: ='по 6-10'!J106+'по 0,4'!J103 -> 0 | K94: ='по 6-10'!K106+'по 0,4'!K103 -> 0 | ... Q94: ='по 6-10'!Q106+'по 0,4'!Q103 -> 0
C95: Белиджи | D95: ='по 6-10'!D107+'по 0,4'!D104 -> 11 | E95: ='по 6-10'!E107+'по 0,4'!E104 -> 297 | F95: ='по 6-10'!F107+'по 0,4'!F104 -> 11 | G95: ='по 6-10'!G107+'по 0,4'!G104 -> 297 | H95: ='по 6-10'!H107+'по 0,4'!H104 -> 0 | I95: ='по 6-10'!I107+'по 0,4'!I104 -> 0 | J95: ='по 6-10'!J107+'по 0,4'!J104 -> 0 | K95: ='по 6-10'!K107+'по 0,4'!K104 -> 0 | ... Q95: ='по 6-10'!Q107+'по 0,4'!Q104 -> 0
...

Sheet по 6-10
M1: Приложение № 28
M2: к Положению о технологическом присоединении
M3: энергетических установок к электрическим сетям
M4: ОАО «МРСК Северного Кавказа», управляемых
M5: Обществ
B14: Информация о технологическом присоединении энергопринимающих устройств к сетям ОАО Дагэнергосеть филиалом ОАО "МРСК Северного Кавказа" за май 2015г.
A19: Наименование организации, осуществляющей технологическое присоединение | B19: Наименование субъекта РФ | C19: Наименование центра питания (ПС 35 кВ и выше) | D19: Количество поданных заявок на технологическое присоединение, на общую мощность энергопринимающих устройств, кВт | F19: Заключено договоров на технологическое присоединение, включающие технические условия на общую мощность энергопринимающих устройств, кВт | H19: Расторгнуто договоров на технологическое присоединение, включающие технические условия на общую мощность энергопринимающих устройств, кВт | J19: Суммарная мощность энегргопринимающих устройств, присоединенных к электрическим сетям в соответствии с договором на технологическое присоединение за отчетный период, кВт | L19: Заключено договоров на технологическое присоединение, включающие технические условия на общую мощность генерирущих установок, МВт | N19: Расторгнуто договоров на технологическое присоединение, включающие технические условия на общую мощность генерирущих установок, МВт | P19: Суммарная мощность генерирущих установок, присоединенных к электрическим сетям в соответствии с договором на технологическое присоединение за отчетный период, МВт
A20: 1 | B20: 2 | C20: 3 | D20: 4 | F20: 5 | H20: 6 | J20: 7 | L20: 8 | N20: 9 | P20: 10
D21: шт | E21: кВт | F21: шт | G21: кВт | H21: шт | I21: кВт | J21: шт | K21: кВт | L21: шт | M21: МВт | N21: шт | O21: МВт | P21: шт | Q21: МВт
A22: Кабардино- Балкарсикй филиал ОАО "МРСК Северного Кавказа" | B22: Республика Дагестан | C22: ЦЕНТРАЛЬНЫЕ СЕТИ
C23: ПС ГПП
C24: ПС Новая
C25: ПС ЦПП
C26: ПС М-110
C27: ПС Очистные соор.
C28: ПС Ю-Восточная
C29: ПС Приморская | D29: 3 | E29: 409 | F29: 2 | G29: 5
C30: ПС Насосная -1 | D30: 4 | E30: =710+80 -> 790 | F30: 4 | G30: 790
C31: ПС Радиоцентр
C32: ПС Изберг- Сев. | D32: 4 | E32: =210+140+120+90 -> 560 | F32: 4 | G32: 560
C33: ПС Изберг- Южн. | D33: 4 | E33: =90+150+10 -> 250 | F33: 2 | G33: 20
C34: ПС Карабуд-т | D34: 2 | E34: 114 | F34: 2 | G34: 114
C35: ПС Рассвет | D35: 4 | E35: =250+160+60+25 -> 495 | F35: 2 | G35: 85
C36: ПС Шамхал | D36: 6 | E36: =600+60+5+120 -> 785 | F36: 5 | G36: 665
C37: ПС Сергокала | D37: 1 | E37: 15 | F37: 1 | G37: 15
C38: ПС Алмало | D38: 4 | E38: 80 | F38: 4 | G38: 80
C39: ПС Буйнакск -1 | D39: 2 | E39: 400 | F39: 2 | G39: 400
C40: ПС Буйнакск -2 | D40: 3 | E40: =20+15 -> 35 | F40: 3 | G40: =20+15 -> 35
C41: ПС Казанище | D41: 4 | E41: 42 | F41: 4 | G41: 42
C42: ПС Согратль | D42: 1 | E42: 15 | F42: 1 | G42: 15
C43: ПС Дженгутай | D43: 11 | E43: 305 | F43: 11 | G43: 305
C44: ПС Такалай
C45: ПС Параул | D45: 2 | E45: 65 | F45: 2 | G45: 65
C46: ПС Восточная
C47: ПС Приозерная
C48: ПС Солнце | D48: 3 | E48: 445 | F48: 1 | G48: 15
C49: ПС Компас
C50: ПС Сулак
C51: ПС НИИСХА | D51: 4 | E51: =88+400 -> 488 | F51: 4 | G51: 488
C52: ПС Тепл. Комбинат
...

Sheet по 0,4
M1: Приложение № 28
M2: к Положению о технологическом присоединении
M3: энергетических установок к электрическим сетям
M4: ОАО «МРСК Северного Кавказа», управляемых
M5: Обществ
B14: Информация о технологическом присоединении энергопринимающих устройств к сетям ОАО Дагэнергосеть филиалом ОАО "МРСК Северного Кавказа" за май 2015г.
A16: Наименование организации, осуществляющей технологическое присоединение | B16: Наименование субъекта РФ | C16: Наименование центра питания (ПС 35 кВ и выше) | D16: Количество поданных заявок на технологическое присоединение, на общую мощность энергопринимающих устройств, кВт | F16: Заключено договоров на технологическое присоединение, включающие технические условия на общую мощность энергопринимающих устройств, кВт | H16: Расторгнуто договоров на технологическое присоединение, включающие технические условия на общую мощность энергопринимающих устройств, кВт | J16: Суммарная мощность энегргопринимающих устройств, присоединенных к электрическим сетям в соответствии с договором на технологическое присоединение за отчетный период, кВт | L16: Заключено договоров на технологическое присоединение, включающие технические условия на общую мощность генерирущих установок, МВт | N16: Расторгнуто договоров на технологическое присоединение, включающие технические условия на общую мощность генерирущих установок, МВт | P16: Суммарная мощность генерирущих установок, присоединенных к электрическим сетям в соответствии с договором на технологическое присоединение за отчетный период, МВт
A17: 1 | B17: 2 | C17: 3 | D17: 4 | F17: 5 | H17: 6 | J17: 7 | L17: 8 | N17: 9 | P17: 10
D18: шт | E18: кВт | F18: шт | G18: кВт | H18: шт | I18: кВт | J18: шт | K18: кВт | L18: шт | M18: МВт | N18: шт | O18: МВт | P18: шт | Q18: МВт
A19: Кабардино- Балкарсикй филиал ОАО "МРСК Северного Кавказа" | B19: Республика Дагестан | C19: ЦЕНТРАЛЬНЫЕ СЕТИ
C20: ПС ГПП
C21: ПС Новая
C22: ПС ЦПП
C23: ПС М-110
C24: ПС Очистные соор.
C25: ПС Ю-Восточная
C26: ПС Приморская
C27: ПС Насосная -1 | D27: 1 | E27: 2 | F27: 1 | G27: 2
C28: ПС Радиоцентр | D28: 3 | E28: 22 | F28: 3 | G28: 22
C29: ПС Изберг- Сев. | D29: 15 | E29: =84+34 -> 118 | F29: 15 | G29: 118
C30: ПС Изберг- Южн. | D30: 5 | E30: 42 | F30: 5 | G30: 42
C31: ПС Карабуд-т | D31: 4 | E31: 37 | F31: 4 | G31: 37
C32: ПС Рассвет | D32: 1 | E32: 15 | F32: 1 | G32: 15
C33: ПС Шамхал | D33: 38 | E33: =149+17.5+22+20+9+13+24 -> 254.5 | F33: 38 | G33: 254.5
C34: ПС Сергокала | D34: 12 | E34: 58 | F34: 12 | G34: 58
C35: ПС Алмало | D35: 6 | E35: 36 | F35: 6 | G35: 36
C36: ПС Буйнакск -1 | D36: 16 | E36: 98 | F36: 16 | G36: 98
C37: ПС Буйнакск -2 | D37: 2 | E37: 11 | F37: 2 | G37: 11
C38: ПС Казанище | D38: 22 | E38: 202 | F38: 22 | G38: 202
C39: ПС Согратль | D39: 1 | E39: 10 | F39: 1 | G39: 10
C40: ПС Дженгутай | D40: 7 | E40: 60 | F40: 7 | G40: 60
C41: ПС Такалай | D41: 2 | E41: 20 | F41: 2 | G41: 20
C42: ПС Параул
C43: ПС Восточная
C44: ПС Приозерная
C45: ПС Солнце | D45: 9 | E45: 103 | F45: 9 | G45: 103
C46: ПС Компас | D46: 2 | E46: 20 | F46: 2 | G46: 20
C47: ПС Сулак | D47: 1 | E47: 15 | F47: 1 | G47: 15
C48: ПС НИИСХА
C49: ПС Тепл. Комбинат
...

Sheet Лист2

Sheet Лист3

Sheet Лист4

Sheet Лист5
A1: исполненные | B1: дек | C1: ноя | D1: окт | E1: сент | F1: авг | G1: июл | H1: июн | I1: май | J1: апр | K1: март | L1: фев
B2: квт 6-10
A3: 0.4 | B3: 1810.5 | C3: 1725 | D3: 1737 | E3: 2135.3 | F3: 1101.5 | G3: 1362.5 | H3: 1234 | I3: 1118.7 | J3: 825 | K3: 772 | L3: 399.5 | M3: 16105 | N3: =M3-#REF! -> #REF!
B4: квт 6-10
A5: 2577.8 | B5: 2577.8 | C5: 6097 | D5: 231 | E5: 6532 | F5: 356 | G5: 65 | H5: 1155.7 | I5: 279.5 | J5: 74 | K5: 56 | L5: 338
A7: итого | B7: =B5+B3 -> 4388.3 | C7: =C5+C3 -> 7822 | D7: =D5+D3 -> 1968 | E7: =E5+E3 -> 8667.3 | F7: =F5+F3 -> 1457.5 | G7: =G5+G3 -> 1427.5 | H7: =H5+H3 -> 2389.7 | I7: =I5+I3 -> 1398.2 | ... L7: =L5+L3 -> 737.5 | M7: 34006 | N7: =M7-#REF! -> #REF!
B9: 360 | C9: 260 | D9: 272 | E9: 370 | F9: 164 | G9: 242 | H9: 197 | I9: 198 | J9: 155 | K9: 93 | L9: 82
A11: 6-10. | B11: 70 | C11: 65 | D11: 15 | E11: 97 | F11: 12 | G11: 6 | H11: 26 | I11: 22 | J11: 7 | K11: 6 | L11: 4
A12: 0.4 | B12: =B9-B11 -> 290 | C12: =C9-C11 -> 195 | D12: =D9-D11 -> 257 | E12: =E9-E11 -> 273 | F12: =F9-F11 -> 152 | G12: =G9-G11 -> 236 | H12: =H9-H11 -> 171 | I12: =I9-I11 -> 176 | ... L12: =L9-L11 -> 78
L15: крайновка | M15: 1500
L16: шамхал | M16: 700
L17: махачкала | M17: 2000
