Workbook

Sheet Лист1

Sheet Ноябрь 2013г
M1: Приложение № 28
M2: к Положению о технологическом присоединении
M3: энергетических установок к электрическим сетям
M4: ОАО «МРСК Северного Кавказа», управляемых
M5: Обществ
B14: Информация о технологическом присоединении энергопринимающих устройств к сетям КБ филиалом ОАО "МРСК Северного Кавказа" за Ноябрь 2013г.
A19: Наименование организации, осуществляющей технологическое присоединение | B19: Наименование субъекта РФ | C19: Наименование центра питания (ПС 35 кВ и выше) | D19: Количество поданных заявок на технологическое присоединение, на общую мощность энергопринимающих устройств, кВт | F19: Заключено договоров на технологическое присоединение, включающие технические условия на общую мощность энергопринимающих устройств, кВт | H19: Расторгнуто договоров на технологическое присоединение, включающие технические условия на общую мощность энергопринимающих устройств, кВт | J19: Суммарная мощность энегргопринимающих устройств, присоединенных к электрическим сетям в соответствии с договором на технологическое присоединение за отчетный период, кВт | L19: Заключено договоров на технологическое присоединение, включающие технические условия на общую мощность генерирущих установок, МВт | N19: Расторгнуто договоров на технологическое присоединение, включающие технические условия на общую мощность генерирущих установок, МВт | P19: Суммарная мощность генерирущих установок, присоединенных к электрическим сетям в соответствии с договором на технологическое присоединение за отчетный период, МВт
A20: 1 | B20: 2 | C20: 3 | D20: 4 | F20: 5 | H20: 6 | J20: 7 | L20: 8 | N20: 9 | P20: 10
D21: шт | E21: кВт | F21: шт | G21: кВт | H21: шт | I21: кВт | J21: шт | K21: кВт | L21: шт | M21: МВт | N21: шт | O21: МВт | P21: шт | Q21: МВт
A22: Кабардино- Балкарсикй филиал ОАО "МРСК Северного Кавказа" | B22: Кабардино- Балкарская Республика | C22: Нальчикская группа ПС
C23: ПС «Нальчик» | D23: ='декабрь 2014г. по 6-10'!D23+'декабрь 2014г. по 0,4'!D20 -> 0 | E23: ='декабрь 2014г. по 6-10'!E23+'декабрь 2014г. по 0,4'!E20 -> 0 | F23: ='декабрь 2014г. по 6-10'!F23+'декабрь 2014г. по 0,4'!F20 -> 0 | G23: ='декабрь 2014г. по 6-10'!G23+'декабрь 2014г. по 0,4'!G20 -> 0 | H23: 2 | I23: 11.2 | J23: ='декабрь 2014г. по 6-10'!J23+'декабрь 2014г. по 0,4'!J20 -> 0 | K23: ='декабрь 2014г. по 6-10'!K23+'декабрь 2014г. по 0,4'!K20 -> 0 | L23: 0 | M23: 0 | N23: 0 | O23: 0 | P23: 0 | Q23: 0
C24: ПС «Телемеханика-1» | D24: ='декабрь 2014г. по 6-10'!D24+'декабрь 2014г. по 0,4'!D21 -> 34 | E24: ='декабрь 2014г. по 6-10'!E24+'декабрь 2014г. по 0,4'!E21 -> 410 | F24: ='декабрь 2014г. по 6-10'!F24+'декабрь 2014г. по 0,4'!F21 -> 1 | G24: ='декабрь 2014г. по 6-10'!G24+'декабрь 2014г. по 0,4'!G21 -> 100 | H24: 0 | I24: 0 | J24: ='декабрь 2014г. по 6-10'!J24+'декабрь 2014г. по 0,4'!J21 -> 30 | K24: ='декабрь 2014г. по 6-10'!K24+'декабрь 2014г. по 0,4'!K21 -> 300 | L24: 0 | M24: 0 | N24: 0 | O24: 0 | P24: 0 | Q24: 0
C25: ПС «Искож» | D25: ='декабрь 2014г. по 6-10'!D25+'декабрь 2014г. по 0,4'!D22 -> 32 | E25: ='декабрь 2014г. по 6-10'!E25+'декабрь 2014г. по 0,4'!E22 -> 250 | F25: ='декабрь 2014г. по 6-10'!F25+'декабрь 2014г. по 0,4'!F22 -> 0 | G25: ='декабрь 2014г. по 6-10'!G25+'декабрь 2014г. по 0,4'!G22 -> 0 | H25: 0 | I25: 0 | J25: ='декабрь 2014г. по 6-10'!J25+'декабрь 2014г. по 0,4'!J22 -> 20 | K25: ='декабрь 2014г. по 6-10'!K25+'декабрь 2014г. по 0,4'!K22 -> 160 | L25: 0 | M25: 0 | N25: 0 | O25: 0 | P25: 0 | Q25: 0
C26: ПС «СКЭП-Н» | D26: ='декабрь 2014г. по 6-10'!D26+'декабрь 2014г. по 0,4'!D23 -> 41 | E26: ='декабрь 2014г. по 6-10'!E26+'декабрь 2014г. по 0,4'!E23 -> 3600 | F26: ='декабрь 2014г. по 6-10'!F26+'декабрь 2014г. по 0,4'!F23 -> 9 | G26: ='декабрь 2014г. по 6-10'!G26+'декабрь 2014г. по 0,4'!G23 -> 845 | H26: 0 | I26: 0 | J26: ='декабрь 2014г. по 6-10'!J26+'декабрь 2014г. по 0,4'!J23 -> 26 | K26: ='декабрь 2014г. по 6-10'!K26+'декабрь 2014г. по 0,4'!K23 -> 540 | L26: 0 | M26: 0 | N26: 0 | O26: 0 | P26: 0 | Q26: 0
C27: ПС «Долинск» | D27: ='декабрь 2014г. по 6-10'!D27+'декабрь 2014г. по 0,4'!D24 -> 8 | E27: ='декабрь 2014г. по 6-10'!E27+'декабрь 2014г. по 0,4'!E24 -> 90 | F27: ='декабрь 2014г. по 6-10'!F27+'декабрь 2014г. по 0,4'!F24 -> 2 | G27: ='декабрь 2014г. по 6-10'!G27+'декабрь 2014г. по 0,4'!G24 -> 30 | H27: 0 | I27: 0 | J27: ='декабрь 2014г. по 6-10'!J27+'декабрь 2014г. по 0,4'!J24 -> 5 | K27: ='декабрь 2014г. по 6-10'!K27+'декабрь 2014г. по 0,4'!K24 -> 20 | L27: 0 | M27: 0 | N27: 0 | O27: 0 | P27: 0 | Q27: 0
C28: ПС «Дубки» | D28: ='декабрь 2014г. по 6-10'!D28+'декабрь 2014г. по 0,4'!D25 -> 9 | E28: ='декабрь 2014г. по 6-10'!E28+'декабрь 2014г. по 0,4'!E25 -> 694 | F28: ='декабрь 2014г. по 6-10'!F28+'декабрь 2014г. по 0,4'!F25 -> 6 | G28: ='декабрь 2014г. по 6-10'!G28+'декабрь 2014г. по 0,4'!G25 -> 494 | H28: 0 | I28: 0 | J28: ='декабрь 2014г. по 6-10'!J28+'декабрь 2014г. по 0,4'!J25 -> 8 | K28: ='декабрь 2014г. по 6-10'!K28+'декабрь 2014г. по 0,4'!K25 -> 334 | L28: 0 | M28: 0 | N28: 0 | O28: 0 | P28: 0 | Q28: 0
C29: ПС «Птицефабрика» | D29: ='декабрь 2014г. по 6-10'!D29+'декабрь 2014г. по 0,4'!D26 -> 7 | E29: ='декабрь 2014г. по 6-10'!E29+'декабрь 2014г. по 0,4'!E26 -> 140 | F29: ='декабрь 2014г. по 6-10'!F29+'декабрь 2014г. по 0,4'!F26 -> 7 | G29: ='декабрь 2014г. по 6-10'!G29+'декабрь 2014г. по 0,4'!G26 -> 140 | H29: 1 | I29: 300 | J29: ='декабрь 2014г. по 6-10'!J29+'декабрь 2014г. по 0,4'!J26 -> 5 | K29: ='декабрь 2014г. по 6-10'!K29+'декабрь 2014г. по 0,4'!K26 -> 20 | L29: 0 | M29: 0 | N29: 0 | O29: 0 | P29: 0 | Q29: 0
C30: итого: | D30: =D23+D24+D25+D26+D27+D28+D29 -> 131 | E30: =E23+E24+E25+E26+E27+E28+E29 -> 5184 | F30: =F23+F24+F25+F26+F27+F28+F29 -> 25 | G30: =G23+G24+G25+G26+G27+G28+G29 -> 1609 | H30: =H23+H24+H25+H26+H27+H28+H29 -> 3 | I30: =I23+I24+I25+I26+I27+I28+I29 -> 311.2 | J30: =J23+J24+J25+J26+J27+J28+J29 -> 94 | K30: =K23+K24+K25+K26+K27+K28+K29 -> 1374 | ... Q30: =Q23+Q24+Q25+Q26+Q27+Q28+Q29 -> 0
C31: Малкинская группа ПС
C32: ПС «Малка» | D32: ='декабрь 2014г. по 6-10'!D32+'декабрь 2014г. по 0,4'!D29 -> 75 | E32: ='декабрь 2014г. по 6-10'!E32+'декабрь 2014г. по 0,4'!E29 -> 1909 | F32: ='декабрь 2014г. по 6-10'!F32+'декабрь 2014г. по 0,4'!F29 -> 51 | G32: ='декабрь 2014г. по 6-10'!G32+'декабрь 2014г. по 0,4'!G29 -> 1349 | H32: 0 | I32: 0 | J32: ='декабрь 2014г. по 6-10'!J32+'декабрь 2014г. по 0,4'!J29 -> 46 | K32: ='декабрь 2014г. по 6-10'!K32+'декабрь 2014г. по 0,4'!K29 -> 730 | L32: 0 | M32: 0 | N32: 0 | O32: 0 | P32: 0 | Q32: 0
C33: ПС «Каменномостская» | D33: ='декабрь 2014г. по 6-10'!D33+'декабрь 2014г. по 0,4'!D30 -> 33 | E33: ='декабрь 2014г. по 6-10'!E33+'декабрь 2014г. по 0,4'!E30 -> 1243 | F33: ='декабрь 2014г. по 6-10'!F33+'декабрь 2014г. по 0,4'!F30 -> 31 | G33: ='декабрь 2014г. по 6-10'!G33+'декабрь 2014г. по 0,4'!G30 -> 1189 | H33: 0 | I33: 0 | J33: ='декабрь 2014г. по 6-10'!J33+'декабрь 2014г. по 0,4'!J30 -> 30 | K33: ='декабрь 2014г. по 6-10'!K33+'декабрь 2014г. по 0,4'!K30 -> 540 | L33: 0 | M33: 0 | N33: 0 | O33: 0 | P33: 0 | Q33: 0
C34: ПС «Залукокоаже» | D34: ='декабрь 2014г. по 6-10'!D34+'декабрь 2014г. по 0,4'!D31 -> 59 | E34: ='декабрь 2014г. по 6-10'!E34+'декабрь 2014г. по 0,4'!E31 -> 791 | F34: ='декабрь 2014г. по 6-10'!F34+'декабрь 2014г. по 0,4'!F31 -> 36 | G34: ='декабрь 2014г. по 6-10'!G34+'декабрь 2014г. по 0,4'!G31 -> 596 | H34: 0 | I34: 0 | J34: ='декабрь 2014г. по 6-10'!J34+'декабрь 2014г. по 0,4'!J31 -> 44 | K34: ='декабрь 2014г. по 6-10'!K34+'декабрь 2014г. по 0,4'!K31 -> 455 | L34: 0 | M34: 0 | N34: 0 | O34: 0 | P34: 0 | Q34: 0
C35: ПС «Залукодес» | D35: ='декабрь 2014г. по 6-10'!D35+'декабрь 2014г. по 0,4'!D32 -> 71 | E35: ='декабрь 2014г. по 6-10'!E35+'декабрь 2014г. по 0,4'!E32 -> 1680 | F35: ='декабрь 2014г. по 6-10'!F35+'декабрь 2014г. по 0,4'!F32 -> 35 | G35: ='декабрь 2014г. по 6-10'!G35+'декабрь 2014г. по 0,4'!G32 -> 1067 | H35: 0 | I35: 0 | J35: ='декабрь 2014г. по 6-10'!J35+'декабрь 2014г. по 0,4'!J32 -> 57 | K35: ='декабрь 2014г. по 6-10'!K35+'декабрь 2014г. по 0,4'!K32 -> 945 | L35: 0 | M35: 0 | N35: 0 | O35: 0 | P35: 0 | Q35: 0
C36: ПС «Сармаково» | D36: ='декабрь 2014г. по 6-10'!D36+'декабрь 2014г. по 0,4'!D33 -> 90 | E36: ='декабрь 2014г. по 6-10'!E36+'декабрь 2014г. по 0,4'!E33 -> 3682 | F36: ='декабрь 2014г. по 6-10'!F36+'декабрь 2014г. по 0,4'!F33 -> 90 | G36: ='декабрь 2014г. по 6-10'!G36+'декабрь 2014г. по 0,4'!G33 -> 2982 | H36: 0 | I36: 0 | J36: ='декабрь 2014г. по 6-10'!J36+'декабрь 2014г. по 0,4'!J33 -> 75 | K36: ='декабрь 2014г. по 6-10'!K36+'декабрь 2014г. по 0,4'!K33 -> 510 | L36: 0 | M36: 0 | N36: 0 | O36: 0 | P36: 0 | Q36: 0
C37: ПС «Аурсентх» | D37: ='декабрь 2014г. по 6-10'!D37+'декабрь 2014г. по 0,4'!D34 -> 31 | E37: ='декабрь 2014г. по 6-10'!E37+'декабрь 2014г. по 0,4'!E34 -> 1210 | F37: ='декабрь 2014г. по 6-10'!F37+'декабрь 2014г. по 0,4'!F34 -> 30 | G37: ='декабрь 2014г. по 6-10'!G37+'декабрь 2014г. по 0,4'!G34 -> 290 | H37: 0 | I37: 0 | J37: ='декабрь 2014г. по 6-10'!J37+'декабрь 2014г. по 0,4'!J34 -> 22 | K37: ='декабрь 2014г. по 6-10'!K37+'декабрь 2014г. по 0,4'!K34 -> 150 | L37: 0 | M37: 0 | N37: 0 | O37: 0 | P37: 0 | Q37: 0
C38: итого: | D38: =D32+D33+D34+D35+D36+D37 -> 359 | E38: =E32+E33+E34+E35+E36+E37 -> 10515 | F38: =F32+F33+F34+F35+F36+F37 -> 273 | G38: =G32+G33+G34+G35+G36+G37 -> 7473 | H38: =H32+H33+H34+H35+H36+H37 -> 0 | I38: =I32+I33+I34+I35+I36+I37 -> 0 | J38: =J32+J33+J34+J35+J36+J37 -> 274 | K38: =K32+K33+K34+K35+K36+K37 -> 3330 | ... Q38: =Q32+Q33+Q34+Q35+Q36+Q37 -> 0
C39: Эльбрусская группа ПС
C40: ПС «ЦРУ» | D40: ='декабрь 2014г. по 6-10'!D40+'декабрь 2014г. по 0,4'!D37 -> 80 | E40: ='декабрь 2014г. по 6-10'!E40+'декабрь 2014г. по 0,4'!E37 -> 580 | F40: ='декабрь 2014г. по 6-10'!F40+'декабрь 2014г. по 0,4'!F37 -> 50 | G40: ='декабрь 2014г. по 6-10'!G40+'декабрь 2014г. по 0,4'!G37 -> 330 | H40: 0 | I40: 0 | J40: ='декабрь 2014г. по 6-10'!J40+'декабрь 2014г. по 0,4'!J37 -> 87 | K40: ='декабрь 2014г. по 6-10'!K40+'декабрь 2014г. по 0,4'!K37 -> 910 | L40: 0 | M40: 0 | N40: 0 | O40: 0 | P40: 0 | Q40: 0
C41: ПС «Адыл-Су» | D41: ='декабрь 2014г. по 6-10'!D41+'декабрь 2014г. по 0,4'!D38 -> 42 | E41: ='декабрь 2014г. по 6-10'!E41+'декабрь 2014г. по 0,4'!E38 -> 1744.45 | F41: ='декабрь 2014г. по 6-10'!F41+'декабрь 2014г. по 0,4'!F38 -> 30 | G41: ='декабрь 2014г. по 6-10'!G41+'декабрь 2014г. по 0,4'!G38 -> 430 | H41: 0 | I41: 0 | J41: ='декабрь 2014г. по 6-10'!J41+'декабрь 2014г. по 0,4'!J38 -> 30 | K41: ='декабрь 2014г. по 6-10'!K41+'декабрь 2014г. по 0,4'!K38 -> 200 | L41: 0 | M41: 0 | N41: 0 | O41: 0 | P41: 0 | Q41: 0
C42: ПС «Нейтрино» | D42: ='декабрь 2014г. по 6-10'!D42+'декабрь 2014г. по 0,4'!D39 -> 52 | E42: ='декабрь 2014г. по 6-10'!E42+'декабрь 2014г. по 0,4'!E39 -> 1241.1 | F42: ='декабрь 2014г. по 6-10'!F42+'декабрь 2014г. по 0,4'!F39 -> 42 | G42: ='декабрь 2014г. по 6-10'!G42+'декабрь 2014г. по 0,4'!G39 -> 1161.1 | H42: 0 | I42: 0 | J42: ='декабрь 2014г. по 6-10'!J42+'декабрь 2014г. по 0,4'!J39 -> 16 | K42: ='декабрь 2014г. по 6-10'!K42+'декабрь 2014г. по 0,4'!K39 -> 120 | L42: 0 | M42: 0 | N42: 0 | O42: 0 | P42: 0 | Q42: 0
C43: ПС «Чегет» | D43: ='декабрь 2014г. по 6-10'!D43+'декабрь 2014г. по 0,4'!D40 -> 36 | E43: ='декабрь 2014г. по 6-10'!E43+'декабрь 2014г. по 0,4'!E40 -> 828 | F43: ='декабрь 2014г. по 6-10'!F43+'декабрь 2014г. по 0,4'!F40 -> 23 | G43: ='декабрь 2014г. по 6-10'!G43+'декабрь 2014г. по 0,4'!G40 -> 410 | H43: 0 | I43: 0 | J43: ='декабрь 2014г. по 6-10'!J43+'декабрь 2014г. по 0,4'!J40 -> 22 | K43: ='декабрь 2014г. по 6-10'!K43+'декабрь 2014г. по 0,4'!K40 -> 100 | L43: 0 | M43: 0 | N43: 0 | O43: 0 | P43: 0 | Q43: 0
C44: ПС «Терскол» | D44: ='декабрь 2014г. по 6-10'!D44+'декабрь 2014г. по 0,4'!D41 -> 10 | E44: ='декабрь 2014г. по 6-10'!E44+'декабрь 2014г. по 0,4'!E41 -> 125 | F44: ='декабрь 2014г. по 6-10'!F44+'декабрь 2014г. по 0,4'!F41 -> 0 | G44: ='декабрь 2014г. по 6-10'!G44+'декабрь 2014г. по 0,4'!G41 -> 0 | H44: 0 | I44: 0 | J44: ='декабрь 2014г. по 6-10'!J44+'декабрь 2014г. по 0,4'!J41 -> 9 | K44: ='декабрь 2014г. по 6-10'!K44+'декабрь 2014г. по 0,4'!K41 -> 85 | L44: 0 | M44: 0 | N44: 0 | O44: 0 | P44: 0 | Q44: 0
C45: ПС «Джайлык» | D45: ='декабрь 2014г. по 6-10'!D45+'декабрь 2014г. по 0,4'!D42 -> 7 | E45: ='декабрь 2014г. по 6-10'!E45+'декабрь 2014г. по 0,4'!E42 -> 329 | F45: ='декабрь 2014г. по 6-10'!F45+'декабрь 2014г. по 0,4'!F42 -> 7 | G45: ='декабрь 2014г. по 6-10'!G45+'декабрь 2014г. по 0,4'!G42 -> 329 | H45: 0 | I45: 0 | J45: ='декабрь 2014г. по 6-10'!J45+'декабрь 2014г. по 0,4'!J42 -> 4 | K45: ='декабрь 2014г. по 6-10'!K45+'декабрь 2014г. по 0,4'!K42 -> 110 | L45: 0 | M45: 0 | N45: 0 | O45: 0 | P45: 0 | Q45: 0
C46: ПС «Соц. городок» | D46: ='декабрь 2014г. по 6-10'!D46+'декабрь 2014г. по 0,4'!D43 -> 10 | E46: ='декабрь 2014г. по 6-10'!E46+'декабрь 2014г. по 0,4'!E43 -> 242 | F46: ='декабрь 2014г. по 6-10'!F46+'декабрь 2014г. по 0,4'!F43 -> 9 | G46: ='декабрь 2014г. по 6-10'!G46+'декабрь 2014г. по 0,4'!G43 -> 202 | H46: 0 | I46: 0 | J46: ='декабрь 2014г. по 6-10'!J46+'декабрь 2014г. по 0,4'!J43 -> 11 | K46: ='декабрь 2014г. по 6-10'!K46+'декабрь 2014г. по 0,4'!K43 -> 55 | L46: 0 | M46: 0 | N46: 0 | O46: 0 | P46: 0 | Q46: 0
C47: ПС «Чалмас» | D47: ='декабрь 2014г. по 6-10'!D47+'декабрь 2014г. по 0,4'!D44 -> 1 | E47: ='декабрь 2014г. по 6-10'!E47+'декабрь 2014г. по 0,4'!E44 -> 75 | F47: ='декабрь 2014г. по 6-10'!F47+'декабрь 2014г. по 0,4'!F44 -> 0 | G47: ='декабрь 2014г. по 6-10'!G47+'декабрь 2014г. по 0,4'!G44 -> 0 | H47: 0 | I47: 0 | J47: ='декабрь 2014г. по 6-10'!J47+'декабрь 2014г. по 0,4'!J44 -> 1 | K47: ='декабрь 2014г. по 6-10'!K47+'декабрь 2014г. по 0,4'!K44 -> 75 | L47: 0 | M47: 0 | N47: 0 | O47: 0 | P47: 0 | Q47: 0
C48: ПС «РМЗ» | D48: ='декабрь 2014г. по 6-10'!D48+'декабрь 2014г. по 0,4'!D45 -> 43 | E48: ='декабрь 2014г. по 6-10'!E48+'декабрь 2014г. по 0,4'!E45 -> 1837 | F48: ='декабрь 2014г. по 6-10'!F48+'декабрь 2014г. по 0,4'!F45 -> 36 | G48: ='декабрь 2014г. по 6-10'!G48+'декабрь 2014г. по 0,4'!G45 -> 967 | H48: 0 | I48: 0 | J48: ='декабрь 2014г. по 6-10'!J48+'декабрь 2014г. по 0,4'!J45 -> 34 | K48: ='декабрь 2014г. по 6-10'!K48+'декабрь 2014г. по 0,4'!K45 -> 901 | L48: 0 | M48: 0 | N48: 0 | O48: 0 | P48: 0 | Q48: 0
C49: РП «Водогрейная» | D49: ='декабрь 2014г. по 6-10'!D49+'декабрь 2014г. по 0,4'!D46 -> 4 | E49: ='декабрь 2014г. по 6-10'!E49+'декабрь 2014г. по 0,4'!E46 -> 451.1 | F49: ='декабрь 2014г. по 6-10'!F49+'декабрь 2014г. по 0,4'!F46 -> 4 | G49: ='декабрь 2014г. по 6-10'!G49+'декабрь 2014г. по 0,4'!G46 -> 451.1 | H49: 0 | I49: 0 | J49: ='декабрь 2014г. по 6-10'!J49+'декабрь 2014г. по 0,4'!J46 -> 5 | K49: ='декабрь 2014г. по 6-10'!K49+'декабрь 2014г. по 0,4'!K46 -> 136.1 | L49: 0 | M49: 0 | N49: 0 | O49: 0 | P49: 0 | Q49: 0
C50: ПС «Былым» | D50: ='декабрь 2014г. по 6-10'!D50+'декабрь 2014г. по 0,4'!D47 -> 18 | E50: ='декабрь 2014г. по 6-10'!E50+'декабрь 2014г. по 0,4'!E47 -> 293 | F50: ='декабрь 2014г. по 6-10'!F50+'декабрь 2014г. по 0,4'!F47 -> 3 | G50: ='декабрь 2014г. по 6-10'!G50+'декабрь 2014г. по 0,4'!G47 -> 183 | H50: 0 | I50: 0 | J50: ='декабрь 2014г. по 6-10'!J50+'декабрь 2014г. по 0,4'!J47 -> 15 | K50: ='декабрь 2014г. по 6-10'!K50+'декабрь 2014г. по 0,4'!K47 -> 110 | L50: 0 | M50: 0 | N50: 0 | O50: 0 | P50: 0 | Q50: 0
C51: ПС "Гунделен" | D51: ='декабрь 2014г. по 6-10'!D51+'декабрь 2014г. по 0,4'!D48 -> 13 | E51: ='декабрь 2014г. по 6-10'!E51+'декабрь 2014г. по 0,4'!E48 -> 1050 | F51: ='декабрь 2014г. по 6-10'!F51+'декабрь 2014г. по 0,4'!F48 -> 10 | G51: ='декабрь 2014г. по 6-10'!G51+'декабрь 2014г. по 0,4'!G48 -> 515 | H51: 0 | I51: 0 | J51: ='декабрь 2014г. по 6-10'!J51+'декабрь 2014г. по 0,4'!J48 -> 5 | K51: ='декабрь 2014г. по 6-10'!K51+'декабрь 2014г. по 0,4'!K48 -> 45 | L51: 0 | M51: 0 | N51: 0 | O51: 0 | P51: 0 | Q51: 0
C52: итого: | D52: =D40+D41+D42+D43+D44+D45+D46+D47+D48+D49+D50+D51 -> 316 | E52: =E40+E41+E42+E43+E44+E45+E46+E47+E48+E49+E50+E51 -> 8795.65 | F52: =F40+F41+F42+F43+F44+F45+F46+F47+F48+F49+F50+F51 -> 214 | G52: =G40+G41+G42+G43+G44+G45+G46+G47+G48+G49+G50+G51 -> 4978.2 | H52: =H40+H41+H42+H43+H44+H45+H46+H47+H48+H49+H50+H51 -> 0 | I52: =I40+I41+I42+I43+I44+I45+I46+I47+I48+I49+I50+I51 -> 0 | J52: =J40+J41+J42+J43+J44+J45+J46+J47+J48+J49+J50+J51 -> 239 | K52: =K40+K41+K42+K43+K44+K45+K46+K47+K48+K49+K50+K51 -> 2847.1 | ... Q52: =Q40+Q41+Q42+Q43+Q44+Q45+Q46+Q47+Q48+Q49+Q50+Q51 -> 0
C53: Терская группа ПС
C54: ПС «Терек-II» | D54: ='декабрь 2014г. по 6-10'!D54+'декабрь 2014г. по 0,4'!D51 -> 5 | E54: ='декабрь 2014г. по 6-10'!E54+'декабрь 2014г. по 0,4'!E51 -> 438 | F54: ='декабрь 2014г. по 6-10'!F54+'декабрь 2014г. по 0,4'!F51 -> 5 | G54: ='декабрь 2014г. по 6-10'!G54+'декабрь 2014г. по 0,4'!G51 -> 438 | H54: 2 | I54: 350 | J54: ='декабрь 2014г. по 6-10'!J54+'декабрь 2014г. по 0,4'!J51 -> 2 | K54: ='декабрь 2014г. по 6-10'!K54+'декабрь 2014г. по 0,4'!K51 -> 18 | L54: 0 | M54: 0 | N54: 0 | O54: 0 | P54: 0 | Q54: 0
C55: ПС «В.Акбаш» | D55: ='декабрь 2014г. по 6-10'!D55+'декабрь 2014г. по 0,4'!D52 -> 3 | E55: ='декабрь 2014г. по 6-10'!E55+'декабрь 2014г. по 0,4'!E52 -> 64 | F55: ='декабрь 2014г. по 6-10'!F55+'декабрь 2014г. по 0,4'!F52 -> 2 | G55: ='декабрь 2014г. по 6-10'!G55+'декабрь 2014г. по 0,4'!G52 -> 24 | H55: 0 | I55: 0 | J55: ='декабрь 2014г. по 6-10'!J55+'декабрь 2014г. по 0,4'!J52 -> 2 | K55: ='декабрь 2014г. по 6-10'!K55+'декабрь 2014г. по 0,4'!K52 -> 24 | L55: 0 | M55: 0 | N55: 0 | O55: 0 | P55: 0 | Q55: 0
C56: ПС «ЗАИ» | D56: ='декабрь 2014г. по 6-10'!D56+'декабрь 2014г. по 0,4'!D53 -> 7 | E56: ='декабрь 2014г. по 6-10'!E56+'декабрь 2014г. по 0,4'!E53 -> 148 | F56: ='декабрь 2014г. по 6-10'!F56+'декабрь 2014г. по 0,4'!F53 -> 5 | G56: ='декабрь 2014г. по 6-10'!G56+'декабрь 2014г. по 0,4'!G53 -> 129 | H56: 0 | I56: 0 | J56: ='декабрь 2014г. по 6-10'!J56+'декабрь 2014г. по 0,4'!J53 -> 4 | K56: ='декабрь 2014г. по 6-10'!K56+'декабрь 2014г. по 0,4'!K53 -> 28 | L56: 0 | M56: 0 | N56: 0 | O56: 0 | P56: 0 | Q56: 0
C57: ПС «Пенькозавод» | D57: ='декабрь 2014г. по 6-10'!D57+'декабрь 2014г. по 0,4'!D54 -> 4 | E57: ='декабрь 2014г. по 6-10'!E57+'декабрь 2014г. по 0,4'!E54 -> 155 | F57: ='декабрь 2014г. по 6-10'!F57+'декабрь 2014г. по 0,4'!F54 -> 3 | G57: ='декабрь 2014г. по 6-10'!G57+'декабрь 2014г. по 0,4'!G54 -> 145 | H57: 0 | I57: 0 | J57: ='декабрь 2014г. по 6-10'!J57+'декабрь 2014г. по 0,4'!J54 -> 2 | K57: ='декабрь 2014г. по 6-10'!K57+'декабрь 2014г. по 0,4'!K54 -> 14 | L57: 0 | M57: 0 | N57: 0 | O57: 0 | P57: 0 | Q57: 0
C58: ПС «Терекская» | D58: ='декабрь 2014г. по 6-10'!D58+'декабрь 2014г. по 0,4'!D55 -> 27 | E58: ='декабрь 2014г. по 6-10'!E58+'декабрь 2014г. по 0,4'!E55 -> 725 | F58: ='декабрь 2014г. по 6-10'!F58+'декабрь 2014г. по 0,4'!F55 -> 13 | G58: ='декабрь 2014г. по 6-10'!G58+'декабрь 2014г. по 0,4'!G55 -> 273 | H58: 0 | I58: 0 | J58: ='декабрь 2014г. по 6-10'!J58+'декабрь 2014г. по 0,4'!J55 -> 25 | K58: ='декабрь 2014г. по 6-10'!K58+'декабрь 2014г. по 0,4'!K55 -> 395 | L58: 0 | M58: 0 | N58: 0 | O58: 0 | P58: 0 | Q58: 0
C59: ПС «Терек-1» | D59: ='декабрь 2014г. по 6-10'!D59+'декабрь 2014г. по 0,4'!D56 -> 13 | E59: ='декабрь 2014г. по 6-10'!E59+'декабрь 2014г. по 0,4'!E56 -> 246 | F59: ='декабрь 2014г. по 6-10'!F59+'декабрь 2014г. по 0,4'!F56 -> 2 | G59: ='декабрь 2014г. по 6-10'!G59+'декабрь 2014г. по 0,4'!G56 -> 10 | H59: 2 | I59: 395 | J59: ='декабрь 2014г. по 6-10'!J59+'декабрь 2014г. по 0,4'!J56 -> 12 | K59: ='декабрь 2014г. по 6-10'!K59+'декабрь 2014г. по 0,4'!K56 -> 150 | L59: 0 | M59: 0 | N59: 0 | O59: 0 | P59: 0 | Q59: 0
C60: ПС «В.Курп» | D60: ='декабрь 2014г. по 6-10'!D60+'декабрь 2014г. по 0,4'!D57 -> 17 | E60: ='декабрь 2014г. по 6-10'!E60+'декабрь 2014г. по 0,4'!E57 -> 277 | F60: ='декабрь 2014г. по 6-10'!F60+'декабрь 2014г. по 0,4'!F57 -> 5 | G60: ='декабрь 2014г. по 6-10'!G60+'декабрь 2014г. по 0,4'!G57 -> 196 | H60: 0 | I60: 0 | J60: ='декабрь 2014г. по 6-10'!J60+'декабрь 2014г. по 0,4'!J57 -> 15 | K60: ='декабрь 2014г. по 6-10'!K60+'декабрь 2014г. по 0,4'!K57 -> 102 | L60: 0 | M60: 0 | N60: 0 | O60: 0 | P60: 0 | Q60: 0
C61: ПС «Н.Курп» | D61: ='декабрь 2014г. по 6-10'!D61+'декабрь 2014г. по 0,4'!D58 -> 0 | E61: ='декабрь 2014г. по 6-10'!E61+'декабрь 2014г. по 0,4'!E58 -> 0 | F61: ='декабрь 2014г. по 6-10'!F61+'декабрь 2014г. по 0,4'!F58 -> 0 | G61: ='декабрь 2014г. по 6-10'!G61+'декабрь 2014г. по 0,4'!G58 -> 0 | H61: 0 | I61: 0 | J61: ='декабрь 2014г. по 6-10'!J61+'декабрь 2014г. по 0,4'!J58 -> 0 | K61: ='декабрь 2014г. по 6-10'!K61+'декабрь 2014г. по 0,4'!K58 -> 0 | L61: 0 | M61: 0 | N61: 0 | O61: 0 | P61: 0 | Q61: 0
C62: ПС «Акбаш-35» | D62: ='декабрь 2014г. по 6-10'!D62+'декабрь 2014г. по 0,4'!D59 -> 2 | E62: ='декабрь 2014г. по 6-10'!E62+'декабрь 2014г. по 0,4'!E59 -> 15 | F62: ='декабрь 2014г. по 6-10'!F62+'декабрь 2014г. по 0,4'!F59 -> 2 | G62: ='декабрь 2014г. по 6-10'!G62+'декабрь 2014г. по 0,4'!G59 -> 15 | H62: 0 | I62: 0 | J62: ='декабрь 2014г. по 6-10'!J62+'декабрь 2014г. по 0,4'!J59 -> 2 | K62: ='декабрь 2014г. по 6-10'!K62+'декабрь 2014г. по 0,4'!K59 -> 15 | L62: 0 | M62: 0 | N62: 0 | O62: 0 | P62: 0 | Q62: 0
C63: итого: | D63: =D54+D55+D56+D57+D58+D59+D60+D61+D62 -> 78 | E63: =E54+E55+E56+E57+E58+E59+E60+E61+E62 -> 2068 | F63: =F54+F55+F56+F57+F58+F59+F60+F61+F62 -> 37 | G63: =G54+G55+G56+G57+G58+G59+G60+G61+G62 -> 1230 | H63: =H54+H55+H56+H57+H58+H59+H60+H61+H62 -> 4 | I63: =I54+I55+I56+I57+I58+I59+I60+I61+I62 -> 745 | J63: =J54+J55+J56+J57+J58+J59+J60+J61+J62 -> 64 | K63: =K54+K55+K56+K57+K58+K59+K60+K61+K62 -> 746 | ... Q63: =Q54+Q55+Q56+Q57+Q58+Q59+Q60+Q61+Q62 -> 0
C64: Майская группа ПС
C65: ПС «Майская» | D65: ='декабрь 2014г. по 6-10'!D64+'декабрь 2014г. по 0,4'!D61 -> 1172 | E65: ='декабрь 2014г. по 6-10'!E64+'декабрь 2014г. по 0,4'!E61 -> 32714.15 | F65: ='декабрь 2014г. по 6-10'!F64+'декабрь 2014г. по 0,4'!F61 -> 767 | G65: ='декабрь 2014г. по 6-10'!G64+'декабрь 2014г. по 0,4'!G61 -> 18914.6 | H65: 0 | I65: 0 | J65: ='декабрь 2014г. по 6-10'!J64+'декабрь 2014г. по 0,4'!J61 -> 905 | K65: ='декабрь 2014г. по 6-10'!K64+'декабрь 2014г. по 0,4'!K61 -> 11179.1 | L65: 0 | M65: 0 | N65: 0 | O65: 0 | P65: 0 | Q65: 0
C66: ПС «Александровская» | D66: ='декабрь 2014г. по 6-10'!D65+'декабрь 2014г. по 0,4'!D62 -> 0 | E66: ='декабрь 2014г. по 6-10'!E65+'декабрь 2014г. по 0,4'!E62 -> 0 | F66: ='декабрь 2014г. по 6-10'!F65+'декабрь 2014г. по 0,4'!F62 -> 0 | G66: ='декабрь 2014г. по 6-10'!G65+'декабрь 2014г. по 0,4'!G62 -> 0 | H66: 0 | I66: 0 | J66: ='декабрь 2014г. по 6-10'!J65+'декабрь 2014г. по 0,4'!J62 -> 0 | K66: ='декабрь 2014г. по 6-10'!K65+'декабрь 2014г. по 0,4'!K62 -> 0 | L66: 0 | M66: 0 | N66: 0 | O66: 0 | P66: 0 | Q66: 0
C67: ПС «Котляревская» | D67: ='декабрь 2014г. по 6-10'!D66+'декабрь 2014г. по 0,4'!D63 -> 114 | E67: ='декабрь 2014г. по 6-10'!E66+'декабрь 2014г. по 0,4'!E63 -> 3259.09 | F67: ='декабрь 2014г. по 6-10'!F66+'декабрь 2014г. по 0,4'!F63 -> 86 | G67: ='декабрь 2014г. по 6-10'!G66+'декабрь 2014г. по 0,4'!G63 -> 1473 | H67: 0 | I67: 0 | J67: ='декабрь 2014г. по 6-10'!J66+'декабрь 2014г. по 0,4'!J63 -> 46 | K67: ='декабрь 2014г. по 6-10'!K66+'декабрь 2014г. по 0,4'!K63 -> 580 | L67: 0 | M67: 0 | N67: 0 | O67: 0 | P67: 0 | Q67: 0
C68: ПС «Ново-Ивановская» | D68: ='декабрь 2014г. по 6-10'!D67+'декабрь 2014г. по 0,4'!D64 -> 56 | E68: ='декабрь 2014г. по 6-10'!E67+'декабрь 2014г. по 0,4'!E64 -> 1597.5 | F68: ='декабрь 2014г. по 6-10'!F67+'декабрь 2014г. по 0,4'!F64 -> 45 | G68: ='декабрь 2014г. по 6-10'!G67+'декабрь 2014г. по 0,4'!G64 -> 735.5 | H68: 0 | I68: 0 | J68: ='декабрь 2014г. по 6-10'!J67+'декабрь 2014г. по 0,4'!J64 -> 36 | K68: ='декабрь 2014г. по 6-10'!K67+'декабрь 2014г. по 0,4'!K64 -> 790 | L68: 0 | M68: 0 | N68: 0 | O68: 0 | P68: 0 | Q68: 0
C69: ПС «Красная Нива» | D69: ='декабрь 2014г. по 6-10'!D68+'декабрь 2014г. по 0,4'!D65 -> 37 | E69: ='декабрь 2014г. по 6-10'!E68+'декабрь 2014г. по 0,4'!E65 -> 1160 | F69: ='декабрь 2014г. по 6-10'!F68+'декабрь 2014г. по 0,4'!F65 -> 14 | G69: ='декабрь 2014г. по 6-10'!G68+'декабрь 2014г. по 0,4'!G65 -> 399.5 | H69: 0 | I69: 0 | J69: ='декабрь 2014г. по 6-10'!J68+'декабрь 2014г. по 0,4'!J65 -> 4 | K69: ='декабрь 2014г. по 6-10'!K68+'декабрь 2014г. по 0,4'!K65 -> 10 | L69: 0 | M69: 0 | N69: 0 | O69: 0 | P69: 0 | Q69: 0
C70: итого: | D70: =D65+D66+D67+D68+D69 -> 1379 | E70: =E65+E66+E67+E68+E69 -> 38730.74 | F70: =F65+F66+F67+F68+F69 -> 912 | G70: =G65+G66+G67+G68+G69 -> 21522.6 | H70: =H65+H66+H67+H68+H69 -> 0 | I70: =I65+I66+I67+I68+I69 -> 0 | J70: =J65+J66+J67+J68+J69 -> 991 | K70: =K65+K66+K67+K68+K69 -> 12559.1 | ... Q70: =Q65+Q66+Q67+Q68+Q69 -> 0
C71: Чегемская группа ПС
C72: ПС «Чегем-II» | D72: ='декабрь 2014г. по 6-10'!D71+'декабрь 2014г. по 0,4'!D68 -> 1 | E72: ='декабрь 2014г. по 6-10'!E71+'декабрь 2014г. по 0,4'!E68 -> 10 | F72: ='декабрь 2014г. по 6-10'!F71+'декабрь 2014г. по 0,4'!F68 -> 1 | G72: ='декабрь 2014г. по 6-10'!G71+'декабрь 2014г. по 0,4'!G68 -> 10 | H72: 0 | I72: 0 | J72: ='декабрь 2014г. по 6-10'!J71+'декабрь 2014г. по 0,4'!J68 -> 1 | K72: ='декабрь 2014г. по 6-10'!K71+'декабрь 2014г. по 0,4'!K68 -> 10 | L72: 0 | M72: 0 | N72: 0 | O72: 0 | P72: 0 | Q72: 0
C73: ПС «Водозабор» | D73: ='декабрь 2014г. по 6-10'!D72+'декабрь 2014г. по 0,4'!D69 -> 26 | E73: ='декабрь 2014г. по 6-10'!E72+'декабрь 2014г. по 0,4'!E69 -> 230 | F73: ='декабрь 2014г. по 6-10'!F72+'декабрь 2014г. по 0,4'!F69 -> 21 | G73: ='декабрь 2014г. по 6-10'!G72+'декабрь 2014г. по 0,4'!G69 -> 160 | H73: 0 | I73: 0 | J73: ='декабрь 2014г. по 6-10'!J72+'декабрь 2014г. по 0,4'!J69 -> 16 | K73: ='декабрь 2014г. по 6-10'!K72+'декабрь 2014г. по 0,4'!K69 -> 130 | L73: 0 | M73: 0 | N73: 0 | O73: 0 | P73: 0 | Q73: 0
C74: ПС «Чегем-1» | D74: ='декабрь 2014г. по 6-10'!D73+'декабрь 2014г. по 0,4'!D70 -> 3 | E74: ='декабрь 2014г. по 6-10'!E73+'декабрь 2014г. по 0,4'!E70 -> 15 | F74: ='декабрь 2014г. по 6-10'!F73+'декабрь 2014г. по 0,4'!F70 -> 3 | G74: ='декабрь 2014г. по 6-10'!G73+'декабрь 2014г. по 0,4'!G70 -> 15 | H74: 1 | I74: 5.6 | J74: ='декабрь 2014г. по 6-10'!J73+'декабрь 2014г. по 0,4'!J70 -> 3 | K74: ='декабрь 2014г. по 6-10'!K73+'декабрь 2014г. по 0,4'!K70 -> 15 | L74: 0 | M74: 0 | N74: 0 | O74: 0 | P74: 0 | Q74: 0
C75: ПС «Лечинкай» | D75: ='декабрь 2014г. по 6-10'!D74+'декабрь 2014г. по 0,4'!D71 -> 26 | E75: ='декабрь 2014г. по 6-10'!E74+'декабрь 2014г. по 0,4'!E71 -> 502 | F75: ='декабрь 2014г. по 6-10'!F74+'декабрь 2014г. по 0,4'!F71 -> 23 | G75: ='декабрь 2014г. по 6-10'!G74+'декабрь 2014г. по 0,4'!G71 -> 262 | H75: 1 | I75: 6 | J75: ='декабрь 2014г. по 6-10'!J74+'декабрь 2014г. по 0,4'!J71 -> 25 | K75: ='декабрь 2014г. по 6-10'!K74+'декабрь 2014г. по 0,4'!K71 -> 542 | L75: 0 | M75: 0 | N75: 0 | O75: 0 | P75: 0 | Q75: 0
C76: ПС «Н.Чегем» | D76: ='декабрь 2014г. по 6-10'!D75+'декабрь 2014г. по 0,4'!D72 -> 1 | E76: ='декабрь 2014г. по 6-10'!E75+'декабрь 2014г. по 0,4'!E72 -> 6 | F76: ='декабрь 2014г. по 6-10'!F75+'декабрь 2014г. по 0,4'!F72 -> 1 | G76: ='декабрь 2014г. по 6-10'!G75+'декабрь 2014г. по 0,4'!G72 -> 6 | H76: 0 | I76: 0 | J76: ='декабрь 2014г. по 6-10'!J75+'декабрь 2014г. по 0,4'!J72 -> 1 | K76: ='декабрь 2014г. по 6-10'!K75+'декабрь 2014г. по 0,4'!K72 -> 6 | L76: 0 | M76: 0 | N76: 0 | O76: 0 | P76: 0 | Q76: 0
C77: ПС «Кара-Су» | D77: ='декабрь 2014г. по 6-10'!D76+'декабрь 2014г. по 0,4'!D73 -> 12 | E77: ='декабрь 2014г. по 6-10'!E76+'декабрь 2014г. по 0,4'!E73 -> 92 | F77: ='декабрь 2014г. по 6-10'!F76+'декабрь 2014г. по 0,4'!F73 -> 0 | G77: ='декабрь 2014г. по 6-10'!G76+'декабрь 2014г. по 0,4'!G73 -> 0 | H77: 0 | I77: 0 | J77: ='декабрь 2014г. по 6-10'!J76+'декабрь 2014г. по 0,4'!J73 -> 29 | K77: ='декабрь 2014г. по 6-10'!K76+'декабрь 2014г. по 0,4'!K73 -> 198 | L77: 0 | M77: 0 | N77: 0 | O77: 0 | P77: 0 | Q77: 0
C78: итого: | D78: =D72+D73+D74+D75+D76+D77 -> 69 | E78: =E72+E73+E74+E75+E76+E77 -> 855 | F78: =F72+F73+F74+F75+F76+F77 -> 49 | G78: =G72+G73+G74+G75+G76+G77 -> 453 | H78: =H72+H73+H74+H75+H76+H77 -> 2 | I78: =I72+I73+I74+I75+I76+I77 -> 11.6 | J78: =J72+J73+J74+J75+J76+J77 -> 75 | K78: =K72+K73+K74+K75+K76+K77 -> 901 | ... Q78: =Q72+Q73+Q74+Q75+Q76+Q77 -> 0
C79: Баксанская группа ПС
C80: ПС «Баксан-110» | D80: ='декабрь 2014г. по 6-10'!D79+'декабрь 2014г. по 0,4'!D76 -> 5 | E80: ='декабрь 2014г. по 6-10'!E79+'декабрь 2014г. по 0,4'!E76 -> 121 | F80: ='декабрь 2014г. по 6-10'!F79+'декабрь 2014г. по 0,4'!F76 -> 1 | G80: ='декабрь 2014г. по 6-10'!G79+'декабрь 2014г. по 0,4'!G76 -> 90 | H80: 0 | I80: 0 | J80: ='декабрь 2014г. по 6-10'!J79+'декабрь 2014г. по 0,4'!J76 -> 5 | K80: ='декабрь 2014г. по 6-10'!K79+'декабрь 2014г. по 0,4'!K76 -> 121 | L80: 0 | M80: 0 | N80: 0 | O80: 0 | P80: 0 | Q80: 0
C81: ПС «Кызбурун-110» | D81: ='декабрь 2014г. по 6-10'!D80+'декабрь 2014г. по 0,4'!D77 -> 1 | E81: ='декабрь 2014г. по 6-10'!E80+'декабрь 2014г. по 0,4'!E77 -> 7 | F81: ='декабрь 2014г. по 6-10'!F80+'декабрь 2014г. по 0,4'!F77 -> 1 | G81: ='декабрь 2014г. по 6-10'!G80+'декабрь 2014г. по 0,4'!G77 -> 7 | H81: 1 | I81: 5 | J81: ='декабрь 2014г. по 6-10'!J80+'декабрь 2014г. по 0,4'!J77 -> 1 | K81: ='декабрь 2014г. по 6-10'!K80+'декабрь 2014г. по 0,4'!K77 -> 7 | L81: 0 | M81: 0 | N81: 0 | O81: 0 | P81: 0 | Q81: 0
C82: ПС «Куркужин» | D82: ='декабрь 2014г. по 6-10'!D81+'декабрь 2014г. по 0,4'!D78 -> 11 | E82: ='декабрь 2014г. по 6-10'!E81+'декабрь 2014г. по 0,4'!E78 -> 716 | F82: ='декабрь 2014г. по 6-10'!F81+'декабрь 2014г. по 0,4'!F78 -> 9 | G82: ='декабрь 2014г. по 6-10'!G81+'декабрь 2014г. по 0,4'!G78 -> 272 | H82: 0 | I82: 0 | J82: ='декабрь 2014г. по 6-10'!J81+'декабрь 2014г. по 0,4'!J78 -> 8 | K82: ='декабрь 2014г. по 6-10'!K81+'декабрь 2014г. по 0,4'!K78 -> 208 | L82: 0 | M82: 0 | N82: 0 | O82: 0 | P82: 0 | Q82: 0
C83: ПС «Баксан-35» | D83: ='декабрь 2014г. по 6-10'!D82+'декабрь 2014г. по 0,4'!D79 -> 2 | E83: ='декабрь 2014г. по 6-10'!E82+'декабрь 2014г. по 0,4'!E79 -> 30 | F83: ='декабрь 2014г. по 6-10'!F82+'декабрь 2014г. по 0,4'!F79 -> 2 | G83: ='декабрь 2014г. по 6-10'!G82+'декабрь 2014г. по 0,4'!G79 -> 30 | H83: 0 | I83: 0 | J83: ='декабрь 2014г. по 6-10'!J82+'декабрь 2014г. по 0,4'!J79 -> 2 | K83: ='декабрь 2014г. по 6-10'!K82+'декабрь 2014г. по 0,4'!K79 -> 30 | L83: 0 | M83: 0 | N83: 0 | O83: 0 | P83: 0 | Q83: 0
C84: ПС «Кр.Константин.» | D84: ='декабрь 2014г. по 6-10'!D83+'декабрь 2014г. по 0,4'!D80 -> 9 | E84: ='декабрь 2014г. по 6-10'!E83+'декабрь 2014г. по 0,4'!E80 -> 165 | F84: ='декабрь 2014г. по 6-10'!F83+'декабрь 2014г. по 0,4'!F80 -> 5 | G84: ='декабрь 2014г. по 6-10'!G83+'декабрь 2014г. по 0,4'!G80 -> 125 | H84: 0 | I84: 0 | J84: ='декабрь 2014г. по 6-10'!J83+'декабрь 2014г. по 0,4'!J80 -> 9 | K84: ='декабрь 2014г. по 6-10'!K83+'декабрь 2014г. по 0,4'!K80 -> 165 | L84: 0 | M84: 0 | N84: 0 | O84: 0 | P84: 0 | Q84: 0
C85: ПС «Гунделен-110» | D85: ='декабрь 2014г. по 6-10'!D84+'декабрь 2014г. по 0,4'!D81 -> 7 | E85: ='декабрь 2014г. по 6-10'!E84+'декабрь 2014г. по 0,4'!E81 -> 55 | F85: ='декабрь 2014г. по 6-10'!F84+'декабрь 2014г. по 0,4'!F81 -> 7 | G85: ='декабрь 2014г. по 6-10'!G84+'декабрь 2014г. по 0,4'!G81 -> 55 | H85: 0 | I85: 0 | J85: ='декабрь 2014г. по 6-10'!J84+'декабрь 2014г. по 0,4'!J81 -> 7 | K85: ='декабрь 2014г. по 6-10'!K84+'декабрь 2014г. по 0,4'!K81 -> 55 | L85: 0 | M85: 0 | N85: 0 | O85: 0 | P85: 0 | Q85: 0
C86: ПС «Плотина» | D86: ='декабрь 2014г. по 6-10'!D85+'декабрь 2014г. по 0,4'!D82 -> 1 | E86: ='декабрь 2014г. по 6-10'!E85+'декабрь 2014г. по 0,4'!E82 -> 4 | F86: ='декабрь 2014г. по 6-10'!F85+'декабрь 2014г. по 0,4'!F82 -> 1 | G86: ='декабрь 2014г. по 6-10'!G85+'декабрь 2014г. по 0,4'!G82 -> 4 | H86: 0 | I86: 0 | J86: ='декабрь 2014г. по 6-10'!J85+'декабрь 2014г. по 0,4'!J82 -> 1 | K86: ='декабрь 2014г. по 6-10'!K85+'декабрь 2014г. по 0,4'!K82 -> 4 | L86: 0 | M86: 0 | N86: 0 | O86: 0 | P86: 0 | Q86: 0
C87: ПС «Баксаненок» | D87: ='декабрь 2014г. по 6-10'!D86+'декабрь 2014г. по 0,4'!D83 -> 11 | E87: ='декабрь 2014г. по 6-10'!E86+'декабрь 2014г. по 0,4'!E83 -> 272 | F87: ='декабрь 2014г. по 6-10'!F86+'декабрь 2014г. по 0,4'!F83 -> 8 | G87: ='декабрь 2014г. по 6-10'!G86+'декабрь 2014г. по 0,4'!G83 -> 44 | H87: 0 | I87: 0 | J87: ='декабрь 2014г. по 6-10'!J86+'декабрь 2014г. по 0,4'!J83 -> 11 | K87: ='декабрь 2014г. по 6-10'!K86+'декабрь 2014г. по 0,4'!K83 -> 272 | L87: 0 | M87: 0 | N87: 0 | O87: 0 | P87: 0 | Q87: 0
C88: ПС «Баксан-330» | D88: ='декабрь 2014г. по 6-10'!D87+'декабрь 2014г. по 0,4'!D84 -> 4 | E88: ='декабрь 2014г. по 6-10'!E87+'декабрь 2014г. по 0,4'!E84 -> 345 | F88: ='декабрь 2014г. по 6-10'!F87+'декабрь 2014г. по 0,4'!F84 -> 1 | G88: ='декабрь 2014г. по 6-10'!G87+'декабрь 2014г. по 0,4'!G84 -> 5 | H88: 0 | I88: 0 | J88: ='декабрь 2014г. по 6-10'!J87+'декабрь 2014г. по 0,4'!J84 -> 4 | K88: ='декабрь 2014г. по 6-10'!K87+'декабрь 2014г. по 0,4'!K84 -> 345 | L88: 0 | M88: 0 | N88: 0 | O88: 0 | P88: 0 | Q88: 0
C89: РП Заюково | D89: ='декабрь 2014г. по 6-10'!D88+'декабрь 2014г. по 0,4'!D85 -> 4 | E89: ='декабрь 2014г. по 6-10'!E88+'декабрь 2014г. по 0,4'!E85 -> 95 | F89: ='декабрь 2014г. по 6-10'!F88+'декабрь 2014г. по 0,4'!F85 -> 1 | G89: ='декабрь 2014г. по 6-10'!G88+'декабрь 2014г. по 0,4'!G85 -> 15 | H89: 0 | I89: 0 | J89: ='декабрь 2014г. по 6-10'!J88+'декабрь 2014г. по 0,4'!J85 -> 4 | K89: ='декабрь 2014г. по 6-10'!K88+'декабрь 2014г. по 0,4'!K85 -> 95 | L89: 0 | M89: 0 | N89: 0 | O89: 0 | P89: 0 | Q89: 0
C90: РП Куба | D90: ='декабрь 2014г. по 6-10'!D89+'декабрь 2014г. по 0,4'!D86 -> 3 | E90: ='декабрь 2014г. по 6-10'!E89+'декабрь 2014г. по 0,4'!E86 -> 20 | F90: ='декабрь 2014г. по 6-10'!F89+'декабрь 2014г. по 0,4'!F86 -> 0 | G90: ='декабрь 2014г. по 6-10'!G89+'декабрь 2014г. по 0,4'!G86 -> 0 | H90: 0 | I90: 0 | J90: ='декабрь 2014г. по 6-10'!J89+'декабрь 2014г. по 0,4'!J86 -> 3 | K90: ='декабрь 2014г. по 6-10'!K89+'декабрь 2014г. по 0,4'!K86 -> 20 | L90: 0 | M90: 0 | N90: 0 | O90: 0 | P90: 0 | Q90: 0
C91: итого: | D91: =D80+D81+D82+D83+D84+D85+D86+D87+D88+D89+D90 -> 58 | E91: =E80+E81+E82+E83+E84+E85+E86+E87+E88+E89+E90 -> 1830 | F91: =F80+F81+F82+F83+F84+F85+F86+F87+F88+F89+F90 -> 36 | G91: =G80+G81+G82+G83+G84+G85+G86+G87+G88+G89+G90 -> 647 | H91: =H80+H81+H82+H83+H84+H85+H86+H87+H88+H89+H90 -> 1 | I91: =I80+I81+I82+I83+I84+I85+I86+I87+I88+I89+I90 -> 5 | J91: =J80+J81+J82+J83+J84+J85+J86+J87+J88+J89+J90 -> 55 | K91: =K80+K81+K82+K83+K84+K85+K86+K87+K88+K89+K90 -> 1322 | ... Q91: =Q80+Q81+Q82+Q83+Q84+Q85+Q86+Q87+Q88+Q89+Q90 -> 0
C92: Черекская группа ПС
C93: ПС «Кашхатау» | D93: ='декабрь 2014г. по 6-10'!D92+'декабрь 2014г. по 0,4'!D89 -> 1 | E93: ='декабрь 2014г. по 6-10'!E92+'декабрь 2014г. по 0,4'!E89 -> 15 | F93: ='декабрь 2014г. по 6-10'!F92+'декабрь 2014г. по 0,4'!F89 -> 1 | G93: ='декабрь 2014г. по 6-10'!G92+'декабрь 2014г. по 0,4'!G89 -> 15 | H93: 1 | I93: 15 | J93: ='декабрь 2014г. по 6-10'!J92+'декабрь 2014г. по 0,4'!J89 -> 1 | K93: ='декабрь 2014г. по 6-10'!K92+'декабрь 2014г. по 0,4'!K89 -> 15 | L93: 0 | M93: 0 | N93: 0 | O93: 0 | P93: 0 | Q93: 0
C94: ПС «Аушигер» | D94: ='декабрь 2014г. по 6-10'!D93+'декабрь 2014г. по 0,4'!D90 -> 22 | E94: ='декабрь 2014г. по 6-10'!E93+'декабрь 2014г. по 0,4'!E90 -> 530 | F94: ='декабрь 2014г. по 6-10'!F93+'декабрь 2014г. по 0,4'!F90 -> 17 | G94: ='декабрь 2014г. по 6-10'!G93+'декабрь 2014г. по 0,4'!G90 -> 289 | H94: 0 | I94: 0 | J94: ='декабрь 2014г. по 6-10'!J93+'декабрь 2014г. по 0,4'!J90 -> 18 | K94: ='декабрь 2014г. по 6-10'!K93+'декабрь 2014г. по 0,4'!K90 -> 230 | L94: 0 | M94: 0 | N94: 0 | O94: 0 | P94: 0 | Q94: 0
C95: ПС «Советская» | D95: ='декабрь 2014г. по 6-10'!D94+'декабрь 2014г. по 0,4'!D91 -> 0 | E95: ='декабрь 2014г. по 6-10'!E94+'декабрь 2014г. по 0,4'!E91 -> 0 | F95: ='декабрь 2014г. по 6-10'!F94+'декабрь 2014г. по 0,4'!F91 -> 0 | G95: ='декабрь 2014г. по 6-10'!G94+'декабрь 2014г. по 0,4'!G91 -> 0 | H95: 0 | I95: 0 | J95: ='декабрь 2014г. по 6-10'!J94+'декабрь 2014г. по 0,4'!J91 -> 0 | K95: ='декабрь 2014г. по 6-10'!K94+'декабрь 2014г. по 0,4'!K91 -> 0 | L95: 0 | M95: 0 | N95: 0 | O95: 0 | P95: 0 | Q95: 0
C96: ПС «Кара-Су» | D96: ='декабрь 2014г. по 6-10'!D95+'декабрь 2014г. по 0,4'!D92 -> 0 | E96: ='декабрь 2014г. по 6-10'!E95+'декабрь 2014г. по 0,4'!E92 -> 0 | F96: ='декабрь 2014г. по 6-10'!F95+'декабрь 2014г. по 0,4'!F92 -> 0 | G96: ='декабрь 2014г. по 6-10'!G95+'декабрь 2014г. по 0,4'!G92 -> 0 | H96: 0 | I96: 0 | J96: ='декабрь 2014г. по 6-10'!J95+'декабрь 2014г. по 0,4'!J92 -> 0 | K96: ='декабрь 2014г. по 6-10'!K95+'декабрь 2014г. по 0,4'!K92 -> 0 | L96: 0 | M96: 0 | N96: 0 | O96: 0 | P96: 0 | Q96: 0
C97: ПС «ЦСБ» | D97: ='декабрь 2014г. по 6-10'!D96+'декабрь 2014г. по 0,4'!D93 -> 1 | E97: ='декабрь 2014г. по 6-10'!E96+'декабрь 2014г. по 0,4'!E93 -> 6 | F97: ='декабрь 2014г. по 6-10'!F96+'декабрь 2014г. по 0,4'!F93 -> 1 | G97: ='декабрь 2014г. по 6-10'!G96+'декабрь 2014г. по 0,4'!G93 -> 6 | H97: 0 | I97: 0 | J97: ='декабрь 2014г. по 6-10'!J96+'декабрь 2014г. по 0,4'!J93 -> 5 | K97: ='декабрь 2014г. по 6-10'!K96+'декабрь 2014г. по 0,4'!K93 -> 25 | L97: 0 | M97: 0 | N97: 0 | O97: 0 | P97: 0 | Q97: 0
C98: ПС «Портал-2» | D98: ='декабрь 2014г. по 6-10'!D97+'декабрь 2014г. по 0,4'!D94 -> 8 | E98: ='декабрь 2014г. по 6-10'!E97+'декабрь 2014г. по 0,4'!E94 -> 117 | F98: ='декабрь 2014г. по 6-10'!F97+'декабрь 2014г. по 0,4'!F94 -> 8 | G98: ='декабрь 2014г. по 6-10'!G97+'декабрь 2014г. по 0,4'!G94 -> 103 | H98: 0 | I98: 0 | J98: ='декабрь 2014г. по 6-10'!J97+'декабрь 2014г. по 0,4'!J94 -> 8 | K98: ='декабрь 2014г. по 6-10'!K97+'декабрь 2014г. по 0,4'!K94 -> 117 | L98: 0 | M98: 0 | N98: 0 | O98: 0 | P98: 0 | Q98: 0
C99: ПС «Портал-1» | D99: ='декабрь 2014г. по 6-10'!D98+'декабрь 2014г. по 0,4'!D95 -> 4 | E99: ='декабрь 2014г. по 6-10'!E98+'декабрь 2014г. по 0,4'!E95 -> 97 | F99: ='декабрь 2014г. по 6-10'!F98+'декабрь 2014г. по 0,4'!F95 -> 4 | G99: ='декабрь 2014г. по 6-10'!G98+'декабрь 2014г. по 0,4'!G95 -> 97 | H99: 0 | I99: 0 | J99: ='декабрь 2014г. по 6-10'!J98+'декабрь 2014г. по 0,4'!J95 -> 4 | K99: ='декабрь 2014г. по 6-10'!K98+'декабрь 2014г. по 0,4'!K95 -> 97 | L99: 0 | M99: 0 | N99: 0 | O99: 0 | P99: 0 | Q99: 0
C100: ПС «Бабугент» | D100: ='декабрь 2014г. по 6-10'!D99+'декабрь 2014г. по 0,4'!D96 -> 8 | E100: ='декабрь 2014г. по 6-10'!E99+'декабрь 2014г. по 0,4'!E96 -> 184 | F100: ='декабрь 2014г. по 6-10'!F99+'декабрь 2014г. по 0,4'!F96 -> 8 | G100: ='декабрь 2014г. по 6-10'!G99+'декабрь 2014г. по 0,4'!G96 -> 184 | H100: 0 | I100: 0 | J100: ='декабрь 2014г. по 6-10'!J99+'декабрь 2014г. по 0,4'!J96 -> 5 | K100: ='декабрь 2014г. по 6-10'!K99+'декабрь 2014г. по 0,4'!K96 -> 28 | L100: 0 | M100: 0 | N100: 0 | O100: 0 | P100: 0 | Q100: 0
C101: ПС «Мухольская ГЭС» | D101: ='декабрь 2014г. по 6-10'!D100+'декабрь 2014г. по 0,4'!D97 -> 3 | E101: ='декабрь 2014г. по 6-10'!E100+'декабрь 2014г. по 0,4'!E97 -> 11 | F101: ='декабрь 2014г. по 6-10'!F100+'декабрь 2014г. по 0,4'!F97 -> 3 | G101: ='декабрь 2014г. по 6-10'!G100+'декабрь 2014г. по 0,4'!G97 -> 11 | H101: 0 | I101: 0 | J101: ='декабрь 2014г. по 6-10'!J100+'декабрь 2014г. по 0,4'!J97 -> 3 | K101: ='декабрь 2014г. по 6-10'!K100+'декабрь 2014г. по 0,4'!K97 -> 11 | L101: 0 | M101: 0 | N101: 0 | O101: 0 | P101: 0 | Q101: 0
C102: итого: | D102: =D93+D94+D95+D96+D97+D98+D99+D100+D101 -> 47 | E102: =E93+E94+E95+E96+E97+E98+E99+E100+E101 -> 960 | F102: =F93+F94+F95+F96+F97+F98+F99+F100+F101 -> 42 | G102: =G93+G94+G95+G96+G97+G98+G99+G100+G101 -> 705 | H102: =H93+H94+H95+H96+H97+H98+H99+H100+H101 -> 1 | I102: =I93+I94+I95+I96+I97+I98+I99+I100+I101 -> 15 | J102: =J93+J94+J95+J96+J97+J98+J99+J100+J101 -> 44 | K102: =K93+K94+K95+K96+K97+K98+K99+K100+K101 -> 523 | ... Q102: =Q93+Q94+Q95+Q96+Q97+Q98+Q99+Q100+Q101 -> 0
C103: Нарткалинская группа ПС
C104: ПС «Нарткала» | D104: ='декабрь 2014г. по 6-10'!D103+'декабрь 2014г. по 0,4'!D100 -> 0 | E104: ='декабрь 2014г. по 6-10'!E103+'декабрь 2014г. по 0,4'!E100 -> 0 | F104: ='декабрь 2014г. по 6-10'!F103+'декабрь 2014г. по 0,4'!F100 -> 0 | G104: ='декабрь 2014г. по 6-10'!G103+'декабрь 2014г. по 0,4'!G100 -> 0 | H104: 1 | I104: 15 | J104: ='декабрь 2014г. по 6-10'!J103+'декабрь 2014г. по 0,4'!J100 -> 0 | K104: ='декабрь 2014г. по 6-10'!K103+'декабрь 2014г. по 0,4'!K100 -> 0 | L104: 0 | M104: 0 | N104: 0 | O104: 0 | P104: 0 | Q104: 0
C105: ПС «Псыгансу» | D105: ='декабрь 2014г. по 6-10'!D104+'декабрь 2014г. по 0,4'!D101 -> 96 | E105: ='декабрь 2014г. по 6-10'!E104+'декабрь 2014г. по 0,4'!E101 -> 3562 | F105: ='декабрь 2014г. по 6-10'!F104+'декабрь 2014г. по 0,4'!F101 -> 57 | G105: ='декабрь 2014г. по 6-10'!G104+'декабрь 2014г. по 0,4'!G101 -> 2095 | H105: 0 | I105: 0 | J105: ='декабрь 2014г. по 6-10'!J104+'декабрь 2014г. по 0,4'!J101 -> 78 | K105: ='декабрь 2014г. по 6-10'!K104+'декабрь 2014г. по 0,4'!K101 -> 1440 | L105: 0 | M105: 0 | N105: 0 | O105: 0 | P105: 0 | Q105: 0
C106: ПС «Ст.Лескен» | D106: ='декабрь 2014г. по 6-10'!D105+'декабрь 2014г. по 0,4'!D102 -> 49 | E106: ='декабрь 2014г. по 6-10'!E105+'декабрь 2014г. по 0,4'!E102 -> 2293.9 | F106: ='декабрь 2014г. по 6-10'!F105+'декабрь 2014г. по 0,4'!F102 -> 34 | G106: ='декабрь 2014г. по 6-10'!G105+'декабрь 2014г. по 0,4'!G102 -> 373 | H106: 0 | I106: 0 | J106: ='декабрь 2014г. по 6-10'!J105+'декабрь 2014г. по 0,4'!J102 -> 47 | K106: ='декабрь 2014г. по 6-10'!K105+'декабрь 2014г. по 0,4'!K102 -> 875 | L106: 0 | M106: 0 | N106: 0 | O106: 0 | P106: 0 | Q106: 0
C107: ПС «Кахун» | D107: ='декабрь 2014г. по 6-10'!D106+'декабрь 2014г. по 0,4'!D103 -> 25 | E107: ='декабрь 2014г. по 6-10'!E106+'декабрь 2014г. по 0,4'!E103 -> 494.25 | F107: ='декабрь 2014г. по 6-10'!F106+'декабрь 2014г. по 0,4'!F103 -> 24 | G107: ='декабрь 2014г. по 6-10'!G106+'декабрь 2014г. по 0,4'!G103 -> 188 | H107: 0 | I107: 0 | J107: ='декабрь 2014г. по 6-10'!J106+'декабрь 2014г. по 0,4'!J103 -> 31 | K107: ='декабрь 2014г. по 6-10'!K106+'декабрь 2014г. по 0,4'!K103 -> 370 | L107: 0 | M107: 0 | N107: 0 | O107: 0 | P107: 0 | Q107: 0
C108: ПС «Заводская» | D108: ='декабрь 2014г. по 6-10'!D107+'декабрь 2014г. по 0,4'!D104 -> 38 | E108: ='декабрь 2014г. по 6-10'!E107+'декабрь 2014г. по 0,4'!E104 -> 1853.25 | F108: ='декабрь 2014г. по 6-10'!F107+'декабрь 2014г. по 0,4'!F104 -> 34 | G108: ='декабрь 2014г. по 6-10'!G107+'декабрь 2014г. по 0,4'!G104 -> 881.25 | H108: 0 | I108: 0 | J108: ='декабрь 2014г. по 6-10'!J107+'декабрь 2014г. по 0,4'!J104 -> 27 | K108: ='декабрь 2014г. по 6-10'!K107+'декабрь 2014г. по 0,4'!K104 -> 292 | L108: 0 | M108: 0 | N108: 0 | O108: 0 | P108: 0 | Q108: 0
C109: ПС «Герменчик» | D109: ='декабрь 2014г. по 6-10'!D108+'декабрь 2014г. по 0,4'!D105 -> 27 | E109: ='декабрь 2014г. по 6-10'!E108+'декабрь 2014г. по 0,4'!E105 -> 1080 | F109: ='декабрь 2014г. по 6-10'!F108+'декабрь 2014г. по 0,4'!F105 -> 22 | G109: ='декабрь 2014г. по 6-10'!G108+'декабрь 2014г. по 0,4'!G105 -> 529 | H109: 0 | I109: 0 | J109: ='декабрь 2014г. по 6-10'!J108+'декабрь 2014г. по 0,4'!J105 -> 17 | K109: ='декабрь 2014г. по 6-10'!K108+'декабрь 2014г. по 0,4'!K105 -> 204 | L109: 0 | M109: 0 | N109: 0 | O109: 0 | P109: 0 | Q109: 0
C110: ПС «Ст.Урух» | D110: ='декабрь 2014г. по 6-10'!D109+'декабрь 2014г. по 0,4'!D106 -> 16 | E110: ='декабрь 2014г. по 6-10'!E109+'декабрь 2014г. по 0,4'!E106 -> 894.5 | F110: ='декабрь 2014г. по 6-10'!F109+'декабрь 2014г. по 0,4'!F106 -> 12 | G110: ='декабрь 2014г. по 6-10'!G109+'декабрь 2014г. по 0,4'!G106 -> 169.5 | H110: 0 | I110: 0 | J110: ='декабрь 2014г. по 6-10'!J109+'декабрь 2014г. по 0,4'!J106 -> 7 | K110: ='декабрь 2014г. по 6-10'!K109+'декабрь 2014г. по 0,4'!K106 -> 64.5 | L110: 0 | M110: 0 | N110: 0 | O110: 0 | P110: 0 | Q110: 0
C111: ПС «Аргудан» | D111: ='декабрь 2014г. по 6-10'!D110+'декабрь 2014г. по 0,4'!D107 -> 14 | E111: ='декабрь 2014г. по 6-10'!E110+'декабрь 2014г. по 0,4'!E107 -> 340 | F111: ='декабрь 2014г. по 6-10'!F110+'декабрь 2014г. по 0,4'!F107 -> 14 | G111: ='декабрь 2014г. по 6-10'!G110+'декабрь 2014г. по 0,4'!G107 -> 140 | H111: 0 | I111: 0 | J111: ='декабрь 2014г. по 6-10'!J110+'декабрь 2014г. по 0,4'!J107 -> 11 | K111: ='декабрь 2014г. по 6-10'!K110+'декабрь 2014г. по 0,4'!K107 -> 85 | L111: 0 | M111: 0 | N111: 0 | O111: 0 | P111: 0 | Q111: 0
C112: ПС «Лескен-1» | D112: ='декабрь 2014г. по 6-10'!D111+'декабрь 2014г. по 0,4'!D108 -> 46 | E112: ='декабрь 2014г. по 6-10'!E111+'декабрь 2014г. по 0,4'!E108 -> 835 | F112: ='декабрь 2014г. по 6-10'!F111+'декабрь 2014г. по 0,4'!F108 -> 30 | G112: ='декабрь 2014г. по 6-10'!G111+'декабрь 2014г. по 0,4'!G108 -> 314.5 | H112: 2 | I112: 45 | J112: ='декабрь 2014г. по 6-10'!J111+'декабрь 2014г. по 0,4'!J108 -> 41 | K112: ='декабрь 2014г. по 6-10'!K111+'декабрь 2014г. по 0,4'!K108 -> 415 | L112: 0 | M112: 0 | N112: 0 | O112: 0 | P112: 0 | Q112: 0
...

Sheet декабрь 2014г
B14: Информация о технологическом присоединении энергопринимающих устройств к сетям ОАО Дагэнергосеть илиалом ОАО "МРСК Северного Кавказа" за декабрь 2014г.
A19: Наименование организации, осуществляющей технологическое присоединение | B19: Наименование субъекта РФ | C19: Наименование центра питания (ПС 35 кВ и выше) | D19: Количество поданных заявок на технологическое присоединение, на общую мощность энергопринимающих устройств, кВт | F19: Заключено договоров на технологическое присоединение, включающие технические условия на общую мощность энергопринимающих устройств, кВт | H19: Расторгнуто договоров на технологическое присоединение, включающие технические условия на общую мощность энергопринимающих устройств, кВт | J19: Суммарная мощность энегргопринимающих устройств, присоединенных к электрическим сетям в соответствии с договором на технологическое присоединение за отчетный период, кВт | L19: Заключено договоров на технологическое присоединение, включающие технические условия на общую мощность генерирущих установок, МВт | N19: Расторгнуто договоров на технологическое присоединение, включающие технические условия на общую мощность генерирущих установок, МВт | P19: Суммарная мощность генерирущих установок, присоединенных к электрическим сетям в соответствии с договором на технологическое присоединение за отчетный период, МВт
A20: 1 | B20: 2 | C20: 3 | D20: 4 | F20: 5 | H20: 6 | J20: 7 | L20: 8 | N20: 9 | P20: 10
D21: шт | E21: кВт | F21: шт | G21: кВт | H21: шт | I21: кВт | J21: шт | K21: кВт | L21: шт | M21: МВт | N21: шт | O21: МВт | P21: шт | Q21: МВт
A22: Кабардино- Балкарсикй филиал ОАО "МРСК Северного Кавказа" | B22: Республика Дагестан | C22: ЦЕНТРАЛЬНЫЕ СЕТИ
C23: ПС ГПП | D23: ='декабрь 2014г. по 6-10'!D23+'декабрь 2014г. по 0,4'!D20 -> 0 | E23: ='декабрь 2014г. по 6-10'!E23+'декабрь 2014г. по 0,4'!E20 -> 0 | F23: ='декабрь 2014г. по 6-10'!F23+'декабрь 2014г. по 0,4'!F20 -> 0 | G23: ='декабрь 2014г. по 6-10'!G23+'декабрь 2014г. по 0,4'!G20 -> 0 | H23: ='декабрь 2014г. по 6-10'!H23+'декабрь 2014г. по 0,4'!H20 -> 0 | I23: ='декабрь 2014г. по 6-10'!I23+'декабрь 2014г. по 0,4'!I20 -> 0 | J23: ='декабрь 2014г. по 6-10'!J23+'декабрь 2014г. по 0,4'!J20 -> 0 | K23: ='декабрь 2014г. по 6-10'!K23+'декабрь 2014г. по 0,4'!K20 -> 0 | ... Q23: ='декабрь 2014г. по 6-10'!Q23+'декабрь 2014г. по 0,4'!Q20 -> 0
C24: ПС Новая | D24: ='декабрь 2014г. по 6-10'!D24+'декабрь 2014г. по 0,4'!D21 -> 34 | E24: ='декабрь 2014г. по 6-10'!E24+'декабрь 2014г. по 0,4'!E21 -> 410 | F24: ='декабрь 2014г. по 6-10'!F24+'декабрь 2014г. по 0,4'!F21 -> 1 | G24: ='декабрь 2014г. по 6-10'!G24+'декабрь 2014г. по 0,4'!G21 -> 100 | H24: ='декабрь 2014г. по 6-10'!H24+'декабрь 2014г. по 0,4'!H21 -> 0 | I24: ='декабрь 2014г. по 6-10'!I24+'декабрь 2014г. по 0,4'!I21 -> 0 | J24: ='декабрь 2014г. по 6-10'!J24+'декабрь 2014г. по 0,4'!J21 -> 30 | K24: ='декабрь 2014г. по 6-10'!K24+'декабрь 2014г. по 0,4'!K21 -> 300 | ... Q24: ='декабрь 2014г. по 6-10'!Q24+'декабрь 2014г. по 0,4'!Q21 -> 0
C25: ПС ЦПП | D25: ='декабрь 2014г. по 6-10'!D25+'декабрь 2014г. по 0,4'!D22 -> 32 | E25: ='декабрь 2014г. по 6-10'!E25+'декабрь 2014г. по 0,4'!E22 -> 250 | F25: ='декабрь 2014г. по 6-10'!F25+'декабрь 2014г. по 0,4'!F22 -> 0 | G25: ='декабрь 2014г. по 6-10'!G25+'декабрь 2014г. по 0,4'!G22 -> 0 | H25: ='декабрь 2014г. по 6-10'!H25+'декабрь 2014г. по 0,4'!H22 -> 0 | I25: ='декабрь 2014г. по 6-10'!I25+'декабрь 2014г. по 0,4'!I22 -> 0 | J25: ='декабрь 2014г. по 6-10'!J25+'декабрь 2014г. по 0,4'!J22 -> 20 | K25: ='декабрь 2014г. по 6-10'!K25+'декабрь 2014г. по 0,4'!K22 -> 160 | ... Q25: ='декабрь 2014г. по 6-10'!Q25+'декабрь 2014г. по 0,4'!Q22 -> 0
C26: ПС М-110 | D26: ='декабрь 2014г. по 6-10'!D26+'декабрь 2014г. по 0,4'!D23 -> 41 | E26: ='декабрь 2014г. по 6-10'!E26+'декабрь 2014г. по 0,4'!E23 -> 3600 | F26: ='декабрь 2014г. по 6-10'!F26+'декабрь 2014г. по 0,4'!F23 -> 9 | G26: ='декабрь 2014г. по 6-10'!G26+'декабрь 2014г. по 0,4'!G23 -> 845 | H26: ='декабрь 2014г. по 6-10'!H26+'декабрь 2014г. по 0,4'!H23 -> 0 | I26: ='декабрь 2014г. по 6-10'!I26+'декабрь 2014г. по 0,4'!I23 -> 0 | J26: ='декабрь 2014г. по 6-10'!J26+'декабрь 2014г. по 0,4'!J23 -> 26 | K26: ='декабрь 2014г. по 6-10'!K26+'декабрь 2014г. по 0,4'!K23 -> 540 | ... Q26: ='декабрь 2014г. по 6-10'!Q26+'декабрь 2014г. по 0,4'!Q23 -> 0
C27: ПС Очистные соор. | D27: ='декабрь 2014г. по 6-10'!D27+'декабрь 2014г. по 0,4'!D24 -> 8 | E27: ='декабрь 2014г. по 6-10'!E27+'декабрь 2014г. по 0,4'!E24 -> 90 | F27: ='декабрь 2014г. по 6-10'!F27+'декабрь 2014г. по 0,4'!F24 -> 2 | G27: ='декабрь 2014г. по 6-10'!G27+'декабрь 2014г. по 0,4'!G24 -> 30 | H27: ='декабрь 2014г. по 6-10'!H27+'декабрь 2014г. по 0,4'!H24 -> 0 | I27: ='декабрь 2014г. по 6-10'!I27+'декабрь 2014г. по 0,4'!I24 -> 0 | J27: ='декабрь 2014г. по 6-10'!J27+'декабрь 2014г. по 0,4'!J24 -> 5 | K27: ='декабрь 2014г. по 6-10'!K27+'декабрь 2014г. по 0,4'!K24 -> 20 | ... Q27: ='декабрь 2014г. по 6-10'!Q27+'декабрь 2014г. по 0,4'!Q24 -> 0
C28: ПС Ю-Восточная | D28: ='декабрь 2014г. по 6-10'!D28+'декабрь 2014г. по 0,4'!D25 -> 9 | E28: ='декабрь 2014г. по 6-10'!E28+'декабрь 2014г. по 0,4'!E25 -> 694 | F28: ='декабрь 2014г. по 6-10'!F28+'декабрь 2014г. по 0,4'!F25 -> 6 | G28: ='декабрь 2014г. по 6-10'!G28+'декабрь 2014г. по 0,4'!G25 -> 494 | H28: ='декабрь 2014г. по 6-10'!H28+'декабрь 2014г. по 0,4'!H25 -> 0 | I28: ='декабрь 2014г. по 6-10'!I28+'декабрь 2014г. по 0,4'!I25 -> 0 | J28: ='декабрь 2014г. по 6-10'!J28+'декабрь 2014г. по 0,4'!J25 -> 8 | K28: ='декабрь 2014г. по 6-10'!K28+'декабрь 2014г. по 0,4'!K25 -> 334 | ... Q28: ='декабрь 2014г. по 6-10'!Q28+'декабрь 2014г. по 0,4'!Q25 -> 0
C29: ПС Приморская | D29: ='декабрь 2014г. по 6-10'!D29+'декабрь 2014г. по 0,4'!D26 -> 7 | E29: ='декабрь 2014г. по 6-10'!E29+'декабрь 2014г. по 0,4'!E26 -> 140 | F29: ='декабрь 2014г. по 6-10'!F29+'декабрь 2014г. по 0,4'!F26 -> 7 | G29: ='декабрь 2014г. по 6-10'!G29+'декабрь 2014г. по 0,4'!G26 -> 140 | H29: ='декабрь 2014г. по 6-10'!H29+'декабрь 2014г. по 0,4'!H26 -> 0 | I29: ='декабрь 2014г. по 6-10'!I29+'декабрь 2014г. по 0,4'!I26 -> 0 | J29: ='декабрь 2014г. по 6-10'!J29+'декабрь 2014г. по 0,4'!J26 -> 5 | K29: ='декабрь 2014г. по 6-10'!K29+'декабрь 2014г. по 0,4'!K26 -> 20 | ... Q29: ='декабрь 2014г. по 6-10'!Q29+'декабрь 2014г. по 0,4'!Q26 -> 0
C30: ПС Насосная -1 | D30: ='декабрь 2014г. по 6-10'!D30+'декабрь 2014г. по 0,4'!D27 -> 46 | E30: ='декабрь 2014г. по 6-10'!E30+'декабрь 2014г. по 0,4'!E27 -> 1885 | F30: ='декабрь 2014г. по 6-10'!F30+'декабрь 2014г. по 0,4'!F27 -> 44 | G30: ='декабрь 2014г. по 6-10'!G30+'декабрь 2014г. по 0,4'!G27 -> 564.4 | H30: ='декабрь 2014г. по 6-10'!H30+'декабрь 2014г. по 0,4'!H27 -> 0 | I30: ='декабрь 2014г. по 6-10'!I30+'декабрь 2014г. по 0,4'!I27 -> 0 | J30: ='декабрь 2014г. по 6-10'!J30+'декабрь 2014г. по 0,4'!J27 -> 47 | K30: ='декабрь 2014г. по 6-10'!K30+'декабрь 2014г. по 0,4'!K27 -> 735 | ... Q30: ='декабрь 2014г. по 6-10'!Q30+'декабрь 2014г. по 0,4'!Q27 -> 0
C31: ПС Радиоцентр | D31: ='декабрь 2014г. по 6-10'!D31+'декабрь 2014г. по 0,4'!D28 -> 57 | E31: ='декабрь 2014г. по 6-10'!E31+'декабрь 2014г. по 0,4'!E28 -> 1010 | F31: ='декабрь 2014г. по 6-10'!F31+'декабрь 2014г. по 0,4'!F28 -> 57 | G31: ='декабрь 2014г. по 6-10'!G31+'декабрь 2014г. по 0,4'!G28 -> 1010 | H31: ='декабрь 2014г. по 6-10'!H31+'декабрь 2014г. по 0,4'!H28 -> 0 | I31: ='декабрь 2014г. по 6-10'!I31+'декабрь 2014г. по 0,4'!I28 -> 0 | J31: ='декабрь 2014г. по 6-10'!J31+'декабрь 2014г. по 0,4'!J28 -> 39 | K31: ='декабрь 2014г. по 6-10'!K31+'декабрь 2014г. по 0,4'!K28 -> 417 | ... Q31: ='декабрь 2014г. по 6-10'!Q31+'декабрь 2014г. по 0,4'!Q28 -> 0
C32: ПС Изберг- Сев. | D32: ='декабрь 2014г. по 6-10'!D32+'декабрь 2014г. по 0,4'!D29 -> 75 | E32: ='декабрь 2014г. по 6-10'!E32+'декабрь 2014г. по 0,4'!E29 -> 1909 | F32: ='декабрь 2014г. по 6-10'!F32+'декабрь 2014г. по 0,4'!F29 -> 51 | G32: ='декабрь 2014г. по 6-10'!G32+'декабрь 2014г. по 0,4'!G29 -> 1349 | H32: ='декабрь 2014г. по 6-10'!H32+'декабрь 2014г. по 0,4'!H29 -> 0 | I32: ='декабрь 2014г. по 6-10'!I32+'декабрь 2014г. по 0,4'!I29 -> 0 | J32: ='декабрь 2014г. по 6-10'!J32+'декабрь 2014г. по 0,4'!J29 -> 46 | K32: ='декабрь 2014г. по 6-10'!K32+'декабрь 2014г. по 0,4'!K29 -> 730 | ... Q32: ='декабрь 2014г. по 6-10'!Q32+'декабрь 2014г. по 0,4'!Q29 -> 0
C33: ПС Изберг- Южн. | D33: ='декабрь 2014г. по 6-10'!D33+'декабрь 2014г. по 0,4'!D30 -> 33 | E33: ='декабрь 2014г. по 6-10'!E33+'декабрь 2014г. по 0,4'!E30 -> 1243 | F33: ='декабрь 2014г. по 6-10'!F33+'декабрь 2014г. по 0,4'!F30 -> 31 | G33: ='декабрь 2014г. по 6-10'!G33+'декабрь 2014г. по 0,4'!G30 -> 1189 | H33: ='декабрь 2014г. по 6-10'!H33+'декабрь 2014г. по 0,4'!H30 -> 0 | I33: ='декабрь 2014г. по 6-10'!I33+'декабрь 2014г. по 0,4'!I30 -> 0 | J33: ='декабрь 2014г. по 6-10'!J33+'декабрь 2014г. по 0,4'!J30 -> 30 | K33: ='декабрь 2014г. по 6-10'!K33+'декабрь 2014г. по 0,4'!K30 -> 540 | ... Q33: ='декабрь 2014г. по 6-10'!Q33+'декабрь 2014г. по 0,4'!Q30 -> 0
C34: ПС Карабуд-т | D34: ='декабрь 2014г. по 6-10'!D34+'декабрь 2014г. по 0,4'!D31 -> 59 | E34: ='декабрь 2014г. по 6-10'!E34+'декабрь 2014г. по 0,4'!E31 -> 791 | F34: ='декабрь 2014г. по 6-10'!F34+'декабрь 2014г. по 0,4'!F31 -> 36 | G34: ='декабрь 2014г. по 6-10'!G34+'декабрь 2014г. по 0,4'!G31 -> 596 | H34: ='декабрь 2014г. по 6-10'!H34+'декабрь 2014г. по 0,4'!H31 -> 0 | I34: ='декабрь 2014г. по 6-10'!I34+'декабрь 2014г. по 0,4'!I31 -> 0 | J34: ='декабрь 2014г. по 6-10'!J34+'декабрь 2014г. по 0,4'!J31 -> 44 | K34: ='декабрь 2014г. по 6-10'!K34+'декабрь 2014г. по 0,4'!K31 -> 455 | ... Q34: ='декабрь 2014г. по 6-10'!Q34+'декабрь 2014г. по 0,4'!Q31 -> 0
... C63: ПС ЗТМ (Т, Механика) | D63: ='декабрь 2014г. по 6-10'!D63+'декабрь 2014г. по 0,4'!D60 -> 16 | E63: ='декабрь 2014г. по 6-10'!E63+'декабрь 2014г. по 0,4'!E60 -> 981 | F63: ='декабрь 2014г. по 6-10'!F63+'декабрь 2014г. по 0,4'!F60 -> 4 | G63: ='декабрь 2014г. по 6-10'!G63+'декабрь 2014г. по 0,4'!G60 -> 485 | H63: ='декабрь 2014г. по 6-10'!H63+'декабрь 2014г. по 0,4'!H60 -> 0 | I63: ='декабрь 2014г. по 6-10'!I63+'декабрь 2014г. по 0,4'!I60 -> 0 | J63: ='декабрь 2014г. по 6-10'!J63+'декабрь 2014г. по 0,4'!J60 -> 15 | K63: ='декабрь 2014г. по 6-10'!K63+'декабрь 2014г. по 0,4'!K60 -> 105 | ... Q63: ='декабрь 2014г. по 6-10'!Q63+'декабрь 2014г. по 0,4'!Q60 -> 0
C64: итого: | D64: =SUM(D23:D63) -> 1172 | E64: =SUM(E23:E63) -> 32714.15 | F64: =SUM(F23:F63) -> 767 | G64: =SUM(G23:G63) -> 18914.6 | H64: =SUM(H23:H63) -> 0 | I64: =SUM(I23:I63) -> 0 | J64: =SUM(J23:J63) -> 905 | K64: =SUM(K23:K63) -> 11179.1 | ... Q64: =SUM(Q23:Q63) -> 0
C65: СЕВЕРНЫЕ СЕТИ
C66: Ярыксу | D66: ='декабрь 2014г. по 6-10'!D66+'декабрь 2014г. по 0,4'!D63 -> 114 | E66: ='декабрь 2014г. по 6-10'!E66+'декабрь 2014г. по 0,4'!E63 -> 3259.09 | F66: ='декабрь 2014г. по 6-10'!F66+'декабрь 2014г. по 0,4'!F63 -> 86 | G66: ='декабрь 2014г. по 6-10'!G66+'декабрь 2014г. по 0,4'!G63 -> 1473 | H66: ='декабрь 2014г. по 6-10'!H66+'декабрь 2014г. по 0,4'!H63 -> 0 | I66: ='декабрь 2014г. по 6-10'!I66+'декабрь 2014г. по 0,4'!I63 -> 0 | J66: ='декабрь 2014г. по 6-10'!J66+'декабрь 2014г. по 0,4'!J63 -> 46 | K66: ='декабрь 2014г. по 6-10'!K66+'декабрь 2014г. по 0,4'!K63 -> 580 | ... Q66: ='декабрь 2014г. по 6-10'!Q66+'декабрь 2014г. по 0,4'!Q63 -> 0
C67: Акташ | D67: ='декабрь 2014г. по 6-10'!D67+'декабрь 2014г. по 0,4'!D64 -> 56 | E67: ='декабрь 2014г. по 6-10'!E67+'декабрь 2014г. по 0,4'!E64 -> 1597.5 | F67: ='декабрь 2014г. по 6-10'!F67+'декабрь 2014г. по 0,4'!F64 -> 45 | G67: ='декабрь 2014г. по 6-10'!G67+'декабрь 2014г. по 0,4'!G64 -> 735.5 | H67: ='декабрь 2014г. по 6-10'!H67+'декабрь 2014г. по 0,4'!H64 -> 0 | I67: ='декабрь 2014г. по 6-10'!I67+'декабрь 2014г. по 0,4'!I64 -> 0 | J67: ='декабрь 2014г. по 6-10'!J67+'декабрь 2014г. по 0,4'!J64 -> 36 | K67: ='декабрь 2014г. по 6-10'!K67+'декабрь 2014г. по 0,4'!K64 -> 790 | ... Q67: ='декабрь 2014г. по 6-10'!Q67+'декабрь 2014г. по 0,4'!Q64 -> 0
C68: Куруш | D68: ='декабрь 2014г. по 6-10'!D68+'декабрь 2014г. по 0,4'!D65 -> 37 | E68: ='декабрь 2014г. по 6-10'!E68+'декабрь 2014г. по 0,4'!E65 -> 1160 | F68: ='декабрь 2014г. по 6-10'!F68+'декабрь 2014г. по 0,4'!F65 -> 14 | G68: ='декабрь 2014г. по 6-10'!G68+'декабрь 2014г. по 0,4'!G65 -> 399.5 | H68: ='декабрь 2014г. по 6-10'!H68+'декабрь 2014г. по 0,4'!H65 -> 0 | I68: ='декабрь 2014г. по 6-10'!I68+'декабрь 2014г. по 0,4'!I65 -> 0 | J68: ='декабрь 2014г. по 6-10'!J68+'декабрь 2014г. по 0,4'!J65 -> 4 | K68: ='декабрь 2014г. по 6-10'!K68+'декабрь 2014г. по 0,4'!K65 -> 10 | ... Q68: ='декабрь 2014г. по 6-10'!Q68+'декабрь 2014г. по 0,4'!Q65 -> 0
C69: Сулевкент | D69: ='декабрь 2014г. по 6-10'!D69+'декабрь 2014г. по 0,4'!D66 -> 2 | E69: ='декабрь 2014г. по 6-10'!E69+'декабрь 2014г. по 0,4'!E66 -> 125 | F69: ='декабрь 2014г. по 6-10'!F69+'декабрь 2014г. по 0,4'!F66 -> 2 | G69: ='декабрь 2014г. по 6-10'!G69+'декабрь 2014г. по 0,4'!G66 -> 25 | H69: ='декабрь 2014г. по 6-10'!H69+'декабрь 2014г. по 0,4'!H66 -> 0 | I69: ='декабрь 2014г. по 6-10'!I69+'декабрь 2014г. по 0,4'!I66 -> 0 | J69: ='декабрь 2014г. по 6-10'!J69+'декабрь 2014г. по 0,4'!J66 -> 2 | K69: ='декабрь 2014г. по 6-10'!K69+'декабрь 2014г. по 0,4'!K66 -> 125 | ... Q69: ='декабрь 2014г. по 6-10'!Q69+'декабрь 2014г. по 0,4'!Q66 -> 0
C70: Бабаюрт | D70: ='декабрь 2014г. по 6-10'!D70+'декабрь 2014г. по 0,4'!D67 -> 14 | E70: ='декабрь 2014г. по 6-10'!E70+'декабрь 2014г. по 0,4'!E67 -> 461 | F70: ='декабрь 2014г. по 6-10'!F70+'декабрь 2014г. по 0,4'!F67 -> 11 | G70: ='декабрь 2014г. по 6-10'!G70+'декабрь 2014г. по 0,4'!G67 -> 157 | H70: ='декабрь 2014г. по 6-10'!H70+'декабрь 2014г. по 0,4'!H67 -> 0 | I70: ='декабрь 2014г. по 6-10'!I70+'декабрь 2014г. по 0,4'!I67 -> 0 | J70: ='декабрь 2014г. по 6-10'!J70+'декабрь 2014г. по 0,4'!J67 -> 11 | K70: ='декабрь 2014г. по 6-10'!K70+'декабрь 2014г. по 0,4'!K67 -> 136 | ... Q70: ='декабрь 2014г. по 6-10'!Q70+'декабрь 2014г. по 0,4'!Q67 -> 0
C71: Чиркей | D71: ='декабрь 2014г. по 6-10'!D71+'декабрь 2014г. по 0,4'!D68 -> 1 | E71: ='декабрь 2014г. по 6-10'!E71+'декабрь 2014г. по 0,4'!E68 -> 10 | F71: ='декабрь 2014г. по 6-10'!F71+'декабрь 2014г. по 0,4'!F68 -> 1 | G71: ='декабрь 2014г. по 6-10'!G71+'декабрь 2014г. по 0,4'!G68 -> 10 | H71: ='декабрь 2014г. по 6-10'!H71+'декабрь 2014г. по 0,4'!H68 -> 0 | I71: ='декабрь 2014г. по 6-10'!I71+'декабрь 2014г. по 0,4'!I68 -> 0 | J71: ='декабрь 2014г. по 6-10'!J71+'декабрь 2014г. по 0,4'!J68 -> 1 | K71: ='декабрь 2014г. по 6-10'!K71+'декабрь 2014г. по 0,4'!K68 -> 10 | ... Q71: ='декабрь 2014г. по 6-10'!Q71+'декабрь 2014г. по 0,4'!Q68 -> 0
C72: Дылым | D72: ='декабрь 2014г. по 6-10'!D72+'декабрь 2014г. по 0,4'!D69 -> 26 | E72: ='декабрь 2014г. по 6-10'!E72+'декабрь 2014г. по 0,4'!E69 -> 230 | F72: ='декабрь 2014г. по 6-10'!F72+'декабрь 2014г. по 0,4'!F69 -> 21 | G72: ='декабрь 2014г. по 6-10'!G72+'декабрь 2014г. по 0,4'!G69 -> 160 | H72: ='декабрь 2014г. по 6-10'!H72+'декабрь 2014г. по 0,4'!H69 -> 0 | I72: ='декабрь 2014г. по 6-10'!I72+'декабрь 2014г. по 0,4'!I69 -> 0 | J72: ='декабрь 2014г. по 6-10'!J72+'декабрь 2014г. по 0,4'!J69 -> 16 | K72: ='декабрь 2014г. по 6-10'!K72+'декабрь 2014г. по 0,4'!K69 -> 130 | ... Q72: ='декабрь 2014г. по 6-10'!Q72+'декабрь 2014г. по 0,4'!Q69 -> 0
C73: Миатлы | D73: ='декабрь 2014г. по 6-10'!D73+'декабрь 2014г. по 0,4'!D70 -> 3 | E73: ='декабрь 2014г. по 6-10'!E73+'декабрь 2014г. по 0,4'!E70 -> 15 | F73: ='декабрь 2014г. по 6-10'!F73+'декабрь 2014г. по 0,4'!F70 -> 3 | G73: ='декабрь 2014г. по 6-10'!G73+'декабрь 2014г. по 0,4'!G70 -> 15 | H73: ='декабрь 2014г. по 6-10'!H73+'декабрь 2014г. по 0,4'!H70 -> 0 | I73: ='декабрь 2014г. по 6-10'!I73+'декабрь 2014г. по 0,4'!I70 -> 0 | J73: ='декабрь 2014г. по 6-10'!J73+'декабрь 2014г. по 0,4'!J70 -> 3 | K73: ='декабрь 2014г. по 6-10'!K73+'декабрь 2014г. по 0,4'!K70 -> 15 | ... Q73: ='декабрь 2014г. по 6-10'!Q73+'декабрь 2014г. по 0,4'!Q70 -> 0
C74: ГЩЗ | D74: ='декабрь 2014г. по 6-10'!D74+'декабрь 2014г. по 0,4'!D71 -> 26 | E74: ='декабрь 2014г. по 6-10'!E74+'декабрь 2014г. по 0,4'!E71 -> 502 | F74: ='декабрь 2014г. по 6-10'!F74+'декабрь 2014г. по 0,4'!F71 -> 23 | G74: ='декабрь 2014г. по 6-10'!G74+'декабрь 2014г. по 0,4'!G71 -> 262 | H74: ='декабрь 2014г. по 6-10'!H74+'декабрь 2014г. по 0,4'!H71 -> 0 | I74: ='декабрь 2014г. по 6-10'!I74+'декабрь 2014г. по 0,4'!I71 -> 0 | J74: ='декабрь 2014г. по 6-10'!J74+'декабрь 2014г. по 0,4'!J71 -> 25 | K74: ='декабрь 2014г. по 6-10'!K74+'декабрь 2014г. по 0,4'!K71 -> 542 | ... Q74: ='декабрь 2014г. по 6-10'!Q74+'декабрь 2014г. по 0,4'!Q71 -> 0
C75: Сулак | D75: ='декабрь 2014г. по 6-10'!D75+'декабрь 2014г. по 0,4'!D72 -> 1 | E75: ='декабрь 2014г. по 6-10'!E75+'декабрь 2014г. по 0,4'!E72 -> 6 | F75: ='декабрь 2014г. по 6-10'!F75+'декабрь 2014г. по 0,4'!F72 -> 1 | G75: ='декабрь 2014г. по 6-10'!G75+'декабрь 2014г. по 0,4'!G72 -> 6 | H75: ='декабрь 2014г. по 6-10'!H75+'декабрь 2014г. по 0,4'!H72 -> 0 | I75: ='декабрь 2014г. по 6-10'!I75+'декабрь 2014г. по 0,4'!I72 -> 0 | J75: ='декабрь 2014г. по 6-10'!J75+'декабрь 2014г. по 0,4'!J72 -> 1 | K75: ='декабрь 2014г. по 6-10'!K75+'декабрь 2014г. по 0,4'!K72 -> 6 | ... Q75: ='декабрь 2014г. по 6-10'!Q75+'декабрь 2014г. по 0,4'!Q72 -> 0
C76: Львовская | D76: ='декабрь 2014г. по 6-10'!D76+'декабрь 2014г. по 0,4'!D73 -> 12 | E76: ='декабрь 2014г. по 6-10'!E76+'декабрь 2014г. по 0,4'!E73 -> 92 | F76: ='декабрь 2014г. по 6-10'!F76+'декабрь 2014г. по 0,4'!F73 -> 0 | G76: ='декабрь 2014г. по 6-10'!G76+'декабрь 2014г. по 0,4'!G73 -> 0 | H76: ='декабрь 2014г. по 6-10'!H76+'декабрь 2014г. по 0,4'!H73 -> 0 | I76: ='декабрь 2014г. по 6-10'!I76+'декабрь 2014г. по 0,4'!I73 -> 0 | J76: ='декабрь 2014г. по 6-10'!J76+'декабрь 2014г. по 0,4'!J73 -> 29 | K76: ='декабрь 2014г. по 6-10'!K76+'декабрь 2014г. по 0,4'!K73 -> 198 | ... Q76: ='декабрь 2014г. по 6-10'!Q76+'декабрь 2014г. по 0,4'!Q73 -> 0
C77: Дагестан | D77: ='декабрь 2014г. по 6-10'!D77+'декабрь 2014г. по 0,4'!D74 -> 17 | E77: ='декабрь 2014г. по 6-10'!E77+'декабрь 2014г. по 0,4'!E74 -> 438 | F77: ='декабрь 2014г. по 6-10'!F77+'декабрь 2014г. по 0,4'!F74 -> 16 | G77: ='декабрь 2014г. по 6-10'!G77+'декабрь 2014г. по 0,4'!G74 -> 138 | H77: ='декабрь 2014г. по 6-10'!H77+'декабрь 2014г. по 0,4'!H74 -> 0 | I77: ='декабрь 2014г. по 6-10'!I77+'декабрь 2014г. по 0,4'!I74 -> 0 | J77: ='декабрь 2014г. по 6-10'!J77+'декабрь 2014г. по 0,4'!J74 -> 10 | K77: ='декабрь 2014г. по 6-10'!K77+'декабрь 2014г. по 0,4'!K74 -> 60 | ... Q77: ='декабрь 2014г. по 6-10'!Q77+'декабрь 2014г. по 0,4'!Q74 -> 0
... C101: Карланюрт -(Тяговая) | D101: ='декабрь 2014г. по 6-10'!D101+'декабрь 2014г. по 0,4'!D98 -> 5 | E101: ='декабрь 2014г. по 6-10'!E101+'декабрь 2014г. по 0,4'!E98 -> 455 | F101: ='декабрь 2014г. по 6-10'!F101+'декабрь 2014г. по 0,4'!F98 -> 5 | G101: ='декабрь 2014г. по 6-10'!G101+'декабрь 2014г. по 0,4'!G98 -> 455 | H101: ='декабрь 2014г. по 6-10'!H101+'декабрь 2014г. по 0,4'!H98 -> 0 | I101: ='декабрь 2014г. по 6-10'!I101+'декабрь 2014г. по 0,4'!I98 -> 0 | J101: ='декабрь 2014г. по 6-10'!J101+'декабрь 2014г. по 0,4'!J98 -> 0 | K101: ='декабрь 2014г. по 6-10'!K101+'декабрь 2014г. по 0,4'!K98 -> 0 | ... Q101: ='декабрь 2014г. по 6-10'!Q101+'декабрь 2014г. по 0,4'!Q98 -> 0
C102: итого: | D102: =SUM(D66:D101) -> 435 | E102: =SUM(E66:E101) -> 11917.59 | F102: =SUM(F66:F101) -> 316 | G102: =SUM(G66:G101) -> 5711.5 | H102: =SUM(H66:H101) -> 0 | I102: =SUM(I66:I101) -> 0 | J102: =SUM(J66:J101) -> 317 | K102: =SUM(K66:K101) -> 4795 | ... Q102: =SUM(Q66:Q101) -> 0
C103: ДЕРБЕНТСКИЕ СЕТИ
C104: Дербент-330 | D104: ='декабрь 2014г. по 6-10'!D104+'декабрь 2014г. по 0,4'!D101 -> 96 | E104: ='декабрь 2014г. по 6-10'!E104+'декабрь 2014г. по 0,4'!E101 -> 3562 | F104: ='декабрь 2014г. по 6-10'!F104+'декабрь 2014г. по 0,4'!F101 -> 57 | G104: ='декабрь 2014г. по 6-10'!G104+'декабрь 2014г. по 0,4'!G101 -> 2095 | H104: ='декабрь 2014г. по 6-10'!H104+'декабрь 2014г. по 0,4'!H101 -> 0 | I104: ='декабрь 2014г. по 6-10'!I104+'декабрь 2014г. по 0,4'!I101 -> 0 | J104: ='декабрь 2014г. по 6-10'!J104+'декабрь 2014г. по 0,4'!J101 -> 78 | K104: ='декабрь 2014г. по 6-10'!K104+'декабрь 2014г. по 0,4'!K101 -> 1440 | ... Q104: ='декабрь 2014г. по 6-10'!Q104+'декабрь 2014г. по 0,4'!Q101 -> 0
C105: Дербент-С | D105: ='декабрь 2014г. по 6-10'!D105+'декабрь 2014г. по 0,4'!D102 -> 49 | E105: ='декабрь 2014г. по 6-10'!E105+'декабрь 2014г. по 0,4'!E102 -> 2293.9 | F105: ='декабрь 2014г. по 6-10'!F105+'декабрь 2014г. по 0,4'!F102 -> 34 | G105: ='декабрь 2014г. по 6-10'!G105+'декабрь 2014г. по 0,4'!G102 -> 373 | H105: ='декабрь 2014г. по 6-10'!H105+'декабрь 2014г. по 0,4'!H102 -> 0 | I105: ='декабрь 2014г. по 6-10'!I105+'декабрь 2014г. по 0,4'!I102 -> 0 | J105: ='декабрь 2014г. по 6-10'!J105+'декабрь 2014г. по 0,4'!J102 -> 47 | K105: ='декабрь 2014г. по 6-10'!K105+'декабрь 2014г. по 0,4'!K102 -> 875 | ... Q105: ='декабрь 2014г. по 6-10'!Q105+'декабрь 2014г. по 0,4'!Q102 -> 0
C106: Мамедкала | D106: ='декабрь 2014г. по 6-10'!D106+'декабрь 2014г. по 0,4'!D103 -> 25 | E106: ='декабрь 2014г. по 6-10'!E106+'декабрь 2014г. по 0,4'!E103 -> 494.25 | F106: ='декабрь 2014г. по 6-10'!F106+'декабрь 2014г. по 0,4'!F103 -> 24 | G106: ='декабрь 2014г. по 6-10'!G106+'декабрь 2014г. по 0,4'!G103 -> 188 | H106: ='декабрь 2014г. по 6-10'!H106+'декабрь 2014г. по 0,4'!H103 -> 0 | I106: ='декабрь 2014г. по 6-10'!I106+'декабрь 2014г. по 0,4'!I103 -> 0 | J106: ='декабрь 2014г. по 6-10'!J106+'декабрь 2014г. по 0,4'!J103 -> 31 | K106: ='декабрь 2014г. по 6-10'!K106+'декабрь 2014г. по 0,4'!K103 -> 370 | ... Q106: ='декабрь 2014г. по 6-10'!Q106+'декабрь 2014г. по 0,4'!Q103 -> 0
C107: Каякент | D107: ='декабрь 2014г. по 6-10'!D107+'декабрь 2014г. по 0,4'!D104 -> 38 | E107: ='декабрь 2014г. по 6-10'!E107+'декабрь 2014г. по 0,4'!E104 -> 1853.25 | F107: ='декабрь 2014г. по 6-10'!F107+'декабрь 2014г. по 0,4'!F104 -> 34 | G107: ='декабрь 2014г. по 6-10'!G107+'декабрь 2014г. по 0,4'!G104 -> 881.25 | H107: ='декабрь 2014г. по 6-10'!H107+'декабрь 2014г. по 0,4'!H104 -> 0 | I107: ='декабрь 2014г. по 6-10'!I107+'декабрь 2014г. по 0,4'!I104 -> 0 | J107: ='декабрь 2014г. по 6-10'!J107+'декабрь 2014г. по 0,4'!J104 -> 27 | K107: ='декабрь 2014г. по 6-10'!K107+'декабрь 2014г. по 0,4'!K104 -> 292 | ... Q107: ='декабрь 2014г. по 6-10'!Q107+'декабрь 2014г. по 0,4'!Q104 -> 0
C108: Белиджи | D108: ='декабрь 2014г. по 6-10'!D108+'декабрь 2014г. по 0,4'!D105 -> 27 | E108: ='декабрь 2014г. по 6-10'!E108+'декабрь 2014г. по 0,4'!E105 -> 1080 | F108: ='декабрь 2014г. по 6-10'!F108+'декабрь 2014г. по 0,4'!F105 -> 22 | G108: ='декабрь 2014г. по 6-10'!G108+'декабрь 2014г. по 0,4'!G105 -> 529 | H108: ='декабрь 2014г. по 6-10'!H108+'декабрь 2014г. по 0,4'!H105 -> 0 | I108: ='декабрь 2014г. по 6-10'!I108+'декабрь 2014г. по 0,4'!I105 -> 0 | J108: ='декабрь 2014г. по 6-10'!J108+'декабрь 2014г. по 0,4'!J105 -> 17 | K108: ='декабрь 2014г. по 6-10'!K108+'декабрь 2014г. по 0,4'!K105 -> 204 | ... Q108: ='декабрь 2014г. по 6-10'!Q108+'декабрь 2014г. по 0,4'!Q105 -> 0
C109: Касумкент | D109: ='декабрь 2014г. по 6-10'!D109+'декабрь 2014г. по 0,4'!D106 -> 16 | E109: ='декабрь 2014г. по 6-10'!E109+'декабрь 2014г. по 0,4'!E106 -> 894.5 | F109: ='декабрь 2014г. по 6-10'!F109+'декабрь 2014г. по 0,4'!F106 -> 12 | G109: ='декабрь 2014г. по 6-10'!G109+'декабрь 2014г. по 0,4'!G106 -> 169.5 | H109: ='декабрь 2014г. по 6-10'!H109+'декабрь 2014г. по 0,4'!H106 -> 0 | I109: ='декабрь 2014г. по 6-10'!I109+'декабрь 2014г. по 0,4'!I106 -> 0 | J109: ='декабрь 2014г. по 6-10'!J109+'декабрь 2014г. по 0,4'!J106 -> 7 | K109: ='декабрь 2014г. по 6-10'!K109+'декабрь 2014г. по 0,4'!K106 -> 64.5 | ... Q109: ='декабрь 2014г. по 6-10'!Q109+'декабрь 2014г. по 0,4'!Q106 -> 0
C110: Советская | D110: ='декабрь 2014г. по 6-10'!D110+'декабрь 2014г. по 0,4'!D107 -> 14 | E110: ='декабрь 2014г. по 6-10'!E110+'декабрь 2014г. по 0,4'!E107 -> 340 | F110: ='декабрь 2014г. по 6-10'!F110+'декабрь 2014г. по 0,4'!F107 -> 14 | G110: ='декабрь 2014г. по 6-10'!G110+'декабрь 2014г. по 0,4'!G107 -> 140 | H110: ='декабрь 2014г. по 6-10'!H110+'декабрь 2014г. по 0,4'!H107 -> 0 | I110: ='декабрь 2014г. по 6-10'!I110+'декабрь 2014г. по 0,4'!I107 -> 0 | J110: ='декабрь 2014г. по 6-10'!J110+'декабрь 2014г. по 0,4'!J107 -> 11 | K110: ='декабрь 2014г. по 6-10'!K110+'декабрь 2014г. по 0,4'!K107 -> 85 | ... Q110: ='декабрь 2014г. по 6-10'!Q110+'декабрь 2014г. по 0,4'!Q107 -> 0
C111: Магарамкент | D111: ='декабрь 2014г. по 6-10'!D111+'декабрь 2014г. по 0,4'!D108 -> 46 | E111: ='декабрь 2014г. по 6-10'!E111+'декабрь 2014г. по 0,4'!E108 -> 835 | F111: ='декабрь 2014г. по 6-10'!F111+'декабрь 2014г. по 0,4'!F108 -> 30 | G111: ='декабрь 2014г. по 6-10'!G111+'декабрь 2014г. по 0,4'!G108 -> 314.5 | H111: ='декабрь 2014г. по 6-10'!H111+'декабрь 2014г. по 0,4'!H108 -> 0 | I111: ='декабрь 2014г. по 6-10'!I111+'декабрь 2014г. по 0,4'!I108 -> 0 | J111: ='декабрь 2014г. по 6-10'!J111+'декабрь 2014г. по 0,4'!J108 -> 41 | K111: ='декабрь 2014г. по 6-10'!K111+'декабрь 2014г. по 0,4'!K108 -> 415 | ... Q111: ='декабрь 2014г. по 6-10'!Q111+'декабрь 2014г. по 0,4'!Q108 -> 0
C112: Тагиркент | D112: ='декабрь 2014г. по 6-10'!D112+'декабрь 2014г. по 0,4'!D109 -> 16 | E112: ='декабрь 2014г. по 6-10'!E112+'декабрь 2014г. по 0,4'!E109 -> 96 | F112: ='декабрь 2014г. по 6-10'!F112+'декабрь 2014г. по 0,4'!F109 -> 14 | G112: ='декабрь 2014г. по 6-10'!G112+'декабрь 2014г. по 0,4'!G109 -> 88 | H112: ='декабрь 2014г. по 6-10'!H112+'декабрь 2014г. по 0,4'!H109 -> 0 | I112: ='декабрь 2014г. по 6-10'!I112+'декабрь 2014г. по 0,4'!I109 -> 0 | J112: ='декабрь 2014г. по 6-10'!J112+'декабрь 2014г. по 0,4'!J109 -> 13 | K112: ='декабрь 2014г. по 6-10'!K112+'декабрь 2014г. по 0,4'!K109 -> 69 | ... Q112: ='декабрь 2014г. по 6-10'!Q112+'декабрь 2014г. по 0,4'!Q109 -> 0
C113: Ахты | D113: ='декабрь 2014г. по 6-10'!D113+'декабрь 2014г. по 0,4'!D110 -> 11 | E113: ='декабрь 2014г. по 6-10'!E113+'декабрь 2014г. по 0,4'!E110 -> 100.65 | F113: ='декабрь 2014г. по 6-10'!F113+'декабрь 2014г. по 0,4'!F110 -> 10 | G113: ='декабрь 2014г. по 6-10'!G113+'декабрь 2014г. по 0,4'!G110 -> 71.4 | H113: ='декабрь 2014г. по 6-10'!H113+'декабрь 2014г. по 0,4'!H110 -> 0 | I113: ='декабрь 2014г. по 6-10'!I113+'декабрь 2014г. по 0,4'!I110 -> 0 | J113: ='декабрь 2014г. по 6-10'!J113+'декабрь 2014г. по 0,4'!J110 -> 9 | K113: ='декабрь 2014г. по 6-10'!K113+'декабрь 2014г. по 0,4'!K110 -> 46.4 | ... Q113: ='декабрь 2014г. по 6-10'!Q113+'декабрь 2014г. по 0,4'!Q110 -> 0
C114: Огни | D114: ='декабрь 2014г. по 6-10'!D114+'декабрь 2014г. по 0,4'!D111 -> 18 | E114: ='декабрь 2014г. по 6-10'!E114+'декабрь 2014г. по 0,4'!E111 -> 1655.5 | F114: ='декабрь 2014г. по 6-10'!F114+'декабрь 2014г. по 0,4'!F111 -> 11 | G114: ='декабрь 2014г. по 6-10'!G114+'декабрь 2014г. по 0,4'!G111 -> 509.5 | H114: ='декабрь 2014г. по 6-10'!H114+'декабрь 2014г. по 0,4'!H111 -> 0 | I114: ='декабрь 2014г. по 6-10'!I114+'декабрь 2014г. по 0,4'!I111 -> 0 | J114: ='декабрь 2014г. по 6-10'!J114+'декабрь 2014г. по 0,4'!J111 -> 14 | K114: ='декабрь 2014г. по 6-10'!K114+'декабрь 2014г. по 0,4'!K111 -> 174.5 | ... Q114: ='декабрь 2014г. по 6-10'!Q114+'декабрь 2014г. по 0,4'!Q111 -> 0
C115: Усухчай | D115: ='декабрь 2014г. по 6-10'!D115+'декабрь 2014г. по 0,4'!D112 -> 7 | E115: ='декабрь 2014г. по 6-10'!E115+'декабрь 2014г. по 0,4'!E112 -> 265 | F115: ='декабрь 2014г. по 6-10'!F115+'декабрь 2014г. по 0,4'!F112 -> 2 | G115: ='декабрь 2014г. по 6-10'!G115+'декабрь 2014г. по 0,4'!G112 -> 220 | H115: ='декабрь 2014г. по 6-10'!H115+'декабрь 2014г. по 0,4'!H112 -> 0 | I115: ='декабрь 2014г. по 6-10'!I115+'декабрь 2014г. по 0,4'!I112 -> 0 | J115: ='декабрь 2014г. по 6-10'!J115+'декабрь 2014г. по 0,4'!J112 -> 5 | K115: ='декабрь 2014г. по 6-10'!K115+'декабрь 2014г. по 0,4'!K112 -> 45 | ... Q115: ='декабрь 2014г. по 6-10'!Q115+'декабрь 2014г. по 0,4'!Q112 -> 0
... C152: Морская | D152: ='декабрь 2014г. по 6-10'!D152+'декабрь 2014г. по 0,4'!D149 -> 4 | E152: ='декабрь 2014г. по 6-10'!E152+'декабрь 2014г. по 0,4'!E149 -> 20 | F152: ='декабрь 2014г. по 6-10'!F152+'декабрь 2014г. по 0,4'!F149 -> 4 | G152: ='декабрь 2014г. по 6-10'!G152+'декабрь 2014г. по 0,4'!G149 -> 20 | H152: ='декабрь 2014г. по 6-10'!H152+'декабрь 2014г. по 0,4'!H149 -> 0 | I152: ='декабрь 2014г. по 6-10'!I152+'декабрь 2014г. по 0,4'!I149 -> 0 | J152: ='декабрь 2014г. по 6-10'!J152+'декабрь 2014г. по 0,4'!J149 -> 4 | K152: ='декабрь 2014г. по 6-10'!K152+'декабрь 2014г. по 0,4'!K149 -> 20 | ... Q152: ='декабрь 2014г. по 6-10'!Q152+'декабрь 2014г. по 0,4'!Q149 -> 0
C153: итого: | D153: =SUM(D104:D152) -> 645 | E153: =SUM(E104:E152) -> 21363.45 | F153: =SUM(F104:F152) -> 453 | G153: =SUM(G104:G152) -> 9398.45 | H153: =SUM(H104:H152) -> 0 | I153: =SUM(I104:I152) -> 0 | J153: =SUM(J104:J152) -> 531 | K153: =SUM(K104:K152) -> 6680.4 | ... Q153: =SUM(Q104:Q152) -> 0
C154: ЗАТЕРЕЧНЫЕ СЕТИ
C155: Кизляр-1 | D155: ='декабрь 2014г. по 6-10'!D155+'декабрь 2014г. по 0,4'!D152 -> 91 | E155: ='декабрь 2014г. по 6-10'!E155+'декабрь 2014г. по 0,4'!E152 -> 2727.9 | F155: ='декабрь 2014г. по 6-10'!F155+'декабрь 2014г. по 0,4'!F152 -> 60 | G155: ='декабрь 2014г. по 6-10'!G155+'декабрь 2014г. по 0,4'!G152 -> 1089 | H155: ='декабрь 2014г. по 6-10'!H155+'декабрь 2014г. по 0,4'!H152 -> 0 | I155: ='декабрь 2014г. по 6-10'!I155+'декабрь 2014г. по 0,4'!I152 -> 0 | J155: ='декабрь 2014г. по 6-10'!J155+'декабрь 2014г. по 0,4'!J152 -> 44 | K155: ='декабрь 2014г. по 6-10'!K155+'декабрь 2014г. по 0,4'!K152 -> 842 | ... Q155: ='декабрь 2014г. по 6-10'!Q155+'декабрь 2014г. по 0,4'!Q152 -> 0
C156: Кизляр-2 | D156: ='декабрь 2014г. по 6-10'!D156+'декабрь 2014г. по 0,4'!D153 -> 72 | E156: ='декабрь 2014г. по 6-10'!E156+'декабрь 2014г. по 0,4'!E153 -> 2849.25 | F156: ='декабрь 2014г. по 6-10'!F156+'декабрь 2014г. по 0,4'!F153 -> 49 | G156: ='декабрь 2014г. по 6-10'!G156+'декабрь 2014г. по 0,4'!G153 -> 1916 | H156: ='декабрь 2014г. по 6-10'!H156+'декабрь 2014г. по 0,4'!H153 -> 0 | I156: ='декабрь 2014г. по 6-10'!I156+'декабрь 2014г. по 0,4'!I153 -> 0 | J156: ='декабрь 2014г. по 6-10'!J156+'декабрь 2014г. по 0,4'!J153 -> 26 | K156: ='декабрь 2014г. по 6-10'!K156+'декабрь 2014г. по 0,4'!K153 -> 647 | ... Q156: ='декабрь 2014г. по 6-10'!Q156+'декабрь 2014г. по 0,4'!Q153 -> 0
C157: Михеевка | D157: ='декабрь 2014г. по 6-10'!D157+'декабрь 2014г. по 0,4'!D154 -> 7 | E157: ='декабрь 2014г. по 6-10'!E157+'декабрь 2014г. по 0,4'!E154 -> 20 | F157: ='декабрь 2014г. по 6-10'!F157+'декабрь 2014г. по 0,4'!F154 -> 0 | G157: ='декабрь 2014г. по 6-10'!G157+'декабрь 2014г. по 0,4'!G154 -> 0 | H157: ='декабрь 2014г. по 6-10'!H157+'декабрь 2014г. по 0,4'!H154 -> 0 | I157: ='декабрь 2014г. по 6-10'!I157+'декабрь 2014г. по 0,4'!I154 -> 0 | J157: ='декабрь 2014г. по 6-10'!J157+'декабрь 2014г. по 0,4'!J154 -> 7 | K157: ='декабрь 2014г. по 6-10'!K157+'декабрь 2014г. по 0,4'!K154 -> 20 | ... Q157: ='декабрь 2014г. по 6-10'!Q157+'декабрь 2014г. по 0,4'!Q154 -> 0
C158: Хуцеевка | D158: ='декабрь 2014г. по 6-10'!D158+'декабрь 2014г. по 0,4'!D155 -> 1 | E158: ='декабрь 2014г. по 6-10'!E158+'декабрь 2014г. по 0,4'!E155 -> 15 | F158: ='декабрь 2014г. по 6-10'!F158+'декабрь 2014г. по 0,4'!F155 -> 1 | G158: ='декабрь 2014г. по 6-10'!G158+'декабрь 2014г. по 0,4'!G155 -> 15 | H158: ='декабрь 2014г. по 6-10'!H158+'декабрь 2014г. по 0,4'!H155 -> 0 | I158: ='декабрь 2014г. по 6-10'!I158+'декабрь 2014г. по 0,4'!I155 -> 0 | J158: ='декабрь 2014г. по 6-10'!J158+'декабрь 2014г. по 0,4'!J155 -> 1 | K158: ='декабрь 2014г. по 6-10'!K158+'декабрь 2014г. по 0,4'!K155 -> 6 | ... Q158: ='декабрь 2014г. по 6-10'!Q158+'декабрь 2014г. по 0,4'!Q155 -> 0
C159: Серебряковка | D159: ='декабрь 2014г. по 6-10'!D159+'декабрь 2014г. по 0,4'!D156 -> 15 | E159: ='декабрь 2014г. по 6-10'!E159+'декабрь 2014г. по 0,4'!E156 -> 84 | F159: ='декабрь 2014г. по 6-10'!F159+'декабрь 2014г. по 0,4'!F156 -> 0 | G159: ='декабрь 2014г. по 6-10'!G159+'декабрь 2014г. по 0,4'!G156 -> 0 | H159: ='декабрь 2014г. по 6-10'!H159+'декабрь 2014г. по 0,4'!H156 -> 0 | I159: ='декабрь 2014г. по 6-10'!I159+'декабрь 2014г. по 0,4'!I156 -> 0 | J159: ='декабрь 2014г. по 6-10'!J159+'декабрь 2014г. по 0,4'!J156 -> 15 | K159: ='декабрь 2014г. по 6-10'!K159+'декабрь 2014г. по 0,4'!K156 -> 84 | ... Q159: ='декабрь 2014г. по 6-10'!Q159+'декабрь 2014г. по 0,4'!Q156 -> 0
C160: Октябрьская | D160: ='декабрь 2014г. по 6-10'!D160+'декабрь 2014г. по 0,4'!D157 -> 2 | E160: ='декабрь 2014г. по 6-10'!E160+'декабрь 2014г. по 0,4'!E157 -> 105 | F160: ='декабрь 2014г. по 6-10'!F160+'декабрь 2014г. по 0,4'!F157 -> 2 | G160: ='декабрь 2014г. по 6-10'!G160+'декабрь 2014г. по 0,4'!G157 -> 105 | H160: ='декабрь 2014г. по 6-10'!H160+'декабрь 2014г. по 0,4'!H157 -> 0 | I160: ='декабрь 2014г. по 6-10'!I160+'декабрь 2014г. по 0,4'!I157 -> 0 | J160: ='декабрь 2014г. по 6-10'!J160+'декабрь 2014г. по 0,4'!J157 -> 3 | K160: ='декабрь 2014г. по 6-10'!K160+'декабрь 2014г. по 0,4'!K157 -> 18 | ... Q160: ='декабрь 2014г. по 6-10'!Q160+'декабрь 2014г. по 0,4'!Q157 -> 0
C161: Некрасовка | D161: ='декабрь 2014г. по 6-10'!D161+'декабрь 2014г. по 0,4'!D158 -> 26 | E161: ='декабрь 2014г. по 6-10'!E161+'декабрь 2014г. по 0,4'!E158 -> 178 | F161: ='декабрь 2014г. по 6-10'!F161+'декабрь 2014г. по 0,4'!F158 -> 1 | G161: ='декабрь 2014г. по 6-10'!G161+'декабрь 2014г. по 0,4'!G158 -> 10 | H161: ='декабрь 2014г. по 6-10'!H161+'декабрь 2014г. по 0,4'!H158 -> 0 | I161: ='декабрь 2014г. по 6-10'!I161+'декабрь 2014г. по 0,4'!I158 -> 0 | J161: ='декабрь 2014г. по 6-10'!J161+'декабрь 2014г. по 0,4'!J158 -> 26 | K161: ='декабрь 2014г. по 6-10'!K161+'декабрь 2014г. по 0,4'!K158 -> 178 | ... Q161: ='декабрь 2014г. по 6-10'!Q161+'декабрь 2014г. по 0,4'!Q158 -> 0
C162: Б-Арешевка | D162: ='декабрь 2014г. по 6-10'!D162+'декабрь 2014г. по 0,4'!D159 -> 3 | E162: ='декабрь 2014г. по 6-10'!E162+'декабрь 2014г. по 0,4'!E159 -> 17 | F162: ='декабрь 2014г. по 6-10'!F162+'декабрь 2014г. по 0,4'!F159 -> 1 | G162: ='декабрь 2014г. по 6-10'!G162+'декабрь 2014г. по 0,4'!G159 -> 10 | H162: ='декабрь 2014г. по 6-10'!H162+'декабрь 2014г. по 0,4'!H159 -> 0 | I162: ='декабрь 2014г. по 6-10'!I162+'декабрь 2014г. по 0,4'!I159 -> 0 | J162: ='декабрь 2014г. по 6-10'!J162+'декабрь 2014г. по 0,4'!J159 -> 3 | K162: ='декабрь 2014г. по 6-10'!K162+'декабрь 2014г. по 0,4'!K159 -> 70 | ... Q162: ='декабрь 2014г. по 6-10'!Q162+'декабрь 2014г. по 0,4'!Q159 -> 0
C163: Александрия | D163: ='декабрь 2014г. по 6-10'!D163+'декабрь 2014г. по 0,4'!D160 -> 1 | E163: ='декабрь 2014г. по 6-10'!E163+'декабрь 2014г. по 0,4'!E160 -> 400 | F163: ='декабрь 2014г. по 6-10'!F163+'декабрь 2014г. по 0,4'!F160 -> 0 | G163: ='декабрь 2014г. по 6-10'!G163+'декабрь 2014г. по 0,4'!G160 -> 0 | H163: ='декабрь 2014г. по 6-10'!H163+'декабрь 2014г. по 0,4'!H160 -> 0 | I163: ='декабрь 2014г. по 6-10'!I163+'декабрь 2014г. по 0,4'!I160 -> 0 | J163: ='декабрь 2014г. по 6-10'!J163+'декабрь 2014г. по 0,4'!J160 -> 0 | K163: ='декабрь 2014г. по 6-10'!K163+'декабрь 2014г. по 0,4'!K160 -> 0 | ... Q163: ='декабрь 2014г. по 6-10'!Q163+'декабрь 2014г. по 0,4'!Q160 -> 0
C164: Крайновка | D164: ='декабрь 2014г. по 6-10'!D164+'декабрь 2014г. по 0,4'!D161 -> 17 | E164: ='декабрь 2014г. по 6-10'!E164+'декабрь 2014г. по 0,4'!E161 -> 1742 | F164: ='декабрь 2014г. по 6-10'!F164+'декабрь 2014г. по 0,4'!F161 -> 2 | G164: ='декабрь 2014г. по 6-10'!G164+'декабрь 2014г. по 0,4'!G161 -> 1575 | H164: ='декабрь 2014г. по 6-10'!H164+'декабрь 2014г. по 0,4'!H161 -> 0 | I164: ='декабрь 2014г. по 6-10'!I164+'декабрь 2014г. по 0,4'!I161 -> 0 | J164: ='декабрь 2014г. по 6-10'!J164+'декабрь 2014г. по 0,4'!J161 -> 9 | K164: ='декабрь 2014г. по 6-10'!K164+'декабрь 2014г. по 0,4'!K161 -> 111 | ... Q164: ='декабрь 2014г. по 6-10'!Q164+'декабрь 2014г. по 0,4'!Q161 -> 0
C165: Огузер | D165: ='декабрь 2014г. по 6-10'!D165+'декабрь 2014г. по 0,4'!D162 -> 0 | E165: ='декабрь 2014г. по 6-10'!E165+'декабрь 2014г. по 0,4'!E162 -> 0 | F165: ='декабрь 2014г. по 6-10'!F165+'декабрь 2014г. по 0,4'!F162 -> 0 | G165: ='декабрь 2014г. по 6-10'!G165+'декабрь 2014г. по 0,4'!G162 -> 0 | H165: ='декабрь 2014г. по 6-10'!H165+'декабрь 2014г. по 0,4'!H162 -> 0 | I165: ='декабрь 2014г. по 6-10'!I165+'декабрь 2014г. по 0,4'!I162 -> 0 | J165: ='декабрь 2014г. по 6-10'!J165+'декабрь 2014г. по 0,4'!J162 -> 0 | K165: ='декабрь 2014г. по 6-10'!K165+'декабрь 2014г. по 0,4'!K162 -> 0 | ... Q165: ='декабрь 2014г. по 6-10'!Q165+'декабрь 2014г. по 0,4'!Q162 -> 0
C166: Черняевка | D166: ='декабрь 2014г. по 6-10'!D166+'декабрь 2014г. по 0,4'!D163 -> 1 | E166: ='декабрь 2014г. по 6-10'!E166+'декабрь 2014г. по 0,4'!E163 -> 5 | F166: ='декабрь 2014г. по 6-10'!F166+'декабрь 2014г. по 0,4'!F163 -> 1 | G166: ='декабрь 2014г. по 6-10'!G166+'декабрь 2014г. по 0,4'!G163 -> 5 | H166: ='декабрь 2014г. по 6-10'!H166+'декабрь 2014г. по 0,4'!H163 -> 0 | I166: ='декабрь 2014г. по 6-10'!I166+'декабрь 2014г. по 0,4'!I163 -> 0 | J166: ='декабрь 2014г. по 6-10'!J166+'декабрь 2014г. по 0,4'!J163 -> 8 | K166: ='декабрь 2014г. по 6-10'!K166+'декабрь 2014г. по 0,4'!K163 -> 48 | ... Q166: ='декабрь 2014г. по 6-10'!Q166+'декабрь 2014г. по 0,4'!Q163 -> 0
... C184: КЭМЗ | D184: ='декабрь 2014г. по 6-10'!D184+'декабрь 2014г. по 0,4'!D181 -> 17 | E184: ='декабрь 2014г. по 6-10'!E184+'декабрь 2014г. по 0,4'!E181 -> 153 | F184: ='декабрь 2014г. по 6-10'!F184+'декабрь 2014г. по 0,4'!F181 -> 11 | G184: ='декабрь 2014г. по 6-10'!G184+'декабрь 2014г. по 0,4'!G181 -> 153 | H184: ='декабрь 2014г. по 6-10'!H184+'декабрь 2014г. по 0,4'!H181 -> 0 | I184: ='декабрь 2014г. по 6-10'!I184+'декабрь 2014г. по 0,4'!I181 -> 0 | J184: ='декабрь 2014г. по 6-10'!J184+'декабрь 2014г. по 0,4'!J181 -> 3 | K184: ='декабрь 2014г. по 6-10'!K184+'декабрь 2014г. по 0,4'!K181 -> 70 | ... Q184: ='декабрь 2014г. по 6-10'!Q184+'декабрь 2014г. по 0,4'!Q181 -> 0
C185: итого: | D185: =SUM(D155:D184) -> 389 | E185: =SUM(E155:E184) -> 10861.4 | F185: =SUM(F155:F184) -> 201 | G185: =SUM(G155:G184) -> 5795 | H185: =SUM(H155:H184) -> 0 | I185: =SUM(I155:I184) -> 0 | J185: =SUM(J155:J184) -> 262 | K185: =SUM(K155:K184) -> 3886 | ... Q185: =SUM(Q155:Q184) -> 0
C186: ЮЖНО-СУХОКУМСКИЕ СЕТИ
C187: Юж-Сухокумск | D187: ='декабрь 2014г. по 6-10'!D187+'декабрь 2014г. по 0,4'!D184 -> 76 | E187: ='декабрь 2014г. по 6-10'!E187+'декабрь 2014г. по 0,4'!E184 -> 536 | F187: ='декабрь 2014г. по 6-10'!F187+'декабрь 2014г. по 0,4'!F184 -> 31 | G187: ='декабрь 2014г. по 6-10'!G187+'декабрь 2014г. по 0,4'!G184 -> 155 | H187: ='декабрь 2014г. по 6-10'!H187+'декабрь 2014г. по 0,4'!H184 -> 0 | I187: ='декабрь 2014г. по 6-10'!I187+'декабрь 2014г. по 0,4'!I184 -> 0 | J187: ='декабрь 2014г. по 6-10'!J187+'декабрь 2014г. по 0,4'!J184 -> 61 | K187: ='декабрь 2014г. по 6-10'!K187+'декабрь 2014г. по 0,4'!K184 -> 220 | ... Q187: ='декабрь 2014г. по 6-10'!Q187+'декабрь 2014г. по 0,4'!Q184 -> 0
C188: Кр.партизан | D188: ='декабрь 2014г. по 6-10'!D188+'декабрь 2014г. по 0,4'!D185 -> 49 | E188: ='декабрь 2014г. по 6-10'!E188+'декабрь 2014г. по 0,4'!E185 -> 188 | F188: ='декабрь 2014г. по 6-10'!F188+'декабрь 2014г. по 0,4'!F185 -> 9 | G188: ='декабрь 2014г. по 6-10'!G188+'декабрь 2014г. по 0,4'!G185 -> 55 | H188: ='декабрь 2014г. по 6-10'!H188+'декабрь 2014г. по 0,4'!H185 -> 0 | I188: ='декабрь 2014г. по 6-10'!I188+'декабрь 2014г. по 0,4'!I185 -> 0 | J188: ='декабрь 2014г. по 6-10'!J188+'декабрь 2014г. по 0,4'!J185 -> 41 | K188: ='декабрь 2014г. по 6-10'!K188+'декабрь 2014г. по 0,4'!K185 -> 175 | ... Q188: ='декабрь 2014г. по 6-10'!Q188+'декабрь 2014г. по 0,4'!Q185 -> 0
C189: 3-я ферма | D189: ='декабрь 2014г. по 6-10'!D189+'декабрь 2014г. по 0,4'!D186 -> 14 | E189: ='декабрь 2014г. по 6-10'!E189+'декабрь 2014г. по 0,4'!E186 -> 90 | F189: ='декабрь 2014г. по 6-10'!F189+'декабрь 2014г. по 0,4'!F186 -> 6 | G189: ='декабрь 2014г. по 6-10'!G189+'декабрь 2014г. по 0,4'!G186 -> 63 | H189: ='декабрь 2014г. по 6-10'!H189+'декабрь 2014г. по 0,4'!H186 -> 0 | I189: ='декабрь 2014г. по 6-10'!I189+'декабрь 2014г. по 0,4'!I186 -> 0 | J189: ='декабрь 2014г. по 6-10'!J189+'декабрь 2014г. по 0,4'!J186 -> 14 | K189: ='декабрь 2014г. по 6-10'!K189+'декабрь 2014г. по 0,4'!K186 -> 90 | ... Q189: ='декабрь 2014г. по 6-10'!Q189+'декабрь 2014г. по 0,4'!Q186 -> 0
C190: Солончаковая | D190: ='декабрь 2014г. по 6-10'!D190+'декабрь 2014г. по 0,4'!D187 -> 8 | E190: ='декабрь 2014г. по 6-10'!E190+'декабрь 2014г. по 0,4'!E187 -> 80 | F190: ='декабрь 2014г. по 6-10'!F190+'декабрь 2014г. по 0,4'!F187 -> 7 | G190: ='декабрь 2014г. по 6-10'!G190+'декабрь 2014г. по 0,4'!G187 -> 45 | H190: ='декабрь 2014г. по 6-10'!H190+'декабрь 2014г. по 0,4'!H187 -> 0 | I190: ='декабрь 2014г. по 6-10'!I190+'декабрь 2014г. по 0,4'!I187 -> 0 | J190: ='декабрь 2014г. по 6-10'!J190+'декабрь 2014г. по 0,4'!J187 -> 8 | K190: ='декабрь 2014г. по 6-10'!K190+'декабрь 2014г. по 0,4'!K187 -> 80 | ... Q190: ='декабрь 2014г. по 6-10'!Q190+'декабрь 2014г. по 0,4'!Q187 -> 0
C191: Ногайская | D191: ='декабрь 2014г. по 6-10'!D191+'декабрь 2014г. по 0,4'!D188 -> 9 | E191: ='декабрь 2014г. по 6-10'!E191+'декабрь 2014г. по 0,4'!E188 -> 93 | F191: ='декабрь 2014г. по 6-10'!F191+'декабрь 2014г. по 0,4'!F188 -> 7 | G191: ='декабрь 2014г. по 6-10'!G191+'декабрь 2014г. по 0,4'!G188 -> 65 | H191: ='декабрь 2014г. по 6-10'!H191+'декабрь 2014г. по 0,4'!H188 -> 0 | I191: ='декабрь 2014г. по 6-10'!I191+'декабрь 2014г. по 0,4'!I188 -> 0 | J191: ='декабрь 2014г. по 6-10'!J191+'декабрь 2014г. по 0,4'!J188 -> 9 | K191: ='декабрь 2014г. по 6-10'!K191+'декабрь 2014г. по 0,4'!K188 -> 93 | ... Q191: ='декабрь 2014г. по 6-10'!Q191+'декабрь 2014г. по 0,4'!Q188 -> 0
C192: Степная | D192: ='декабрь 2014г. по 6-10'!D192+'декабрь 2014г. по 0,4'!D189 -> 5 | E192: ='декабрь 2014г. по 6-10'!E192+'декабрь 2014г. по 0,4'!E189 -> 20 | F192: ='декабрь 2014г. по 6-10'!F192+'декабрь 2014г. по 0,4'!F189 -> 5 | G192: ='декабрь 2014г. по 6-10'!G192+'декабрь 2014г. по 0,4'!G189 -> 20 | H192: ='декабрь 2014г. по 6-10'!H192+'декабрь 2014г. по 0,4'!H189 -> 0 | I192: ='декабрь 2014г. по 6-10'!I192+'декабрь 2014г. по 0,4'!I189 -> 0 | J192: ='декабрь 2014г. по 6-10'!J192+'декабрь 2014г. по 0,4'!J189 -> 5 | K192: ='декабрь 2014г. по 6-10'!K192+'декабрь 2014г. по 0,4'!K189 -> 20 | ... Q192: ='декабрь 2014г. по 6-10'!Q192+'декабрь 2014г. по 0,4'!Q189 -> 0
C193: Бажиган | D193: ='декабрь 2014г. по 6-10'!D193+'декабрь 2014г. по 0,4'!D190 -> 11 | E193: ='декабрь 2014г. по 6-10'!E193+'декабрь 2014г. по 0,4'!E190 -> 70 | F193: ='декабрь 2014г. по 6-10'!F193+'декабрь 2014г. по 0,4'!F190 -> 7 | G193: ='декабрь 2014г. по 6-10'!G193+'декабрь 2014г. по 0,4'!G190 -> 55 | H193: ='декабрь 2014г. по 6-10'!H193+'декабрь 2014г. по 0,4'!H190 -> 0 | I193: ='декабрь 2014г. по 6-10'!I193+'декабрь 2014г. по 0,4'!I190 -> 0 | J193: ='декабрь 2014г. по 6-10'!J193+'декабрь 2014г. по 0,4'!J190 -> 11 | K193: ='декабрь 2014г. по 6-10'!K193+'декабрь 2014г. по 0,4'!K190 -> 70 | ... Q193: ='декабрь 2014г. по 6-10'!Q193+'декабрь 2014г. по 0,4'!Q190 -> 0
C194: Грузинская | D194: ='декабрь 2014г. по 6-10'!D194+'декабрь 2014г. по 0,4'!D191 -> 4 | E194: ='декабрь 2014г. по 6-10'!E194+'декабрь 2014г. по 0,4'!E191 -> 30 | F194: ='декабрь 2014г. по 6-10'!F194+'декабрь 2014г. по 0,4'!F191 -> 4 | G194: ='декабрь 2014г. по 6-10'!G194+'декабрь 2014г. по 0,4'!G191 -> 30 | H194: ='декабрь 2014г. по 6-10'!H194+'декабрь 2014г. по 0,4'!H191 -> 0 | I194: ='декабрь 2014г. по 6-10'!I194+'декабрь 2014г. по 0,4'!I191 -> 0 | J194: ='декабрь 2014г. по 6-10'!J194+'декабрь 2014г. по 0,4'!J191 -> 4 | K194: ='декабрь 2014г. по 6-10'!K194+'декабрь 2014г. по 0,4'!K191 -> 30 | ... Q194: ='декабрь 2014г. по 6-10'!Q194+'декабрь 2014г. по 0,4'!Q191 -> 0
C195: итого: | D195: =SUM(D187:D194) -> 176 | E195: =SUM(E187:E194) -> 1107 | F195: =SUM(F187:F194) -> 76 | G195: =SUM(G187:G194) -> 488 | H195: =SUM(H187:H194) -> 0 | I195: =SUM(I187:I194) -> 0 | J195: =SUM(J187:J194) -> 153 | K195: =SUM(K187:K194) -> 778 | ... Q195: =SUM(Q187:Q194) -> 0
C196: КИЗИЛЮРТОВСКИЕ СЕТИ
C197: п\с 110\35\6 "ЗФС" | D197: ='декабрь 2014г. по 6-10'!D197+'декабрь 2014г. по 0,4'!D194 -> 45 | E197: ='декабрь 2014г. по 6-10'!E197+'декабрь 2014г. по 0,4'!E194 -> 1072 | F197: ='декабрь 2014г. по 6-10'!F197+'декабрь 2014г. по 0,4'!F194 -> 18 | G197: ='декабрь 2014г. по 6-10'!G197+'декабрь 2014г. по 0,4'!G194 -> 452 | H197: ='декабрь 2014г. по 6-10'!H197+'декабрь 2014г. по 0,4'!H194 -> 0 | I197: ='декабрь 2014г. по 6-10'!I197+'декабрь 2014г. по 0,4'!I194 -> 0 | J197: ='декабрь 2014г. по 6-10'!J197+'декабрь 2014г. по 0,4'!J194 -> 27 | K197: ='декабрь 2014г. по 6-10'!K197+'декабрь 2014г. по 0,4'!K194 -> 408 | ... Q197: ='декабрь 2014г. по 6-10'!Q197+'декабрь 2014г. по 0,4'!Q194 -> 0
C198: п\с 35\10 Нечаевка | D198: ='декабрь 2014г. по 6-10'!D198+'декабрь 2014г. по 0,4'!D195 -> 17 | E198: ='декабрь 2014г. по 6-10'!E198+'декабрь 2014г. по 0,4'!E195 -> 104.25 | F198: ='декабрь 2014г. по 6-10'!F198+'декабрь 2014г. по 0,4'!F195 -> 12 | G198: ='декабрь 2014г. по 6-10'!G198+'декабрь 2014г. по 0,4'!G195 -> 104.25 | H198: ='декабрь 2014г. по 6-10'!H198+'декабрь 2014г. по 0,4'!H195 -> 0 | I198: ='декабрь 2014г. по 6-10'!I198+'декабрь 2014г. по 0,4'!I195 -> 0 | J198: ='декабрь 2014г. по 6-10'!J198+'декабрь 2014г. по 0,4'!J195 -> 17 | K198: ='декабрь 2014г. по 6-10'!K198+'декабрь 2014г. по 0,4'!K195 -> 104.25 | ... Q198: ='декабрь 2014г. по 6-10'!Q198+'декабрь 2014г. по 0,4'!Q195 -> 0
C199: п\с Гулькутан | D199: ='декабрь 2014г. по 6-10'!D199+'декабрь 2014г. по 0,4'!D196 -> 10 | E199: ='декабрь 2014г. по 6-10'!E199+'декабрь 2014г. по 0,4'!E196 -> 445 | F199: ='декабрь 2014г. по 6-10'!F199+'декабрь 2014г. по 0,4'!F196 -> 1 | G199: ='декабрь 2014г. по 6-10'!G199+'декабрь 2014г. по 0,4'!G196 -> 30 | H199: ='декабрь 2014г. по 6-10'!H199+'декабрь 2014г. по 0,4'!H196 -> 0 | I199: ='декабрь 2014г. по 6-10'!I199+'декабрь 2014г. по 0,4'!I196 -> 0 | J199: ='декабрь 2014г. по 6-10'!J199+'декабрь 2014г. по 0,4'!J196 -> 7 | K199: ='декабрь 2014г. по 6-10'!K199+'декабрь 2014г. по 0,4'!K196 -> 205 | ... Q199: ='декабрь 2014г. по 6-10'!Q199+'декабрь 2014г. по 0,4'!Q196 -> 0
C200: Шамхалянгиюрт | D200: ='декабрь 2014г. по 6-10'!D200+'декабрь 2014г. по 0,4'!D197 -> 9 | E200: ='декабрь 2014г. по 6-10'!E200+'декабрь 2014г. по 0,4'!E197 -> 35 | F200: ='декабрь 2014г. по 6-10'!F200+'декабрь 2014г. по 0,4'!F197 -> 5 | G200: ='декабрь 2014г. по 6-10'!G200+'декабрь 2014г. по 0,4'!G197 -> 20 | H200: ='декабрь 2014г. по 6-10'!H200+'декабрь 2014г. по 0,4'!H197 -> 0 | I200: ='декабрь 2014г. по 6-10'!I200+'декабрь 2014г. по 0,4'!I197 -> 0 | J200: ='декабрь 2014г. по 6-10'!J200+'декабрь 2014г. по 0,4'!J197 -> 9 | K200: ='декабрь 2014г. по 6-10'!K200+'декабрь 2014г. по 0,4'!K197 -> 35 | ... Q200: ='декабрь 2014г. по 6-10'!Q200+'декабрь 2014г. по 0,4'!Q197 -> 0
C201: Стальск | D201: ='декабрь 2014г. по 6-10'!D201+'декабрь 2014г. по 0,4'!D198 -> 10 | E201: ='декабрь 2014г. по 6-10'!E201+'декабрь 2014г. по 0,4'!E198 -> 588 | F201: ='декабрь 2014г. по 6-10'!F201+'декабрь 2014г. по 0,4'!F198 -> 4 | G201: ='декабрь 2014г. по 6-10'!G201+'декабрь 2014г. по 0,4'!G198 -> 93 | H201: ='декабрь 2014г. по 6-10'!H201+'декабрь 2014г. по 0,4'!H198 -> 0 | I201: ='декабрь 2014г. по 6-10'!I201+'декабрь 2014г. по 0,4'!I198 -> 0 | J201: ='декабрь 2014г. по 6-10'!J201+'декабрь 2014г. по 0,4'!J198 -> 7 | K201: ='декабрь 2014г. по 6-10'!K201+'декабрь 2014г. по 0,4'!K198 -> 53 | ... Q201: ='декабрь 2014г. по 6-10'!Q201+'декабрь 2014г. по 0,4'!Q198 -> 0
C202: итого: | D202: =SUM(D197:D201) -> 91 | E202: =SUM(E197:E201) -> 2244.25 | F202: =SUM(F197:F201) -> 40 | G202: =SUM(G197:G201) -> 699.25 | H202: =SUM(H197:H201) -> 0 | I202: =SUM(I197:I201) -> 0 | J202: =SUM(J197:J201) -> 67 | K202: =SUM(K197:K201) -> 805.25 | ... Q202: =SUM(Q197:Q201) -> 0
C203: ГЕРГЕБИЛЬСКИЕ СЕТИ
C204: ПС Гергебиль-110 | D204: ='декабрь 2014г. по 6-10'!D204+'декабрь 2014г. по 0,4'!D201 -> 31 | E204: ='декабрь 2014г. по 6-10'!E204+'декабрь 2014г. по 0,4'!E201 -> 456 | F204: ='декабрь 2014г. по 6-10'!F204+'декабрь 2014г. по 0,4'!F201 -> 20 | G204: ='декабрь 2014г. по 6-10'!G204+'декабрь 2014г. по 0,4'!G201 -> 100 | H204: ='декабрь 2014г. по 6-10'!H204+'декабрь 2014г. по 0,4'!H201 -> 0 | I204: ='декабрь 2014г. по 6-10'!I204+'декабрь 2014г. по 0,4'!I201 -> 0 | J204: ='декабрь 2014г. по 6-10'!J204+'декабрь 2014г. по 0,4'!J201 -> 53 | K204: ='декабрь 2014г. по 6-10'!K204+'декабрь 2014г. по 0,4'!K201 -> 570 | ... Q204: ='декабрь 2014г. по 6-10'!Q204+'декабрь 2014г. по 0,4'!Q201 -> 0
C205: ГГЭС | D205: ='декабрь 2014г. по 6-10'!D205+'декабрь 2014г. по 0,4'!D202 -> 0 | E205: ='декабрь 2014г. по 6-10'!E205+'декабрь 2014г. по 0,4'!E202 -> 0 | F205: ='декабрь 2014г. по 6-10'!F205+'декабрь 2014г. по 0,4'!F202 -> 0 | G205: ='декабрь 2014г. по 6-10'!G205+'декабрь 2014г. по 0,4'!G202 -> 0 | H205: ='декабрь 2014г. по 6-10'!H205+'декабрь 2014г. по 0,4'!H202 -> 0 | I205: ='декабрь 2014г. по 6-10'!I205+'декабрь 2014г. по 0,4'!I202 -> 0 | J205: ='декабрь 2014г. по 6-10'!J205+'декабрь 2014г. по 0,4'!J202 -> 0 | K205: ='декабрь 2014г. по 6-10'!K205+'декабрь 2014г. по 0,4'!K202 -> 0 | ... Q205: ='декабрь 2014г. по 6-10'!Q205+'декабрь 2014г. по 0,4'!Q202 -> 0
C206: ПС Карадах-110 | D206: ='декабрь 2014г. по 6-10'!D206+'декабрь 2014г. по 0,4'!D203 -> 30 | E206: ='декабрь 2014г. по 6-10'!E206+'декабрь 2014г. по 0,4'!E203 -> 120 | F206: ='декабрь 2014г. по 6-10'!F206+'декабрь 2014г. по 0,4'!F203 -> 1 | G206: ='декабрь 2014г. по 6-10'!G206+'декабрь 2014г. по 0,4'!G203 -> 7 | H206: ='декабрь 2014г. по 6-10'!H206+'декабрь 2014г. по 0,4'!H203 -> 0 | I206: ='декабрь 2014г. по 6-10'!I206+'декабрь 2014г. по 0,4'!I203 -> 0 | J206: ='декабрь 2014г. по 6-10'!J206+'декабрь 2014г. по 0,4'!J203 -> 16 | K206: ='декабрь 2014г. по 6-10'!K206+'декабрь 2014г. по 0,4'!K203 -> 145 | ... Q206: ='декабрь 2014г. по 6-10'!Q206+'декабрь 2014г. по 0,4'!Q203 -> 0
C207: Тлайлух-110 | D207: ='декабрь 2014г. по 6-10'!D207+'декабрь 2014г. по 0,4'!D204 -> 0 | E207: ='декабрь 2014г. по 6-10'!E207+'декабрь 2014г. по 0,4'!E204 -> 0 | F207: ='декабрь 2014г. по 6-10'!F207+'декабрь 2014г. по 0,4'!F204 -> 0 | G207: ='декабрь 2014г. по 6-10'!G207+'декабрь 2014г. по 0,4'!G204 -> 0 | H207: ='декабрь 2014г. по 6-10'!H207+'декабрь 2014г. по 0,4'!H204 -> 0 | I207: ='декабрь 2014г. по 6-10'!I207+'декабрь 2014г. по 0,4'!I204 -> 0 | J207: ='декабрь 2014г. по 6-10'!J207+'декабрь 2014г. по 0,4'!J204 -> 0 | K207: ='декабрь 2014г. по 6-10'!K207+'декабрь 2014г. по 0,4'!K204 -> 0 | ... Q207: ='декабрь 2014г. по 6-10'!Q207+'декабрь 2014г. по 0,4'!Q204 -> 0
C208: ПС Леваши-110 | D208: ='декабрь 2014г. по 6-10'!D208+'декабрь 2014г. по 0,4'!D205 -> 73 | E208: ='декабрь 2014г. по 6-10'!E208+'декабрь 2014г. по 0,4'!E205 -> 3169 | F208: ='декабрь 2014г. по 6-10'!F208+'декабрь 2014г. по 0,4'!F205 -> 38 | G208: ='декабрь 2014г. по 6-10'!G208+'декабрь 2014г. по 0,4'!G205 -> 1213 | H208: ='декабрь 2014г. по 6-10'!H208+'декабрь 2014г. по 0,4'!H205 -> 0 | I208: ='декабрь 2014г. по 6-10'!I208+'декабрь 2014г. по 0,4'!I205 -> 0 | J208: ='декабрь 2014г. по 6-10'!J208+'декабрь 2014г. по 0,4'!J205 -> 48 | K208: ='декабрь 2014г. по 6-10'!K208+'декабрь 2014г. по 0,4'!K205 -> 1165 | ... Q208: ='декабрь 2014г. по 6-10'!Q208+'декабрь 2014г. по 0,4'!Q205 -> 0
C209: ПС Цудахар-110 | D209: ='декабрь 2014г. по 6-10'!D209+'декабрь 2014г. по 0,4'!D206 -> 8 | E209: ='декабрь 2014г. по 6-10'!E209+'декабрь 2014г. по 0,4'!E206 -> 55 | F209: ='декабрь 2014г. по 6-10'!F209+'декабрь 2014г. по 0,4'!F206 -> 8 | G209: ='декабрь 2014г. по 6-10'!G209+'декабрь 2014г. по 0,4'!G206 -> 55 | H209: ='декабрь 2014г. по 6-10'!H209+'декабрь 2014г. по 0,4'!H206 -> 0 | I209: ='декабрь 2014г. по 6-10'!I209+'декабрь 2014г. по 0,4'!I206 -> 0 | J209: ='декабрь 2014г. по 6-10'!J209+'декабрь 2014г. по 0,4'!J206 -> 8 | K209: ='декабрь 2014г. по 6-10'!K209+'декабрь 2014г. по 0,4'!K206 -> 55 | ... Q209: ='декабрь 2014г. по 6-10'!Q209+'декабрь 2014г. по 0,4'!Q206 -> 0
C210: Ташкапур-35 | D210: ='декабрь 2014г. по 6-10'!D210+'декабрь 2014г. по 0,4'!D207 -> 3 | E210: ='декабрь 2014г. по 6-10'!E210+'декабрь 2014г. по 0,4'!E207 -> 20.5 | F210: ='декабрь 2014г. по 6-10'!F210+'декабрь 2014г. по 0,4'!F207 -> 3 | G210: ='декабрь 2014г. по 6-10'!G210+'декабрь 2014г. по 0,4'!G207 -> 20.5 | H210: ='декабрь 2014г. по 6-10'!H210+'декабрь 2014г. по 0,4'!H207 -> 0 | I210: ='декабрь 2014г. по 6-10'!I210+'декабрь 2014г. по 0,4'!I207 -> 0 | J210: ='декабрь 2014г. по 6-10'!J210+'декабрь 2014г. по 0,4'!J207 -> 3 | K210: ='декабрь 2014г. по 6-10'!K210+'декабрь 2014г. по 0,4'!K207 -> 20.5 | ... Q210: ='декабрь 2014г. по 6-10'!Q210+'декабрь 2014г. по 0,4'!Q207 -> 0
C211: ПС Хунзах-110 | D211: ='декабрь 2014г. по 6-10'!D211+'декабрь 2014г. по 0,4'!D208 -> 14 | E211: ='декабрь 2014г. по 6-10'!E211+'декабрь 2014г. по 0,4'!E208 -> 224.25 | F211: ='декабрь 2014г. по 6-10'!F211+'декабрь 2014г. по 0,4'!F208 -> 13 | G211: ='декабрь 2014г. по 6-10'!G211+'декабрь 2014г. по 0,4'!G208 -> 195 | H211: ='декабрь 2014г. по 6-10'!H211+'декабрь 2014г. по 0,4'!H208 -> 0 | I211: ='декабрь 2014г. по 6-10'!I211+'декабрь 2014г. по 0,4'!I208 -> 0 | J211: ='декабрь 2014г. по 6-10'!J211+'декабрь 2014г. по 0,4'!J208 -> 14 | K211: ='декабрь 2014г. по 6-10'!K211+'декабрь 2014г. по 0,4'!K208 -> 224.25 | ... Q211: ='декабрь 2014г. по 6-10'!Q211+'декабрь 2014г. по 0,4'!Q208 -> 0
C212: ПС Тлох-110 | D212: ='декабрь 2014г. по 6-10'!D212+'декабрь 2014г. по 0,4'!D209 -> 10 | E212: ='декабрь 2014г. по 6-10'!E212+'декабрь 2014г. по 0,4'!E209 -> 100 | F212: ='декабрь 2014г. по 6-10'!F212+'декабрь 2014г. по 0,4'!F209 -> 10 | G212: ='декабрь 2014г. по 6-10'!G212+'декабрь 2014г. по 0,4'!G209 -> 100 | H212: ='декабрь 2014г. по 6-10'!H212+'декабрь 2014г. по 0,4'!H209 -> 0 | I212: ='декабрь 2014г. по 6-10'!I212+'декабрь 2014г. по 0,4'!I209 -> 0 | J212: ='декабрь 2014г. по 6-10'!J212+'декабрь 2014г. по 0,4'!J209 -> 10 | K212: ='декабрь 2014г. по 6-10'!K212+'декабрь 2014г. по 0,4'!K209 -> 100 | ... Q212: ='декабрь 2014г. по 6-10'!Q212+'декабрь 2014г. по 0,4'!Q209 -> 0
C213: Гуниб-110 | D213: ='декабрь 2014г. по 6-10'!D213+'декабрь 2014г. по 0,4'!D210 -> 7 | E213: ='декабрь 2014г. по 6-10'!E213+'декабрь 2014г. по 0,4'!E210 -> 435 | F213: ='декабрь 2014г. по 6-10'!F213+'декабрь 2014г. по 0,4'!F210 -> 4 | G213: ='декабрь 2014г. по 6-10'!G213+'декабрь 2014г. по 0,4'!G210 -> 115 | H213: ='декабрь 2014г. по 6-10'!H213+'декабрь 2014г. по 0,4'!H210 -> 0 | I213: ='декабрь 2014г. по 6-10'!I213+'декабрь 2014г. по 0,4'!I210 -> 0 | J213: ='декабрь 2014г. по 6-10'!J213+'декабрь 2014г. по 0,4'!J210 -> 3 | K213: ='декабрь 2014г. по 6-10'!K213+'декабрь 2014г. по 0,4'!K210 -> 225 | ... Q213: ='декабрь 2014г. по 6-10'!Q213+'декабрь 2014г. по 0,4'!Q210 -> 0
C214: Акуша | D214: ='декабрь 2014г. по 6-10'!D214+'декабрь 2014г. по 0,4'!D211 -> 7 | E214: ='декабрь 2014г. по 6-10'!E214+'декабрь 2014г. по 0,4'!E211 -> 65.8 | F214: ='декабрь 2014г. по 6-10'!F214+'декабрь 2014г. по 0,4'!F211 -> 3 | G214: ='декабрь 2014г. по 6-10'!G214+'декабрь 2014г. по 0,4'!G211 -> 37 | H214: ='декабрь 2014г. по 6-10'!H214+'декабрь 2014г. по 0,4'!H211 -> 0 | I214: ='декабрь 2014г. по 6-10'!I214+'декабрь 2014г. по 0,4'!I211 -> 0 | J214: ='декабрь 2014г. по 6-10'!J214+'декабрь 2014г. по 0,4'!J211 -> 4 | K214: ='декабрь 2014г. по 6-10'!K214+'декабрь 2014г. по 0,4'!K211 -> 77 | ... Q214: ='декабрь 2014г. по 6-10'!Q214+'декабрь 2014г. по 0,4'!Q211 -> 0
C215: Кумух-35 | D215: ='декабрь 2014г. по 6-10'!D215+'декабрь 2014г. по 0,4'!D212 -> 15 | E215: ='декабрь 2014г. по 6-10'!E215+'декабрь 2014г. по 0,4'!E212 -> 566 | F215: ='декабрь 2014г. по 6-10'!F215+'декабрь 2014г. по 0,4'!F212 -> 14 | G215: ='декабрь 2014г. по 6-10'!G215+'декабрь 2014г. по 0,4'!G212 -> 246 | H215: ='декабрь 2014г. по 6-10'!H215+'декабрь 2014г. по 0,4'!H212 -> 0 | I215: ='декабрь 2014г. по 6-10'!I215+'декабрь 2014г. по 0,4'!I212 -> 0 | J215: ='декабрь 2014г. по 6-10'!J215+'декабрь 2014г. по 0,4'!J212 -> 12 | K215: ='декабрь 2014г. по 6-10'!K215+'декабрь 2014г. по 0,4'!K212 -> 151.2 | ... Q215: ='декабрь 2014г. по 6-10'!Q215+'декабрь 2014г. по 0,4'!Q212 -> 0
... C243: Сагри | D243: ='декабрь 2014г. по 6-10'!D243+'декабрь 2014г. по 0,4'!D240 -> 15 | E243: ='декабрь 2014г. по 6-10'!E243+'декабрь 2014г. по 0,4'!E240 -> 101 | F243: ='декабрь 2014г. по 6-10'!F243+'декабрь 2014г. по 0,4'!F240 -> 8 | G243: ='декабрь 2014г. по 6-10'!G243+'декабрь 2014г. по 0,4'!G240 -> 79 | H243: ='декабрь 2014г. по 6-10'!H243+'декабрь 2014г. по 0,4'!H240 -> 0 | I243: ='декабрь 2014г. по 6-10'!I243+'декабрь 2014г. по 0,4'!I240 -> 0 | J243: ='декабрь 2014г. по 6-10'!J243+'декабрь 2014г. по 0,4'!J240 -> 15 | K243: ='декабрь 2014г. по 6-10'!K243+'декабрь 2014г. по 0,4'!K240 -> 101 | ... Q243: ='декабрь 2014г. по 6-10'!Q243+'декабрь 2014г. по 0,4'!Q240 -> 0
C244: итого: | D244: =SUM(D204:D243) -> 480 | E244: =SUM(E204:E243) -> 9024.25 | F244: =SUM(F204:F243) -> 302 | G244: =SUM(G204:G243) -> 4056.1 | H244: =SUM(H204:H243) -> 0 | I244: =SUM(I204:I243) -> 0 | J244: =SUM(J204:J243) -> 439 | K244: =SUM(K204:K243) -> 6059.25 | ... Q244: =SUM(Q204:Q243) -> 0
C245: ВСЕГО: | D245: =SUM(D244+D202+D195+D185+D153+D102+D64) -> 3388 | E245: =SUM(E244+E202+E195+E185+E153+E102+E64) -> 89232.09 | F245: =SUM(F244+F202+F195+F185+F153+F102+F64) -> 2155 | G245: =SUM(G244+G202+G195+G185+G153+G102+G64) -> 45062.9 | H245: =SUM(H244+H202+H195+H185+H153+H102+H64) -> 0 | I245: =SUM(I244+I202+I195+I185+I153+I102+I64) -> 0 | J245: =SUM(J244+J202+J195+J185+J153+J102+J64) -> 2674 | K245: =SUM(K244+K202+K195+K185+K153+K102+K64) -> 34183 | ... Q245: =SUM(Q244+Q202+Q195+Q185+Q153+Q102+Q64) -> 0
A246: ИТОГО: | B246: Филиал | D246: =SUM(D245:D245) -> 3388 | E246: =SUM(E245:E245) -> 89232.09 | F246: =SUM(F245:F245) -> 2155 | G246: =SUM(G245:G245) -> 45062.9 | H246: =SUM(H245:H245) -> 0 | I246: =SUM(I245:I245) -> 0 | J246: =SUM(J245:J245) -> 2674 | K246: =SUM(K245:K245) -> 34183 | ... Q246: =SUM(Q245:Q245) -> 0
A248: * в ОАО "Дагэнергосеть" аннулированных заявок 0 шт. на 0 кВт.

Sheet декабрь 2014г. по 6-10
M1: Приложение № 28
M2: к Положению о технологическом присоединении
M3: энергетических установок к электрическим сетям
M4: ОАО «МРСК Северного Кавказа», управляемых
M5: Обществ
B14: Информация о технологическом присоединении энергопринимающих устройств к сетям ОАО Дагэнергосеть илиалом ОАО "МРСК Северного Кавказа" за декабрь 2014г.
A19: Наименование организации, осуществляющей технологическое присоединение | B19: Наименование субъекта РФ | C19: Наименование центра питания (ПС 35 кВ и выше) | D19: Количество поданных заявок на технологическое присоединение, на общую мощность энергопринимающих устройств, кВт | F19: Заключено договоров на технологическое присоединение, включающие технические условия на общую мощность энергопринимающих устройств, кВт | H19: Расторгнуто договоров на технологическое присоединение, включающие технические условия на общую мощность энергопринимающих устройств, кВт | J19: Суммарная мощность энегргопринимающих устройств, присоединенных к электрическим сетям в соответствии с договором на технологическое присоединение за отчетный период, кВт | L19: Заключено договоров на технологическое присоединение, включающие технические условия на общую мощность генерирущих установок, МВт | N19: Расторгнуто договоров на технологическое присоединение, включающие технические условия на общую мощность генерирущих установок, МВт | P19: Суммарная мощность генерирущих установок, присоединенных к электрическим сетям в соответствии с договором на технологическое присоединение за отчетный период, МВт
A20: 1 | B20: 2 | C20: 3 | D20: 4 | F20: 5 | H20: 6 | J20: 7 | L20: 8 | N20: 9 | P20: 10
D21: шт | E21: кВт | F21: шт | G21: кВт | H21: шт | I21: кВт | J21: шт | K21: кВт | L21: шт | M21: МВт | N21: шт | O21: МВт | P21: шт | Q21: МВт
A22: Кабардино- Балкарсикй филиал ОАО "МРСК Северного Кавказа" | B22: Республика Дагестан | C22: ЦЕНТРАЛЬНЫЕ СЕТИ
C23: ПС ГПП | H23: 0
C24: ПС Новая | D24: 3 | E24: 150 | F24: 1 | G24: 100 | H24: 0 | J24: 2 | K24: 100
C25: ПС ЦПП | H25: 0
C26: ПС М-110 | D26: 16 | E26: =80+100+200+800+120+60+2000 -> 3360 | F26: 9 | G26: =80+750+15 -> 845 | H26: 0 | J26: 6 | K26: 360
C27: ПС Очистные соор. | D27: 3 | E27: 70 | F27: 2 | G27: 30 | H27: 0
C28: ПС Ю-Восточная | D28: 4 | E28: 670 | F28: 1 | G28: 470 | H28: 0 | J28: 3 | K28: 310
C29: ПС Приморская | D29: 2 | E29: 120 | F29: 2 | G29: 120 | H29: 0
C30: ПС Насосная -1 | D30: 10 | E30: 1600 | F30: 8 | G30: 279.4 | H30: 0 | J30: 6 | K30: 450
C31: ПС Радиоцентр | D31: 2 | E31: 560 | F31: 2 | G31: 560 | H31: 0 | J31: 2 | K31: 150
C32: ПС Изберг- Сев. | D32: 12 | E32: =10+100+300+80+10+300+40+480 -> 1320 | F32: 6 | G32: 920 | H32: 0 | J32: 7 | K32: 450
C33: ПС Изберг- Южн. | D33: 8 | E33: =60+48+150+85+640+60 -> 1043 | F33: 6 | G33: 989 | H33: 0 | J33: 5 | K33: 340
C34: ПС Карабуд-т | D34: 10 | E34: =15+10+30+15+10+6+10+30+160+45 -> 331 | F34: 9 | G34: 286 | H34: 0 | J34: 9 | K34: 245
C35: ПС Рассвет | D35: 16 | E35: =15+100+25+20+20+25+160+45+15+90+30+120+160+10+25+300 -> 1160 | F35: 14 | G35: 835 | H35: 0 | J35: 8 | K35: 480
C36: ПС Шамхал | D36: 20 | E36: =50+150+18+160+90+200+75+15+150+50+86+20+6+400+15+15+40+55+300+400+700 -> 2995 | F36: 20 | G36: 2295 | H36: 0 | J36: 6 | K36: 120
C37: ПС Сергокала | D37: 4 | E37: =940+70 -> 1010 | F37: 3 | G37: 90 | H37: 0
C38: ПС Алмало | D38: 3 | E38: 230 | F38: 3 | G38: 230 | H38: 0 | J38: 3 | K38: 320
C39: ПС Буйнакск -1 | D39: 6 | E39: =650+160 -> 810 | F39: 5 | G39: 650 | H39: 0 | J39: 5 | K39: 385
C40: ПС Буйнакск -2 | D40: 1 | E40: 120 | F40: 1 | G40: 120 | H40: 0 | J40: 8 | K40: 450
C41: ПС Казанище | D41: 8 | E41: 1489.25 | F41: 5 | G41: 250 | H41: 0
C42: ПС Согратль | D42: 7 | E42: =20+170+180+60+1.1+400+90 -> 921.1 | F42: 7 | G42: 921.1 | H42: 0 | J42: 1 | K42: 20
C43: ПС Дженгутай | D43: 5 | E43: 623 | F43: 3 | G43: 310 | H43: 0
C44: ПС Такалай | D44: 1 | E44: 40 | H44: 0
C45: ПС Параул | D45: 2 | E45: 272 | F45: 2 | G45: 272 | H45: 0 | J45: 1 | K45: 70
C46: ПС Восточная | D46: 4 | E46: 200 | F46: 3 | G46: 160 | H46: 0 | J46: 2 | K46: 5
C47: ПС Приозерная | D47: 1 | E47: 75 | H47: 0 | J47: 1 | K47: 75
C48: ПС Солнце | D48: 11 | E48: 1500 | F48: 4 | G48: 630 | H48: 0 | J48: 8 | K48: 680
C49: ПС Компас | D49: 3 | E49: =150+50+250 -> 450 | F49: 3 | G49: 450 | H49: 0 | J49: 4 | K49: 135
C50: ПС Сулак | D50: 3 | E50: =162+6+15 -> 183 | F50: 3 | G50: =162+6+15 -> 183 | H50: 0
C51: ПС НИИСХА | D51: 8 | E51: =200+40+155+100+80+30+70+300+30 -> 1005 | F51: 5 | G51: 470 | H51: 0
C52: ПС Тепл. Комбинат | D52: 2 | E52: 75 | F52: 1 | G52: 15 | H52: 0
C53: ПС Насосная - 2 | D53: 2 | E53: 60 | H53: 0 | J53: 3 | K53: 80
C54: ПС Ленинкент | D54: 3 | E54: =350+20+50 -> 420 | F54: 3 | G54: 420 | H54: 0
C55: ПС Дурмаз | D55: 1 | E55: 40 | H55: 0
C56: ПС Эрпели | D56: 3 | E56: =15+95+10 -> 120 | F56: 3 | G56: 120 | H56: 0
C57: ПС Гурбуки | D57: 2 | E57: =50+91 -> 141 | F57: 2 | G57: 141 | H57: 0
C58: ПС Халимбекаул | D58: 6 | E58: 540 | F58: 4 | G58: 210 | H58: 0 | J58: 4 | K58: 210
C59: ПС Мулебки | D59: 1 | E59: 96 | H59: 0
C60: ПС Н. Чиркей | D60: 2 | E60: =15+160 -> 175 | F60: 2 | G60: 175 | H60: 0
C61: ПС КПФ | H61: 0
C62: ПС Аграханская | D62: 2 | E62: =8+7 -> 15 | F62: 2 | G62: 15 | H62: 0 | J62: 2 | K62: =8+7 -> 15
C63: ПС ЗТМ (Т, Механика) | D63: 6 | E63: =325+170+100+90+100+100 -> 885 | F63: 4 | G63: 485 | H63: 0
C64: итого: | D64: =SUM(D23:D63) -> 203 | E64: =SUM(E23:E63) -> 24874.35 | F64: =SUM(F23:F63) -> 148 | G64: =SUM(G23:G63) -> 14046.5 | H64: =SUM(H23:H63) -> 0 | I64: =SUM(I23:I63) -> 0 | J64: =SUM(J23:J63) -> 96 | K64: =SUM(K23:K63) -> 5450 | ... Q64: =SUM(Q23:Q63) -> 0
C65: СЕВЕРНЫЕ СЕТИ | H65: 0
C66: Ярыксу | D66: 19 | E66: =765+520+51.09+414+520 -> 2270.09 | F66: 9 | G66: 678 | H66: 0 | J66: 11 | K66: 390
C67: Акташ | D67: 15 | E67: =41+15+15+155+50+15+60+50+250+100+300+62 -> 1113 | F67: 6 | G67: 251 | H67: 0 | J67: 9 | K67: 620
C68: Куруш | D68: 4 | E68: =550+300 -> 850 | F68: 3 | G68: 300 | H68: 0
C69: Сулевкент | D69: 2 | E69: 125 | F69: 2 | G69: 25 | H69: 0 | J69: 2 | K69: 125
C70: Бабаюрт | D70: 4 | E70: 345 | F70: 1 | G70: 41 | H70: 0 | J70: 1 | K70: 20
C71: Чиркей | H71: 0
C72: Дылым | D72: 1 | E72: 10 | F72: 1 | G72: 10 | H72: 0 | J72: 1 | K72: 10
C73: Миатлы | H73: 0
C74: ГЩЗ (Кизилюртовская | D74: 6 | E74: 380 | F74: 3 | G74: 140 | H74: 0 | J74: 5 | K74: 420
C75: Сулак | H75: 0
C76: Львовская | H76: 0
C77: Дагестан | D77: 5 | E77: 340 | F77: 4 | G77: 40 | H77: 0
C78: Аксай | D78: 4 | E78: 390 | F78: 4 | G78: 390 | H78: 0
C79: Чагаротар | D79: 1 | E79: 90 | F79: 1 | G79: 90 | H79: 0 | J79: 1 | K79: 90
C80: Гертма | H80: 0
C81: Татаюрт | D81: 4 | E81: 654 | F81: 2 | G81: 210 | H81: 0 | J81: 2 | K81: 160
C82: Тамазатюбе | D82: 1 | E82: 25 | F82: 1 | G82: 25 | H82: 0 | J82: 1 | K82: 25
C83: Туршунай | D83: 1 | E83: 45 | F83: 1 | G83: 45 | H83: 0 | J83: 1 | K83: 45
C84: Хамам-юрт | D84: 1 | E84: 10 | F84: 1 | G84: 10 | H84: 0 | J84: 1 | K84: 10
C85: Костек | H85: 0
C86: Новокули | D86: 3 | E86: 228 | H86: 0 | J86: 3 | K86: 228
C87: Акбула-Тюрт | D87: 3 | E87: 340 | H87: 0 | J87: 3 | K87: 340
C88: Янгильбай | D88: 1 | E88: 65 | F88: 1 | G88: 15 | H88: 0 | J88: 1 | K88: 65
C89: Шава | H89: 0
C90: Новая коса | D90: 2 | E90: 205 | F90: 1 | G90: 20 | H90: 0 | J90: 1 | K90: 25
C91: Караузбек | D91: 2 | E91: 95 | F91: 2 | G91: 95 | H91: 0 | J91: 2 | K91: 95
C92: Свердлова | D92: 1 | E92: 15 | F92: 1 | G92: 15 | H92: 0 | J92: 1 | K92: 15
C93: Димитрова | D93: 5 | E93: 350 | F93: 2 | G93: 125 | H93: 0 | J93: 1 | K93: 50
C94: Казиюрт | H94: 0
C95: Аликазган | H95: 0
C96: Д Консер.з-д | H96: 0
C97: Сивух | D97: 2 | E97: =10+45 -> 55 | F97: 2 | G97: 55 | H97: 0 | J97: 2 | K97: =10+45 -> 55
C98: Андрейаул | D98: 3 | E98: 87 | F98: 3 | G98: 87 | H98: 0 | J98: 3 | K98: 87
C99: Дружба | D99: 3 | E99: =15+10+131 -> 156 | F99: 3 | G99: 156 | H99: 0
C100: Дубки | H100: 0
C101: Карланюрт -(Тяговая) | D101: 5 | E101: =15+30+315+87+8 -> 455 | F101: 5 | G101: 455 | H101: 0
C102: итого: | D102: =SUM(D66:D101) -> 98 | E102: =SUM(E66:E101) -> 8698.09 | F102: =SUM(F66:F101) -> 59 | G102: =SUM(G66:G101) -> 3278 | H102: =SUM(H66:H101) -> 0 | I102: =SUM(I66:I101) -> 0 | J102: =SUM(J66:J101) -> 52 | K102: =SUM(K66:K101) -> 2875 | ... Q102: =SUM(Q66:Q101) -> 0
C103: ДЕРБЕНТСКИЕ СЕТИ | H103: 0
C104: Дербент-330 | D104: 26 | E104: =350+130+70+160+200+65+8+10+160+15+200+20+15+80+3+500+700+95 -> 2781 | F104: 17 | G104: 1700 | H104: 0 | J104: 13 | K104: 740
C105: Дербент-С | D105: 7 | E105: =1554+51.9 -> 1605.9 | F105: 2 | G105: 115 | H105: 0 | J105: 9 | K105: 355
C106: Мамедкала | D106: 6 | E106: =340+29.25 -> 369.25 | F106: 5 | G106: 63 | H106: 0 | J106: 6 | K106: 240
C107: Каякент | D107: 11 | E107: =902+29.25+630 -> 1561.25 | F107: 7 | G107: 589.25 | H107: 0
C108: Белиджи | D108: 10 | E108: =10+10+15+55+6+60+85+65+70+300+200 -> 876 | F108: 7 | G108: 345 | H108: 0
C109: Касумкент | D109: 9 | E109: =30+60+20+10+20+15+15+86+6+300+268 -> 830 | F109: 5 | G109: 105 | H109: 0
C110: Советская | D110: 3 | E110: =15+25+15+200 -> 255 | F110: 3 | G110: 55 | H110: 0
C111: Магарамкент | D111: 6 | E111: 460 | F111: 2 | G111: 60 | H111: 0 | J111: 1 | K111: 40
C112: Тагиркент | D112: 3 | E112: =10+7+10 -> 27 | F112: 3 | G112: =10+7+10 -> 27 | H112: 0
...

Sheet декабрь 2014г. по 0,4
M2: к Положению о технологическом присоединении
M3: энергетических установок к электрическим сетям
M4: ОАО «МРСК Северного Кавказа», управляемых
M5: Обществ
B14: Информация о технологическом присоединении энергопринимающих устройств к сетям ОАО Дагэнергосеть илиалом ОАО "МРСК Северного Кавказа" за декабрь 2014г.
A16: Наименование организации, осуществляющей технологическое присоединение | B16: Наименование субъекта РФ | C16: Наименование центра питания (ПС 35 кВ и выше) | D16: Количество поданных заявок на технологическое присоединение, на общую мощность энергопринимающих устройств, кВт | F16: Заключено договоров на технологическое присоединение, включающие технические условия на общую мощность энергопринимающих устройств, кВт | H16: Расторгнуто договоров на технологическое присоединение, включающие технические условия на общую мощность энергопринимающих устройств, кВт | J16: Суммарная мощность энегргопринимающих устройств, присоединенных к электрическим сетям в соответствии с договором на технологическое присоединение за отчетный период, кВт | L16: Заключено договоров на технологическое присоединение, включающие технические условия на общую мощность генерирущих установок, МВт | N16: Расторгнуто договоров на технологическое присоединение, включающие технические условия на общую мощность генерирущих установок, МВт | P16: Суммарная мощность генерирущих установок, присоединенных к электрическим сетям в соответствии с договором на технологическое присоединение за отчетный период, МВт
A17: 1 | B17: 2 | C17: 3 | D17: 4 | F17: 5 | H17: 6 | J17: 7 | L17: 8 | N17: 9 | P17: 10
D18: шт | E18: кВт | F18: шт | G18: кВт | H18: шт | I18: кВт | J18: шт | K18: кВт | L18: шт | M18: МВт | N18: шт | O18: МВт | P18: шт | Q18: МВт
A19: Кабардино- Балкарсикй филиал ОАО "МРСК Северного Кавказа" | B19: Республика Дагестан | C19: ЦЕНТРАЛЬНЫЕ СЕТИ
C20: ПС ГПП | D20: 0 | E20: 0 | F20: 0 | G20: 0 | H20: 0
C21: ПС Новая | D21: 31 | E21: 260 | F21: 0 | G21: 0 | H21: 0 | J21: 28 | K21: 200
C22: ПС ЦПП | D22: 32 | E22: 250 | F22: 0 | G22: 0 | H22: 0 | J22: 20 | K22: 160
C23: ПС М-110 | D23: 25 | E23: 240 | F23: 0 | G23: 0 | H23: 0 | J23: 20 | K23: 180
C24: ПС Очистные соор. | D24: 5 | E24: 20 | F24: 0 | G24: 0 | H24: 0 | J24: 5 | K24: 20
C25: ПС Ю-Восточная | D25: 5 | E25: 24 | F25: 5 | G25: 24 | H25: 0 | J25: 5 | K25: 24
C26: ПС Приморская | D26: 5 | E26: 20 | F26: 5 | G26: 20 | H26: 0 | J26: 5 | K26: 20
C27: ПС Насосная -1 | D27: 36 | E27: 285 | F27: 36 | G27: 285 | H27: 0 | J27: 41 | K27: 285
C28: ПС Радиоцентр | D28: 55 | E28: 450 | F28: 55 | G28: 450 | H28: 0 | J28: 37 | K28: 267
C29: ПС Изберг- Сев. | D29: 63 | E29: =429+160 -> 589 | F29: 45 | G29: 429 | H29: 0 | J29: 39 | K29: 280
C30: ПС Изберг- Южн. | D30: 25 | E30: 200 | F30: 25 | G30: 200 | H30: 0 | J30: 25 | K30: 200
C31: ПС Карабуд-т | D31: 49 | E31: =100+360 -> 460 | F31: 27 | G31: 310 | H31: 0 | J31: 35 | K31: 210
C32: ПС Рассвет | D32: 55 | E32: 520 | F32: 21 | G32: 232 | H32: 0 | J32: 49 | K32: 465
C33: ПС Шамхал | D33: 70 | E33: =540+147 -> 687 | F33: 70 | G33: 687 | H33: 0 | J33: 69 | K33: 390
C34: ПС Сергокала | D34: 27 | E34: 200 | F34: 27 | G34: 200 | H34: 0 | J34: 22 | K34: 150
C35: ПС Алмало | D35: 48 | E35: 380 | F35: 25 | G35: 220 | H35: 0 | J35: 36 | K35: 320
C36: ПС Буйнакск -1 | D36: 103 | E36: =680+3+7.5 -> 690.5 | F36: 79 | G36: 450 | H36: 0 | J36: 81 | K36: 490
C37: ПС Буйнакск -2 | D37: 79 | E37: 460 | F37: 49 | G37: 210 | H37: 0 | J37: 79 | K37: 460
C38: ПС Казанище | D38: 34 | E38: =7+12+15+13+13+12+7+5+35+15+2.2+8+10+14+5+9+15+14+15+14+15 -> 255.2 | F38: 25 | G38: 180 | H38: 0 | J38: 30 | K38: 200
C39: ПС Согратль | D39: 45 | E39: 320 | F39: 35 | G39: 240 | H39: 0 | J39: 15 | K39: 100
C40: ПС Дженгутай | D40: 31 | E40: =10+10+5+11+10+120+19+20 -> 205 | F40: 20 | G40: 100 | H40: 0 | J40: 22 | K40: 100
C41: ПС Такалай | D41: 9 | E41: 85 | H41: 0 | J41: 9 | K41: 85
C42: ПС Параул | D42: 5 | E42: =12+6+12+15+12 -> 57 | F42: 5 | G42: 57 | H42: 0 | J42: 3 | K42: 40
C43: ПС Восточная | D43: 6 | E43: 42 | F43: 6 | G43: 42 | H43: 0 | J43: 9 | K43: 50
C44: ПС Приозерная | H44: 0
C45: ПС Солнце | D45: 32 | E45: 337 | F45: 32 | G45: 337 | H45: 0 | J45: 26 | K45: 221
C46: ПС Компас | D46: 1 | E46: 1.1 | F46: 1 | G46: 1.1 | H46: 0 | J46: 1 | K46: 1.1
C47: ПС Сулак | D47: 15 | E47: 110 | H47: 0 | J47: 15 | K47: 110
C48: ПС НИИСХА | D48: 5 | E48: 45 | F48: 5 | G48: 45 | H48: 0 | J48: 5 | K48: 45
C49: ПС Тепл. Комбинат | D49: 5 | E49: 30 | H49: 0 | J49: 5 | K49: 30
C50: ПС Насосная - 2 | H50: 0
C51: ПС Ленинкент | D51: 2 | E51: =13+5 -> 18 | F51: 2 | G51: 18 | H51: 0 | J51: 2 | K51: =13+5 -> 18
C52: ПС Дурмаз | D52: 2 | E52: =4+20 -> 24 | F52: 2 | G52: 24 | H52: 0 | J52: 2 | K52: =4+20 -> 24
C53: ПС Эрпели | D53: 4 | E53: 28 | F53: 2 | G53: 9 | H53: 0 | J53: 4 | K53: 28
C54: ПС Гурбуки | D54: 2 | E54: 14 | F54: 1 | G54: 4 | H54: 0 | J54: 2 | K54: 14
C55: ПС Халимбекаул | D55: 21 | E55: 185 | F55: 9 | G55: 63 | H55: 0 | J55: 21 | K55: 185
C56: ПС Мулебки | D56: 12 | E56: 150 | F56: 2 | G56: =5+5 -> 10 | H56: 0 | J56: 12 | K56: 150
C57: ПС Н. Чиркей | D57: 15 | E57: 102 | F57: 3 | G57: 21 | H57: 0 | J57: 15 | K57: 102
C58: ПС КПФ | H58: 0
C59: ПС Аграханская | H59: 0
C60: ПС ЗТМ (Т, Механика) | D60: 10 | E60: 96 | H60: 0 | J60: 15 | K60: 105
C61: итого: | D61: =SUM(D20:D60) -> 969 | E61: =SUM(E20:E60) -> 7839.8 | F61: =SUM(F20:F60) -> 619 | G61: =SUM(G20:G60) -> 4868.1 | H61: =SUM(H20:H60) -> 0 | I61: =SUM(I20:I60) -> 0 | J61: =SUM(J20:J60) -> 809 | K61: =SUM(K20:K60) -> 5729.1 | ... Q61: =SUM(Q20:Q60) -> 0
C62: СЕВЕРНЫЕ СЕТИ | H62: 0
C63: Ярыксу | D63: 95 | E63: =100+10+7+12+8+15+15+4+12+8+8+7+12+7+15+6+6+8+7+5+15+10+3+15+10+10+5+5+15+5+20+14+15+15+10+15+10+15+3+6+6+8+6+3+10+8+15+25+6+5+15+10+25+15+15+15+25+10+10+7+10+8+10+3+7+7+10+5+3+105+94 -> 989 | F63: 77 | G63: 795 | H63: 0 | J63: 35 | K63: 190
C64: Акташ | D64: 41 | E64: =15+15+5+15+15+15+15+8+15+15+15+15+4.5+15+10+15+10+15+15+15+13+15+15+5+5+15+10+5+15+6+6+15+10+15+10+15+15+7+25 -> 484.5 | F64: 39 | G64: =15+15+5+15+15+15+15+8+15+15+15+15+4.5+15+10+15+10+15+15+15+13+15+15+5+5+15+10+5+15+6+6+15+10+15+10+15+15+7+25 -> 484.5 | H64: 0 | J64: 27 | K64: 170
C65: Куруш | D65: 33 | E65: 310 | F65: 11 | G65: =5+50+5+30+5+4.5 -> 99.5 | H65: 0 | J65: 4 | K65: =5+5 -> 10
C66: Сулевкент | H66: 0
C67: Бабаюрт | D67: 10 | E67: 116 | F67: 10 | G67: 116 | H67: 0 | J67: 10 | K67: 116
C68: Чиркей | D68: 1 | E68: 10 | F68: 1 | G68: 10 | H68: 0 | J68: 1 | K68: 10
C69: Дылым | D69: 25 | E69: 220 | F69: 20 | G69: 150 | H69: 0 | J69: 15 | K69: 120
C70: Миатлы | D70: 3 | E70: 15 | F70: 3 | G70: 15 | H70: 0 | J70: 3 | K70: 15
C71: ГЩЗ | D71: 20 | E71: 122 | F71: 20 | G71: 122 | H71: 0 | J71: 20 | K71: 122
C72: Сулак | D72: 1 | E72: =6 -> 6 | F72: 1 | G72: =6 -> 6 | H72: 0 | J72: 1 | K72: 6
C73: Львовская | D73: 12 | E73: 92 | H73: 0 | J73: 29 | K73: 198
C74: Дагестан | D74: 12 | E74: =5+10+7+5+7+15+5+15+5+4+10+10 -> 98 | F74: 12 | G74: 98 | H74: 0 | J74: 10 | K74: 60
C75: Аксай | D75: 4 | E75: 56 | F75: 2 | G75: =3.5+5 -> 8.5 | H75: 0 | J75: 27 | K75: 197
C76: Чагаротар | D76: 4 | E76: 31 | H76: 0 | J76: 4 | K76: 31
C77: Гертма | D77: 1 | E77: 7 | F77: 1 | G77: 7 | H77: 0 | J77: 1 | K77: 7
C78: Татаюрт | D78: 7 | E78: =10+15+7+6+7+5+12 -> 62 | F78: 7 | G78: 62 | H78: 0 | J78: 6 | K78: 48
C79: Тамазатюбе | D79: 1 | E79: 5 | F79: 1 | G79: 5 | H79: 0 | J79: 1 | K79: 5
C80: Туршунай | D80: 8 | E80: =100+5+5+10 -> 120 | F80: 4 | G80: 80 | H80: 0 | J80: 8 | K80: =100+5+5+10 -> 120
C81: Хамам-юрт | D81: 6 | E81: =5+15+5+10+5+5 -> 45 | F81: 6 | G81: 45 | H81: 0 | J81: 6 | K81: =5+15+5+10+5+5 -> 45
C82: Костек | D82: 1 | E82: =4 -> 4 | F82: 1 | G82: =4 -> 4 | H82: 0 | J82: 1 | K82: =4 -> 4
C83: Новокули | D83: 8 | E83: 44 | F83: 8 | G83: 44 | H83: 0 | J83: 8 | K83: 44
C84: Акбула-Тюрт | D84: 1 | E84: 5 | F84: 1 | G84: 5 | H84: 0 | J84: 1 | K84: 5
C85: Янгильбай | D85: 3 | E85: 30 | H85: 0 | J85: 3 | K85: 30
C86: Шава | D86: 3 | E86: 20 | H86: 0 | J86: 3 | K86: 20
C87: Новая коса | D87: 3 | E87: 21 | H87: 0 | J87: 3 | K87: 21
C88: Караузбек | D88: 1 | E88: 10 | F88: 1 | G88: 10 | H88: 0 | J88: 1 | K88: 10
C89: Свердлова | H89: 0
C90: Димитрова | D90: 17 | E90: 180 | F90: 15 | G90: 164 | H90: 0 | J90: 17 | K90: 180
C91: Казиюрт | H91: 0
C92: Аликазган | H92: 0
C93: Д Консер.з-д | D93: 1 | E93: 6 | F93: 1 | G93: 6 | H93: 0 | J93: 5 | K93: 25
C94: Сивух | D94: 6 | E94: =6+15+8+10+8+15 -> 62 | F94: 6 | G94: 48 | H94: 0 | J94: 6 | K94: =6+15+8+10+8+15 -> 62
C95: Андрейаул | D95: 1 | E95: 10 | F95: 1 | G95: 10 | H95: 0 | J95: 1 | K95: 10
C96: Дружба | D96: 5 | E96: 28 | F96: 5 | G96: 28 | H96: 0 | J96: 5 | K96: 28
C97: Дубки | D97: 3 | E97: 11 | F97: 3 | G97: 11 | H97: 0 | J97: 3 | K97: 11
C98: Карланюрт -(Тяговая) | H98: 0
C99: итого: | D99: =SUM(D63:D98) -> 337 | E99: =SUM(E63:E98) -> 3219.5 | F99: =SUM(F63:F98) -> 257 | G99: =SUM(G63:G98) -> 2433.5 | H99: =SUM(H63:H98) -> 0 | I99: =SUM(I63:I98) -> 0 | J99: =SUM(J63:J98) -> 265 | K99: =SUM(K63:K98) -> 1920 | ... Q99: =SUM(Q63:Q98) -> 0
C100: ДЕРБЕНТСКИЕ СЕТИ | H100: 0
C101: Дербент-330 | D101: 70 | E101: =467+54+160+100 -> 781 | F101: 40 | G101: 395 | H101: 0 | J101: 65 | K101: 700
C102: Дербент-С | D102: 42 | E102: =328+160+200 -> 688 | F102: 32 | G102: 258 | H102: 0 | J102: 38 | K102: 520
C103: Мамедкала | D103: 19 | E103: 125 | F103: 19 | G103: 125 | H103: 0 | J103: 25 | K103: 130
C104: Каякент | D104: 27 | E104: 292 | F104: 27 | G104: 292 | H104: 0 | J104: 27 | K104: 292
C105: Белиджи | D105: 17 | E105: =45+10+5+10+4+10+15+8+8+69+20 -> 204 | F105: 15 | G105: 184 | H105: 0 | J105: 17 | K105: =45+10+5+10+4+10+15+8+8+69+20 -> 204
C106: Касумкент | D106: 7 | E106: =7+14.5+7+10+26 -> 64.5 | F106: 7 | G106: 64.5 | H106: 0 | J106: 7 | K106: =7+14.5+7+10+26 -> 64.5
C107: Советская | D107: 11 | E107: =10+5+10+5+10+4+13+28 -> 85 | F107: 11 | G107: 85 | H107: 0 | J107: 11 | K107: =10+5+10+5+10+4+13+28 -> 85
C108: Магарамкент | D108: 40 | E108: 375 | F108: 28 | G108: 254.5 | H108: 0 | J108: 40 | K108: 375
C109: Тагиркент | D109: 13 | E109: =6+4+5+5+3+7+7+5+7+5+7+8 -> 69 | F109: 11 | G109: 61 | H109: 0 | J109: 13 | K109: =6+4+5+5+3+7+7+5+7+5+7+8 -> 69
C110: Ахты | D110: 9 | E110: =1.8+1.8+1.8+7+8+8+8+8+2 -> 46.4 | F110: 9 | G110: 46.4 | H110: 0 | J110: 9 | K110: =1.8+1.8+1.8+7+8+8+8+8+2 -> 46.4
...

Sheet Лист2

Sheet Лист3

Sheet Лист4

Sheet Лист5
A1: исполненные | B1: дек | C1: ноя | D1: окт | E1: сент | F1: авг | G1: июл | H1: июн | I1: май | J1: апр | K1: март | L1: фев | M1: янв
B2: квт 6-10
A3: 0.4 | B3: 1810.5 | C3: 1725 | D3: 1737 | E3: 2135.3 | F3: 1101.5 | G3: 1362.5 | H3: 1234 | I3: 1118.7 | J3: 825 | K3: 772 | L3: 399.5 | M3: 1884.2 | N3: =SUM(B3:M3) -> 16105.2
B4: квт 6-10
B5: 2577.8 | C5: 6097 | D5: 231 | E5: 6532 | F5: 356 | G5: 65 | H5: 1155.7 | I5: 279.5 | J5: 74 | K5: 56 | L5: 338 | M5: 93 | N5: =SUM(B5:M5) -> 17855
A7: итого | B7: =B5+B3 -> 4388.3 | C7: =C5+C3 -> 7822 | D7: =D5+D3 -> 1968 | E7: =E5+E3 -> 8667.3 | F7: =F5+F3 -> 1457.5 | G7: =G5+G3 -> 1427.5 | H7: =H5+H3 -> 2389.7 | I7: =I5+I3 -> 1398.2 | ... M7: =M5+M3 -> 1977.2 | N7: =SUM(B7:M7) -> 33960.2 | O7: 34006 | P7: 94202
B9: 360 | C9: 260 | D9: 272 | E9: 370 | F9: 164 | G9: 242 | H9: 197 | I9: 198 | J9: 155 | K9: 93 | L9: 82 | M9: =108+173 -> 281 | N9: =SUM(B9:M9) -> 2674 | P9: 3281
A11: 6-10. | B11: 70 | C11: 65 | D11: 15 | E11: 97 | F11: 12 | G11: 6 | H11: 26 | I11: 22 | J11: 7 | K11: 6 | L11: 4 | M11: 7 | N11: =SUM(B11:M11) -> 337
A12: 0.4 | B12: =B9-B11 -> 290 | C12: =C9-C11 -> 195 | D12: =D9-D11 -> 257 | E12: =E9-E11 -> 273 | F12: =F9-F11 -> 152 | G12: =G9-G11 -> 236 | H12: =H9-H11 -> 171 | I12: =I9-I11 -> 176 | ... L12: =L9-L11 -> 78 | M12: =101+173 -> 274 | N12: =SUM(B12:M12) -> 2337
L15: крайновка | N15: 1500
L16: шамхал | N16: 700
L17: махачкала | N17: 2000
