Workbook

Sheet Лист1

Sheet Ноябрь 2013г
M1: Приложение № 28
M2: к Положению о технологическом присоединении
M3: энергетических установок к электрическим сетям
M4: ОАО «МРСК Северного Кавказа», управляемых
M5: Обществ
B14: Информация о технологическом присоединении энергопринимающих устройств к сетям КБ филиалом ОАО "МРСК Северного Кавказа" за Ноябрь 2013г.
A19: Наименование организации, осуществляющей технологическое присоединение | B19: Наименование субъекта РФ | C19: Наименование центра питания (ПС 35 кВ и выше) | D19: Количество поданных заявок на технологическое присоединение, на общую мощность энергопринимающих устройств, кВт | F19: Заключено договоров на технологическое присоединение, включающие технические условия на общую мощность энергопринимающих устройств, кВт | H19: Расторгнуто договоров на технологическое присоединение, включающие технические условия на общую мощность энергопринимающих устройств, кВт | J19: Суммарная мощность энегргопринимающих устройств, присоединенных к электрическим сетям в соответствии с договором на технологическое присоединение за отчетный период, кВт | L19: Заключено договоров на технологическое присоединение, включающие технические условия на общую мощность генерирущих установок, МВт | N19: Расторгнуто договоров на технологическое присоединение, включающие технические условия на общую мощность генерирущих установок, МВт | P19: Суммарная мощность генерирущих установок, присоединенных к электрическим сетям в соответствии с договором на технологическое присоединение за отчетный период, МВт
A20: 1 | B20: 2 | C20: 3 | D20: 4 | F20: 5 | H20: 6 | J20: 7 | L20: 8 | N20: 9 | P20: 10
D21: шт | E21: кВт | F21: шт | G21: кВт | H21: шт | I21: кВт | J21: шт | K21: кВт | L21: шт | M21: МВт | N21: шт | O21: МВт | P21: шт | Q21: МВт
A22: Кабардино- Балкарсикй филиал ОАО "МРСК Северного Кавказа" | B22: Кабардино- Балкарская Республика | C22: Нальчикская группа ПС
C23: ПС «Нальчик» | D23: ='декабрь 2014г. по 6-10'!D23+'декабрь 2014г. по 0,4'!D20 -> 0 | E23: ='декабрь 2014г. по 6-10'!E23+'декабрь 2014г. по 0,4'!E20 -> 0 | F23: ='декабрь 2014г. по 6-10'!F23+'декабрь 2014г. по 0,4'!F20 -> 0 | G23: ='декабрь 2014г. по 6-10'!G23+'декабрь 2014г. по 0,4'!G20 -> 0 | H23: 2 | I23: 11.2 | J23: ='декабрь 2014г. по 6-10'!J23+'декабрь 2014г. по 0,4'!J20 -> 0 | K23: ='декабрь 2014г. по 6-10'!K23+'декабрь 2014г. по 0,4'!K20 -> 0 | L23: 0 | M23: 0 | N23: 0 | O23: 0 | P23: 0 | Q23: 0
C24: ПС «Телемеханика-1» | D24: ='декабрь 2014г. по 6-10'!D24+'декабрь 2014г. по 0,4'!D21 -> 34 | E24: ='декабрь 2014г. по 6-10'!E24+'декабрь 2014г. по 0,4'!E21 -> 410 | F24: ='декабрь 2014г. по 6-10'!F24+'декабрь 2014г. по 0,4'!F21 -> 1 | G24: ='декабрь 2014г. по 6-10'!G24+'декабрь 2014г. по 0,4'!G21 -> 100 | H24: 0 | I24: 0 | J24: ='декабрь 2014г. по 6-10'!J24+'декабрь 2014г. по 0,4'!J21 -> 30 | K24: ='декабрь 2014г. по 6-10'!K24+'декабрь 2014г. по 0,4'!K21 -> 300 | L24: 0 | M24: 0 | N24: 0 | O24: 0 | P24: 0 | Q24: 0
C25: ПС «Искож» | D25: ='декабрь 2014г. по 6-10'!D25+'декабрь 2014г. по 0,4'!D22 -> 32 | E25: ='декабрь 2014г. по 6-10'!E25+'декабрь 2014г. по 0,4'!E22 -> 250 | F25: ='декабрь 2014г. по 6-10'!F25+'декабрь 2014г. по 0,4'!F22 -> 0 | G25: ='декабрь 2014г. по 6-10'!G25+'декабрь 2014г. по 0,4'!G22 -> 0 | H25: 0 | I25: 0 | J25: ='декабрь 2014г. по 6-10'!J25+'декабрь 2014г. по 0,4'!J22 -> 20 | K25: ='декабрь 2014г. по 6-10'!K25+'декабрь 2014г. по 0,4'!K22 -> 160 | L25: 0 | M25: 0 | N25: 0 | O25: 0 | P25: 0 | Q25: 0
C26: ПС «СКЭП-Н» | D26: ='декабрь 2014г. по 6-10'!D26+'декабрь 2014г. по 0,4'!D23 -> 41 | E26: ='декабрь 2014г. по 6-10'!E26+'декабрь 2014г. по 0,4'!E23 -> 3600 | F26: ='декабрь 2014г. по 6-10'!F26+'декабрь 2014г. по 0,4'!F23 -> 9 | G26: ='декабрь 2014г. по 6-10'!G26+'декабрь 2014г. по 0,4'!G23 -> 845 | H26: 0 | I26: 0 | J26: ='декабрь 2014г. по 6-10'!J26+'декабрь 2014г. по 0,4'!J23 -> 26 | K26: ='декабрь 2014г. по 6-10'!K26+'декабрь 2014г. по 0,4'!K23 -> 540 | L26: 0 | M26: 0 | N26: 0 | O26: 0 | P26: 0 | Q26: 0
C27: ПС «Долинск» | D27: ='декабрь 2014г. по 6-10'!D27+'декабрь 2014г. по 0,4'!D24 -> 8 | E27: ='декабрь 2014г. по 6-10'!E27+'декабрь 2014г. по 0,4'!E24 -> 90 | F27: ='декабрь 2014г. по 6-10'!F27+'декабрь 2014г. по 0,4'!F24 -> 2 | G27: ='декабрь 2014г. по 6-10'!G27+'декабрь 2014г. по 0,4'!G24 -> 30 | H27: 0 | I27: 0 | J27: ='декабрь 2014г. по 6-10'!J27+'декабрь 2014г. по 0,4'!J24 -> 5 | K27: ='декабрь 2014г. по 6-10'!K27+'декабрь 2014г. по 0,4'!K24 -> 20 | L27: 0 | M27: 0 | N27: 0 | O27: 0 | P27: 0 | Q27: 0
C28: ПС «Дубки» | D28: ='декабрь 2014г. по 6-10'!D28+'декабрь 2014г. по 0,4'!D25 -> 9 | E28: ='декабрь 2014г. по 6-10'!E28+'декабрь 2014г. по 0,4'!E25 -> 694 | F28: ='декабрь 2014г. по 6-10'!F28+'декабрь 2014г. по 0,4'!F25 -> 6 | G28: ='декабрь 2014г. по 6-10'!G28+'декабрь 2014г. по 0,4'!G25 -> 494 | H28: 0 | I28: 0 | J28: ='декабрь 2014г. по 6-10'!J28+'декабрь 2014г. по 0,4'!J25 -> 8 | K28: ='декабрь 2014г. по 6-10'!K28+'декабрь 2014г. по 0,4'!K25 -> 334 | L28: 0 | M28: 0 | N28: 0 | O28: 0 | P28: 0 | Q28: 0
C29: ПС «Птицефабрика» | D29: ='декабрь 2014г. по 6-10'!D29+'декабрь 2014г. по 0,4'!D26 -> 7 | E29: ='декабрь 2014г. по 6-10'!E29+'декабрь 2014г. по 0,4'!E26 -> 140 | F29: ='декабрь 2014г. по 6-10'!F29+'декабрь 2014г. по 0,4'!F26 -> 7 | G29: ='декабрь 2014г. по 6-10'!G29+'декабрь 2014г. по 0,4'!G26 -> 140 | H29: 1 | I29: 300 | J29: ='декабрь 2014г. по 6-10'!J29+'декабрь 2014г. по 0,4'!J26 -> 5 | K29: ='декабрь 2014г. по 6-10'!K29+'декабрь 2014г. по 0,4'!K26 -> 20 | L29: 0 | M29: 0 | N29: 0 | O29: 0 | P29: 0 | Q29: 0
C30: итого: | D30: =D23+D24+D25+D26+D27+D28+D29 -> 131 | E30: =E23+E24+E25+E26+E27+E28+E29 -> 5184 | F30: =F23+F24+F25+F26+F27+F28+F29 -> 25 | G30: =G23+G24+G25+G26+G27+G28+G29 -> 1609 | H30: =H23+H24+H25+H26+H27+H28+H29 -> 3 | I30: =I23+I24+I25+I26+I27+I28+I29 -> 311.2 | J30: =J23+J24+J25+J26+J27+J28+J29 -> 94 | K30: =K23+K24+K25+K26+K27+K28+K29 -> 1374 | ... Q30: =Q23+Q24+Q25+Q26+Q27+Q28+Q29 -> 0
C31: Малкинская группа ПС
C32: ПС «Малка» | D32: ='декабрь 2014г. по 6-10'!D32+'декабрь 2014г. по 0,4'!D29 -> 75 | E32: ='декабрь 2014г. по 6-10'!E32+'декабрь 2014г. по 0,4'!E29 -> 1909 | F32: ='декабрь 2014г. по 6-10'!F32+'декабрь 2014г. по 0,4'!F29 -> 51 | G32: ='декабрь 2014г. по 6-10'!G32+'декабрь 2014г. по 0,4'!G29 -> 1349 | H32: 0 | I32: 0 | J32: ='декабрь 2014г. по 6-10'!J32+'декабрь 2014г. по 0,4'!J29 -> 46 | K32: ='декабрь 2014г. по 6-10'!K32+'декабрь 2014г. по 0,4'!K29 -> 730 | L32: 0 | M32: 0 | N32: 0 | O32: 0 | P32: 0 | Q32: 0
C33: ПС «Каменномостская» | D33: ='декабрь 2014г. по 6-10'!D33+'декабрь 2014г. по 0,4'!D30 -> 33 | E33: ='декабрь 2014г. по 6-10'!E33+'декабрь 2014г. по 0,4'!E30 -> 1243 | F33: ='декабрь 2014г. по 6-10'!F33+'декабрь 2014г. по 0,4'!F30 -> 31 | G33: ='декабрь 2014г. по 6-10'!G33+'декабрь 2014г. по 0,4'!G30 -> 1189 | H33: 0 | I33: 0 | J33: ='декабрь 2014г. по 6-10'!J33+'декабрь 2014г. по 0,4'!J30 -> 30 | K33: ='декабрь 2014г. по 6-10'!K33+'декабрь 2014г. по 0,4'!K30 -> 540 | L33: 0 | M33: 0 | N33: 0 | O33: 0 | P33: 0 | Q33: 0
C34: ПС «Залукокоаже» | D34: ='декабрь 2014г. по 6-10'!D34+'декабрь 2014г. по 0,4'!D31 -> 59 | E34: ='декабрь 2014г. по 6-10'!E34+'декабрь 2014г. по 0,4'!E31 -> 791 | F34: ='декабрь 2014г. по 6-10'!F34+'декабрь 2014г. по 0,4'!F31 -> 36 | G34: ='декабрь 2014г. по 6-10'!G34+'декабрь 2014г. по 0,4'!G31 -> 596 | H34: 0 | I34: 0 | J34: ='декабрь 2014г. по 6-10'!J34+'декабрь 2014г. по 0,4'!J31 -> 44 | K34: ='декабрь 2014г. по 6-10'!K34+'декабрь 2014г. по 0,4'!K31 -> 455 | L34: 0 | M34: 0 | N34: 0 | O34: 0 | P34: 0 | Q34: 0
C35: ПС «Залукодес» | D35: ='декабрь 2014г. по 6-10'!D35+'декабрь 2014г. по 0,4'!D32 -> 71 | E35: ='декабрь 2014г. по 6-10'!E35+'декабрь 2014г. по 0,4'!E32 -> 1680 | F35: ='декабрь 2014г. по 6-10'!F35+'декабрь 2014г. по 0,4'!F32 -> 35 | G35: ='декабрь 2014г. по 6-10'!G35+'декабрь 2014г. по 0,4'!G32 -> 1067 | H35: 0 | I35: 0 | J35: ='декабрь 2014г. по 6-10'!J35+'декабрь 2014г. по 0,4'!J32 -> 57 | K35: ='декабрь 2014г. по 6-10'!K35+'декабрь 2014г. по 0,4'!K32 -> 945 | L35: 0 | M35: 0 | N35: 0 | O35: 0 | P35: 0 | Q35: 0
C36: ПС «Сармаково» | D36: ='декабрь 2014г. по 6-10'!D36+'декабрь 2014г. по 0,4'!D33 -> 90 | E36: ='декабрь 2014г. по 6-10'!E36+'декабрь 2014г. по 0,4'!E33 -> 3682 | F36: ='декабрь 2014г. по 6-10'!F36+'декабрь 2014г. по 0,4'!F33 -> 90 | G36: ='декабрь 2014г. по 6-10'!G36+'декабрь 2014г. по 0,4'!G33 -> 2982 | H36: 0 | I36: 0 | J36: ='декабрь 2014г. по 6-10'!J36+'декабрь 2014г. по 0,4'!J33 -> 75 | K36: ='декабрь 2014г. по 6-10'!K36+'декабрь 2014г. по 0,4'!K33 -> 510 | L36: 0 | M36: 0 | N36: 0 | O36: 0 | P36: 0 | Q36: 0
C37: ПС «Аурсентх» | D37: ='декабрь 2014г. по 6-10'!D37+'декабрь 2014г. по 0,4'!D34 -> 31 | E37: ='декабрь 2014г. по 6-10'!E37+'декабрь 2014г. по 0,4'!E34 -> 1210 | F37: ='декабрь 2014г. по 6-10'!F37+'декабрь 2014г. по 0,4'!F34 -> 30 | G37: ='декабрь 2014г. по 6-10'!G37+'декабрь 2014г. по 0,4'!G34 -> 290 | H37: 0 | I37: 0 | J37: ='декабрь 2014г. по 6-10'!J37+'декабрь 2014г. по 0,4'!J34 -> 22 | K37: ='декабрь 2014г. по 6-10'!K37+'декабрь 2014г. по 0,4'!K34 -> 150 | L37: 0 | M37: 0 | N37: 0 | O37: 0 | P37: 0 | Q37: 0
C38: итого: | D38: =D32+D33+D34+D35+D36+D37 -> 359 | E38: =E32+E33+E34+E35+E36+E37 -> 10515 | F38: =F32+F33+F34+F35+F36+F37 -> 273 | G38: =G32+G33+G34+G35+G36+G37 -> 7473 | H38: =H32+H33+H34+H35+H36+H37 -> 0 | I38: =I32+I33+I34+I35+I36+I37 -> 0 | J38: =J32+J33+J34+J35+J36+J37 -> 274 | K38: =K32+K33+K34+K35+K36+K37 -> 3330 | ... Q38: =Q32+Q33+Q34+Q35+Q36+Q37 -> 0
C39: Эльбрусская группа ПС
C40: ПС «ЦРУ» | D40: ='декабрь 2014г. по 6-10'!D40+'декабрь 2014г. по 0,4'!D37 -> 80 | E40: ='декабрь 2014г. по 6-10'!E40+'декабрь 2014г. по 0,4'!E37 -> 580 | F40: ='декабрь 2014г. по 6-10'!F40+'декабрь 2014г. по 0,4'!F37 -> 50 | G40: ='декабрь 2014г. по 6-10'!G40+'декабрь 2014г. по 0,4'!G37 -> 330 | H40: 0 | I40: 0 | J40: ='декабрь 2014г. по 6-10'!J40+'декабрь 2014г. по 0,4'!J37 -> 87 | K40: ='декабрь 2014г. по 6-10'!K40+'декабрь 2014г. по 0,4'!K37 -> 910 | L40: 0 | M40: 0 | N40: 0 | O40: 0 | P40: 0 | Q40: 0
C41: ПС «Адыл-Су» | D41: ='декабрь 2014г. по 6-10'!D41+'декабрь 2014г. по 0,4'!D38 -> 42 | E41: ='декабрь 2014г. по 6-10'!E41+'декабрь 2014г. по 0,4'!E38 -> 1744.45 | F41: ='декабрь 2014г. по 6-10'!F41+'декабрь 2014г. по 0,4'!F38 -> 30 | G41: ='декабрь 2014г. по 6-10'!G41+'декабрь 2014г. по 0,4'!G38 -> 430 | H41: 0 | I41: 0 | J41: ='декабрь 2014г. по 6-10'!J41+'декабрь 2014г. по 0,4'!J38 -> 30 | K41: ='декабрь 2014г. по 6-10'!K41+'декабрь 2014г. по 0,4'!K38 -> 200 | L41: 0 | M41: 0 | N41: 0 | O41: 0 | P41: 0 | Q41: 0
C42: ПС «Нейтрино» | D42: ='декабрь 2014г. по 6-10'!D42+'декабрь 2014г. по 0,4'!D39 -> 52 | E42: ='декабрь 2014г. по 6-10'!E42+'декабрь 2014г. по 0,4'!E39 -> 1241.1 | F42: ='декабрь 2014г. по 6-10'!F42+'декабрь 2014г. по 0,4'!F39 -> 42 | G42: ='декабрь 2014г. по 6-10'!G42+'декабрь 2014г. по 0,4'!G39 -> 1161.1 | H42: 0 | I42: 0 | J42: ='декабрь 2014г. по 6-10'!J42+'декабрь 2014г. по 0,4'!J39 -> 16 | K42: ='декабрь 2014г. по 6-10'!K42+'декабрь 2014г. по 0,4'!K39 -> 120 | L42: 0 | M42: 0 | N42: 0 | O42: 0 | P42: 0 | Q42: 0
C43: ПС «Чегет» | D43: ='декабрь 2014г. по 6-10'!D43+'декабрь 2014г. по 0,4'!D40 -> 36 | E43: ='декабрь 2014г. по 6-10'!E43+'декабрь 2014г. по 0,4'!E40 -> 828 | F43: ='декабрь 2014г. по 6-10'!F43+'декабрь 2014г. по 0,4'!F40 -> 23 | G43: ='декабрь 2014г. по 6-10'!G43+'декабрь 2014г. по 0,4'!G40 -> 410 | H43: 0 | I43: 0 | J43: ='декабрь 2014г. по 6-10'!J43+'декабрь 2014г. по 0,4'!J40 -> 22 | K43: ='декабрь 2014г. по 6-10'!K43+'декабрь 2014г. по 0,4'!K40 -> 100 | L43: 0 | M43: 0 | N43: 0 | O43: 0 | P43: 0 | Q43: 0
C44: ПС «Терскол» | D44: ='декабрь 2014г. по 6-10'!D44+'декабрь 2014г. по 0,4'!D41 -> 10 | E44: ='декабрь 2014г. по 6-10'!E44+'декабрь 2014г. по 0,4'!E41 -> 125 | F44: ='декабрь 2014г. по 6-10'!F44+'декабрь 2014г. по 0,4'!F41 -> 0 | G44: ='декабрь 2014г. по 6-10'!G44+'декабрь 2014г. по 0,4'!G41 -> 0 | H44: 0 | I44: 0 | J44: ='декабрь 2014г. по 6-10'!J44+'декабрь 2014г. по 0,4'!J41 -> 9 | K44: ='декабрь 2014г. по 6-10'!K44+'декабрь 2014г. по 0,4'!K41 -> 85 | L44: 0 | M44: 0 | N44: 0 | O44: 0 | P44: 0 | Q44: 0
C45: ПС «Джайлык» | D45: ='декабрь 2014г. по 6-10'!D45+'декабрь 2014г. по 0,4'!D42 -> 7 | E45: ='декабрь 2014г. по 6-10'!E45+'декабрь 2014г. по 0,4'!E42 -> 329 | F45: ='декабрь 2014г. по 6-10'!F45+'декабрь 2014г. по 0,4'!F42 -> 7 | G45: ='декабрь 2014г. по 6-10'!G45+'декабрь 2014г. по 0,4'!G42 -> 329 | H45: 0 | I45: 0 | J45: ='декабрь 2014г. по 6-10'!J45+'декабрь 2014г. по 0,4'!J42 -> 4 | K45: ='декабрь 2014г. по 6-10'!K45+'декабрь 2014г. по 0,4'!K42 -> 110 | L45: 0 | M45: 0 | N45: 0 | O45: 0 | P45: 0 | Q45: 0
C46: ПС «Соц. городок» | D46: ='декабрь 2014г. по 6-10'!D46+'декабрь 2014г. по 0,4'!D43 -> 10 | E46: ='декабрь 2014г. по 6-10'!E46+'декабрь 2014г. по 0,4'!E43 -> 242 | F46: ='декабрь 2014г. по 6-10'!F46+'декабрь 2014г. по 0,4'!F43 -> 9 | G46: ='декабрь 2014г. по 6-10'!G46+'декабрь 2014г. по 0,4'!G43 -> 202 | H46: 0 | I46: 0 | J46: ='декабрь 2014г. по 6-10'!J46+'декабрь 2014г. по 0,4'!J43 -> 11 | K46: ='декабрь 2014г. по 6-10'!K46+'декабрь 2014г. по 0,4'!K43 -> 55 | L46: 0 | M46: 0 | N46: 0 | O46: 0 | P46: 0 | Q46: 0
C47: ПС «Чалмас» | D47: ='декабрь 2014г. по 6-10'!D47+'декабрь 2014г. по 0,4'!D44 -> 1 | E47: ='декабрь 2014г. по 6-10'!E47+'декабрь 2014г. по 0,4'!E44 -> 75 | F47: ='декабрь 2014г. по 6-10'!F47+'декабрь 2014г. по 0,4'!F44 -> 0 | G47: ='декабрь 2014г. по 6-10'!G47+'декабрь 2014г. по 0,4'!G44 -> 0 | H47: 0 | I47: 0 | J47: ='декабрь 2014г. по 6-10'!J47+'декабрь 2014г. по 0,4'!J44 -> 1 | K47: ='декабрь 2014г. по 6-10'!K47+'декабрь 2014г. по 0,4'!K44 -> 75 | L47: 0 | M47: 0 | N47: 0 | O47: 0 | P47: 0 | Q47: 0
C48: ПС «РМЗ» | D48: ='декабрь 2014г. по 6-10'!D48+'декабрь 2014г. по 0,4'!D45 -> 43 | E48: ='декабрь 2014г. по 6-10'!E48+'декабрь 2014г. по 0,4'!E45 -> 1837 | F48: ='декабрь 2014г. по 6-10'!F48+'декабрь 2014г. по 0,4'!F45 -> 36 | G48: ='декабрь 2014г. по 6-10'!G48+'декабрь 2014г. по 0,4'!G45 -> 967 | H48: 0 | I48: 0 | J48: ='декабрь 2014г. по 6-10'!J48+'декабрь 2014г. по 0,4'!J45 -> 34 | K48: ='декабрь 2014г. по 6-10'!K48+'декабрь 2014г. по 0,4'!K45 -> 901 | L48: 0 | M48: 0 | N48: 0 | O48: 0 | P48: 0 | Q48: 0
C49: РП «Водогрейная» | D49: ='декабрь 2014г. по 6-10'!D49+'декабрь 2014г. по 0,4'!D46 -> 4 | E49: ='декабрь 2014г. по 6-10'!E49+'декабрь 2014г. по 0,4'!E46 -> 451.1 | F49: ='декабрь 2014г. по 6-10'!F49+'декабрь 2014г. по 0,4'!F46 -> 4 | G49: ='декабрь 2014г. по 6-10'!G49+'декабрь 2014г. по 0,4'!G46 -> 451.1 | H49: 0 | I49: 0 | J49: ='декабрь 2014г. по 6-10'!J49+'декабрь 2014г. по 0,4'!J46 -> 5 | K49: ='декабрь 2014г. по 6-10'!K49+'декабрь 2014г. по 0,4'!K46 -> 136.1 | L49: 0 | M49: 0 | N49: 0 | O49: 0 | P49: 0 | Q49: 0
C50: ПС «Былым» | D50: ='декабрь 2014г. по 6-10'!D50+'декабрь 2014г. по 0,4'!D47 -> 18 | E50: ='декабрь 2014г. по 6-10'!E50+'декабрь 2014г. по 0,4'!E47 -> 293 | F50: ='декабрь 2014г. по 6-10'!F50+'декабрь 2014г. по 0,4'!F47 -> 3 | G50: ='декабрь 2014г. по 6-10'!G50+'декабрь 2014г. по 0,4'!G47 -> 183 | H50: 0 | I50: 0 | J50: ='декабрь 2014г. по 6-10'!J50+'декабрь 2014г. по 0,4'!J47 -> 15 | K50: ='декабрь 2014г. по 6-10'!K50+'декабрь 2014г. по 0,4'!K47 -> 110 | L50: 0 | M50: 0 | N50: 0 | O50: 0 | P50: 0 | Q50: 0
C51: ПС "Гунделен" | D51: ='декабрь 2014г. по 6-10'!D51+'декабрь 2014г. по 0,4'!D48 -> 13 | E51: ='декабрь 2014г. по 6-10'!E51+'декабрь 2014г. по 0,4'!E48 -> 1050 | F51: ='декабрь 2014г. по 6-10'!F51+'декабрь 2014г. по 0,4'!F48 -> 10 | G51: ='декабрь 2014г. по 6-10'!G51+'декабрь 2014г. по 0,4'!G48 -> 515 | H51: 0 | I51: 0 | J51: ='декабрь 2014г. по 6-10'!J51+'декабрь 2014г. по 0,4'!J48 -> 5 | K51: ='декабрь 2014г. по 6-10'!K51+'декабрь 2014г. по 0,4'!K48 -> 45 | L51: 0 | M51: 0 | N51: 0 | O51: 0 | P51: 0 | Q51: 0
C52: итого: | D52: =D40+D41+D42+D43+D44+D45+D46+D47+D48+D49+D50+D51 -> 316 | E52: =E40+E41+E42+E43+E44+E45+E46+E47+E48+E49+E50+E51 -> 8795.65 | F52: =F40+F41+F42+F43+F44+F45+F46+F47+F48+F49+F50+F51 -> 214 | G52: =G40+G41+G42+G43+G44+G45+G46+G47+G48+G49+G50+G51 -> 4978.2 | H52: =H40+H41+H42+H43+H44+H45+H46+H47+H48+H49+H50+H51 -> 0 | I52: =I40+I41+I42+I43+I44+I45+I46+I47+I48+I49+I50+I51 -> 0 | J52: =J40+J41+J42+J43+J44+J45+J46+J47+J48+J49+J50+J51 -> 239 | K52: =K40+K41+K42+K43+K44+K45+K46+K47+K48+K49+K50+K51 -> 2847.1 | ... Q52: =Q40+Q41+Q42+Q43+Q44+Q45+Q46+Q47+Q48+Q49+Q50+Q51 -> 0
...

Sheet декабрь 2014г
B14: Информация о технологическом присоединении энергопринимающих устройств к сетям ОАО Дагэнергосеть илиалом ОАО "МРСК Северного Кавказа" за декабрь 2014г.
A19: Наименование организации, осуществляющей технологическое присоединение | B19: Наименование субъекта РФ | C19: Наименование центра питания (ПС 35 кВ и выше) | D19: Количество поданных заявок на технологическое присоединение, на общую мощность энергопринимающих устройств, кВт | F19: Заключено договоров на технологическое присоединение, включающие технические условия на общую мощность энергопринимающих устройств, кВт | H19: Расторгнуто договоров на технологическое присоединение, включающие технические условия на общую мощность энергопринимающих устройств, кВт | J19: Суммарная мощность энегргопринимающих устройств, присоединенных к электрическим сетям в соответствии с договором на технологическое присоединение за отчетный период, кВт | L19: Заключено договоров на технологическое присоединение, включающие технические условия на общую мощность генерирущих установок, МВт | N19: Расторгнуто договоров на технологическое присоединение, включающие технические условия на общую мощность генерирущих установок, МВт | P19: Суммарная мощность генерирущих установок, присоединенных к электрическим сетям в соответствии с договором на технологическое присоединение за отчетный период, МВт
A20: 1 | B20: 2 | C20: 3 | D20: 4 | F20: 5 | H20: 6 | J20: 7 | L20: 8 | N20: 9 | P20: 10
D21: шт | E21: кВт | F21: шт | G21: кВт | H21: шт | I21: кВт | J21: шт | K21: кВт | L21: шт | M21: МВт | N21: шт | O21: МВт | P21: шт | Q21: МВт
A22: Кабардино- Балкарсикй филиал ОАО "МРСК Северного Кавказа" | B22: Республика Дагестан | C22: ЦЕНТРАЛЬНЫЕ СЕТИ
C23: ПС ГПП | D23: ='декабрь 2014г. по 6-10'!D23+'декабрь 2014г. по 0,4'!D20 -> 0 | E23: ='декабрь 2014г. по 6-10'!E23+'декабрь 2014г. по 0,4'!E20 -> 0 | F23: ='декабрь 2014г. по 6-10'!F23+'декабрь 2014г. по 0,4'!F20 -> 0 | G23: ='декабрь 2014г. по 6-10'!G23+'декабрь 2014г. по 0,4'!G20 -> 0 | H23: ='декабрь 2014г. по 6-10'!H23+'декабрь 2014г. по 0,4'!H20 -> 0 | I23: ='декабрь 2014г. по 6-10'!I23+'декабрь 2014г. по 0,4'!I20 -> 0 | J23: ='декабрь 2014г. по 6-10'!J23+'декабрь 2014г. по 0,4'!J20 -> 0 | K23: ='декабрь 2014г. по 6-10'!K23+'декабрь 2014г. по 0,4'!K20 -> 0 | ... Q23: ='декабрь 2014г. по 6-10'!Q23+'декабрь 2014г. по 0,4'!Q20 -> 0
C24: ПС Новая | D24: ='декабрь 2014г. по 6-10'!D24+'декабрь 2014г. по 0,4'!D21 -> 34 | E24: ='декабрь 2014г. по 6-10'!E24+'декабрь 2014г. по 0,4'!E21 -> 410 | F24: ='декабрь 2014г. по 6-10'!F24+'декабрь 2014г. по 0,4'!F21 -> 1 | G24: ='декабрь 2014г. по 6-10'!G24+'декабрь 2014г. по 0,4'!G21 -> 100 | H24: ='декабрь 2014г. по 6-10'!H24+'декабрь 2014г. по 0,4'!H21 -> 0 | I24: ='декабрь 2014г. по 6-10'!I24+'декабрь 2014г. по 0,4'!I21 -> 0 | J24: ='декабрь 2014г. по 6-10'!J24+'декабрь 2014г. по 0,4'!J21 -> 30 | K24: ='декабрь 2014г. по 6-10'!K24+'декабрь 2014г. по 0,4'!K21 -> 300 | ... Q24: ='декабрь 2014г. по 6-10'!Q24+'декабрь 2014г. по 0,4'!Q21 -> 0
C25: ПС ЦПП | D25: ='декабрь 2014г. по 6-10'!D25+'декабрь 2014г. по 0,4'!D22 -> 32 | E25: ='декабрь 2014г. по 6-10'!E25+'декабрь 2014г. по 0,4'!E22 -> 250 | F25: ='декабрь 2014г. по 6-10'!F25+'декабрь 2014г. по 0,4'!F22 -> 0 | G25: ='декабрь 2014г. по 6-10'!G25+'декабрь 2014г. по 0,4'!G22 -> 0 | H25: ='декабрь 2014г. по 6-10'!H25+'декабрь 2014г. по 0,4'!H22 -> 0 | I25: ='декабрь 2014г. по 6-10'!I25+'декабрь 2014г. по 0,4'!I22 -> 0 | J25: ='декабрь 2014г. по 6-10'!J25+'декабрь 2014г. по 0,4'!J22 -> 20 | K25: ='декабрь 2014г. по 6-10'!K25+'декабрь 2014г. по 0,4'!K22 -> 160 | ... Q25: ='декабрь 2014г. по 6-10'!Q25+'декабрь 2014г. по 0,4'!Q22 -> 0
C26: ПС М-110 | D26: ='декабрь 2014г. по 6-10'!D26+'декабрь 2014г. по 0,4'!D23 -> 41 | E26: ='декабрь 2014г. по 6-10'!E26+'декабрь 2014г. по 0,4'!E23 -> 3600 | F26: ='декабрь 2014г. по 6-10'!F26+'декабрь 2014г. по 0,4'!F23 -> 9 | G26: ='декабрь 2014г. по 6-10'!G26+'декабрь 2014г. по 0,4'!G23 -> 845 | H26: ='декабрь 2014г. по 6-10'!H26+'декабрь 2014г. по 0,4'!H23 -> 0 | I26: ='декабрь 2014г. по 6-10'!I26+'декабрь 2014г. по 0,4'!I23 -> 0 | J26: ='декабрь 2014г. по 6-10'!J26+'декабрь 2014г. по 0,4'!J23 -> 26 | K26: ='декабрь 2014г. по 6-10'!K26+'декабрь 2014г. по 0,4'!K23 -> 540 | ... Q26: ='декабрь 2014г. по 6-10'!Q26+'декабрь 2014г. по 0,4'!Q23 -> 0
C27: ПС Очистные соор. | D27: ='декабрь 2014г. по 6-10'!D27+'декабрь 2014г. по 0,4'!D24 -> 8 | E27: ='декабрь 2014г. по 6-10'!E27+'декабрь 2014г. по 0,4'!E24 -> 90 | F27: ='декабрь 2014г. по 6-10'!F27+'декабрь 2014г. по 0,4'!F24 -> 2 | G27: ='декабрь 2014г. по 6-10'!G27+'декабрь 2014г. по 0,4'!G24 -> 30 | H27: ='декабрь 2014г. по 6-10'!H27+'декабрь 2014г. по 0,4'!H24 -> 0 | I27: ='декабрь 2014г. по 6-10'!I27+'декабрь 2014г. по 0,4'!I24 -> 0 | J27: ='декабрь 2014г. по 6-10'!J27+'декабрь 2014г. по 0,4'!J24 -> 5 | K27: ='декабрь 2014г. по 6-10'!K27+'декабрь 2014г. по 0,4'!K24 -> 20 | ... Q27: ='декабрь 2014г. по 6-10'!Q27+'декабрь 2014г. по 0,4'!Q24 -> 0
C28: ПС Ю-Восточная | D28: ='декабрь 2014г. по 6-10'!D28+'декабрь 2014г. по 0,4'!D25 -> 9 | E28: ='декабрь 2014г. по 6-10'!E28+'декабрь 2014г. по 0,4'!E25 -> 694 | F28: ='декабрь 2014г. по 6-10'!F28+'декабрь 2014г. по 0,4'!F25 -> 6 | G28: ='декабрь 2014г. по 6-10'!G28+'декабрь 2014г. по 0,4'!G25 -> 494 | H28: ='декабрь 2014г. по 6-10'!H28+'декабрь 2014г. по 0,4'!H25 -> 0 | I28: ='декабрь 2014г. по 6-10'!I28+'декабрь 2014г. по 0,4'!I25 -> 0 | J28: ='декабрь 2014г. по 6-10'!J28+'декабрь 2014г. по 0,4'!J25 -> 8 | K28: ='декабрь 2014г. по 6-10'!K28+'декабрь 2014г. по 0,4'!K25 -> 334 | ... Q28: ='декабрь 2014г. по 6-10'!Q28+'декабрь 2014г. по 0,4'!Q25 -> 0
C29: ПС Приморская | D29: ='декабрь 2014г. по 6-10'!D29+'декабрь 2014г. по 0,4'!D26 -> 7 | E29: ='декабрь 2014г. по 6-10'!E29+'декабрь 2014г. по 0,4'!E26 -> 140 | F29: ='декабрь 2014г. по 6-10'!F29+'декабрь 2014г. по 0,4'!F26 -> 7 | G29: ='декабрь 2014г. по 6-10'!G29+'декабрь 2014г. по 0,4'!G26 -> 140 | H29: ='декабрь 2014г. по 6-10'!H29+'декабрь 2014г. по 0,4'!H26 -> 0 | I29: ='декабрь 2014г. по 6-10'!I29+'декабрь 2014г. по 0,4'!I26 -> 0 | J29: ='декабрь 2014г. по 6-10'!J29+'декабрь 2014г. по 0,4'!J26 -> 5 | K29: ='декабрь 2014г. по 6-10'!K29+'декабрь 2014г. по 0,4'!K26 -> 20 | ... Q29: ='декабрь 2014г. по 6-10'!Q29+'декабрь 2014г. по 0,4'!Q26 -> 0
C30: ПС Насосная -1 | D30: ='декабрь 2014г. по 6-10'!D30+'декабрь 2014г. по 0,4'!D27 -> 46 | E30: ='декабрь 2014г. по 6-10'!E30+'декабрь 2014г. по 0,4'!E27 -> 1885 | F30: ='декабрь 2014г. по 6-10'!F30+'декабрь 2014г. по 0,4'!F27 -> 44 | G30: ='декабрь 2014г. по 6-10'!G30+'декабрь 2014г. по 0,4'!G27 -> 564.4 | H30: ='декабрь 2014г. по 6-10'!H30+'декабрь 2014г. по 0,4'!H27 -> 0 | I30: ='декабрь 2014г. по 6-10'!I30+'декабрь 2014г. по 0,4'!I27 -> 0 | J30: ='декабрь 2014г. по 6-10'!J30+'декабрь 2014г. по 0,4'!J27 -> 47 | K30: ='декабрь 2014г. по 6-10'!K30+'декабрь 2014г. по 0,4'!K27 -> 735 | ... Q30: ='декабрь 2014г. по 6-10'!Q30+'декабрь 2014г. по 0,4'!Q27 -> 0
C31: ПС Радиоцентр | D31: ='декабрь 2014г. по 6-10'!D31+'декабрь 2014г. по 0,4'!D28 -> 57 | E31: ='декабрь 2014г. по 6-10'!E31+'декабрь 2014г. по 0,4'!E28 -> 1010 | F31: ='декабрь 2014г. по 6-10'!F31+'декабрь 2014г. по 0,4'!F28 -> 57 | G31: ='декабрь 2014г. по 6-10'!G31+'декабрь 2014г. по 0,4'!G28 -> 1010 | H31: ='декабрь 2014г. по 6-10'!H31+'декабрь 2014г. по 0,4'!H28 -> 0 | I31: ='декабрь 2014г. по 6-10'!I31+'декабрь 2014г. по 0,4'!I28 -> 0 | J31: ='декабрь 2014г. по 6-10'!J31+'декабрь 2014г. по 0,4'!J28 -> 39 | K31: ='декабрь 2014г. по 6-10'!K31+'декабрь 2014г. по 0,4'!K28 -> 417 | ... Q31: ='декабрь 2014г. по 6-10'!Q31+'декабрь 2014г. по 0,4'!Q28 -> 0
C32: ПС Изберг- Сев. | D32: ='декабрь 2014г. по 6-10'!D32+'декабрь 2014г. по 0,4'!D29 -> 75 | E32: ='декабрь 2014г. по 6-10'!E32+'декабрь 2014г. по 0,4'!E29 -> 1909 | F32: ='декабрь 2014г. по 6-10'!F32+'декабрь 2014г. по 0,4'!F29 -> 51 | G32: ='декабрь 2014г. по 6-10'!G32+'декабрь 2014г. по 0,4'!G29 -> 1349 | H32: ='декабрь 2014г. по 6-10'!H32+'декабрь 2014г. по 0,4'!H29 -> 0 | I32: ='декабрь 2014г. по 6-10'!I32+'декабрь 2014г. по 0,4'!I29 -> 0 | J32: ='декабрь 2014г. по 6-10'!J32+'декабрь 2014г. по 0,4'!J29 -> 46 | K32: ='декабрь 2014г. по 6-10'!K32+'декабрь 2014г. по 0,4'!K29 -> 730 | ... Q32: ='декабрь 2014г. по 6-10'!Q32+'декабрь 2014г. по 0,4'!Q29 -> 0
C33: ПС Изберг- Южн. | D33: ='декабрь 2014г. по 6-10'!D33+'декабрь 2014г. по 0,4'!D30 -> 33 | E33: ='декабрь 2014г. по 6-10'!E33+'декабрь 2014г. по 0,4'!E30 -> 1243 | F33: ='декабрь 2014г. по 6-10'!F33+'декабрь 2014г. по 0,4'!F30 -> 31 | G33: ='декабрь 2014г. по 6-10'!G33+'декабрь 2014г. по 0,4'!G30 -> 1189 | H33: ='декабрь 2014г. по 6-10'!H33+'декабрь 2014г. по 0,4'!H30 -> 0 | I33: ='декабрь 2014г. по 6-10'!I33+'декабрь 2014г. по 0,4'!I30 -> 0 | J33: ='декабрь 2014г. по 6-10'!J33+'декабрь 2014г. по 0,4'!J30 -> 30 | K33: ='декабрь 2014г. по 6-10'!K33+'декабрь 2014г. по 0,4'!K30 -> 540 | ... Q33: ='декабрь 2014г. по 6-10'!Q33+'декабрь 2014г. по 0,4'!Q30 -> 0
C34: ПС Карабуд-т | D34: ='декабрь 2014г. по 6-10'!D34+'декабрь 2014г. по 0,4'!D31 -> 59 | E34: ='декабрь 2014г. по 6-10'!E34+'декабрь 2014г. по 0,4'!E31 -> 791 | F34: ='декабрь 2014г. по 6-10'!F34+'декабрь 2014г. по 0,4'!F31 -> 36 | G34: ='декабрь 2014г. по 6-10'!G34+'декабрь 2014г. по 0,4'!G31 -> 596 | H34: ='декабрь 2014г. по 6-10'!H34+'декабрь 2014г. по 0,4'!H31 -> 0 | I34: ='декабрь 2014г. по 6-10'!I34+'декабрь 2014г. по 0,4'!I31 -> 0 | J34: ='декабрь 2014г. по 6-10'!J34+'декабрь 2014г. по 0,4'!J31 -> 44 | K34: ='декабрь 2014г. по 6-10'!K34+'декабрь 2014г. по 0,4'!K31 -> 455 | ... Q34: ='декабрь 2014г. по 6-10'!Q34+'декабрь 2014г. по 0,4'!Q31 -> 0
... C63: ПС ЗТМ (Т, Механика) | D63: ='декабрь 2014г. по 6-10'!D63+'декабрь 2014г. по 0,4'!D60 -> 16 | E63: ='декабрь 2014г. по 6-10'!E63+'декабрь 2014г. по 0,4'!E60 -> 981 | F63: ='декабрь 2014г. по 6-10'!F63+'декабрь 2014г. по 0,4'!F60 -> 4 | G63: ='декабрь 2014г. по 6-10'!G63+'декабрь 2014г. по 0,4'!G60 -> 485 | H63: ='декабрь 2014г. по 6-10'!H63+'декабрь 2014г. по 0,4'!H60 -> 0 | I63: ='декабрь 2014г. по 6-10'!I63+'декабрь 2014г. по 0,4'!I60 -> 0 | J63: ='декабрь 2014г. по 6-10'!J63+'декабрь 2014г. по 0,4'!J60 -> 15 | K63: ='декабрь 2014г. по 6-10'!K63+'декабрь 2014г. по 0,4'!K60 -> 105 | ... Q63: ='декабрь 2014г. по 6-10'!Q63+'декабрь 2014г. по 0,4'!Q60 -> 0
C64: итого: | D64: =SUM(D23:D63) -> 1172 | E64: =SUM(E23:E63) -> 32714.15 | F64: =SUM(F23:F63) -> 767 | G64: =SUM(G23:G63) -> 18914.6 | H64: =SUM(H23:H63) -> 0 | I64: =SUM(I23:I63) -> 0 | J64: =SUM(J23:J63) -> 905 | K64: =SUM(K23:K63) -> 11179.1 | ... Q64: =SUM(Q23:Q63) -> 0
C65: СЕВЕРНЫЕ СЕТИ
C66: Ярыксу | D66: ='декабрь 2014г. по 6-10'!D66+'декабрь 2014г. по 0,4'!D63 -> 114 | E66: ='декабрь 2014г. по 6-10'!E66+'декабрь 2014г. по 0,4'!E63 -> 3259.09 | F66: ='декабрь 2014г. по 6-10'!F66+'декабрь 2014г. по 0,4'!F63 -> 86 | G66: ='декабрь 2014г. по 6-10'!G66+'декабрь 2014г. по 0,4'!G63 -> 1473 | H66: ='декабрь 2014г. по 6-10'!H66+'декабрь 2014г. по 0,4'!H63 -> 0 | I66: ='декабрь 2014г. по 6-10'!I66+'декабрь 2014г. по 0,4'!I63 -> 0 | J66: ='декабрь 2014г. по 6-10'!J66+'декабрь 2014г. по 0,4'!J63 -> 46 | K66: ='декабрь 2014г. по 6-10'!K66+'декабрь 2014г. по 0,4'!K63 -> 580 | ... Q66: ='декабрь 2014г. по 6-10'!Q66+'декабрь 2014г. по 0,4'!Q63 -> 0
C67: Акташ | D67: ='декабрь 2014г. по 6-10'!D67+'декабрь 2014г. по 0,4'!D64 -> 56 | E67: ='декабрь 2014г. по 6-10'!E67+'декабрь 2014г. по 0,4'!E64 -> 1597.5 | F67: ='декабрь 2014г. по 6-10'!F67+'декабрь 2014г. по 0,4'!F64 -> 45 | G67: ='декабрь 2014г. по 6-10'!G67+'декабрь 2014г. по 0,4'!G64 -> 735.5 | H67: ='декабрь 2014г. по 6-10'!H67+'декабрь 2014г. по 0,4'!H64 -> 0 | I67: ='декабрь 2014г. по 6-10'!I67+'декабрь 2014г. по 0,4'!I64 -> 0 | J67: ='декабрь 2014г. по 6-10'!J67+'декабрь 2014г. по 0,4'!J64 -> 36 | K67: ='декабрь 2014г. по 6-10'!K67+'декабрь 2014г. по 0,4'!K64 -> 790 | ... Q67: ='декабрь 2014г. по 6-10'!Q67+'декабрь 2014г. по 0,4'!Q64 -> 0
C68: Куруш | D68: ='декабрь 2014г. по 6-10'!D68+'декабрь 2014г. по 0,4'!D65 -> 37 | E68: ='декабрь 2014г. по 6-10'!E68+'декабрь 2014г. по 0,4'!E65 -> 1160 | F68: ='декабрь 2014г. по 6-10'!F68+'декабрь 2014г. по 0,4'!F65 -> 14 | G68: ='декабрь 2014г. по 6-10'!G68+'декабрь 2014г. по 0,4'!G65 -> 399.5 | H68: ='декабрь 2014г. по 6-10'!H68+'декабрь 2014г. по 0,4'!H65 -> 0 | I68: ='декабрь 2014г. по 6-10'!I68+'декабрь 2014г. по 0,4'!I65 -> 0 | J68: ='декабрь 2014г. по 6-10'!J68+'декабрь 2014г. по 0,4'!J65 -> 4 | K68: ='декабрь 2014г. по 6-10'!K68+'декабрь 2014г. по 0,4'!K65 -> 10 | ... Q68: ='декабрь 2014г. по 6-10'!Q68+'декабрь 2014г. по 0,4'!Q65 -> 0
C69: Сулевкент | D69: ='декабрь 2014г. по 6-10'!D69+'декабрь 2014г. по 0,4'!D66 -> 2 | E69: ='декабрь 2014г. по 6-10'!E69+'декабрь 2014г. по 0,4'!E66 -> 125 | F69: ='декабрь 2014г. по 6-10'!F69+'декабрь 2014г. по 0,4'!F66 -> 2 | G69: ='декабрь 2014г. по 6-10'!G69+'декабрь 2014г. по 0,4'!G66 -> 25 | H69: ='декабрь 2014г. по 6-10'!H69+'декабрь 2014г. по 0,4'!H66 -> 0 | I69: ='декабрь 2014г. по 6-10'!I69+'декабрь 2014г. по 0,4'!I66 -> 0 | J69: ='декабрь 2014г. по 6-10'!J69+'декабрь 2014г. по 0,4'!J66 -> 2 | K69: ='декабрь 2014г. по 6-10'!K69+'декабрь 2014г. по 0,4'!K66 -> 125 | ... Q69: ='декабрь 2014г. по 6-10'!Q69+'декабрь 2014г. по 0,4'!Q66 -> 0
C70: Бабаюрт | D70: ='декабрь 2014г. по 6-10'!D70+'декабрь 2014г. по 0,4'!D67 -> 14 | E70: ='декабрь 2014г. по 6-10'!E70+'декабрь 2014г. по 0,4'!E67 -> 461 | F70: ='декабрь 2014г. по 6-10'!F70+'декабрь 2014г. по 0,4'!F67 -> 11 | G70: ='декабрь 2014г. по 6-10'!G70+'декабрь 2014г. по 0,4'!G67 -> 157 | H70: ='декабрь 2014г. по 6-10'!H70+'декабрь 2014г. по 0,4'!H67 -> 0 | I70: ='декабрь 2014г. по 6-10'!I70+'декабрь 2014г. по 0,4'!I67 -> 0 | J70: ='декабрь 2014г. по 6-10'!J70+'декабрь 2014г. по 0,4'!J67 -> 11 | K70: ='декабрь 2014г. по 6-10'!K70+'декабрь 2014г. по 0,4'!K67 -> 136 | ... Q70: ='декабрь 2014г. по 6-10'!Q70+'декабрь 2014г. по 0,4'!Q67 -> 0
C71: Чиркей | D71: ='декабрь 2014г. по 6-10'!D71+'декабрь 2014г. по 0,4'!D68 -> 1 | E71: ='декабрь 2014г. по 6-10'!E71+'декабрь 2014г. по 0,4'!E68 -> 10 | F71: ='декабрь 2014г. по 6-10'!F71+'декабрь 2014г. по 0,4'!F68 -> 1 | G71: ='декабрь 2014г. по 6-10'!G71+'декабрь 2014г. по 0,4'!G68 -> 10 | H71: ='декабрь 2014г. по 6-10'!H71+'декабрь 2014г. по 0,4'!H68 -> 0 | I71: ='декабрь 2014г. по 6-10'!I71+'декабрь 2014г. по 0,4'!I68 -> 0 | J71: ='декабрь 2014г. по 6-10'!J71+'декабрь 2014г. по 0,4'!J68 -> 1 | K71: ='декабрь 2014г. по 6-10'!K71+'декабрь 2014г. по 0,4'!K68 -> 10 | ... Q71: ='декабрь 2014г. по 6-10'!Q71+'декабрь 2014г. по 0,4'!Q68 -> 0
C72: Дылым | D72: ='декабрь 2014г. по 6-10'!D72+'декабрь 2014г. по 0,4'!D69 -> 26 | E72: ='декабрь 2014г. по 6-10'!E72+'декабрь 2014г. по 0,4'!E69 -> 230 | F72: ='декабрь 2014г. по 6-10'!F72+'декабрь 2014г. по 0,4'!F69 -> 21 | G72: ='декабрь 2014г. по 6-10'!G72+'декабрь 2014г. по 0,4'!G69 -> 160 | H72: ='декабрь 2014г. по 6-10'!H72+'декабрь 2014г. по 0,4'!H69 -> 0 | I72: ='декабрь 2014г. по 6-10'!I72+'декабрь 2014г. по 0,4'!I69 -> 0 | J72: ='декабрь 2014г. по 6-10'!J72+'декабрь 2014г. по 0,4'!J69 -> 16 | K72: ='декабрь 2014г. по 6-10'!K72+'декабрь 2014г. по 0,4'!K69 -> 130 | ... Q72: ='декабрь 2014г. по 6-10'!Q72+'декабрь 2014г. по 0,4'!Q69 -> 0
C73: Миатлы | D73: ='декабрь 2014г. по 6-10'!D73+'декабрь 2014г. по 0,4'!D70 -> 3 | E73: ='декабрь 2014г. по 6-10'!E73+'декабрь 2014г. по 0,4'!E70 -> 15 | F73: ='декабрь 2014г. по 6-10'!F73+'декабрь 2014г. по 0,4'!F70 -> 3 | G73: ='декабрь 2014г. по 6-10'!G73+'декабрь 2014г. по 0,4'!G70 -> 15 | H73: ='декабрь 2014г. по 6-10'!H73+'декабрь 2014г. по 0,4'!H70 -> 0 | I73: ='декабрь 2014г. по 6-10'!I73+'декабрь 2014г. по 0,4'!I70 -> 0 | J73: ='декабрь 2014г. по 6-10'!J73+'декабрь 2014г. по 0,4'!J70 -> 3 | K73: ='декабрь 2014г. по 6-10'!K73+'декабрь 2014г. по 0,4'!K70 -> 15 | ... Q73: ='декабрь 2014г. по 6-10'!Q73+'декабрь 2014г. по 0,4'!Q70 -> 0
C74: ГЩЗ | D74: ='декабрь 2014г. по 6-10'!D74+'декабрь 2014г. по 0,4'!D71 -> 26 | E74: ='декабрь 2014г. по 6-10'!E74+'декабрь 2014г. по 0,4'!E71 -> 502 | F74: ='декабрь 2014г. по 6-10'!F74+'декабрь 2014г. по 0,4'!F71 -> 23 | G74: ='декабрь 2014г. по 6-10'!G74+'декабрь 2014г. по 0,4'!G71 -> 262 | H74: ='декабрь 2014г. по 6-10'!H74+'декабрь 2014г. по 0,4'!H71 -> 0 | I74: ='декабрь 2014г. по 6-10'!I74+'декабрь 2014г. по 0,4'!I71 -> 0 | J74: ='декабрь 2014г. по 6-10'!J74+'декабрь 2014г. по 0,4'!J71 -> 25 | K74: ='декабрь 2014г. по 6-10'!K74+'декабрь 2014г. по 0,4'!K71 -> 542 | ... Q74: ='декабрь 2014г. по 6-10'!Q74+'декабрь 2014г. по 0,4'!Q71 -> 0
C75: Сулак | D75: ='декабрь 2014г. по 6-10'!D75+'декабрь 2014г. по 0,4'!D72 -> 1 | E75: ='декабрь 2014г. по 6-10'!E75+'декабрь 2014г. по 0,4'!E72 -> 6 | F75: ='декабрь 2014г. по 6-10'!F75+'декабрь 2014г. по 0,4'!F72 -> 1 | G75: ='декабрь 2014г. по 6-10'!G75+'декабрь 2014г. по 0,4'!G72 -> 6 | H75: ='декабрь 2014г. по 6-10'!H75+'декабрь 2014г. по 0,4'!H72 -> 0 | I75: ='декабрь 2014г. по 6-10'!I75+'декабрь 2014г. по 0,4'!I72 -> 0 | J75: ='декабрь 2014г. по 6-10'!J75+'декабрь 2014г. по 0,4'!J72 -> 1 | K75: ='декабрь 2014г. по 6-10'!K75+'декабрь 2014г. по 0,4'!K72 -> 6 | ... Q75: ='декабрь 2014г. по 6-10'!Q75+'декабрь 2014г. по 0,4'!Q72 -> 0
C76: Львовская | D76: ='декабрь 2014г. по 6-10'!D76+'декабрь 2014г. по 0,4'!D73 -> 12 | E76: ='декабрь 2014г. по 6-10'!E76+'декабрь 2014г. по 0,4'!E73 -> 92 | F76: ='декабрь 2014г. по 6-10'!F76+'декабрь 2014г. по 0,4'!F73 -> 0 | G76: ='декабрь 2014г. по 6-10'!G76+'декабрь 2014г. по 0,4'!G73 -> 0 | H76: ='декабрь 2014г. по 6-10'!H76+'декабрь 2014г. по 0,4'!H73 -> 0 | I76: ='декабрь 2014г. по 6-10'!I76+'декабрь 2014г. по 0,4'!I73 -> 0 | J76: ='декабрь 2014г. по 6-10'!J76+'декабрь 2014г. по 0,4'!J73 -> 29 | K76: ='декабрь 2014г. по 6-10'!K76+'декабрь 2014г. по 0,4'!K73 -> 198 | ... Q76: ='декабрь 2014г. по 6-10'!Q76+'декабрь 2014г. по 0,4'!Q73 -> 0
C77: Дагестан | D77: ='декабрь 2014г. по 6-10'!D77+'декабрь 2014г. по 0,4'!D74 -> 17 | E77: ='декабрь 2014г. по 6-10'!E77+'декабрь 2014г. по 0,4'!E74 -> 438 | F77: ='декабрь 2014г. по 6-10'!F77+'декабрь 2014г. по 0,4'!F74 -> 16 | G77: ='декабрь 2014г. по 6-10'!G77+'декабрь 2014г. по 0,4'!G74 -> 138 | H77: ='декабрь 2014г. по 6-10'!H77+'декабрь 2014г. по 0,4'!H74 -> 0 | I77: ='декабрь 2014г. по 6-10'!I77+'декабрь 2014г. по 0,4'!I74 -> 0 | J77: ='декабрь 2014г. по 6-10'!J77+'декабрь 2014г. по 0,4'!J74 -> 10 | K77: ='декабрь 2014г. по 6-10'!K77+'декабрь 2014г. по 0,4'!K74 -> 60 | ... Q77: ='декабрь 2014г. по 6-10'!Q77+'декабрь 2014г. по 0,4'!Q74 -> 0
... C101: Карланюрт -(Тяговая) | D101: ='декабрь 2014г. по 6-10'!D101+'декабрь 2014г. по 0,4'!D98 -> 5 | E101: ='декабрь 2014г. по 6-10'!E101+'декабрь 2014г. по 0,4'!E98 -> 455 | F101: ='декабрь 2014г. по 6-10'!F101+'декабрь 2014г. по 0,4'!F98 -> 5 | G101: ='декабрь 2014г. по 6-10'!G101+'декабрь 2014г. по 0,4'!G98 -> 455 | H101: ='декабрь 2014г. по 6-10'!H101+'декабрь 2014г. по 0,4'!H98 -> 0 | I101: ='декабрь 2014г. по 6-10'!I101+'декабрь 2014г. по 0,4'!I98 -> 0 | J101: ='декабрь 2014г. по 6-10'!J101+'декабрь 2014г. по 0,4'!J98 -> 0 | K101: ='декабрь 2014г. по 6-10'!K101+'декабрь 2014г. по 0,4'!K98 -> 0 | ... Q101: ='декабрь 2014г. по 6-10'!Q101+'декабрь 2014г. по 0,4'!Q98 -> 0
C102: итого: | D102: =SUM(D66:D101) -> 435 | E102: =SUM(E66:E101) -> 11917.59 | F102: =SUM(F66:F101) -> 316 | G102: =SUM(G66:G101) -> 5711.5 | H102: =SUM(H66:H101) -> 0 | I102: =SUM(I66:I101) -> 0 | J102: =SUM(J66:J101) -> 317 | K102: =SUM(K66:K101) -> 4795 | ... Q102: =SUM(Q66:Q101) -> 0
C103: ДЕРБЕНТСКИЕ СЕТИ
C104: Дербент-330 | D104: ='декабрь 2014г. по 6-10'!D104+'декабрь 2014г. по 0,4'!D101 -> 96 | E104: ='декабрь 2014г. по 6-10'!E104+'декабрь 2014г. по 0,4'!E101 -> 3562 | F104: ='декабрь 2014г. по 6-10'!F104+'декабрь 2014г. по 0,4'!F101 -> 57 | G104: ='декабрь 2014г. по 6-10'!G104+'декабрь 2014г. по 0,4'!G101 -> 2095 | H104: ='декабрь 2014г. по 6-10'!H104+'декабрь 2014г. по 0,4'!H101 -> 0 | I104: ='декабрь 2014г. по 6-10'!I104+'декабрь 2014г. по 0,4'!I101 -> 0 | J104: ='декабрь 2014г. по 6-10'!J104+'декабрь 2014г. по 0,4'!J101 -> 78 | K104: ='декабрь 2014г. по 6-10'!K104+'декабрь 2014г. по 0,4'!K101 -> 1440 | ... Q104: ='декабрь 2014г. по 6-10'!Q104+'декабрь 2014г. по 0,4'!Q101 -> 0
C105: Дербент-С | D105: ='декабрь 2014г. по 6-10'!D105+'декабрь 2014г. по 0,4'!D102 -> 49 | E105: ='декабрь 2014г. по 6-10'!E105+'декабрь 2014г. по 0,4'!E102 -> 2293.9 | F105: ='декабрь 2014г. по 6-10'!F105+'декабрь 2014г. по 0,4'!F102 -> 34 | G105: ='декабрь 2014г. по 6-10'!G105+'декабрь 2014г. по 0,4'!G102 -> 373 | H105: ='декабрь 2014г. по 6-10'!H105+'декабрь 2014г. по 0,4'!H102 -> 0 | I105: ='декабрь 2014г. по 6-10'!I105+'декабрь 2014г. по 0,4'!I102 -> 0 | J105: ='декабрь 2014г. по 6-10'!J105+'декабрь 2014г. по 0,4'!J102 -> 47 | K105: ='декабрь 2014г. по 6-10'!K105+'декабрь 2014г. по 0,4'!K102 -> 875 | ... Q105: ='декабрь 2014г. по 6-10'!Q105+'декабрь 2014г. по 0,4'!Q102 -> 0
C106: Мамедкала | D106: ='декабрь 2014г. по 6-10'!D106+'декабрь 2014г. по 0,4'!D103 -> 25 | E106: ='декабрь 2014г. по 6-10'!E106+'декабрь 2014г. по 0,4'!E103 -> 494.25 | F106: ='декабрь 2014г. по 6-10'!F106+'декабрь 2014г. по 0,4'!F103 -> 24 | G106: ='декабрь 2014г. по 6-10'!G106+'декабрь 2014г. по 0,4'!G103 -> 188 | H106: ='декабрь 2014г. по 6-10'!H106+'декабрь 2014г. по 0,4'!H103 -> 0 | I106: ='декабрь 2014г. по 6-10'!I106+'декабрь 2014г. по 0,4'!I103 -> 0 | J106: ='декабрь 2014г. по 6-10'!J106+'декабрь 2014г. по 0,4'!J103 -> 31 | K106: ='декабрь 2014г. по 6-10'!K106+'декабрь 2014г. по 0,4'!K103 -> 370 | ... Q106: ='декабрь 2014г. по 6-10'!Q106+'декабрь 2014г. по 0,4'!Q103 -> 0
C107: Каякент | D107: ='декабрь 2014г. по 6-10'!D107+'декабрь 2014г. по 0,4'!D104 -> 38 | E107: ='декабрь 2014г. по 6-10'!E107+'декабрь 2014г. по 0,4'!E104 -> 1853.25 | F107: ='декабрь 2014г. по 6-10'!F107+'декабрь 2014г. по 0,4'!F104 -> 34 | G107: ='декабрь 2014г. по 6-10'!G107+'декабрь 2014г. по 0,4'!G104 -> 881.25 | H107: ='декабрь 2014г. по 6-10'!H107+'декабрь 2014г. по 0,4'!H104 -> 0 | I107: ='декабрь 2014г. по 6-10'!I107+'декабрь 2014г. по 0,4'!I104 -> 0 | J107: ='декабрь 2014г. по 6-10'!J107+'декабрь 2014г. по 0,4'!J104 -> 27 | K107: ='декабрь 2014г. по 6-10'!K107+'декабрь 2014г. по 0,4'!K104 -> 292 | ... Q107: ='декабрь 2014г. по 6-10'!Q107+'декабрь 2014г. по 0,4'!Q104 -> 0
C108: Белиджи | D108: ='декабрь 2014г. по 6-10'!D108+'декабрь 2014г. по 0,4'!D105 -> 27 | E108: ='декабрь 2014г. по 6-10'!E108+'декабрь 2014г. по 0,4'!E105 -> 1080 | F108: ='декабрь 2014г. по 6-10'!F108+'декабрь 2014г. по 0,4'!F105 -> 22 | G108: ='декабрь 2014г. по 6-10'!G108+'декабрь 2014г. по 0,4'!G105 -> 529 | H108: ='декабрь 2014г. по 6-10'!H108+'декабрь 2014г. по 0,4'!H105 -> 0 | I108: ='декабрь 2014г. по 6-10'!I108+'декабрь 2014г. по 0,4'!I105 -> 0 | J108: ='декабрь 2014г. по 6-10'!J108+'декабрь 2014г. по 0,4'!J105 -> 17 | K108: ='декабрь 2014г. по 6-10'!K108+'декабрь 2014г. по 0,4'!K105 -> 204 | ... Q108: ='декабрь 2014г. по 6-10'!Q108+'декабрь 2014г. по 0,4'!Q105 -> 0
...

Sheet декабрь 2014г. по 6-10
M1: Приложение № 28
M2: к Положению о технологическом присоединении
M3: энергетических установок к электрическим сетям
M4: ОАО «МРСК Северного Кавказа», управляемых
M5: Обществ
B14: Информация о технологическом присоединении энергопринимающих устройств к сетям ОАО Дагэнергосеть илиалом ОАО "МРСК Северного Кавказа" за декабрь 2014г.
A19: Наименование организации, осуществляющей технологическое присоединение | B19: Наименование субъекта РФ | C19: Наименование центра питания (ПС 35 кВ и выше) | D19: Количество поданных заявок на технологическое присоединение, на общую мощность энергопринимающих устройств, кВт | F19: Заключено договоров на технологическое присоединение, включающие технические условия на общую мощность энергопринимающих устройств, кВт | H19: Расторгнуто договоров на технологическое присоединение, включающие технические условия на общую мощность энергопринимающих устройств, кВт | J19: Суммарная мощность энегргопринимающих устройств, присоединенных к электрическим сетям в соответствии с договором на технологическое присоединение за отчетный период, кВт | L19: Заключено договоров на технологическое присоединение, включающие технические условия на общую мощность генерирущих установок, МВт | N19: Расторгнуто договоров на технологическое присоединение, включающие технические условия на общую мощность генерирущих установок, МВт | P19: Суммарная мощность генерирущих установок, присоединенных к электрическим сетям в соответствии с договором на технологическое присоединение за отчетный период, МВт
A20: 1 | B20: 2 | C20: 3 | D20: 4 | F20: 5 | H20: 6 | J20: 7 | L20: 8 | N20: 9 | P20: 10
D21: шт | E21: кВт | F21: шт | G21: кВт | H21: шт | I21: кВт | J21: шт | K21: кВт | L21: шт | M21: МВт | N21: шт | O21: МВт | P21: шт | Q21: МВт
A22: Кабардино- Балкарсикй филиал ОАО "МРСК Северного Кавказа" | B22: Республика Дагестан | C22: ЦЕНТРАЛЬНЫЕ СЕТИ
C23: ПС ГПП | H23: 0
C24: ПС Новая | D24: 3 | E24: 150 | F24: 1 | G24: 100 | H24: 0 | J24: 2 | K24: 100
C25: ПС ЦПП | H25: 0
C26: ПС М-110 | D26: 16 | E26: =80+100+200+800+120+60+2000 -> 3360 | F26: 9 | G26: =80+750+15 -> 845 | H26: 0 | J26: 6 | K26: 360
C27: ПС Очистные соор. | D27: 3 | E27: 70 | F27: 2 | G27: 30 | H27: 0
C28: ПС Ю-Восточная | D28: 4 | E28: 670 | F28: 1 | G28: 470 | H28: 0 | J28: 3 | K28: 310
C29: ПС Приморская | D29: 2 | E29: 120 | F29: 2 | G29: 120 | H29: 0
C30: ПС Насосная -1 | D30: 10 | E30: 1600 | F30: 8 | G30: 279.4 | H30: 0 | J30: 6 | K30: 450
C31: ПС Радиоцентр | D31: 2 | E31: 560 | F31: 2 | G31: 560 | H31: 0 | J31: 2 | K31: 150
C32: ПС Изберг- Сев. | D32: 12 | E32: =10+100+300+80+10+300+40+480 -> 1320 | F32: 6 | G32: 920 | H32: 0 | J32: 7 | K32: 450
C33: ПС Изберг- Южн. | D33: 8 | E33: =60+48+150+85+640+60 -> 1043 | F33: 6 | G33: 989 | H33: 0 | J33: 5 | K33: 340
C34: ПС Карабуд-т | D34: 10 | E34: =15+10+30+15+10+6+10+30+160+45 -> 331 | F34: 9 | G34: 286 | H34: 0 | J34: 9 | K34: 245
C35: ПС Рассвет | D35: 16 | E35: =15+100+25+20+20+25+160+45+15+90+30+120+160+10+25+300 -> 1160 | F35: 14 | G35: 835 | H35: 0 | J35: 8 | K35: 480
C36: ПС Шамхал | D36: 20 | E36: =50+150+18+160+90+200+75+15+150+50+86+20+6+400+15+15+40+55+300+400+700 -> 2995 | F36: 20 | G36: 2295 | H36: 0 | J36: 6 | K36: 120
C37: ПС Сергокала | D37: 4 | E37: =940+70 -> 1010 | F37: 3 | G37: 90 | H37: 0
C38: ПС Алмало | D38: 3 | E38: 230 | F38: 3 | G38: 230 | H38: 0 | J38: 3 | K38: 320
C39: ПС Буйнакск -1 | D39: 6 | E39: =650+160 -> 810 | F39: 5 | G39: 650 | H39: 0 | J39: 5 | K39: 385
C40: ПС Буйнакск -2 | D40: 1 | E40: 120 | F40: 1 | G40: 120 | H40: 0 | J40: 8 | K40: 450
C41: ПС Казанище | D41: 8 | E41: 1489.25 | F41: 5 | G41: 250 | H41: 0
C42: ПС Согратль | D42: 7 | E42: =20+170+180+60+1.1+400+90 -> 921.1 | F42: 7 | G42: 921.1 | H42: 0 | J42: 1 | K42: 20
C43: ПС Дженгутай | D43: 5 | E43: 623 | F43: 3 | G43: 310 | H43: 0
C44: ПС Такалай | D44: 1 | E44: 40 | H44: 0
C45: ПС Параул | D45: 2 | E45: 272 | F45: 2 | G45: 272 | H45: 0 | J45: 1 | K45: 70
C46: ПС Восточная | D46: 4 | E46: 200 | F46: 3 | G46: 160 | H46: 0 | J46: 2 | K46: 5
C47: ПС Приозерная | D47: 1 | E47: 75 | H47: 0 | J47: 1 | K47: 75
C48: ПС Солнце | D48: 11 | E48: 1500 | F48: 4 | G48: 630 | H48: 0 | J48: 8 | K48: 680
C49: ПС Компас | D49: 3 | E49: =150+50+250 -> 450 | F49: 3 | G49: 450 | H49: 0 | J49: 4 | K49: 135
C50: ПС Сулак | D50: 3 | E50: =162+6+15 -> 183 | F50: 3 | G50: =162+6+15 -> 183 | H50: 0
C51: ПС НИИСХА | D51: 8 | E51: =200+40+155+100+80+30+70+300+30 -> 1005 | F51: 5 | G51: 470 | H51: 0
C52: ПС Тепл. Комбинат | D52: 2 | E52: 75 | F52: 1 | G52: 15 | H52: 0
...

Sheet декабрь 2014г. по 0,4
M2: к Положению о технологическом присоединении
M3: энергетических установок к электрическим сетям
M4: ОАО «МРСК Северного Кавказа», управляемых
M5: Обществ
B14: Информация о технологическом присоединении энергопринимающих устройств к сетям ОАО Дагэнергосеть илиалом ОАО "МРСК Северного Кавказа" за декабрь 2014г.
A16: Наименование организации, осуществляющей технологическое присоединение | B16: Наименование субъекта РФ | C16: Наименование центра питания (ПС 35 кВ и выше) | D16: Количество поданных заявок на технологическое присоединение, на общую мощность энергопринимающих устройств, кВт | F16: Заключено договоров на технологическое присоединение, включающие технические условия на общую мощность энергопринимающих устройств, кВт | H16: Расторгнуто договоров на технологическое присоединение, включающие технические условия на общую мощность энергопринимающих устройств, кВт | J16: Суммарная мощность энегргопринимающих устройств, присоединенных к электрическим сетям в соответствии с договором на технологическое присоединение за отчетный период, кВт | L16: Заключено договоров на технологическое присоединение, включающие технические условия на общую мощность генерирущих установок, МВт | N16: Расторгнуто договоров на технологическое присоединение, включающие технические условия на общую мощность генерирущих установок, МВт | P16: Суммарная мощность генерирущих установок, присоединенных к электрическим сетям в соответствии с договором на технологическое присоединение за отчетный период, МВт
A17: 1 | B17: 2 | C17: 3 | D17: 4 | F17: 5 | H17: 6 | J17: 7 | L17: 8 | N17: 9 | P17: 10
D18: шт | E18: кВт | F18: шт | G18: кВт | H18: шт | I18: кВт | J18: шт | K18: кВт | L18: шт | M18: МВт | N18: шт | O18: МВт | P18: шт | Q18: МВт
A19: Кабардино- Балкарсикй филиал ОАО "МРСК Северного Кавказа" | B19: Республика Дагестан | C19: ЦЕНТРАЛЬНЫЕ СЕТИ
C20: ПС ГПП | D20: 0 | E20: 0 | F20: 0 | G20: 0 | H20: 0
C21: ПС Новая | D21: 31 | E21: 260 | F21: 0 | G21: 0 | H21: 0 | J21: 28 | K21: 200
C22: ПС ЦПП | D22: 32 | E22: 250 | F22: 0 | G22: 0 | H22: 0 | J22: 20 | K22: 160
C23: ПС М-110 | D23: 25 | E23: 240 | F23: 0 | G23: 0 | H23: 0 | J23: 20 | K23: 180
C24: ПС Очистные соор. | D24: 5 | E24: 20 | F24: 0 | G24: 0 | H24: 0 | J24: 5 | K24: 20
C25: ПС Ю-Восточная | D25: 5 | E25: 24 | F25: 5 | G25: 24 | H25: 0 | J25: 5 | K25: 24
C26: ПС Приморская | D26: 5 | E26: 20 | F26: 5 | G26: 20 | H26: 0 | J26: 5 | K26: 20
C27: ПС Насосная -1 | D27: 36 | E27: 285 | F27: 36 | G27: 285 | H27: 0 | J27: 41 | K27: 285
C28: ПС Радиоцентр | D28: 55 | E28: 450 | F28: 55 | G28: 450 | H28: 0 | J28: 37 | K28: 267
C29: ПС Изберг- Сев. | D29: 63 | E29: =429+160 -> 589 | F29: 45 | G29: 429 | H29: 0 | J29: 39 | K29: 280
C30: ПС Изберг- Южн. | D30: 25 | E30: 200 | F30: 25 | G30: 200 | H30: 0 | J30: 25 | K30: 200
C31: ПС Карабуд-т | D31: 49 | E31: =100+360 -> 460 | F31: 27 | G31: 310 | H31: 0 | J31: 35 | K31: 210
C32: ПС Рассвет | D32: 55 | E32: 520 | F32: 21 | G32: 232 | H32: 0 | J32: 49 | K32: 465
C33: ПС Шамхал | D33: 70 | E33: =540+147 -> 687 | F33: 70 | G33: 687 | H33: 0 | J33: 69 | K33: 390
C34: ПС Сергокала | D34: 27 | E34: 200 | F34: 27 | G34: 200 | H34: 0 | J34: 22 | K34: 150
C35: ПС Алмало | D35: 48 | E35: 380 | F35: 25 | G35: 220 | H35: 0 | J35: 36 | K35: 320
C36: ПС Буйнакск -1 | D36: 103 | E36: =680+3+7.5 -> 690.5 | F36: 79 | G36: 450 | H36: 0 | J36: 81 | K36: 490
C37: ПС Буйнакск -2 | D37: 79 | E37: 460 | F37: 49 | G37: 210 | H37: 0 | J37: 79 | K37: 460
C38: ПС Казанище | D38: 34 | E38: =7+12+15+13+13+12+7+5+35+15+2.2+8+10+14+5+9+15+14+15+14+15 -> 255.2 | F38: 25 | G38: 180 | H38: 0 | J38: 30 | K38: 200
C39: ПС Согратль | D39: 45 | E39: 320 | F39: 35 | G39: 240 | H39: 0 | J39: 15 | K39: 100
C40: ПС Дженгутай | D40: 31 | E40: =10+10+5+11+10+120+19+20 -> 205 | F40: 20 | G40: 100 | H40: 0 | J40: 22 | K40: 100
C41: ПС Такалай | D41: 9 | E41: 85 | H41: 0 | J41: 9 | K41: 85
C42: ПС Параул | D42: 5 | E42: =12+6+12+15+12 -> 57 | F42: 5 | G42: 57 | H42: 0 | J42: 3 | K42: 40
C43: ПС Восточная | D43: 6 | E43: 42 | F43: 6 | G43: 42 | H43: 0 | J43: 9 | K43: 50
C44: ПС Приозерная | H44: 0
C45: ПС Солнце | D45: 32 | E45: 337 | F45: 32 | G45: 337 | H45: 0 | J45: 26 | K45: 221
C46: ПС Компас | D46: 1 | E46: 1.1 | F46: 1 | G46: 1.1 | H46: 0 | J46: 1 | K46: 1.1
C47: ПС Сулак | D47: 15 | E47: 110 | H47: 0 | J47: 15 | K47: 110
C48: ПС НИИСХА | D48: 5 | E48: 45 | F48: 5 | G48: 45 | H48: 0 | J48: 5 | K48: 45
C49: ПС Тепл. Комбинат | D49: 5 | E49: 30 | H49: 0 | J49: 5 | K49: 30
C50: ПС Насосная - 2 | H50: 0
...

Sheet Лист2

Sheet Лист3

Sheet Лист4

Sheet Лист5
A1: исполненные | B1: дек | C1: ноя | D1: окт | E1: сент | F1: авг | G1: июл | H1: июн | I1: май | J1: апр | K1: март | L1: фев | M1: янв
B2: квт 6-10
A3: 0.4 | B3: 1810.5 | C3: 1725 | D3: 1737 | E3: 2135.3 | F3: 1101.5 | G3: 1362.5 | H3: 1234 | I3: 1118.7 | J3: 825 | K3: 772 | L3: 399.5 | M3: 1884.2 | N3: =SUM(B3:M3) -> 16105.2
B4: квт 6-10
B5: 2577.8 | C5: 6097 | D5: 231 | E5: 6532 | F5: 356 | G5: 65 | H5: 1155.7 | I5: 279.5 | J5: 74 | K5: 56 | L5: 338 | M5: 93 | N5: =SUM(B5:M5) -> 17855
A7: итого | B7: =B5+B3 -> 4388.3 | C7: =C5+C3 -> 7822 | D7: =D5+D3 -> 1968 | E7: =E5+E3 -> 8667.3 | F7: =F5+F3 -> 1457.5 | G7: =G5+G3 -> 1427.5 | H7: =H5+H3 -> 2389.7 | I7: =I5+I3 -> 1398.2 | ... M7: =M5+M3 -> 1977.2 | N7: =SUM(B7:M7) -> 33960.2 | O7: 34006 | P7: 94202
B9: 360 | C9: 260 | D9: 272 | E9: 370 | F9: 164 | G9: 242 | H9: 197 | I9: 198 | J9: 155 | K9: 93 | L9: 82 | M9: =108+173 -> 281 | N9: =SUM(B9:M9) -> 2674 | P9: 3281
A11: 6-10. | B11: 70 | C11: 65 | D11: 15 | E11: 97 | F11: 12 | G11: 6 | H11: 26 | I11: 22 | J11: 7 | K11: 6 | L11: 4 | M11: 7 | N11: =SUM(B11:M11) -> 337
A12: 0.4 | B12: =B9-B11 -> 290 | C12: =C9-C11 -> 195 | D12: =D9-D11 -> 257 | E12: =E9-E11 -> 273 | F12: =F9-F11 -> 152 | G12: =G9-G11 -> 236 | H12: =H9-H11 -> 171 | I12: =I9-I11 -> 176 | ... L12: =L9-L11 -> 78 | M12: =101+173 -> 274 | N12: =SUM(B12:M12) -> 2337
L15: крайновка | N15: 1500
L16: шамхал | N16: 700
L17: махачкала | N17: 2000
